{"text_format":"1","workbook":"xlsx","n_sheets":65,"sheets":["START","Instructions","Template names","Lookup and lists","Org structure","Contacts","A1-Sum","A2-FinPerf SC","A2A","A3-FinPerf V","A3A","A4-FinPerf RE","A5-Capex","A5A","Chart2","A6-FinPos","A7-CFlow","A8-ResRecon","A9-Asset","A10-SerDel","SA1","SA2","SA3","SA4","SA5","SA6","SA7","SA8","SA9","SA10","SA11","SA12a","SA12b","SA13a","SA13b","SA14","SA15","SA16","SA17","SA18","SA19","SA20","SA21","SA22","SA23","SA24","SA25","SA26","SA27","SA28","SA29","SA30","SA31","SA32","SA33","SA34a","SA34b","SA34c","SA34d","SA34e","SA35","SA36","SA37","SA38","LGDB_EXPORT"],"not_rendered":{"charts":2,"images":17,"macros":1,"external_links":3,"defined_names":1917,"comments":0,"pivot_tables":0},"unopened":[{"sheet":"Chart2","index":14,"reason":"not_a_worksheet"}],"bounds":{"document_bytes":16777216,"sheet_cells":100000,"rows_first":2000,"rows_last":500,"rows_between":2000,"halvings":0,"cell_chars":16384,"cell_head_chars":4096},"cells_cut":0,"cells_raw":0,"read":"whole","date_system":"1900"}

{"sheet":"START","index":0,"n_rows":0,"n_cols":0,"rows_kept":0,"cut":false,"hidden":false,"merged":[]}

{"sheet":"Instructions","index":1,"n_rows":36,"n_cols":24,"rows_kept":36,"cut":false,"hidden":false,"merged":[]}
[]
[null,null,null,2020]
[]
[null,null,null,null,null,null,null,null,null,null,null,null,null,null,null,null,null,null,null,null,null,null,null,"Yes"]
[null,null,null,null,null,null,null,null,null,null,null,null,null,null,null,null,null,null,null,null,null,null,null,"No"]
[]
[null,null,null,null,null,null,null,null,null,null,null,null,null,null,null,null,null,null,null,null,null,null,"Type of Entities Range:"]
[null,null,null,null,null,null,null,null,null,null,null,null,null,null,null,null,null,null,null,null,null,null,null,"Parent Municipality"]
[null,null,null,null,null,null,null,null,null,null,null,null,null,null,null,null,null,null,null,null,null,null,null,"Consolidated Information"]
[]
[]
[]
[]
[]
[]
[]
[null,null,null,null,null,null,null,null,null,null,null,null,null,null,null,null,null,null,null,null,null,null,"MTREF Range:",2008]
[null,null,null,null,null,null,null,null,null,null,null,null,null,null,null,null,null,null,null,null,null,null,null,2009]
[null,null,null,null,null,null,null,null,null,null,null,null,null,null,null,null,null,null,null,null,null,null,null,2010]
[null,null,null,null,null,null,null,null,null,null,null,null,null,null,null,null,null,null,null,null,null,null,null,2011]
[null,null,null,null,null,null,null,null,null,null,null,null,null,null,null,null,null,null,null,null,null,null,null,2012]
[null,null,null,null,null,null,null,null,null,null,null,null,null,null,null,null,null,null,null,null,null,null,null,2013]
[null,null,null,null,null,null,null,null,null,null,null,null,null,null,null,null,null,null,null,null,null,null,null,2014]
[null,null,null,null,null,null,null,null,null,null,null,null,null,null,null,null,null,null,null,null,null,null,null,2015]
[null,null,null,null,null,null,null,null,null,null,null,null,null,null,null,null,null,null,null,null,null,null,null,2016]
[null,null,null,null,null,null,null,null,null,null,null,null,null,null,null,null,null,null,null,null,null,null,null,2017]
[null,null,null,null,null,null,null,null,null,null,null,null,null,null,null,null,null,null,null,null,null,null,null,2018]
[null,null,null,null,null,null,null,null,null,null,null,null,null,null,null,null,null,null,null,null,null,null,null,2019]
[null,null,null,null,null,null,null,null,null,null,null,null,null,null,null,null,null,null,null,null,null,null,null,2020]
[null,null,null,null,null,null,null,null,null,null,null,null,null,null,null,null,null,null,null,null,null,null,null,2021]
[null,null,null,null,null,null,null,null,null,null,null,null,null,null,null,null,null,null,null,null,null,null,null,2022]
[]
[null,null,null,null,null,null,null,null,null,null,null,null,null,null,null,null,null,null,null,null,null,null,"MTREF Linked:",13]
[null,null,null,null,null,null,null,null,null,null,null,null,null,null,null,null,null,null,null,null,null,null,"MTREF:",{"$f":"INDEX(X17:X31,X33,1)","v":2020}]
[]
[null,null,null,null,null,null,null,null,null,null,null,null,null,null,null,null,null,null,null,null,null,null,"Fin Year:",{"$f":"MTREF&\"/\"&RIGHT(MTREF,2)+1","v":"2020/21"}]

{"sheet":"Template names","index":2,"n_rows":179,"n_cols":6,"rows_kept":179,"cut":false,"hidden":true,"merged":[[0,0,0,3],[86,0,86,1],[109,0,109,1],[98,0,98,1],[91,0,91,3]]}
["Common sheet headings"]
["Head1",{"$f":"HLOOKUP(MTREF,Headings,2)","v":"2018/19"},"Prior year -1"]
["Head1A",{"$f":"HLOOKUP(MTREF,Headings,3)","v":"2017/18"},"Prior year -2"]
["Head1B",{"$f":"HLOOKUP(MTREF,Headings,4)","v":"2016/17"},"Prior year -3"]
["Head2",{"$f":"HLOOKUP(MTREF,Headings,5)","v":"Current Year 2019/20"},"Year in which budget is being prepared"]
["Head2A",{"$f":"HLOOKUP(MTREF,Headings,6)","v":"2019/20"},"Year in which budget is being prepared"]
["Head3",{"$f":"HLOOKUP(MTREF,Headings,7)","v":"2020/21 Medium Term Revenue & Expenditure Framework"},"MTREF name"]
["Head4","LTFS","Long term financial strategy"]
["Head5","Audited Outcome"]
["Head5A","Outcome"]
["Head5B","Pre-audit outcome"]
["Head6","Original Budget"]
["Head7","Adjusted Budget"]
["Head8","Full Year Forecast"]
["Head9",{"$f":"HLOOKUP(MTREF,Headings,8)","v":"Budget Year 2020/21"},"1st year of MTREF","Year1"]
["Head10",{"$f":"HLOOKUP(MTREF,Headings,9)","v":"Budget Year +1 2021/22"},"2nd year of MTREF","Year2"]
["Head11",{"$f":"HLOOKUP(MTREF,Headings,10)","v":"Budget Year +2 2022/23"},"3rd year of MTREF","Year3"]
["Head12",{"$f":"HLOOKUP(MTREF,Headings,11)","v":"Forecast 2023/24"},"1st yr of long term forecast","Year4"]
["Head13",{"$f":"HLOOKUP(MTREF,Headings,12)","v":"Forecast 2024/25"},"Next yr of long term forecast","Year5"]
["Head14",{"$f":"HLOOKUP(MTREF,Headings,13)","v":"Forecast 2025/26"},"Next yr of long term forecast","Year6"]
["Head15",{"$f":"HLOOKUP(MTREF,Headings,14)","v":"Forecast 2026/27"},"Next yr of long term forecast","Year7"]
["Head16",{"$f":"HLOOKUP(MTREF,Headings,15)","v":"Forecast 2027/28"},"Next yr of long term forecast","Year8"]
["Head17",{"$f":"HLOOKUP(MTREF,Headings,16)","v":"Forecast 2028/29"},"Next yr of long term forecast","Year9"]
["Head18",{"$f":"HLOOKUP(MTREF,Headings,17)","v":"Forecast 2029/30"},"Next yr of long term forecast","Year10"]
["Head19",{"$f":"HLOOKUP(MTREF,Headings,18)","v":"Forecast 2030/31"},"Next yr of long term forecast","Year11"]
["Head20",{"$f":"HLOOKUP(MTREF,Headings,19)","v":"Forecast 2031/32"},"Next yr of long term forecast","Year12"]
["Head21",{"$f":"HLOOKUP(MTREF,Headings,20)","v":"Forecast 2032/33"},"Next yr of long term forecast","Year13"]
["Head22",{"$f":"HLOOKUP(MTREF,Headings,21)","v":"Forecast 2033/34"},"Next yr of long term forecast","Year14"]
["Head23",{"$f":"HLOOKUP(MTREF,Headings,22)","v":"Forecast 2034/35"},"Next yr of long term forecast","Year15"]
["Head24","Description"]
["Head25"]
["Head26","Vote Description"]
["Head27","Ref"]
["Head27a","References"]
["Head28","Surplus/(Deficit) for the year",null,"Result"]
["Head29",{"$f":"HLOOKUP(MTREF,Headings,23)","v":"Annual target 2020/21"}]
["Head30",{"$f":"HLOOKUP(MTREF,Headings,24)","v":"Revised target 2020/21"}]
["Head31","Quarter ended 30 September"]
["Head32","Quarter ended 31 December"]
["Head33","Quarter ended 31 March"]
["Head34","Quarter ended 30 June"]
["Head35","Variance explanation"]
["Head36","YTD  Actual 31 Dec"]
["Head37","YTD  Budget 31 Dec"]
["Head38","Monthly actual"]
["Head39","YTD actual"]
["Head40","YTD budget"]
["Head41","YTD variance"]
["Head42","Surplus/ (Deficit) for the yr/period"]
["Head43",{"$f":"Head3&\" Summary\"","v":"2020/21 Medium Term Revenue & Expenditure Framework Summary"}]
["Head44","2001 Census"]
["Head45","2011 Census"]
["Head46"," - Adjustments Budget - January 2007"]
["Head47","Previous target year to complete"]
["Head48","Present value"]
["Head49"]
["Head50","Other Adjusts."]
["Head51","Accum. Funds"]
["Head52","Multi-year capital"]
["Head53","Unfore. Unavoid."]
["Head54","Prior Adjusted"]
["Head55","Nat. or Prov. Govt"]
["Head56","Total Adjusts."]
["SFPerf1","Budgeted Financial Performance"]
["SFPerf2","Forecast Financial Performance"]
["SFPos1","Budgeted Financial Position"]
["SFPos2","Forecast Financial Position"]
["Cash1","Budget Cash Flow"]
["Cash2","Forecast Cash Flow"]
["RandM","Expenditure includes repairs & maintenance of R'000"]
["Depart1","Department 1 - ",null,"DEP1"]
["Depart2","Department 2 - ",null,"DEP2"]
["Depart3","Department 3 - ",null,"DEP3"]
["Depart4","Department 4 - ",null,"DEP4"]
["Depart5","Department 5 - ",null,"DEP5"]
["Depart6","Department 6 - ",null,"DEP6"]
["Depart7","Department 7 - ",null,"DEP7"]
["Depart8","Department 8 - ",null,"DEP8"]
["Depart9","Department 9 - ",null,"DEP9"]
["Depart10","Department 10 - ",null,"DEP10"]
["Depart11","Department 11 - ",null,"DEP11"]
["Depart12","Department 12 - ",null,"DEP12"]
["Depart13","Department 13 - ",null,"DEP13"]
["Depart14","Department 14 - ",null,"DEP14"]
[]
[]
["Base year of forecast column selection names"]
["Choose","ACT"]
[null,"APP"]
[null,"ADJ"]
[]
["Standard nomenclature"]
["Muni",{"$f":"'Lookup and lists'!B28","v":"DC12 Amathole"}]
["Municipal Entities",1,"Type of report:",1]
[{"$f":"IF((MuniEntities=1)*(MuniType=2),\"YES\",\"NO\")","v":"NO"},"Does this municipality have entities (consolidated budget and entity budgets required)? YES/NO"]
["Entity 1","(Pty) Ltd Example 1 - Municipal entity - ",null,"Ent1"]
["Entity 2","(Pty) Ltd Example 2 - Municipal entity - ",null,"Ent2"]
["Entity 3","Municipal Entity Example 3",null,"Ent3"]
["Budget approval tables",null,"Chart x-ref","Sch/Tab/Ch","Alternative for municipalities without entities","Alternative for municipalities without entities"]
[null,{"$f":"IF(Consolques=\"YES\",E100,F100)","v":"Table A1 Budget Summary"},null,"Table A1 ",{"$f":"D100&\"Consolidated Budget Summary\"","v":"Table A1 Consolidated Budget Summary"},{"$f":"D100&\"Budget Summary\"","v":"Table A1 Budget Summary"}]
[null,"Table A2 Budgeted Financial Performance (revenue and expenditure by functional classification)","Charts 5, 6","Table A2 ",{"$f":"D101&\"Consolidated Budgeted Financial Performance (revenue and expenditure by functional classification)\"","v":"Table A2 Consolidated Budgeted Financial Performance (revenue and expenditure by functional classification)"},{"$f":"D101&\"Budgeted Financial Performance (revenue and expenditure by functional classification)\"","v":"Table A2 Budgeted Financial Performance (revenue and expenditure by functional classification)"}]
[null,"Table A3 Budgeted Financial Performance (revenue and expenditure by municipal vote)",null,"Table A3 ",{"$f":"D102&\"Consolidated Budgeted Financial Performance (revenue and expenditure by municipal vote)\"","v":"Table A3 Consolidated Budgeted Financial Performance (revenue and expenditure by municipal vote)"},{"$f":"D102&\"Budgeted Financial Performance (revenue and expenditure by municipal vote)\"","v":"Table A3 Budgeted Financial Performance (revenue and expenditure by municipal vote)"}]
[null,"Table A4 Budgeted Financial Performance (revenue and expenditure)","Charts 1, 2, 3, 4","Table A4 ",{"$f":"D103&\"Consolidated Budgeted Financial Performance (revenue and expenditure)\"","v":"Table A4 Consolidated Budgeted Financial Performance (revenue and expenditure)"},{"$f":"D103&\"Budgeted Financial Performance (revenue and expenditure)\"","v":"Table A4 Budgeted Financial Performance (revenue and expenditure)"}]
[null,"Table A5 Budgeted Capital Expenditure by vote, functional classification and funding","Charts 7, 8, 9, 10, 20","Table A5 ",{"$f":"D104&\"Consolidated Budgeted Capital Expenditure by vote, functional classification and funding\"","v":"Table A5 Consolidated Budgeted Capital Expenditure by vote, functional classification and funding"},{"$f":"D104&\"Budgeted Capital Expenditure by vote, functional classification and funding\"","v":"Table A5 Budgeted Capital Expenditure by vote, functional classification and funding"}]
[null,"Table A6 Budgeted Financial Position",null,"Table A6 ",{"$f":"D105&\"Consolidated Budgeted Financial Position\"","v":"Table A6 Consolidated Budgeted Financial Position"},{"$f":"D105&\"Budgeted Financial Position\"","v":"Table A6 Budgeted Financial Position"}]
[null,"Table A7 Budgeted Cash Flows",null,"Table A7 ",{"$f":"D106&\"Consolidated Budgeted Cash Flows\"","v":"Table A7 Consolidated Budgeted Cash Flows"},{"$f":"D106&\"Budgeted Cash Flows\"","v":"Table A7 Budgeted Cash Flows"}]
[null,"Table A8 Cash backed reserves/accumulated surplus reconciliation",null,"Table A8 ",{"$f":"D107&\"Consolidated Cash backed reserves/accumulated surplus reconciliation\"","v":"Table A8 Consolidated Cash backed reserves/accumulated surplus reconciliation"},{"$f":"D107&\"Cash backed reserves/accumulated surplus reconciliation\"","v":"Table A8 Cash backed reserves/accumulated surplus reconciliation"}]
[null,"Table A9 Asset Management",null,"Table A9 ",{"$f":"D108&\"Consolidated Asset Management\"","v":"Table A9 Consolidated Asset Management"},{"$f":"D108&\"Asset Management\"","v":"Table A9 Asset Management"}]
[null,"Table A10 Basic service delivery measurement",null,"Table A10 ",{"$f":"D109&\"Consolidated basic service delivery measurement\"","v":"Table A10 Consolidated basic service delivery measurement"},{"$f":"D109&\"Basic service delivery measurement\"","v":"Table A10 Basic service delivery measurement"}]
["Supportinging Tables to the Budget Approval Tables",null,{"$f":"$C$99","v":"Chart x-ref"},{"$f":"$D$99","v":"Sch/Tab/Ch"}]
["Supporting Table SA1",{"$f":"A111&\" Supportinging detail to 'Budgeted Financial Performance'\"","v":"Supporting Table SA1 Supportinging detail to 'Budgeted Financial Performance'"}]
["Supporting Table SA2 ",{"$f":"IF(Consolques=\"YES\",E112,F112)","v":"Supporting Table SA2 Matrix Financial Performance Budget (revenue source/expenditure type and dept.)"},null,null,{"$f":"A112&\"Consolidated Matrix Financial Performance Budget (revenue source/expenditure type & dept.)\"","v":"Supporting Table SA2 Consolidated Matrix Financial Performance Budget (revenue source/expenditure type & dept.)"},{"$f":"A112&\"Matrix Financial Performance Budget (revenue source/expenditure type and dept.)\"","v":"Supporting Table SA2 Matrix Financial Performance Budget (revenue source/expenditure type and dept.)"}]
["Supporting Table SA3 ",{"$f":"A113&\"Supportinging detail to 'Budgeted Financial Position'\"","v":"Supporting Table SA3 Supportinging detail to 'Budgeted Financial Position'"}]
["Supporting Table SA4 ",{"$f":"A114&\"Reconciliation of IDP strategic objectives and budget (revenue)\"","v":"Supporting Table SA4 Reconciliation of IDP strategic objectives and budget (revenue)"},"Chart 11"]
["Supporting Table SA5 ",{"$f":"A115&\"Reconciliation of IDP strategic objectives and budget (operating expenditure)\"","v":"Supporting Table SA5 Reconciliation of IDP strategic objectives and budget (operating expenditure)"},"Chart 12"]
["Supporting Table SA6 ",{"$f":"A116&\"Reconciliation of IDP strategic objectives and budget (capital expenditure)\"","v":"Supporting Table SA6 Reconciliation of IDP strategic objectives and budget (capital expenditure)"},"Chart 13"]
["Supporting Table SA7",{"$f":"A117&\" Measureable performance objectives\"","v":"Supporting Table SA7 Measureable performance objectives"}]
["Supporting Table SA8",{"$f":"A118&\" Performance indicators and benchmarks\"","v":"Supporting Table SA8 Performance indicators and benchmarks"},"Chts 15-19"]
["Supporting Table SA9",{"$f":"A119&\" Social, economic and demographic statistics and assumptions\"","v":"Supporting Table SA9 Social, economic and demographic statistics and assumptions"}]
["Supporting Table SA10",{"$f":"A120&\" Funding measurement\"","v":"Supporting Table SA10 Funding measurement"},"Chart 14"]
["Supporting Table SA11",{"$f":"A121&\" Property rates summary\"","v":"Supporting Table SA11 Property rates summary"}]
["Supporting Table SA12a",{"$f":"A122&\" Property rates by category (current year)\"","v":"Supporting Table SA12a Property rates by category (current year)"}]
["Supporting Table SA12b",{"$f":"A123&\" Property rates by category (budget year)\"","v":"Supporting Table SA12b Property rates by category (budget year)"}]
["Supporting Table SA13a",{"$f":"A124&\" Service Tariffs by category\"","v":"Supporting Table SA13a Service Tariffs by category"}]
["Supporting Table SA13b",{"$f":"A125&\" Service Tariffs by category - explanatory\"","v":"Supporting Table SA13b Service Tariffs by category - explanatory"}]
["Supporting Table SA14",{"$f":"A126&\" Household bills\"","v":"Supporting Table SA14 Household bills"}]
["Supporting Table SA15",{"$f":"A127&\" Investment particulars by type\"","v":"Supporting Table SA15 Investment particulars by type"}]
["Supporting Table SA16",{"$f":"A128&\" Investment particulars by maturity\"","v":"Supporting Table SA16 Investment particulars by maturity"}]
["Supporting Table SA17",{"$f":"A129&\" Borrowing\"","v":"Supporting Table SA17 Borrowing"}]
["Supporting Table SA18",{"$f":"A130&\" Transfers and grant receipts\"","v":"Supporting Table SA18 Transfers and grant receipts"}]
["Supporting Table SA19",{"$f":"A131&\" Expenditure on transfers and grant programme\"","v":"Supporting Table SA19 Expenditure on transfers and grant programme"}]
["Supporting Table SA20",{"$f":"A132&\" Reconciliation of transfers, grant receipts and unspent funds\"","v":"Supporting Table SA20 Reconciliation of transfers, grant receipts and unspent funds"}]
["Supporting Table SA21",{"$f":"A133&\" Transfers and grants made by the municipality\"","v":"Supporting Table SA21 Transfers and grants made by the municipality"}]
["Supporting Table SA22",{"$f":"A134&\" Summary councillor and staff benefits\"","v":"Supporting Table SA22 Summary councillor and staff benefits"}]
["Supporting Table SA23",{"$f":"A135&\" Salaries, allowances & benefits (political office bearers/councillors/senior managers)\"","v":"Supporting Table SA23 Salaries, allowances & benefits (political office bearers/councillors/senior managers)"}]
["Supporting Table SA24",{"$f":"A136&\" Summary of personnel numbers\"","v":"Supporting Table SA24 Summary of personnel numbers"}]
["Supporting Table SA25",{"$f":"IF(Consolques=\"YES\",E137,F137)","v":"Supporting Table SA25 Budgeted monthly revenue and expenditure"},null,null,{"$f":"A137&\" Consolidated budgeted monthly revenue and expenditure\"","v":"Supporting Table SA25 Consolidated budgeted monthly revenue and expenditure"},{"$f":"A137&\" Budgeted monthly revenue and expenditure\"","v":"Supporting Table SA25 Budgeted monthly revenue and expenditure"}]
["Supporting Table SA26","Supporting Table SA26 Budgeted monthly revenue and expenditure (municipal vote)",null,null,{"$f":"A138&\" Consolidated budgeted monthly revenue and expenditure (municipal vote)\"","v":"Supporting Table SA26 Consolidated budgeted monthly revenue and expenditure (municipal vote)"},{"$f":"A138&\" Budgeted monthly revenue and expenditure (municipal vote)\"","v":"Supporting Table SA26 Budgeted monthly revenue and expenditure (municipal vote)"}]
["Supporting Table SA27","Supporting Table SA27 Budgeted monthly revenue and expenditure (functional classification)",null,null,{"$f":"A139&\" Consolidated budgeted monthly revenue and expenditure (functional classification)\"","v":"Supporting Table SA27 Consolidated budgeted monthly revenue and expenditure (functional classification)"},{"$f":"A139&\" Budgeted monthly revenue and expenditure (functional classification)\"","v":"Supporting Table SA27 Budgeted monthly revenue and expenditure (functional classification)"}]
["Supporting Table SA28","Supporting Table SA28 Budgeted monthly capital expenditure (municipal vote)",null,null,{"$f":"A140&\" Consolidated budgeted monthly capital expenditure (municipal vote)\"","v":"Supporting Table SA28 Consolidated budgeted monthly capital expenditure (municipal vote)"},{"$f":"A140&\" Budgeted monthly capital expenditure (municipal vote)\"","v":"Supporting Table SA28 Budgeted monthly capital expenditure (municipal vote)"}]
["Supporting Table SA29","Supporting Table SA29 Budgeted monthly capital expenditure (functional classification)",null,null,{"$f":"A141&\" Consolidated budgeted monthly capital expenditure (functional classification)\"","v":"Supporting Table SA29 Consolidated budgeted monthly capital expenditure (functional classification)"},{"$f":"A141&\" Budgeted monthly capital expenditure (functional classification)\"","v":"Supporting Table SA29 Budgeted monthly capital expenditure (functional classification)"}]
["Supporting Table SA30","Supporting Table SA30 Budgeted monthly cash flow",null,null,{"$f":"A142&\" Consolidated budgeted monthly cash flow\"","v":"Supporting Table SA30 Consolidated budgeted monthly cash flow"},{"$f":"A142&\" Budgeted monthly cash flow\"","v":"Supporting Table SA30 Budgeted monthly cash flow"}]
["Supporting Table SA31","NOT REQUIRED - municipality does not have entities",null,null,{"$f":"A143&\" Aggregated entity budget\"","v":"Supporting Table SA31 Aggregated entity budget"},"NOT REQUIRED - municipality does not have entities"]
["Supporting Table SA32",{"$f":"A144&\" List of external mechanisms\"","v":"Supporting Table SA32 List of external mechanisms"}]
["Supporting Table SA33",{"$f":"A145&\" Contracts having future budgetary implications\"","v":"Supporting Table SA33 Contracts having future budgetary implications"}]
["Supporting Table SA34a",{"$f":"IF(Consolques=\"YES\",E146,F146)","v":"Supporting Table SA34a Capital expenditure on new assets by asset class"},null,null,{"$f":"A146&\" Consolidated capital expenditure on new assets by asset class\"","v":"Supporting Table SA34a Consolidated capital expenditure on new assets by asset class"},{"$f":"A146&\" Capital expenditure on new assets by asset class\"","v":"Supporting Table SA34a Capital expenditure on new assets by asset class"}]
["Supporting Table SA34b","Supporting Table SA34b Capital expenditure on the renewal of existing assets by asset class",null,null,{"$f":"A147&\" Consolidated capital expenditure on the renewal of existing assets by asset class\"","v":"Supporting Table SA34b Consolidated capital expenditure on the renewal of existing assets by asset class"},{"$f":"A147&\" Capital expenditure on the renewal of existing assets by asset class\"","v":"Supporting Table SA34b Capital expenditure on the renewal of existing assets by asset class"}]
["Supporting Table SA34c","Supporting Table SA34c Repairs and maintenance expenditure by asset class",null,null,{"$f":"A148&\" Consolidated repairs and maintenance by asset class\"","v":"Supporting Table SA34c Consolidated repairs and maintenance by asset class"},{"$f":"A148&\" Repairs and maintenance expenditure by asset class\"","v":"Supporting Table SA34c Repairs and maintenance expenditure by asset class"}]
["Supporting Table SA34d",{"$f":"IF(Consolques=\"YES\",E149,F149)","v":"Supporting Table SA34d Depreciation by asset class"},null,null,{"$f":"A149&\" Consolidated Depreciation by asset class\"","v":"Supporting Table SA34d Consolidated Depreciation by asset class"},{"$f":"A149&\" Depreciation by asset class\"","v":"Supporting Table SA34d Depreciation by asset class"}]
["Supporting Table SA34e",{"$f":"IF(Consolques=\"YES\",E150,F150)","v":"Supporting Table SA34e Capital expenditure on the upgrading of existing assets by asset class"},null,null,{"$f":"A150&\" Consolidated capital expenditure on the upgrading of existing assets by asset class\"","v":"Supporting Table SA34e Consolidated capital expenditure on the upgrading of existing assets by asset class"},{"$f":"A150&\" Capital expenditure on the upgrading of existing assets by asset class\"","v":"Supporting Table SA34e Capital expenditure on the upgrading of existing assets by asset class"}]
["Supporting Table SA35","Supporting Table SA35 Future financial implications of the capital budget",null,null,{"$f":"A151&\" Consolidated future financial implications of the capital budget\"","v":"Supporting Table SA35 Consolidated future financial implications of the capital budget"},{"$f":"A151& \" Future financial implications of the capital budget\"","v":"Supporting Table SA35 Future financial implications of the capital budget"}]
["Supporting Table SA36","Supporting Table SA36 Detailed capital budget",null,null,{"$f":"A152&\" Consolidated detailed capital budget\"","v":"Supporting Table SA36 Consolidated detailed capital budget"},{"$f":"A152& \" Detailed capital budget\"","v":"Supporting Table SA36 Detailed capital budget"}]
["Supporting Table SA37","Supporting Table SA37 Projects delayed from previous financial year/s",null,null,{"$f":"A153&\" Consolidated projects delayed from previous financial year/s\"","v":"Supporting Table SA37 Consolidated projects delayed from previous financial year/s"},{"$f":"A153& \" Projects delayed from previous financial year/s\"","v":"Supporting Table SA37 Projects delayed from previous financial year/s"}]
["Supporting Table SA38",{"$f":"IF(Consolques=\"YES\",E154,F154)","v":"Supporting Table SA38 Detailed operational projects"},null,null,{"$f":"A154&\" Consolidated detailed operational projects\"","v":"Supporting Table SA38 Consolidated detailed operational projects"},{"$f":"A154& \" Detailed operational projects\"","v":"Supporting Table SA38 Detailed operational projects"}]
[]
["Budget Charts","Charts","Cross reference"]
["Chart A1 ",{"$f":"A157&\"Revenue by Municipal Vote\"","v":"Chart A1 Revenue by Municipal Vote"}]
["Chart A2 ",{"$f":"A158&\"Expenditure by Municipal Vote\"","v":"Chart A2 Expenditure by Municipal Vote"}]
["Chart A3 ",{"$f":"A159&\"Revenue by Standard Classification\"","v":"Chart A3 Revenue by Standard Classification"},"A2"]
["Chart A4 ",{"$f":"A160&\"Expenditure by Standard Classification\"","v":"Chart A4 Expenditure by Standard Classification"},"A2"]
["Chart A5 ",{"$f":"A161&\"Revenue by Major Source (refer 'Minor' source for 'Other Revenue' allocation\"","v":"Chart A5 Revenue by Major Source (refer 'Minor' source for 'Other Revenue' allocation"},"A3"]
["Chart A6 ",{"$f":"A162&\"Revenue by Minor Source (Other)\"","v":"Chart A6 Revenue by Minor Source (Other)"},"A3"]
["Chart A7 ",{"$f":"A163&\"Expenditure by Major Type\"","v":"Chart A7 Expenditure by Major Type"},"A3"]
["Chart A8 ",{"$f":"A164&\"Expenditure by Minor Type (Other)\"","v":"Chart A8 Expenditure by Minor Type (Other)"},"A3"]
["Chart A9 ",{"$f":"A165&\"Capital Expenditure by Municipal Vote/Appropriation (Major)\"","v":"Chart A9 Capital Expenditure by Municipal Vote/Appropriation (Major)"},"A5"]
["Chart A10 ",{"$f":"A166&\"Capital Expenditure by Municipal Vote/Appropriation (Minor)\"","v":"Chart A10 Capital Expenditure by Municipal Vote/Appropriation (Minor)"},"A5"]
["Chart A11 ",{"$f":"A166&\"Capital Expenditure by Standard Classification\"","v":"Chart A10 Capital Expenditure by Standard Classification"},"A5"]
["Chart A12 ",{"$f":"A168&\"Capital expenditure performance trend\"","v":"Chart A12 Capital expenditure performance trend"},"A5"]
["Chart A13 ",{"$f":"A169&\"Capital funding by Source\"","v":"Chart A13 Capital funding by Source"},"A5"]
["Chart A14 ",{"$f":"A170&\"Cash flow trend\"","v":"Chart A14 Cash flow trend"},"A7"]
["Chart A15 ",{"$f":"A171&\"IDP Strategic Objective - Revenue\"","v":"Chart A15 IDP Strategic Objective - Revenue"},"Table A4"]
["Chart A16 ",{"$f":"A172&\"IDP Strategic Objective - Expenditure\"","v":"Chart A16 IDP Strategic Objective - Expenditure"},"Table A5"]
["Chart A17 ",{"$f":"A173&\"IDP Strategic Objective - Capital Expenditure\"","v":"Chart A17 IDP Strategic Objective - Capital Expenditure"},"Table A6"]
["Chart A18 ",{"$f":"A174&\"Debt (borrowing to Total Revenue)\"","v":"Chart A18 Debt (borrowing to Total Revenue)"},"Table A8"]
["Chart A19 ",{"$f":"A175&\"Debtors' trend analysis\"","v":"Chart A19 Debtors' trend analysis"},"Table A8"]
["Chart A20 ",{"$f":"A176&\"Distribution losses\"","v":"Chart A20 Distribution losses"},"Table A8"]
["Chart A21 ",{"$f":"A177&\"Borrowed funding of capital expenditure\"","v":"Chart A21 Borrowed funding of capital expenditure"},"Table A8"]
["Chart A22 ",{"$f":"A178&\"Expenditure analysis (% of Revenue)\"","v":"Chart A22 Expenditure analysis (% of Revenue)"},"Table A8"]
["Chart A23 ",{"$f":"A179&\"Increases in service charges\"","v":"Chart A23 Increases in service charges"},"Table A10"]

{"sheet":"Lookup and lists","index":3,"n_rows":308,"n_cols":30,"rows_kept":308,"cut":false,"hidden":true,"merged":[]}
["Description",2007,2008,2009,2010,2011,2012,2013,2014,2015,2016,2017,2018,2019,2020,null,"Lists",null,null,null,null,null,null,null,"Grants:","National - opex","Provincial - opex","National - capex","Provincial - capex"]
[{"$f":"'Template names'!C2","v":"Prior year -1"},"2005/06","2006/07","2007/08",{"$f":"E1-2&\"/\"&RIGHT(E1,2)-1","v":"2008/9"},"2009/10","2010/11","2011/12","2012/13","2013/14","2014/15","2015/16","2016/17","2017/18","2018/19",null,"Yes","<1","<4","Market","Land & impr.","Yes","Uniform","Yrs",null,"Local Government Equitable Share","Health subsidy"," Municipal Infrastructure Grant (MIG)","Agriculture"]
[{"$f":"'Template names'!C3","v":"Prior year -2"},"2004/05","2005/06","2006/07",{"$f":"E1-3&\"/\"&RIGHT(E1,2)-2","v":"2007/8"},"2008/9","2009/10","2010/11","2011/12","2012/13","2013/14","2014/15","2015/16","2016/17","2017/18",null,"No",1,4,"Dep.Replace","Land only","No","Variable","Mths",null,"RSC Levy Replacement ","Ambulance subsidy"," Public Transport and Systems","Education"]
[{"$f":"'Template names'!C4","v":"Prior year -3"},"2003/04","2004/05","2005/06",{"$f":"E1-4&\"/\"&RIGHT(E1,2)-3","v":"2006/7"},"2007/8","2008/9","2009/10","2010/11","2011/12","2012/13","2013/14","2014/15","2015/16","2016/17",null,null,2,5,"Other","Other",null,null,null,null,"Finance Management ","Housing","Rural Transport Services and Infrastructure","Health"]
[{"$f":"'Template names'!C5","v":"Year in which budget is being prepared"},"Current Year 2006/07","Current Year 2007/08","Current Year 2008/09",{"$f":"\"Current Year \"& E1-1&\"/\"&RIGHT(E1,2)","v":"Current Year 2009/10"},"Current Year 2010/11","Current Year 2011/12","Current Year 2012/13","Current Year 2013/14","Current Year 2014/15","Current Year 2015/16","Current Year 2016/17","Current Year 2017/18","Current Year 2018/19","Current Year 2019/20",null,null,3,6,null,null,null,null,null,null,"Municipal Systems Improvement","Sport and Recreation","Regional Bulk Infrastructure","Housing and Local Government "]
[{"$f":"'Template names'!C6","v":"Year in which budget is being prepared"},"2006/07","2007/08","2008/09",{"$f":"E1-1&\"/\"&RIGHT(E1,2)","v":"2009/10"},"2010/11","2011/12","2012/13","2013/14","2014/15","2015/16","2016/17","2017/18","2018/19","2019/20",null,null,4,"6-10",null,null,null,null,null,null,"Water Services Operating Subsidy ",null,"Rural Households Infrastructure ","Other Departments"]
[{"$f":"'Template names'!C7","v":"MTREF name"},"2007/08 Medium Term Revenue & Expenditure Framework","2008/09 Medium Term Revenue & Expenditure Framework","2009/10 Medium Term Revenue & Expenditure Framework",{"$f":"E1&\"/\"&RIGHT(E1,2)+1&\" Medium Term Revenue & Expenditure Framework\"","v":"2010/11 Medium Term Revenue & Expenditure Framework"},"2011/12 Medium Term Revenue & Expenditure Framework","2012/13 Medium Term Revenue & Expenditure Framework","2013/14 Medium Term Revenue & Expenditure Framework","2014/15 Medium Term Revenue & Expenditure Framework","2015/16 Medium Term Revenue & Expenditure Framework","2016/17 Medium Term Revenue & Expenditure Framework","2017/18 Medium Term Revenue & Expenditure Framework","2018/19 Medium Term Revenue & Expenditure Framework","2019/20 Medium Term Revenue & Expenditure Framework","2020/21 Medium Term Revenue & Expenditure Framework",null,null,5,">10",null,null,null,null,null,null,"Energy Efficiency  and Demand Management",null,"Neighbourhood Development Partnership","Public Works, Roads, Transport "]
[{"$f":"'Template names'!C15","v":"1st year of MTREF"},"Budget Year 2007/08","Budget Year 2008/09","Budget Year 2009/10",{"$f":"\"Budget Year \"&E1&\"/\"&RIGHT(E1,2)+1","v":"Budget Year 2010/11"},"Budget Year 2011/12","Budget Year 2012/13","Budget Year 2013/14","Budget Year 2014/15","Budget Year 2015/16","Budget Year 2016/17","Budget Year 2017/18","Budget Year 2018/19","Budget Year 2019/20","Budget Year 2020/21",null,null,">5",null,null,null,null,null,null,null,"Integrated National Electrification Programme",null,"2010 FIFA World Cup Stadiums Development","Sport and Recreation"]
[{"$f":"'Template names'!C16","v":"2nd year of MTREF"},"Budget Year +1 2008/09","Budget Year +1 2009/10","Budget Year +1 2010/11",{"$f":"\"Budget Year +1 \"&E1+1&\"/\"&RIGHT(E1,2)+2","v":"Budget Year +1 2011/12"},"Budget Year +1 2012/13","Budget Year +1 2013/14","Budget Year +1 2014/15","Budget Year +1 2015/16","Budget Year +1 2016/17","Budget Year +1 2017/18","Budget Year +1 2018/19","Budget Year +1 2019/20","Budget Year +1 2020/21","Budget Year +1 2021/22",null,null,null,null,null,null,null,null,null,null,"Municipal Drought Relief "]
[{"$f":"'Template names'!C17","v":"3rd year of MTREF"},"Budget Year +2 2009/10","Budget Year +2 2010/11","Budget Year +2 2011/12",{"$f":"\"Budget Year +2 \"&E1+2&\"/\"&RIGHT(E1,2)+3","v":"Budget Year +2 2012/13"},"Budget Year +2 2013/14","Budget Year +2 2014/15","Budget Year +2 2015/16","Budget Year +2 2016/17","Budget Year +2 2017/18","Budget Year +2 2018/19","Budget Year +2 2019/20","Budget Year +2 2020/21","Budget Year +2 2021/22","Budget Year +2 2022/23",null,null,null,null,null,null,null,null,null,null,"2010 FIFA World Cup Operating"]
[{"$f":"'Template names'!C18","v":"1st yr of long term forecast"},"Forecast 2010/11","Forecast 2011/12","Forecast 2012/13",{"$f":"\"Forecast \"&E1+3&\"/\"&RIGHT(E1,2)+4","v":"Forecast 2013/14"},"Forecast 2014/15","Forecast 2015/16","Forecast 2016/17","Forecast 2017/18","Forecast 2018/19","Forecast 2019/20","Forecast 2020/21","Forecast 2021/22","Forecast 2022/23","Forecast 2023/24",null,null,null,null,null,null,null,null,null,null,"Electricity Demand Side Management"]
[{"$f":"'Template names'!C19","v":"Next yr of long term forecast"},"Forecast 2011/12","Forecast 2012/13","Forecast 2013/14",{"$f":"\"Forecast \"&E1+4&\"/\"&RIGHT(E1,2)+5","v":"Forecast 2014/15"},"Forecast 2015/16","Forecast 2016/17","Forecast 2017/18","Forecast 2018/19","Forecast 2019/20","Forecast 2020/21","Forecast 2021/22","Forecast 2022/23","Forecast 2023/24","Forecast 2024/25",null,null,null,null,null,null,null,null,null,null,"EPWP Incentive"]
[{"$f":"'Template names'!C20","v":"Next yr of long term forecast"},"Forecast 2012/13","Forecast 2013/14","Forecast 2014/15",{"$f":"\"Forecast \"&E1+5&\"/\"&RIGHT(E1,2)+6","v":"Forecast 2015/16"},"Forecast 2016/17","Forecast 2017/18","Forecast 2018/19","Forecast 2019/20","Forecast 2020/21","Forecast 2021/22","Forecast 2022/23","Forecast 2023/24","Forecast 2024/25","Forecast 2025/26"]
[{"$f":"'Template names'!C21","v":"Next yr of long term forecast"},"Forecast 2013/14","Forecast 2014/15","Forecast 2015/16",{"$f":"\"Forecast \"&E1+6&\"/\"&RIGHT(E1,2)+7","v":"Forecast 2016/17"},"Forecast 2017/18","Forecast 2018/19","Forecast 2019/20","Forecast 2020/21","Forecast 2021/22","Forecast 2022/23","Forecast 2023/24","Forecast 2024/25","Forecast 2025/26","Forecast 2026/27",null,null,null,null,null,null,null,null,null,null,"Asset Class","Asset sub-class old","Asset sub-class","IUDF","MTSF"]
[{"$f":"'Template names'!C22","v":"Next yr of long term forecast"},"Forecast 2014/15","Forecast 2015/16","Forecast 2016/17",{"$f":"\"Forecast \"&E1+7&\"/\"&RIGHT(E1,2)+8","v":"Forecast 2017/18"},"Forecast 2018/19","Forecast 2019/20","Forecast 2020/21","Forecast 2021/22","Forecast 2022/23","Forecast 2023/24","Forecast 2024/25","Forecast 2025/26","Forecast 2026/27","Forecast 2027/28"]
[{"$f":"'Template names'!C23","v":"Next yr of long term forecast"},"Forecast 2015/16","Forecast 2016/17","Forecast 2017/18",{"$f":"\"Forecast \"&E1+8&\"/\"&RIGHT(E1,2)+9","v":"Forecast 2018/19"},"Forecast 2019/20","Forecast 2020/21","Forecast 2021/22","Forecast 2022/23","Forecast 2023/24","Forecast 2024/25","Forecast 2025/26","Forecast 2026/27","Forecast 2027/28","Forecast 2028/29",null,null,null,null,null,null,null,null,null,null,"Roads Infrastructure","Roads, Pavements & Bridges","Roads","Spatial integration","Quality basic education"]
[{"$f":"'Template names'!C24","v":"Next yr of long term forecast"},"Forecast 2016/17","Forecast 2017/18","Forecast 2018/19",{"$f":"\"Forecast \"&E1+9&\"/\"&RIGHT(E1,2)+10","v":"Forecast 2019/20"},"Forecast 2020/21","Forecast 2021/22","Forecast 2022/23","Forecast 2023/24","Forecast 2024/25","Forecast 2025/26","Forecast 2026/27","Forecast 2027/28","Forecast 2028/29","Forecast 2029/30",null,null,null,null,null,null,null,null,null,null,"Storm water Infrastructure","Storm water","Road Structures","Inclusion and access","A long and healthy life for all South Africans"]
[{"$f":"'Template names'!C25","v":"Next yr of long term forecast"},"Forecast 2017/18","Forecast 2018/19","Forecast 2019/20",{"$f":"\"Forecast \"&E1+10&\"/\"&RIGHT(E1,2)+11","v":"Forecast 2020/21"},"Forecast 2021/22","Forecast 2022/23","Forecast 2023/24","Forecast 2024/25","Forecast 2025/26","Forecast 2026/27","Forecast 2027/28","Forecast 2028/29","Forecast 2029/30","Forecast 2030/31",null,null,null,null,null,null,null,null,null,null,"Electrical Infrastructure","Generation","Road Furniture","Growth","All people in South Africa are and feel safe"]
[{"$f":"'Template names'!C26","v":"Next yr of long term forecast"},"Forecast 2018/19","Forecast 2019/20","Forecast 2020/21",{"$f":"\"Forecast \"&E1+11&\"/\"&RIGHT(E1,2)+12","v":"Forecast 2021/22"},"Forecast 2022/23","Forecast 2023/24","Forecast 2024/25","Forecast 2025/26","Forecast 2026/27","Forecast 2027/28","Forecast 2028/29","Forecast 2029/30","Forecast 2030/31","Forecast 2031/32",null,null,null,null,null,null,null,null,null,null,"Water Supply Infrastructure","Transmission & Reticulation","Capital Spares","Governance","Decent employment through inclusive growth"]
[{"$f":"'Template names'!C27","v":"Next yr of long term forecast"},"Forecast 2019/20","Forecast 2020/21","Forecast 2021/22",{"$f":"\"Forecast \"&E1+12&\"/\"&RIGHT(E1,2)+13","v":"Forecast 2022/23"},"Forecast 2023/24","Forecast 2024/25","Forecast 2025/26","Forecast 2026/27","Forecast 2027/28","Forecast 2028/29","Forecast 2029/30","Forecast 2030/31","Forecast 2031/32","Forecast 2032/33",null,null,null,null,null,null,null,null,null,null,"Sanitation Infrastructure","Street Lighting","Drainage Collection",null,"A skilled and capable workforce to support an inclusive growth path"]
[{"$f":"'Template names'!C28","v":"Next yr of long term forecast"},"Forecast 2020/21","Forecast 2021/22","Forecast 2022/23",{"$f":"\"Forecast \"&E1+13&\"/\"&RIGHT(E1,2)+14","v":"Forecast 2023/24"},"Forecast 2024/25","Forecast 2025/26","Forecast 2026/27","Forecast 2027/28","Forecast 2028/29","Forecast 2029/30","Forecast 2030/31","Forecast 2031/32","Forecast 2032/33","Forecast 2033/34",null,null,null,null,null,null,null,null,null,null,"Solid Waste Infrastructure","Dams & Reservoirs","Storm water Conveyance",null,"An efficient, competitive and responsive economic infrastructure network"]
[{"$f":"'Template names'!C29","v":"Next yr of long term forecast"},"Forecast 2021/22","Forecast 2022/23","Forecast 2023/24",{"$f":"\"Forecast \"&E1+14&\"/\"&RIGHT(E1,2)+15","v":"Forecast 2024/25"},"Forecast 2025/26","Forecast 2026/27","Forecast 2027/28","Forecast 2028/29","Forecast 2029/30","Forecast 2030/31","Forecast 2031/32","Forecast 2032/33","Forecast 2033/34","Forecast 2034/35",null,null,null,null,null,null,null,null,null,null,"Rail Infrastructure","Water purification","Attenuation",null,"Vibrant, equitable, sustainable rural communities contributing towards food security for all"]
["Adjustments Budget","Annual target 2007/08","Annual target 2008/09","Annual target 2009/10",{"$f":"\"Annual target \" & E1&\"/\"&RIGHT(E1,2)+1","v":"Annual target 2010/11"},"Annual target 2011/12","Annual target 2012/13","Annual target 2013/14","Annual target 2014/15","Annual target 2015/16","Annual target 2016/17","Annual target 2017/18","Annual target 2018/19","Annual target 2019/20","Annual target 2020/21",null,null,null,null,null,null,null,null,null,null,"Coastal Infrastructure","Reticulation","Power Plants",null,"Sustainable human settlements and improved quality of household life"]
[{"$f":"A23","v":"Adjustments Budget"},"Revised target 2007/08","Revised target 2008/09","Revised target 2009/10",{"$f":"\"Revised target \"& E1&\"/\"&RIGHT(E1,2)+1","v":"Revised target 2010/11"},"Revised target 2011/12","Revised target 2012/13","Revised target 2013/14","Revised target 2014/15","Revised target 2015/16","Revised target 2016/17","Revised target 2017/18","Revised target 2018/19","Revised target 2019/20","Revised target 2020/21",null,null,null,null,null,null,null,null,null,null,"Information and Communication Infrastructure","Sewerage purification","HV Substations",null,"Responsive, accountable, effective and efficient local government"]
["NOTE: This sheet should not be directly amended - select headings from sheet 'S'",null,null,null,null,null,null,null,null,null,null,null,null,null,null,null,null,null,null,null,null,null,null,null,null,"Community Facilities","Waste Management","HV Switching Station",null,"Protect and enhance our environmental assets and natural resources"]
[null,null,null,null,null,null,null,null,null,null,null,null,null,null,null,null,null,null,null,null,null,null,null,null,null,"Sport and Recreation Facilities","Transportation","HV Transmission Conductors",null,"Create a better South Africa and contribute to a better Africa and a better world"]
["Name link",18,null,null,null,null,null,null,null,null,null,null,null,null,null,null,null,null,null,null,null,null,null,null,null,"Heritage assets","Gas","MV Substations",null,"An efficient, effective and development-oriented public service"]
["Name of Muni",{"$f":"INDEX(B29:B307,B27,1)","v":"DC12 Amathole"},null,null,null,null,null,null,null,null,null,null,null,null,null,null,null,null,null,null,null,null,null,null,null,"Revenue Generating","Parks & gardens","MV Switching Stations",null,"A comprehensive, responsive and sustainable social protection system"]
[null,"Choose name from list","Set name on 'Instructions' sheet",null,null,null,null,null,null,null,null,null,null,null,null,null,null,null,null,null,null,null,null,null,null,"Non-revenue Generating","Sportsfields & stadia","MV Networks",null,"A diverse, socially cohesive society with a common national identity"]
[null,"BUF Buffalo City","EC EASTERN CAPE",null,null,null,null,null,null,null,null,null,null,null,null,null,null,null,null,null,null,null,null,null,null,"Operational Buildings","Swimming pools","LV Networks"]
[null,"NMA Nelson Mandela Bay","EC EASTERN CAPE",null,null,null,null,null,null,null,null,null,null,null,null,null,null,null,null,null,null,null,null,null,null,"Housing","Community halls","Capital Spares"]
[null,"EC101 Dr Beyers Naude","EC EASTERN CAPE",null,null,null,null,null,null,null,null,null,null,null,null,null,null,null,null,null,null,null,null,null,null,"Biological or Cultivated Assets","Libraries","Dams and Weirs"]
[null,"EC102 Blue Crane Route","EC EASTERN CAPE",null,null,null,null,null,null,null,null,null,null,null,null,null,null,null,null,null,null,null,null,null,null,"Servitudes","Recreational facilities","Boreholes"]
[null,"EC104 Makana","EC EASTERN CAPE",null,null,null,null,null,null,null,null,null,null,null,null,null,null,null,null,null,null,null,null,null,null,"Licences and Rights","Fire, safety & emergency","Reservoirs"]
[null,"EC105 Ndlambe","EC EASTERN CAPE",null,null,null,null,null,null,null,null,null,null,null,null,null,null,null,null,null,null,null,null,null,null,"Computer Equipment","Security and policing","Pump Stations"]
[null,"EC106 Sundays River Valley","EC EASTERN CAPE",null,null,null,null,null,null,null,null,null,null,null,null,null,null,null,null,null,null,null,null,null,null,"Furniture and Office Equipment","Buses","Water Treatment Works"]
[null,"EC108 Kouga","EC EASTERN CAPE",null,null,null,null,null,null,null,null,null,null,null,null,null,null,null,null,null,null,null,null,null,null,"Machinery and Equipment","Clinics","Bulk Mains"]
[null,"EC109 Kou-Kamma","EC EASTERN CAPE",null,null,null,null,null,null,null,null,null,null,null,null,null,null,null,null,null,null,null,null,null,null,"Transport Assets","Museums & Art Galleries","Distribution"]
[null,"DC10 Sarah Baartman","EC EASTERN CAPE",null,null,null,null,null,null,null,null,null,null,null,null,null,null,null,null,null,null,null,null,null,null,"Land","Cemeteries","Distribution Points"]
[null,"EC121 Mbhashe","EC EASTERN CAPE",null,null,null,null,null,null,null,null,null,null,null,null,null,null,null,null,null,null,null,null,null,null,"Zoo's, Marine and Non-biological Animals","Social rental housing","PRV Stations"]
[null,"EC122 Mnquma","EC EASTERN CAPE",null,null,null,null,null,null,null,null,null,null,null,null,null,null,null,null,null,null,null,null,null,null,null,"Buildings","Capital Spares"]
[null,"EC123 Great Kei","EC EASTERN CAPE",null,null,null,null,null,null,null,null,null,null,null,null,null,null,null,null,null,null,null,null,null,null,null,"Housing development","Pump Station"]
[null,"EC124 Amahlathi","EC EASTERN CAPE",null,null,null,null,null,null,null,null,null,null,null,null,null,null,null,null,null,null,null,null,null,null,null,"General vehicles","Reticulation"]
[null,"EC126 Ngqushwa","EC EASTERN CAPE",null,null,null,null,null,null,null,null,null,null,null,null,null,null,null,null,null,null,null,null,null,null,null,"Specialised vehicles - Refuse","Waste Water Treatment Works"]
[null,"EC129 Raymond Mhlaba","EC EASTERN CAPE",null,null,null,null,null,null,null,null,null,null,null,null,null,null,null,null,null,null,null,null,null,null,null,"Specialised vehicles - Fire","Outfall Sewers"]
[null,"DC12 Amathole","EC EASTERN CAPE",null,null,null,null,null,null,null,null,null,null,null,null,null,null,null,null,null,null,null,null,null,null,null,"Specialised vehicles - Conservancy","Toilet Facilities"]
[null,"EC131 Inxuba Yethemba","EC EASTERN CAPE",null,null,null,null,null,null,null,null,null,null,null,null,null,null,null,null,null,null,null,null,null,null,null,"Specialised vehicles - Ambulances","Capital Spares"]
[null,"EC135 Intsika Yethu","EC EASTERN CAPE",null,null,null,null,null,null,null,null,null,null,null,null,null,null,null,null,null,null,null,null,null,null,null,"Plant & equipment","Landfill Sites"]
[null,"EC136 Emalahleni (Ec)","EC EASTERN CAPE",null,null,null,null,null,null,null,null,null,null,null,null,null,null,null,null,null,null,null,null,null,null,null,"Computers - hardware/equipment","Waste Transfer Stations"]
[null,"EC137 Engcobo","EC EASTERN CAPE",null,null,null,null,null,null,null,null,null,null,null,null,null,null,null,null,null,null,null,null,null,null,null,"Furniture and other office equipment","Waste Processing Facilities"]
[null,"EC138 Sakhisizwe","EC EASTERN CAPE",null,null,null,null,null,null,null,null,null,null,null,null,null,null,null,null,null,null,null,null,null,null,null,"Abattoirs","Waste Drop-off Points"]
[null,"EC139 Enoch Mgijima","EC EASTERN CAPE",null,null,null,null,null,null,null,null,null,null,null,null,null,null,null,null,null,null,null,null,null,null,null,"Markets","Waste Separation Facilities"]
[null,"DC13 Chris Hani","EC EASTERN CAPE",null,null,null,null,null,null,null,null,null,null,null,null,null,null,null,null,null,null,null,null,null,null,null,"Civic Land and Buildings","Electricity Generation Facilities"]
[null,"EC141 Elundini","EC EASTERN CAPE",null,null,null,null,null,null,null,null,null,null,null,null,null,null,null,null,null,null,null,null,null,null,null,"Other Buildings","Capital Spares"]
[null,"EC142 Senqu","EC EASTERN CAPE",null,null,null,null,null,null,null,null,null,null,null,null,null,null,null,null,null,null,null,null,null,null,null,"Other Land","Rail Lines"]
[null,"EC145 Walter Sisulu","EC EASTERN CAPE",null,null,null,null,null,null,null,null,null,null,null,null,null,null,null,null,null,null,null,null,null,null,null,"Surplus Assets - (Investment or Inventory)","Rail Structures"]
[null,"DC14 Joe Gqabi","EC EASTERN CAPE",null,null,null,null,null,null,null,null,null,null,null,null,null,null,null,null,null,null,null,null,null,null,null,"Computers - software & programming","Rail Furniture"]
[null,"EC153 Ngquza Hills","EC EASTERN CAPE",null,null,null,null,null,null,null,null,null,null,null,null,null,null,null,null,null,null,null,null,null,null,null,"Other","Drainage Collection"]
[null,"EC154 Port St Johns","EC EASTERN CAPE",null,null,null,null,null,null,null,null,null,null,null,null,null,null,null,null,null,null,null,null,null,null,null,null,"Storm water Conveyance"]
[null,"EC155 Nyandeni","EC EASTERN CAPE",null,null,null,null,null,null,null,null,null,null,null,null,null,null,null,null,null,null,null,null,null,null,"SA16 - Investments",null,"Attenuation"]
[null,"EC156 Mhlontlo","EC EASTERN CAPE",null,null,null,null,null,null,null,null,null,null,null,null,null,null,null,null,null,null,null,null,null,null,"Security","Interest rate","MV Substations"]
[null,"EC157 King Sabata Dalindyebo","EC EASTERN CAPE",null,null,null,null,null,null,null,null,null,null,null,null,null,null,null,null,null,null,null,null,null,null,"Yes","Fixed","LV Networks"]
[null,"DC15 O .R. Tambo","EC EASTERN CAPE",null,null,null,null,null,null,null,null,null,null,null,null,null,null,null,null,null,null,null,null,null,null,"No","Variable","Capital Spares"]
[null,"EC441 Matatiele","EC EASTERN CAPE",null,null,null,null,null,null,null,null,null,null,null,null,null,null,null,null,null,null,null,null,null,null,null,null,"Sand Pumps"]
[null,"EC442 Umzimvubu","EC EASTERN CAPE",null,null,null,null,null,null,null,null,null,null,null,null,null,null,null,null,null,null,null,null,null,null,null,null,"Piers"]
[null,"EC443 Mbizana","EC EASTERN CAPE",null,null,null,null,null,null,null,null,null,null,null,null,null,null,null,null,null,null,null,null,null,null,"SA36, SA37 - Capital projects",null,"Revetments"]
[null,"EC444 Ntabankulu","EC EASTERN CAPE",null,null,null,null,null,null,null,null,null,null,null,null,null,null,null,null,null,null,null,null,null,null,"Yes",null,"Promenades"]
[null,"DC44 Alfred Nzo","EC EASTERN CAPE",null,null,null,null,null,null,null,null,null,null,null,null,null,null,null,null,null,null,null,null,null,null,"No",null,"Capital Spares"]
[null,"MAN Mangaung","FS FREE STATE",null,null,null,null,null,null,null,null,null,null,null,null,null,null,null,null,null,null,null,null,null,null,null,null,"Data Centres"]
[null,"FS161 Letsemeng","FS FREE STATE",null,null,null,null,null,null,null,null,null,null,null,null,null,null,null,null,null,null,null,null,null,null,null,null,"Core Layers"]
[null,"FS162 Kopanong","FS FREE STATE",null,null,null,null,null,null,null,null,null,null,null,null,null,null,null,null,null,null,null,null,null,null,null,null,"Distribution Layers"]
[null,"FS163 Mohokare","FS FREE STATE",null,null,null,null,null,null,null,null,null,null,null,null,null,null,null,null,null,null,null,null,null,null,null,null,"Capital Spares"]
[null,"DC16 Xhariep","FS FREE STATE",null,null,null,null,null,null,null,null,null,null,null,null,null,null,null,null,null,null,null,null,null,null,null,null,"Halls"]
[null,"FS181 Masilonyana","FS FREE STATE",null,null,null,null,null,null,null,null,null,null,null,null,null,null,null,null,null,null,null,null,null,null,null,null,"Centres"]
[null,"FS182 Tokologo","FS FREE STATE",null,null,null,null,null,null,null,null,null,null,null,null,null,null,null,null,null,null,null,null,null,null,null,null,"Crèches"]
[null,"FS183 Tswelopele","FS FREE STATE",null,null,null,null,null,null,null,null,null,null,null,null,null,null,null,null,null,null,null,null,null,null,null,null,"Clinics/Care Centres"]
[null,"FS184 Matjhabeng","FS FREE STATE",null,null,null,null,null,null,null,null,null,null,null,null,null,null,null,null,null,null,null,null,null,null,null,null,"Fire/Ambulance Stations"]
[null,"FS185 Nala","FS FREE STATE",null,null,null,null,null,null,null,null,null,null,null,null,null,null,null,null,null,null,null,null,null,null,null,null,"Testing Stations"]
[null,"DC18 Lejweleputswa","FS FREE STATE",null,null,null,null,null,null,null,null,null,null,null,null,null,null,null,null,null,null,null,null,null,null,null,null,"Museums"]
[null,"FS191 Setsoto","FS FREE STATE",null,null,null,null,null,null,null,null,null,null,null,null,null,null,null,null,null,null,null,null,null,null,null,null,"Galleries"]
[null,"FS192 Dihlabeng","FS FREE STATE",null,null,null,null,null,null,null,null,null,null,null,null,null,null,null,null,null,null,null,null,null,null,null,null,"Theatres"]
[null,"FS193 Nketoana","FS FREE STATE",null,null,null,null,null,null,null,null,null,null,null,null,null,null,null,null,null,null,null,null,null,null,null,null,"Libraries"]
[null,"FS194 Maluti-a-Phofung","FS FREE STATE",null,null,null,null,null,null,null,null,null,null,null,null,null,null,null,null,null,null,null,null,null,null,null,null,"Cemeteries/Crematoria"]
[null,"FS195 Phumelela","FS FREE STATE",null,null,null,null,null,null,null,null,null,null,null,null,null,null,null,null,null,null,null,null,null,null,null,null,"Police"]
[null,"FS196 Mantsopa","FS FREE STATE",null,null,null,null,null,null,null,null,null,null,null,null,null,null,null,null,null,null,null,null,null,null,null,null,"Purls"]
[null,"DC19 Thabo Mofutsanyana","FS FREE STATE",null,null,null,null,null,null,null,null,null,null,null,null,null,null,null,null,null,null,null,null,null,null,null,null,"Public Open Space"]
[null,"FS201 Moqhaka","FS FREE STATE",null,null,null,null,null,null,null,null,null,null,null,null,null,null,null,null,null,null,null,null,null,null,null,null,"Nature Reserves"]
[null,"FS203 Ngwathe","FS FREE STATE",null,null,null,null,null,null,null,null,null,null,null,null,null,null,null,null,null,null,null,null,null,null,null,null,"Public Ablution Facilities"]
[null,"FS204 Metsimaholo","FS FREE STATE",null,null,null,null,null,null,null,null,null,null,null,null,null,null,null,null,null,null,null,null,null,null,null,null,"Markets"]
[null,"FS205 Mafube","FS FREE STATE",null,null,null,null,null,null,null,null,null,null,null,null,null,null,null,null,null,null,null,null,null,null,null,null,"Stalls"]
[null,"DC20 Fezile Dabi","FS FREE STATE",null,null,null,null,null,null,null,null,null,null,null,null,null,null,null,null,null,null,null,null,null,null,null,null,"Abattoirs"]
[null,"EKU City of Ekurhuleni","GT GAUTENG",null,null,null,null,null,null,null,null,null,null,null,null,null,null,null,null,null,null,null,null,null,null,null,null,"Airports"]
[null,"JHB City Of Johannesburg","GT GAUTENG",null,null,null,null,null,null,null,null,null,null,null,null,null,null,null,null,null,null,null,null,null,null,null,null,"Taxi Ranks/Bus Terminals"]
[null,"TSH City Of Tshwane","GT GAUTENG",null,null,null,null,null,null,null,null,null,null,null,null,null,null,null,null,null,null,null,null,null,null,null,null,"Capital Spares"]
[null,"GT421 Emfuleni","GT GAUTENG",null,null,null,null,null,null,null,null,null,null,null,null,null,null,null,null,null,null,null,null,null,null,null,null,"Indoor Facilities"]
[null,"GT422 Midvaal","GT GAUTENG",null,null,null,null,null,null,null,null,null,null,null,null,null,null,null,null,null,null,null,null,null,null,null,null,"Outdoor Facilities"]
[null,"GT423 Lesedi","GT GAUTENG",null,null,null,null,null,null,null,null,null,null,null,null,null,null,null,null,null,null,null,null,null,null,null,null,"Capital Spares"]
[null,"DC42 Sedibeng","GT GAUTENG",null,null,null,null,null,null,null,null,null,null,null,null,null,null,null,null,null,null,null,null,null,null,null,null,"Monuments"]
[null,"GT481 Mogale City","GT GAUTENG",null,null,null,null,null,null,null,null,null,null,null,null,null,null,null,null,null,null,null,null,null,null,null,null,"Historic Buildings"]
[null,"GT484 Merafong City","GT GAUTENG",null,null,null,null,null,null,null,null,null,null,null,null,null,null,null,null,null,null,null,null,null,null,null,null,"Works of Art"]
[null,"GT485 Rand West City","GT GAUTENG",null,null,null,null,null,null,null,null,null,null,null,null,null,null,null,null,null,null,null,null,null,null,null,null,"Conservation Areas"]
[null,"DC48 West Rand","GT GAUTENG",null,null,null,null,null,null,null,null,null,null,null,null,null,null,null,null,null,null,null,null,null,null,null,null,"Other Heritage"]
[null,"ETH eThekwini","KZN KWAZULU-NATAL",null,null,null,null,null,null,null,null,null,null,null,null,null,null,null,null,null,null,null,null,null,null,null,null,"Improved Property"]
[null,"KZN212 Umdoni","KZN KWAZULU-NATAL",null,null,null,null,null,null,null,null,null,null,null,null,null,null,null,null,null,null,null,null,null,null,null,null,"Unimproved Property"]
[null,"KZN213 Umzumbe","KZN KWAZULU-NATAL",null,null,null,null,null,null,null,null,null,null,null,null,null,null,null,null,null,null,null,null,null,null,null,null,"Municipal Offices"]
[null,"KZN214 uMuziwabantu","KZN KWAZULU-NATAL",null,null,null,null,null,null,null,null,null,null,null,null,null,null,null,null,null,null,null,null,null,null,null,null,"Pay/Enquiry Points"]
[null,"KZN216 Ray Nkonyeni","KZN KWAZULU-NATAL",null,null,null,null,null,null,null,null,null,null,null,null,null,null,null,null,null,null,null,null,null,null,null,null,"Building Plan Offices"]
[null,"DC21 Ugu","KZN KWAZULU-NATAL",null,null,null,null,null,null,null,null,null,null,null,null,null,null,null,null,null,null,null,null,null,null,null,null,"Workshops"]
[null,"KZN221 uMshwathi","KZN KWAZULU-NATAL",null,null,null,null,null,null,null,null,null,null,null,null,null,null,null,null,null,null,null,null,null,null,null,null,"Yards"]
[null,"KZN222 uMngeni","KZN KWAZULU-NATAL",null,null,null,null,null,null,null,null,null,null,null,null,null,null,null,null,null,null,null,null,null,null,null,null,"Stores"]
[null,"KZN223 Mpofana","KZN KWAZULU-NATAL",null,null,null,null,null,null,null,null,null,null,null,null,null,null,null,null,null,null,null,null,null,null,null,null,"Laboratories"]
[null,"KZN224 Impendle","KZN KWAZULU-NATAL",null,null,null,null,null,null,null,null,null,null,null,null,null,null,null,null,null,null,null,null,null,null,null,null,"Training Centres"]
[null,"KZN225 Msunduzi","KZN KWAZULU-NATAL",null,null,null,null,null,null,null,null,null,null,null,null,null,null,null,null,null,null,null,null,null,null,null,null,"Manufacturing Plant"]
[null,"KZN226 Mkhambathini","KZN KWAZULU-NATAL",null,null,null,null,null,null,null,null,null,null,null,null,null,null,null,null,null,null,null,null,null,null,null,null,"Depots"]
[null,"KZN227 Richmond","KZN KWAZULU-NATAL",null,null,null,null,null,null,null,null,null,null,null,null,null,null,null,null,null,null,null,null,null,null,null,null,"Capital Spares"]
[null,"DC22 uMgungundlovu","KZN KWAZULU-NATAL",null,null,null,null,null,null,null,null,null,null,null,null,null,null,null,null,null,null,null,null,null,null,null,null,"Staff Housing"]
[null,"KZN235 Okhahlamba","KZN KWAZULU-NATAL",null,null,null,null,null,null,null,null,null,null,null,null,null,null,null,null,null,null,null,null,null,null,null,null,"Social Housing"]
[null,"KZN237 Inkosi Langalibalele","KZN KWAZULU-NATAL",null,null,null,null,null,null,null,null,null,null,null,null,null,null,null,null,null,null,null,null,null,null,null,null,"Capital Spares"]
[null,"KZN238 Alfred Duma","KZN KWAZULU-NATAL",null,null,null,null,null,null,null,null,null,null,null,null,null,null,null,null,null,null,null,null,null,null,null,null,"Water Rights"]
[null,"DC23 Uthukela","KZN KWAZULU-NATAL",null,null,null,null,null,null,null,null,null,null,null,null,null,null,null,null,null,null,null,null,null,null,null,null,"Effluent Licenses"]
[null,"KZN241 Endumeni","KZN KWAZULU-NATAL",null,null,null,null,null,null,null,null,null,null,null,null,null,null,null,null,null,null,null,null,null,null,null,null,"Solid Waste Licenses"]
[null,"KZN242 Nquthu","KZN KWAZULU-NATAL",null,null,null,null,null,null,null,null,null,null,null,null,null,null,null,null,null,null,null,null,null,null,null,null,"Computer Software and Applications"]
[null,"KZN244 Msinga","KZN KWAZULU-NATAL",null,null,null,null,null,null,null,null,null,null,null,null,null,null,null,null,null,null,null,null,null,null,null,null,"Load Settlement Software Applications"]
[null,"KZN245 Umvoti","KZN KWAZULU-NATAL",null,null,null,null,null,null,null,null,null,null,null,null,null,null,null,null,null,null,null,null,null,null,null,null,"Unspecified"]
[null,"DC24 Umzinyathi","KZN KWAZULU-NATAL"]
[null,"KZN252 Newcastle","KZN KWAZULU-NATAL"]
[null,"KZN253 Emadlangeni","KZN KWAZULU-NATAL"]
[null,"KZN254 Dannhauser","KZN KWAZULU-NATAL"]
[null,"DC25 Amajuba","KZN KWAZULU-NATAL"]
[null,"KZN261 eDumbe","KZN KWAZULU-NATAL"]
[null,"KZN262 uPhongolo","KZN KWAZULU-NATAL"]
[null,"KZN263 Abaqulusi","KZN KWAZULU-NATAL"]
[null,"KZN265 Nongoma","KZN KWAZULU-NATAL"]
[null,"KZN266 Ulundi","KZN KWAZULU-NATAL"]
[null,"DC26 Zululand","KZN KWAZULU-NATAL"]
[null,"KZN271 Umhlabuyalingana","KZN KWAZULU-NATAL"]
[null,"KZN272 Jozini","KZN KWAZULU-NATAL"]
[null,"KZN275 Mtubatuba","KZN KWAZULU-NATAL"]
[null,"KZN276 Hlabisa Big Five","KZN KWAZULU-NATAL"]
[null,"DC27 Umkhanyakude","KZN KWAZULU-NATAL"]
[null,"KZN281 Mfolozi","KZN KWAZULU-NATAL"]
[null,"KZN282 uMhlathuze","KZN KWAZULU-NATAL"]
[null,"KZN284 uMlalazi","KZN KWAZULU-NATAL"]
[null,"KZN285 Mthonjaneni","KZN KWAZULU-NATAL"]
[null,"KZN286 Nkandla","KZN KWAZULU-NATAL"]
[null,"DC28 King Cetshwayo","KZN KWAZULU-NATAL"]
[null,"KZN291 Mandeni","KZN KWAZULU-NATAL"]
[null,"KZN292 KwaDukuza","KZN KWAZULU-NATAL"]
[null,"KZN293 Ndwedwe","KZN KWAZULU-NATAL"]
[null,"KZN294 Maphumulo","KZN KWAZULU-NATAL"]
[null,"DC29 iLembe","KZN KWAZULU-NATAL"]
[null,"KZN433 Greater Kokstad","KZN KWAZULU-NATAL"]
[null,"KZN434 Ubuhlebezwe","KZN KWAZULU-NATAL"]
[null,"KZN435 Umzimkhulu","KZN KWAZULU-NATAL"]
[null,"KZN436 Dr Nkosazana Dlamini Zuma","KZN KWAZULU-NATAL"]
[null,"DC43 Harry Gwala","KZN KWAZULU-NATAL"]
[null,"LIM331 Greater Giyani","LIM LIMPOPO"]
[null,"LIM332 Greater Letaba","LIM LIMPOPO"]
[null,"LIM333 Greater Tzaneen","LIM LIMPOPO"]
[null,"LIM334 Ba-Phalaborwa","LIM LIMPOPO"]
[null,"LIM335 Maruleng","LIM LIMPOPO"]
[null,"DC33 Mopani","LIM LIMPOPO"]
[null,"LIM341 Musina","LIM LIMPOPO"]
[null,"LIM343 Thulamela","LIM LIMPOPO"]
[null,"LIM344 Makhado","LIM LIMPOPO"]
[null,"LIM345 Collins Chabane","LIM LIMPOPO"]
[null,"DC34 Vhembe","LIM LIMPOPO"]
[null,"LIM351 Blouberg","LIM LIMPOPO"]
[null,"LIM353 Molemole","LIM LIMPOPO"]
[null,"LIM354 Polokwane","LIM LIMPOPO"]
[null,"LIM355 Lepelle-Nkumpi","LIM LIMPOPO"]
[null,"DC35 Capricorn","LIM LIMPOPO"]
[null,"LIM361 Thabazimbi","LIM LIMPOPO"]
[null,"LIM362 Lephalale","LIM LIMPOPO"]
[null,"LIM366 Bela Bela","LIM LIMPOPO"]
[null,"LIM367 Mogalakwena","LIM LIMPOPO"]
[null,"LIM368 Modimolle-Mookgopong","LIM LIMPOPO"]
[null,"DC36 Waterberg","LIM LIMPOPO"]
[null,"LIM471 Ephraim Mogale","LIM LIMPOPO"]
[null,"LIM472 Elias Motsoaledi","LIM LIMPOPO"]
[null,"LIM473 Makhuduthamaga","LIM LIMPOPO"]
[null,"LIM476 Tubatse Fetakgomo","LIM LIMPOPO"]
[null,"DC47 Sekhukhune","LIM LIMPOPO"]
[null,"MP301 Albert Luthuli","MP MPUMALANGA"]
[null,"MP302 Msukaligwa","MP MPUMALANGA"]
[null,"MP303 Mkhondo","MP MPUMALANGA"]
[null,"MP304 Pixley Ka Seme (MP)","MP MPUMALANGA"]
[null,"MP305 Lekwa","MP MPUMALANGA"]
[null,"MP306 Dipaleseng","MP MPUMALANGA"]
[null,"MP307 Govan Mbeki","MP MPUMALANGA"]
[null,"DC30 Gert Sibande","MP MPUMALANGA"]
[null,"MP311 Victor Khanye","MP MPUMALANGA"]
[null,"MP312 Emalahleni (Mp)","MP MPUMALANGA"]
[null,"MP313 Steve Tshwete","MP MPUMALANGA"]
[null,"MP314 Emakhazeni","MP MPUMALANGA"]
[null,"MP315 Thembisile Hani","MP MPUMALANGA"]
[null,"MP316 Dr J.S. Moroka","MP MPUMALANGA"]
[null,"DC31 Nkangala","MP MPUMALANGA"]
[null,"MP321 Thaba Chweu","MP MPUMALANGA"]
[null,"MP324 Nkomazi","MP MPUMALANGA"]
[null,"MP325 Bushbuckridge","MP MPUMALANGA"]
[null,"MP326 City of Mbombela","MP MPUMALANGA"]
[null,"DC32 Ehlanzeni","MP MPUMALANGA"]
[null,"NC451 Joe Morolong","NC NORTHERN CAPE"]
[null,"NC452 Ga-Segonyana","NC NORTHERN CAPE"]
[null,"NC453 Gamagara","NC NORTHERN CAPE"]
[null,"DC45 John Taolo Gaetsewe","NC NORTHERN CAPE"]
[null,"NC061 Richtersveld","NC NORTHERN CAPE"]
[null,"NC062 Nama Khoi","NC NORTHERN CAPE"]
[null,"NC064 Kamiesberg","NC NORTHERN CAPE"]
[null,"NC065 Hantam","NC NORTHERN CAPE"]
[null,"NC066 Karoo Hoogland","NC NORTHERN CAPE"]
[null,"NC067 Khai-Ma","NC NORTHERN CAPE"]
[null,"DC6 Namakwa","NC NORTHERN CAPE"]
[null,"NC071 Ubuntu","NC NORTHERN CAPE"]
[null,"NC072 Umsobomvu","NC NORTHERN CAPE"]
[null,"NC073 Emthanjeni","NC NORTHERN CAPE"]
[null,"NC074 Kareeberg","NC NORTHERN CAPE"]
[null,"NC075 Renosterberg","NC NORTHERN CAPE"]
[null,"NC076 Thembelihle","NC NORTHERN CAPE"]
[null,"NC077 Siyathemba","NC NORTHERN CAPE"]
[null,"NC078 Siyancuma","NC NORTHERN CAPE"]
[null,"DC7 Pixley Ka Seme (Nc)","NC NORTHERN CAPE"]
[null,"NC082 !Kai! Garib","NC NORTHERN CAPE"]
[null,"NC084 !Kheis","NC NORTHERN CAPE"]
[null,"NC085 Tsantsabane","NC NORTHERN CAPE"]
[null,"NC086 Kgatelopele","NC NORTHERN CAPE"]
[null,"NC087 Dawid Kruiper","NC NORTHERN CAPE"]
[null,"DC8 Z F Mgcawu","NC NORTHERN CAPE"]
[null,"NC091 Sol Plaatje","NC NORTHERN CAPE"]
[null,"NC092 Dikgatlong","NC NORTHERN CAPE"]
[null,"NC093 Magareng","NC NORTHERN CAPE"]
[null,"NC094 Phokwane","NC NORTHERN CAPE"]
[null,"DC9 Frances Baard","NC NORTHERN CAPE"]
[null,"NW371 Moretele","NW NORTH WEST"]
[null,"NW372 Madibeng","NW NORTH WEST"]
[null,"NW373 Rustenburg","NW NORTH WEST"]
[null,"NW374 Kgetlengrivier","NW NORTH WEST"]
[null,"NW375 Moses Kotane","NW NORTH WEST"]
[null,"DC37 Bojanala Platinum","NW NORTH WEST"]
[null,"NW381 Ratlou","NW NORTH WEST"]
[null,"NW382 Tswaing","NW NORTH WEST"]
[null,"NW383 Mafikeng","NW NORTH WEST"]
[null,"NW384 Ditsobotla","NW NORTH WEST"]
[null,"NW385 Ramotshere Moiloa","NW NORTH WEST"]
[null,"DC38 Ngaka Modiri Molema","NW NORTH WEST"]
[null,"NW392 Naledi (Nw)","NW NORTH WEST"]
[null,"NW393 Mamusa","NW NORTH WEST"]
[null,"NW394 Greater Taung","NW NORTH WEST"]
[null,"NW396 Lekwa-Teemane","NW NORTH WEST"]
[null,"NW397 Kagisano-Molopo","NW NORTH WEST"]
[null,"DC39 Dr Ruth Segomotsi Mompati","NW NORTH WEST"]
[null,"NW403 City Of Matlosana","NW NORTH WEST"]
[null,"NW404 Maquassi Hills","NW NORTH WEST"]
[null,"NW405 J B Marks","NW NORTH WEST"]
[null,"DC40 Dr Kenneth Kaunda","NW NORTH WEST"]
[null,"CPT Cape Town","WC WESTERN CAPE"]
[null,"WC011 Matzikama","WC WESTERN CAPE"]
[null,"WC012 Cederberg","WC WESTERN CAPE"]
[null,"WC013 Bergrivier","WC WESTERN CAPE"]
[null,"WC014 Saldanha Bay","WC WESTERN CAPE"]
[null,"WC015 Swartland","WC WESTERN CAPE"]
[null,"DC1 West Coast","WC WESTERN CAPE"]
[null,"WC022 Witzenberg","WC WESTERN CAPE"]
[null,"WC023 Drakenstein","WC WESTERN CAPE"]
[null,"WC024 Stellenbosch","WC WESTERN CAPE"]
[null,"WC025 Breede Valley","WC WESTERN CAPE"]
[null,"WC026 Langeberg","WC WESTERN CAPE"]
[null,"DC2 Cape Winelands DM","WC WESTERN CAPE"]
[null,"WC031 Theewaterskloof","WC WESTERN CAPE"]
[null,"WC032 Overstrand","WC WESTERN CAPE"]
[null,"WC033 Cape Agulhas","WC WESTERN CAPE"]
[null,"WC034 Swellendam","WC WESTERN CAPE"]
[null,"DC3 Overberg","WC WESTERN CAPE"]
[null,"WC041 Kannaland","WC WESTERN CAPE"]
[null,"WC042 Hessequa","WC WESTERN CAPE"]
[null,"WC043 Mossel Bay","WC WESTERN CAPE"]
[null,"WC044 George","WC WESTERN CAPE"]
[null,"WC045 Oudtshoorn","WC WESTERN CAPE"]
[null,"WC047 Bitou","WC WESTERN CAPE"]
[null,"WC048 Knysna","WC WESTERN CAPE"]
[null,"DC4 Garden Route","WC WESTERN CAPE"]
[null,"WC051 Laingsburg","WC WESTERN CAPE"]
[null,"WC052 Prince Albert","WC WESTERN CAPE"]
[null,"WC053 Beaufort West","WC WESTERN CAPE"]
[null,"DC5 Central Karoo","WC WESTERN CAPE"]
[]
[]
[]
[]
[]
[]
[]
[]
[]
[]
[]
[]
[]
[]
[]
[]
[]
[]
[]
[]
[]
[null,{"$f":"COUNTA(B30:B307)","v":257}]

{"sheet":"Org structure","index":4,"n_rows":200,"n_cols":5,"rows_kept":200,"cut":false,"hidden":false,"merged":[]}
["Organisational Structure Votes",null,"Organisational Structure Sub-Votes",null,"Display Sub-Votes"]
[{"$f":"B2&\" - \"&C2","v":"Vote 1 - Legislative & Executive Support Services"},"Vote 1","Legislative & Executive Support Services"]
[{"$f":"B9&\" - \"& C9","v":"Vote 2 - Strategic Management"},1.1000000000000001,"Council General",{"$f":"CONCATENATE(B3, \" - \", C3)","v":"1,1 - Council General"},"1,1 - Council General"]
[{"$f":"B18&\" - \"&C18","v":"Vote 3 - Corporate Services"},1.2,"Mayoral Committee","1,2 - Mayoral Committee","1,2 - Mayoral Committee"]
[{"$f":"B27&\" - \"&C27","v":"Vote 4 - Budget & Treasury"},1.3,"Executive Support Services","1,3 - Executive Support Services","1,3 - Executive Support Services"]
[{"$f":"B38&\" - \"&C38","v":"Vote 5 - Engineering Department"},1.4,"Legislative Support Services","1,4 - Legislative Support Services","1,4 - Legislative Support Services"]
[{"$f":"B46&\" - \"&C46","v":"Vote 6 - Health & Protection Department"},1.5,"Director: Leg&executive Support Services","1,5 - Director: Leg&executive Support Services","1,5 - Director: Leg&executive Support Services"]
[{"$f":"B60&\" - \"&C60","v":"Vote 7 - Water & Sanitation Management"},1.6,"Council Support","1,6 - Council Support","1,6 - Council Support"]
[{"$f":"B65&\" - \"&C65","v":"Vote 8 - Water Services"},"Vote 2","Strategic Management"]
[{"$f":"B114&\" - \"&C114","v":"Vote 9 - Sanitation Services"},2.1,"Risk Services",{"$f":"CONCATENATE(B10, \" - \", C10)","v":"2,1 - Risk Services"},"2,1 - Risk Services"]
[{"$f":"B137&\" - \"&C137","v":"Vote 10 - Land Human Settlement & Economic Development"},2.2000000000000002,"Municipal Support Unit","2,2 - Municipal Support Unit","2,2 - Municipal Support Unit"]
[{"$f":"B142&\" - \"&C142","v":"Vote 11 - Municipal Management"},2.2999999999999998,"Strategic Planning","2,3 - Strategic Planning","2,3 - Strategic Planning"]
[{"$f":"B155&\" - \"&C155","v":"Vote 12 - [NAME OF VOTE 12]"},2.4,"Information Management Unit","2,4 - Information Management Unit","2,4 - Information Management Unit"]
[{"$f":"B168&\" - \"&C168","v":"Vote 13 - [NAME OF VOTE 13]"},2.5,"Communications & Customer Care","2,5 - Communications & Customer Care","2,5 - Communications & Customer Care"]
[{"$f":"B179&\" - \"&C179","v":"Vote 14 - [NAME OF VOTE 14]"},2.6,"Planning Monitoring & Evaluation","2,6 - Planning Monitoring & Evaluation","2,6 - Planning Monitoring & Evaluation"]
[{"$f":"B190&\" - \"&C190","v":"Vote 15 - [NAME OF VOTE 15]"},2.7,"Speaker Support Services_(old)","2,7 - Speaker Support Services_(old)","2,7 - Speaker Support Services_(old)"]
[null,2.8,"Travel Desk & Igr","2,8 - Travel Desk & Igr","2,8 - Travel Desk & Igr"]
[null,"Vote 3","Corporate Services"]
[null,3.1,"Administration",{"$f":"CONCATENATE(B19, \" - \", C19)","v":"3,1 - Administration"},"3,1 - Administration"]
[null,3.2,"Human Resources","3,2 - Human Resources","3,2 - Human Resources"]
[null,3.3,"Council General","3,3 - Council General","3,3 - Council General"]
[null,3.4,"Mayoral Committee","3,4 - Mayoral Committee","3,4 - Mayoral Committee"]
[null,3.5,"Executive Support Services","3,5 - Executive Support Services","3,5 - Executive Support Services"]
[null,3.6,"Legislative Support Services","3,6 - Legislative Support Services","3,6 - Legislative Support Services"]
[null,3.7,"Director: Leg&executive Support Services","3,7 - Director: Leg&executive Support Services","3,7 - Director: Leg&executive Support Services"]
[null,3.8,"Council Support","3,8 - Council Support","3,8 - Council Support"]
[null,"Vote 4","Budget & Treasury"]
[null,4.0999999999999996,"Chief Financial Officer",{"$f":"CONCATENATE(B28, \" - \", C28)","v":"4,1 - Chief Financial Officer"},"4,1 - Chief Financial Officer"]
[null,4.2,"Accounting And Reporting","4,2 - Accounting And Reporting","4,2 - Accounting And Reporting"]
[null,4.3,"Asset Management","4,3 - Asset Management","4,3 - Asset Management"]
[null,4.4000000000000004,"Supply Chain Management","4,4 - Supply Chain Management","4,4 - Supply Chain Management"]
[null,4.5,"Budgeting","4,5 - Budgeting","4,5 - Budgeting"]
[null,4.5999999999999996,"Credit Control","4,6 - Credit Control","4,6 - Credit Control"]
[null,4.7,"Billing","4,7 - Billing","4,7 - Billing"]
[null,4.8,"Revenue Data Management","4,8 - Revenue Data Management","4,8 - Revenue Data Management"]
[null,4.9000000000000004,"Receipting & Reconciliaton","4,9 - Receipting & Reconciliaton","4,9 - Receipting & Reconciliaton"]
[null,"4.10","Expenditure","4.10 - Expenditure","4.10 - Expenditure"]
[null,"Vote 5","Engineering Department"]
[null,5.0999999999999996,"Engineering Services",{"$f":"CONCATENATE(B39, \" - \", C39)","v":"5,1 - Engineering Services"},"5,1 - Engineering Services"]
[null,5.2,"Building And Services Planning","5,2 - Building And Services Planning","5,2 - Building And Services Planning"]
[null,5.3,"Solid Waste Site","5,3 - Solid Waste Site","5,3 - Solid Waste Site"]
[null,5.4,"Managment Of Building & Services Plannin","5,4 - Managment Of Building & Services Plannin","5,4 - Managment Of Building & Services Plannin"]
[null,5.5,"Transport Unit","5,5 - Transport Unit","5,5 - Transport Unit"]
[null,5.6,"Water Service Authority","5,6 - Water Service Authority","5,6 - Water Service Authority"]
[null,5.7,"Project Management Unit","5,7 - Project Management Unit","5,7 - Project Management Unit"]
[null,"Vote 6","Health & Protection Department"]
[null,6.1,"Community Services",{"$f":"CONCATENATE(B47, \" - \", C47)","v":"6,1 - Community Services"},"6,1 - Community Services"]
[null,6.2,"Disaster Management","6,2 - Disaster Management","6,2 - Disaster Management"]
[null,6.3,"Community Safety Services","6,3 - Community Safety Services","6,3 - Community Safety Services"]
[null,6.4,"Municipal Health (adm)","6,4 - Municipal Health (adm)","6,4 - Municipal Health (adm)"]
[null,6.5,"Fire Services","6,5 - Fire Services","6,5 - Fire Services"]
[null,6.6,"Mhs In Mbhashe 1516","6,6 - Mhs In Mbhashe 1516","6,6 - Mhs In Mbhashe 1516"]
[null,6.7,"Mhs In Mnquma 1516","6,7 - Mhs In Mnquma 1516","6,7 - Mhs In Mnquma 1516"]
[null,6.8,"Mhs In Great Kei 1516","6,8 - Mhs In Great Kei 1516","6,8 - Mhs In Great Kei 1516"]
[null,6.9,"Mhs In Amahlathi","6,9 - Mhs In Amahlathi","6,9 - Mhs In Amahlathi"]
[null,"6,10","Mhs Devolution",{"$f":"CONCATENATE(B56, \" - \", C56)","v":"6,10 - Mhs Devolution"},"6,10 - Mhs Devolution"]
[null,"6,11","Mhs In Nkonkobe","6,11 - Mhs In Nkonkobe","6,11 - Mhs In Nkonkobe"]
[null,"6,12","Mhs In Nxuba","6,12 - Mhs In Nxuba","6,12 - Mhs In Nxuba"]
[null,"6,13","Mhs In Ngqushwa 1516","6,13 - Mhs In Ngqushwa 1516","6,13 - Mhs In Ngqushwa 1516"]
[null,"Vote 7","Water & Sanitation Management"]
[null,7.1,"Management Of O&m Water & Sanitation",{"$f":"CONCATENATE(B61, \" - \", C61)","v":"7,1 - Management Of O&m Water & Sanitation"},"7,1 - Management Of O&m Water & Sanitation"]
[null,7.2,"Mechanical & Electrical","7,2 - Mechanical & Electrical","7,2 - Mechanical & Electrical"]
[null,7.3,"Water Conservation & Demand Mngt","7,3 - Water Conservation & Demand Mngt","7,3 - Water Conservation & Demand Mngt"]
[null,7.4,"Water Care Unit","7,4 - Water Care Unit","7,4 - Water Care Unit"]
[null,"Vote 8","Water Services"]
[null,8.1,"Dutywa Water Scheme",{"$f":"CONCATENATE(B66, \" - \", C66)","v":"8,1 - Dutywa Water Scheme"},"8,1 - Dutywa Water Scheme"]
[null,8.1999999999999993,"Willowvale Water Scheme","8,2 - Willowvale Water Scheme","8,2 - Willowvale Water Scheme"]
[null,8.3000000000000007,"Elliotdale Water Scheme","8,3 - Elliotdale Water Scheme","8,3 - Elliotdale Water Scheme"]
[null,8.4,"Qwaninga Water Scheme","8,4 - Qwaninga Water Scheme","8,4 - Qwaninga Water Scheme"]
[null,8.5,"Mendu Water Scheme","8,5 - Mendu Water Scheme","8,5 - Mendu Water Scheme"]
[null,8.6,"Dwesa Water Scheme","8,6 - Dwesa Water Scheme","8,6 - Dwesa Water Scheme"]
[null,8.6999999999999993,"Cwebe Water Scheme","8,7 - Cwebe Water Scheme","8,7 - Cwebe Water Scheme"]
[null,8.8000000000000007,"Qolora Water Scheme","8,8 - Qolora Water Scheme","8,8 - Qolora Water Scheme"]
[null,8.9,"Butterworth Water Scheme","8,9 - Butterworth Water Scheme","8,9 - Butterworth Water Scheme"]
[null,"8,10","Tynira Water Scheme Old",{"$f":"CONCATENATE(B75, \" - \", C75)","v":"8,10 - Tynira Water Scheme Old"},"8,10 - Tynira Water Scheme Old"]
[null,"8,11","Kotana & Ehlobo Water Scheme","8,11 - Kotana & Ehlobo Water Scheme","8,11 - Kotana & Ehlobo Water Scheme"]
[null,"8,12","Ngqamakwe Water Scheme","8,12 - Ngqamakwe Water Scheme","8,12 - Ngqamakwe Water Scheme"]
[null,"8,13","Haga Haga Water Scheme","8,13 - Haga Haga Water Scheme","8,13 - Haga Haga Water Scheme"]
[null,"8,14","Kei Mouth Water Scheme","8,14 - Kei Mouth Water Scheme","8,14 - Kei Mouth Water Scheme"]
[null,"8,15","Morgan Bay Water Scheme","8,15 - Morgan Bay Water Scheme","8,15 - Morgan Bay Water Scheme"]
[null,"8,16","Chintsa Water Scheme","8,16 - Chintsa Water Scheme","8,16 - Chintsa Water Scheme"]
[null,"8,17","Kei Bridge/komga Water Scheme","8,17 - Kei Bridge/komga Water Scheme","8,17 - Kei Bridge/komga Water Scheme"]
[null,"8,18","Kei Road & Amabele Water Scheme","8,18 - Kei Road & Amabele Water Scheme","8,18 - Kei Road & Amabele Water Scheme"]
[null,"8,19","Stutterheim Water Scheme","8,19 - Stutterheim Water Scheme","8,19 - Stutterheim Water Scheme"]
[null,"8,20","Cathcart Water Scheme","8,20 - Cathcart Water Scheme","8,20 - Cathcart Water Scheme"]
[null,"8,21","Seymour Water Scheme","8,21 - Seymour Water Scheme","8,21 - Seymour Water Scheme"]
[null,"8,22","Fort Beaufort Water Scheme","8,22 - Fort Beaufort Water Scheme","8,22 - Fort Beaufort Water Scheme"]
[null,"8,23","Alice Water Scheme","8,23 - Alice Water Scheme","8,23 - Alice Water Scheme"]
[null,"8,24","Hogsback Water Scheme","8,24 - Hogsback Water Scheme","8,24 - Hogsback Water Scheme"]
[null,"8,25","Adelaide Water Scheme","8,25 - Adelaide Water Scheme","8,25 - Adelaide Water Scheme"]
[null,"8,26","Bedford Water Scheme","8,26 - Bedford Water Scheme","8,26 - Bedford Water Scheme"]
[null,"8,27","Laing Water Scheme","8,27 - Laing Water Scheme","8,27 - Laing Water Scheme"]
[null,"8,28","Dabi Water Scheme Old","8,28 - Dabi Water Scheme Old","8,28 - Dabi Water Scheme Old"]
[null,"8,29","Glenmore Water Scheme","8,29 - Glenmore Water Scheme","8,29 - Glenmore Water Scheme"]
[null,"8,30","Peddie Regional Water Scheme","8,30 - Peddie Regional Water Scheme","8,30 - Peddie Regional Water Scheme"]
[null,"8,31","Mncwasa Water Treatment Works","8,31 - Mncwasa Water Treatment Works","8,31 - Mncwasa Water Treatment Works"]
[null,"8,32","Sandile Water Scheme","8,32 - Sandile Water Scheme","8,32 - Sandile Water Scheme"]
[null,"8,33","Debe Neck Water Scheme","8,33 - Debe Neck Water Scheme","8,33 - Debe Neck Water Scheme"]
[null,"8,34","Gagatyume (incl Middeldrift) Water Schem","8,34 - Gagatyume (incl Middeldrift) Water Schem","8,34 - Gagatyume (incl Middeldrift) Water Schem"]
[null,"8,35","Masincedane Water Scheme","8,35 - Masincedane Water Scheme","8,35 - Masincedane Water Scheme"]
[null,"8,36","Upper Myameni Water Scheme","8,36 - Upper Myameni Water Scheme","8,36 - Upper Myameni Water Scheme"]
[null,"8,37","Rooikrantz Water Scheme","8,37 - Rooikrantz Water Scheme","8,37 - Rooikrantz Water Scheme"]
[null,"8,38","Ekuphumleni Phase 2 Water Scheme","8,38 - Ekuphumleni Phase 2 Water Scheme","8,38 - Ekuphumleni Phase 2 Water Scheme"]
[null,"8,39","Ehlobo Water Supply Scheme Old","8,39 - Ehlobo Water Supply Scheme Old","8,39 - Ehlobo Water Supply Scheme Old"]
[null,"8,40","Nqadu Water Supply Scheme","8,40 - Nqadu Water Supply Scheme","8,40 - Nqadu Water Supply Scheme"]
[null,"8,41","Mbhashe North Regional Water Supply Sche","8,41 - Mbhashe North Regional Water Supply Sche","8,41 - Mbhashe North Regional Water Supply Sche"]
[null,"8,42","Communal Package Plants","8,42 - Communal Package Plants","8,42 - Communal Package Plants"]
[null,"8,43","Centane Water","8,43 - Centane Water","8,43 - Centane Water"]
[null,"8,44","Borehole Schemes","8,44 - Borehole Schemes","8,44 - Borehole Schemes"]
[null,"8,45","Toleni Water Scheme Ex Dws","8,45 - Toleni Water Scheme Ex Dws","8,45 - Toleni Water Scheme Ex Dws"]
[null,"8,46","Borehole Schemes Ex Dws","8,46 - Borehole Schemes Ex Dws","8,46 - Borehole Schemes Ex Dws"]
[null,"8,47","Ibeka Water Supply","8,47 - Ibeka Water Supply","8,47 - Ibeka Water Supply"]
[null,"8,48","Xhora Water Supply","8,48 - Xhora Water Supply","8,48 - Xhora Water Supply"]
[null,"Vote 9","Sanitation Services"]
[null,9.1,"Dutywa Sewerage",{"$f":"CONCATENATE(B115, \" - \", C115)","v":"9,1 - Dutywa Sewerage"},"9,1 - Dutywa Sewerage"]
[null,9.1999999999999993,"Butterworth Sewerage",{"$f":"CONCATENATE(B116, \" - \", C116)","v":"9,2 - Butterworth Sewerage"},"9,2 - Butterworth Sewerage"]
[null,9.3000000000000007,"Kei Mouth Sewerage","9,3 - Kei Mouth Sewerage","9,3 - Kei Mouth Sewerage"]
[null,9.4,"Chintsa East Sewerage","9,4 - Chintsa East Sewerage","9,4 - Chintsa East Sewerage"]
[null,9.5,"Komga Sewerage","9,5 - Komga Sewerage","9,5 - Komga Sewerage"]
[null,9.6,"Keiskammahoek Sewerage","9,6 - Keiskammahoek Sewerage","9,6 - Keiskammahoek Sewerage"]
[null,9.6999999999999993,"Kei Road Sewerage","9,7 - Kei Road Sewerage","9,7 - Kei Road Sewerage"]
[null,9.8000000000000007,"Cathcart Sewerage","9,8 - Cathcart Sewerage","9,8 - Cathcart Sewerage"]
[null,9.9,"Stutterheim Sewerage","9,9 - Stutterheim Sewerage","9,9 - Stutterheim Sewerage"]
[null,"9,10","Seymour Sewerage","9,10 - Seymour Sewerage","9,10 - Seymour Sewerage"]
[null,"9,11","Alice Sewerage","9,11 - Alice Sewerage","9,11 - Alice Sewerage"]
[null,"9,12","Middledrift Sewerage","9,12 - Middledrift Sewerage","9,12 - Middledrift Sewerage"]
[null,"9,13","Fort Beaufort Sewerage","9,13 - Fort Beaufort Sewerage","9,13 - Fort Beaufort Sewerage"]
[null,"9,14","Adelaide Sewerage","9,14 - Adelaide Sewerage","9,14 - Adelaide Sewerage"]
[null,"9,15","Bedford Sewerage","9,15 - Bedford Sewerage","9,15 - Bedford Sewerage"]
[null,"9,16","Peddie Sewerage","9,16 - Peddie Sewerage","9,16 - Peddie Sewerage"]
[null,"9,17","Tanker Services","9,17 - Tanker Services","9,17 - Tanker Services"]
[null,"9,18","Ngqamakwe Sanitation","9,18 - Ngqamakwe Sanitation","9,18 - Ngqamakwe Sanitation"]
[null,"9,19","Rural Sanitation Schemes","9,19 - Rural Sanitation Schemes","9,19 - Rural Sanitation Schemes"]
[null,"9,20","Centane Sanitation","9,20 - Centane Sanitation","9,20 - Centane Sanitation"]
[null,"9,21","Amabele Sanitation","9,21 - Amabele Sanitation","9,21 - Amabele Sanitation"]
[null,"9,22","Morgan Bay Sewerage","9,22 - Morgan Bay Sewerage","9,22 - Morgan Bay Sewerage"]
[null,"Vote 10","Land Human Settlement & Economic Development"]
[null,10.1,"Land Administration & Housing",{"$f":"CONCATENATE(B138, \" - \", C138)","v":"10,1 - Land Administration & Housing"},"10,1 - Land Administration & Housing"]
[null,10.199999999999999,"Economic Development","10,2 - Economic Development","10,2 - Economic Development"]
[null,10.3,"Director Land Admin Housing & Eco Dev","10,3 - Director Land Admin Housing & Eco Dev","10,3 - Director Land Admin Housing & Eco Dev"]
[null,10.4,"EPWP","10,4 - EPWP","10,4 - EPWP"]
[null,"Vote 11","Municipal Management"]
[null,11.1,"Municipal Manager",{"$f":"CONCATENATE(B143, \" - \", C143)","v":"11,1 - Municipal Manager"},"11,1 - Municipal Manager"]
[null,11.2,"Legal Services","11,2 - Legal Services","11,2 - Legal Services"]
[null,11.3,"Projects Investment & Stakeholder Mngt","11,3 - Projects Investment & Stakeholder Mngt","11,3 - Projects Investment & Stakeholder Mngt"]
[null,11.4,"Internal Audit","11,4 - Internal Audit","11,4 - Internal Audit"]
[null,11.5,"Policy Development And Research Unit","11,5 - Policy Development And Research Unit","11,5 - Policy Development And Research Unit"]
[null,11.6,"Amahlathi Satellite Office","11,6 - Amahlathi Satellite Office","11,6 - Amahlathi Satellite Office"]
[null,11.7,"Great Kei Satellite Office","11,7 - Great Kei Satellite Office","11,7 - Great Kei Satellite Office"]
[null,11.8,"Mbhashe Satellite Office","11,8 - Mbhashe Satellite Office","11,8 - Mbhashe Satellite Office"]
[null,11.9,"Mnquma Satellite Office","11,9 - Mnquma Satellite Office","11,9 - Mnquma Satellite Office"]
[null,"11,10","Ngqushwa Satelite Office",{"$f":"CONCATENATE(B152, \" - \", C152)","v":"11,10 - Ngqushwa Satelite Office"},"11,10 - Ngqushwa Satelite Office"]
[null,"11,11","Nkonkobe Satellite Office","11,11 - Nkonkobe Satellite Office","11,11 - Nkonkobe Satellite Office"]
[null,"11,12","Nxuba Satellite Office","11,12 - Nxuba Satellite Office","11,12 - Nxuba Satellite Office"]
[null,"Vote 12","[NAME OF VOTE 12]"]
[null,12.1,null,{"$f":"CONCATENATE(B156, \" - \", C156)","v":"12,1 - "},"12,1 - Municipal Manager"]
[null,12.2,null,{"$f":"CONCATENATE(B157, \" - \", C157)","v":"12,2 - "},"12,2 - Legal Services"]
[null,12.3,null,"12,3 - ","12,3 - Projects Investment & Stakeholder Mngt"]
[null,12.4,null,"12,4 - ","12,4 - Internal Audit"]
[null,12.5,null,"12,5 - ","12,5 - Policy Development And Research Unit"]
[null,12.6,null,"12,6 - ","12,6 - Amahlathi Satellite Office"]
[null,12.7,null,"12,7 - ","12,7 - Great Kei Satellite Office"]
[null,12.8,null,"12,8 - ","12,8 - Mbhashe Satellite Office"]
[null,"12,9",null,"12,9 - ","12,9 - Mnquma Satellite Office"]
[null,"12,10",null,"12,10 - ","12,10 - Ngqushwa Satelite Office"]
[null,"12,11",null,"12,11 - ","12,11 - Nkonkobe Satellite Office"]
[null,"12,12",null,"12,12 - ","12,12 - Nxuba Satellite Office"]
[null,"Vote 13","[NAME OF VOTE 13]"]
[null,13.1,"[Name of sub-vote]",{"$f":"CONCATENATE(B169, \" - \", C169)","v":"13,1 - [Name of sub-vote]"},"13.1 - [Name of sub-vote]"]
[null,13.2,"[Name of sub-vote]","13,2 - [Name of sub-vote]"]
[null,13.3,"[Name of sub-vote]","13,3 - [Name of sub-vote]"]
[null,13.4,"[Name of sub-vote]","13,4 - [Name of sub-vote]"]
[null,13.5,"[Name of sub-vote]","13,5 - [Name of sub-vote]"]
[null,13.6,"[Name of sub-vote]","13,6 - [Name of sub-vote]"]
[null,13.7,"[Name of sub-vote]","13,7 - [Name of sub-vote]"]
[null,13.8,"[Name of sub-vote]","13,8 - [Name of sub-vote]"]
[null,13.9,"[Name of sub-vote]","13,9 - [Name of sub-vote]"]
[null,"13.10","[Name of sub-vote]","13.10 - [Name of sub-vote]"]
[null,"Vote 14","[NAME OF VOTE 14]"]
[null,14.1,"[Name of sub-vote]",{"$f":"CONCATENATE(B180, \" - \", C180)","v":"14,1 - [Name of sub-vote]"},"14.1 - [Name of sub-vote]"]
[null,14.2,"[Name of sub-vote]","14,2 - [Name of sub-vote]"]
[null,14.3,"[Name of sub-vote]","14,3 - [Name of sub-vote]"]
[null,14.4,"[Name of sub-vote]","14,4 - [Name of sub-vote]"]
[null,14.5,"[Name of sub-vote]","14,5 - [Name of sub-vote]"]
[null,14.6,"[Name of sub-vote]","14,6 - [Name of sub-vote]"]
[null,14.7,"[Name of sub-vote]","14,7 - [Name of sub-vote]"]
[null,14.8,"[Name of sub-vote]","14,8 - [Name of sub-vote]"]
[null,14.9,"[Name of sub-vote]","14,9 - [Name of sub-vote]"]
[null,"14.10","[Name of sub-vote]","14.10 - [Name of sub-vote]"]
[null,"Vote 15","[NAME OF VOTE 15]"]
[null,15.1,"[Name of sub-vote]",{"$f":"CONCATENATE(B191, \" - \", C191)","v":"15,1 - [Name of sub-vote]"},"15.1 - [Name of sub-vote]"]
[null,15.2,"[Name of sub-vote]","15,2 - [Name of sub-vote]"]
[null,15.3,"[Name of sub-vote]","15,3 - [Name of sub-vote]"]
[null,15.4,"[Name of sub-vote]","15,4 - [Name of sub-vote]"]
[null,15.5,"[Name of sub-vote]","15,5 - [Name of sub-vote]"]
[null,15.6,"[Name of sub-vote]","15,6 - [Name of sub-vote]"]
[null,15.7,"[Name of sub-vote]","15,7 - [Name of sub-vote]"]
[null,15.8,"[Name of sub-vote]","15,8 - [Name of sub-vote]"]
[null,15.9,"[Name of sub-vote]","15,9 - [Name of sub-vote]"]
[null,"15.10","[Name of sub-vote]","15.10 - [Name of sub-vote]"]

{"sheet":"Contacts","index":5,"n_rows":140,"n_cols":4,"rows_kept":140,"cut":false,"hidden":false,"merged":[[7,2,7,3],[13,0,13,1],[29,0,29,1],[10,2,10,3],[12,2,12,3],[84,2,84,3],[30,2,30,3],[29,2,29,3],[48,0,48,1],[100,2,100,3],[39,2,39,3],[48,2,48,3],[57,2,57,3],[92,0,92,1],[39,0,39,1],[132,0,132,1],[132,2,132,3],[76,0,76,1],[57,0,57,1],[76,2,76,3],[92,2,92,3],[67,2,67,3],[124,0,124,1],[124,2,124,3],[116,0,116,1],[116,2,116,3],[108,0,108,1],[108,2,108,3],[100,0,100,1],[58,2,58,3],[84,0,84,1]]}
[{"$f":"muni&\" - \"&\" Contact Information\"","v":"DC12 Amathole -  Contact Information"}]
[]
["A. GENERAL INFORMATION"]
["Municipality",{"$f":"muni","v":"DC12 Amathole"},{"$f":"IF(B4=\"Choose name from List\",\"Set name on 'Instructions' sheet\", \"\")","v":""}]
[]
["Grade","7","1 Grade in terms of the Remuneration of Public Office Bearers Act."]
[]
["Province",{"$f":"IF(B4>\" \",VLOOKUP(B4,'Lookup and lists'!B29:C307,2, FALSE),\" \")","v":"EC EASTERN CAPE"}]
[]
["Web Address","www.amathole.gov.za"]
[]
["e-mail Address","info@amathole.gov.za"]
[]
["B. CONTACT INFORMATION"]
["Postal address:"]
["P.O. Box","320"]
["City / Town","EAST LONDON"]
["Postal Code","5200"]
[]
["Street address"]
["Building","Waverly Park "]
["Street No. & Name","33-3 Phillip Frame"]
["City / Town","Chilsehurst"]
["Postal Code","5200"]
[]
["General Contacts"]
["Telephone number","043-7014000"]
["Fax number","043-7420377"]
[]
["C. POLITICAL LEADERSHIP"]
["Speaker:",null,"Secretary/PA to the Speaker:"]
["ID Number","6803037596088","ID Number","8002060427083"]
["Title","Mr","Title","Ms"]
["Name","Nceba Ndikinda","Name","Nomvuyo Mavuso"]
["Telephone number","043 783 2202","Telephone number","043 783 2202"]
["Cell number","060 975 1290","Cell number","079 889 5490"]
["Fax number","086 773 1356","Fax number","086 773 1356"]
["E-mail address","nceband@amathole.gov.za","E-mail address","nomvuyom@amthole.gov.za"]
[]
["Mayor/Executive Mayor:",null,"Secretary/PA to the Mayor/Executive Mayor:"]
["ID Number",null,"ID Number","9105240390086"]
["Title",null,"Title","Ms"]
["Name",null,"Name","Zandile Biyo"]
["Telephone number",null,"Telephone number","043 701 4161"]
["Cell number",null,"Cell number","060 632 6352"]
["Fax number",null,"Fax number","086 408 4970"]
["E-mail address",null,"E-mail address","admmayor@amthole.gov.za"]
[]
["Deputy Mayor/Executive Mayor:",null,"Secretary/PA to the Deputy Mayor/Executive Mayor:"]
["ID Number","5011220336087","ID Number"]
["Title","Ms","Title"]
["Name","Nomfusi Winnie Nxawe","Name"]
["Telephone number","043 701 4161","Telephone number"]
["Cell number","0609975756","Cell number"]
["Fax number","086 642 1506","Fax number"]
["E-mail address","winnien@amathole.gov.za","E-mail address"]
[]
["D. MANAGEMENT LEADERSHIP"]
["Municipal Manager:",null,"Secretary/PA to the Municipal Manager:"]
["ID Number","7404255367085","ID Number","8203161108081"]
["Title","Mr ","Title","Mrs"]
["Name","Thandekile Mnyimba","Name","Nontyatyambo Blossom Dyushu"]
["Telephone number","043 701 4137","Telephone number","043 783 2230"]
["Cell number","076 772 1094","Cell number","079 889 5522"]
["Fax number","043 721 2874","Fax number","086 642 1506"]
["E-mail address","thandekilem@amathole.gov.za","E-mail address","nontyatyambod@amathole.gov.za"]
[]
["Chief Financial Officer",null,"Secretary/PA to the Chief Financial Officer"]
["ID Number","731126 5400 08 2","ID Number","800210 0421 08 8"]
["Title","Mr","Title","Mrs"]
["Name","LUCKY MOATLHODI MOSALA","Name","Nosiphiwo Lelani-Matyeshana"]
["Telephone number","043 705 5280","Telephone number","043 783 2424"]
["Cell number","086 229 5870","Cell number","061 443 8301"]
["Fax number","043 722 1991","Fax number","086 642 1736"]
["E-mail address","luckymo@amathole.gov.za","E-mail address","nosiphiwol@amathole.gov.za"]
[]
["Official responsible for submitting financial information",null,"Official responsible for submitting financial information"]
["ID Number",null,"ID Number"]
["Title","Ms","Title"]
["Name","SHARON KALIS","Name"]
["Telephone number","043-7015261","Telephone number"]
["Cell number","0834584805","Cell number"]
["Fax number","0865199741","Fax number"]
["E-mail address","sharonk@amathole.gov.za","E-mail address"]
["Official responsible for submitting financial information",null,"Official responsible for submitting financial information"]
["ID Number",null,"ID Number"]
["Title",null,"Title"]
["Name",null,"Name"]
["Telephone number",null,"Telephone number"]
["Cell number",null,"Cell number"]
["Fax number",null,"Fax number"]
["E-mail address",null,"E-mail address"]
["Official responsible for submitting financial information",null,"Official responsible for submitting financial information"]
["ID Number",null,"ID Number"]
["Title",null,"Title"]
["Name",null,"Name"]
["Telephone number",null,"Telephone number"]
["Cell number",null,"Cell number"]
["Fax number",null,"Fax number"]
["E-mail address",null,"E-mail address"]
["Official responsible for submitting financial information",null,"Official responsible for submitting financial information"]
["ID Number",null,"ID Number"]
["Title",null,"Title"]
["Name",null,"Name"]
["Telephone number",null,"Telephone number"]
["Cell number",null,"Cell number"]
["Fax number",null,"Fax number"]
["E-mail address",null,"E-mail address"]
["Official responsible for submitting financial information",null,"Official responsible for submitting financial information"]
["ID Number",null,"ID Number"]
["Title",null,"Title"]
["Name",null,"Name"]
["Telephone number",null,"Telephone number"]
["Cell number",null,"Cell number"]
["Fax number",null,"Fax number"]
["E-mail address",null,"E-mail address"]
["Official responsible for submitting financial information",null,"Official responsible for submitting financial information"]
["ID Number",null,"ID Number"]
["Title",null,"Title"]
["Name",null,"Name"]
["Telephone number",null,"Telephone number"]
["Cell number",null,"Cell number"]
["Fax number",null,"Fax number"]
["E-mail address",null,"E-mail address"]
["Official responsible for submitting financial information",null,"Official responsible for submitting financial information"]
["ID Number",null,"ID Number"]
["Title",null,"Title"]
["Name",null,"Name"]
["Telephone number",null,"Telephone number"]
["Cell number",null,"Cell number"]
["Fax number",null,"Fax number"]
["E-mail address",null,"E-mail address"]
["Official responsible for submitting financial information"]
["ID Number"]
["Title"]
["Name"]
["Telephone number"]
["Cell number"]
["Fax number"]
["E-mail address"]

{"sheet":"A1-Sum","index":6,"n_rows":65,"n_cols":11,"rows_kept":65,"cut":false,"hidden":false,"merged":[[1,8,1,10],[1,4,1,7],[0,0,0,2]]}
[{"$f":"muni&\" - \"&Approve1","v":"DC12 Amathole - Table A1 Budget Summary"}]
[{"$f":"desc","v":"Description"},{"$f":"head1b","v":"2016/17"},{"$f":"head1A","v":"2017/18"},{"$f":"Head1","v":"2018/19"},{"$f":"Head2","v":"Current Year 2019/20"},null,null,null,{"$f":"Head3","v":"2020/21 Medium Term Revenue & Expenditure Framework"}]
["R thousands",{"$f":"Head5","v":"Audited Outcome"},{"$f":"Head5","v":"Audited Outcome"},{"$f":"Head5","v":"Audited Outcome"},{"$f":"Head6","v":"Original Budget"},{"$f":"Head7","v":"Adjusted Budget"},{"$f":"Head8","v":"Full Year Forecast"},{"$f":"Head5b","v":"Pre-audit outcome"},{"$f":"Head9","v":"Budget Year 2020/21"},{"$f":"Head10","v":"Budget Year +1 2021/22"},{"$f":"Head11","v":"Budget Year +2 2022/23"}]
["Financial Performance"]
["Property rates",{"$f":"'A4-FinPerf RE'!C5","v":0},{"$f":"'A4-FinPerf RE'!D5","v":0},{"$f":"'A4-FinPerf RE'!E5","v":0},{"$f":"'A4-FinPerf RE'!F5","v":0},{"$f":"'A4-FinPerf RE'!G5","v":0},{"$f":"'A4-FinPerf RE'!H5","v":0},{"$f":"'A4-FinPerf RE'!I5","v":0},{"$f":"'A4-FinPerf RE'!J5","v":0},{"$f":"'A4-FinPerf RE'!K5","v":0},{"$f":"'A4-FinPerf RE'!L5","v":0}]
["Service charges",{"$f":"SUM('A4-FinPerf RE'!C6:C9)","v":221794532},{"$f":"SUM('A4-FinPerf RE'!D6:D9)","v":262030590.29000002},{"$f":"SUM('A4-FinPerf RE'!E6:E9)","v":364264924.39999998},{"$f":"SUM('A4-FinPerf RE'!F6:F9)","v":540903577},{"$f":"SUM('A4-FinPerf RE'!G6:G9)","v":561426774},{"$f":"SUM('A4-FinPerf RE'!H6:H9)","v":561426774},{"$f":"SUM('A4-FinPerf RE'!I6:I9)","v":561426774},{"$f":"SUM('A4-FinPerf RE'!J6:J9)","v":531462239},{"$f":"SUM('A4-FinPerf RE'!K6:K9)","v":564849974},{"$f":"SUM('A4-FinPerf RE'!L6:L9)","v":580056972}]
["Investment revenue",{"$f":"'A4-FinPerf RE'!C12","v":15566237.99},{"$f":"'A4-FinPerf RE'!D12","v":6723310.6699999999},{"$f":"'A4-FinPerf RE'!E12","v":19321252.91},{"$f":"'A4-FinPerf RE'!F12","v":5073193},{"$f":"'A4-FinPerf RE'!G12","v":20155507},{"$f":"'A4-FinPerf RE'!H12","v":20155507},{"$f":"'A4-FinPerf RE'!I12","v":20155507},{"$f":"'A4-FinPerf RE'!J12","v":17911009},{"$f":"'A4-FinPerf RE'!K12","v":18717004},{"$f":"'A4-FinPerf RE'!L12","v":19559270}]
["Transfers recognised - operational",{"$f":"'A4-FinPerf RE'!C18","v":741023363.93000007},{"$f":"'A4-FinPerf RE'!D18","v":765904512.03999996},{"$f":"'A4-FinPerf RE'!E18","v":788895275},{"$f":"'A4-FinPerf RE'!F18","v":859258783},{"$f":"'A4-FinPerf RE'!G18","v":1125274830},{"$f":"'A4-FinPerf RE'!H18","v":1125274830},{"$f":"'A4-FinPerf RE'!I18","v":1125274830},{"$f":"'A4-FinPerf RE'!J18","v":959432133},{"$f":"'A4-FinPerf RE'!K18","v":991670163},{"$f":"'A4-FinPerf RE'!L18","v":1057558355}]
["Other own revenue",{"$f":"'A4-FinPerf RE'!C11+'A4-FinPerf RE'!C13+'A4-FinPerf RE'!C14+'A4-FinPerf RE'!C15+'A4-FinPerf RE'!C16+'A4-FinPerf RE'!C17+'A4-FinPerf RE'!C19+'A4-FinPerf RE'!C20","v":112392245.03999999},{"$f":"'A4-FinPerf RE'!D11+'A4-FinPerf RE'!D13+'A4-FinPerf RE'!D14+'A4-FinPerf RE'!D15+'A4-FinPerf RE'!D16+'A4-FinPerf RE'!D17+'A4-FinPerf RE'!D19+'A4-FinPerf RE'!D20","v":89683651.409999996},{"$f":"'A4-FinPerf RE'!E11+'A4-FinPerf RE'!E13+'A4-FinPerf RE'!E14+'A4-FinPerf RE'!E15+'A4-FinPerf RE'!E16+'A4-FinPerf RE'!E17+'A4-FinPerf RE'!E19+'A4-FinPerf RE'!E20","v":187291284.06},{"$f":"'A4-FinPerf RE'!F11+'A4-FinPerf RE'!F13+'A4-FinPerf RE'!F14+'A4-FinPerf RE'!F15+'A4-FinPerf RE'!F16+'A4-FinPerf RE'!F17+'A4-FinPerf RE'!F19+'A4-FinPerf RE'!F20","v":147451532.04347825},{"$f":"'A4-FinPerf RE'!G11+'A4-FinPerf RE'!G13+'A4-FinPerf RE'!G14+'A4-FinPerf RE'!G15+'A4-FinPerf RE'!G16+'A4-FinPerf RE'!G17+'A4-FinPerf RE'!G19+'A4-FinPerf RE'!G20","v":153397279.04347825},{"$f":"'A4-FinPerf RE'!H11+'A4-FinPerf RE'!H13+'A4-FinPerf RE'!H14+'A4-FinPerf RE'!H15+'A4-FinPerf RE'!H16+'A4-FinPerf RE'!H17+'A4-FinPerf RE'!H19+'A4-FinPerf RE'!H20","v":153397279.04347825},{"$f":"'A4-FinPerf RE'!I11+'A4-FinPerf RE'!I13+'A4-FinPerf RE'!I14+'A4-FinPerf RE'!I15+'A4-FinPerf RE'!I16+'A4-FinPerf RE'!I17+'A4-FinPerf RE'!I19+'A4-FinPerf RE'!I20","v":153397279.04347825},{"$f":"'A4-FinPerf RE'!J11+'A4-FinPerf RE'!J13+'A4-FinPerf RE'!J14+'A4-FinPerf RE'!J15+'A4-FinPerf RE'!J16+'A4-FinPerf RE'!J17+'A4-FinPerf RE'!J19+'A4-FinPerf RE'!J20","v":165600935},{"$f":"'A4-FinPerf RE'!K11+'A4-FinPerf RE'!K13+'A4-FinPerf RE'!K14+'A4-FinPerf RE'!K15+'A4-FinPerf RE'!K16+'A4-FinPerf RE'!K17+'A4-FinPerf RE'!K19+'A4-FinPerf RE'!K20","v":181007545},{"$f":"'A4-FinPerf RE'!L11+'A4-FinPerf RE'!L13+'A4-FinPerf RE'!L14+'A4-FinPerf RE'!L15+'A4-FinPerf RE'!L16+'A4-FinPerf RE'!L17+'A4-FinPerf RE'!L19+'A4-FinPerf RE'!L20","v":187485656}]
[{"$f":"'A4-FinPerf RE'!A21","v":"Total Revenue (excluding capital transfers and contributions)"},{"$f":"SUM(B5:B9)","v":1090776378.96},1124342064.4100001,1359772736.3699999,1552687085.0434783,1860254390.0434783,1860254390.0434783,1860254390.0434783,1674406316,1756244686,1844660253]
["Employee costs",{"$f":"'A4-FinPerf RE'!C24","v":629007596.67999995},{"$f":"'A4-FinPerf RE'!D24","v":749884204.78999984},{"$f":"'A4-FinPerf RE'!E24","v":728885187.66999984},{"$f":"'A4-FinPerf RE'!F24","v":737349635.00479996},{"$f":"'A4-FinPerf RE'!G24","v":772479444.00479996},{"$f":"'A4-FinPerf RE'!H24","v":772479444.00479996},{"$f":"'A4-FinPerf RE'!I24","v":772479444.00479996},{"$f":"'A4-FinPerf RE'!J24","v":786870285.06811917},{"$f":"'A4-FinPerf RE'!K24","v":821578040.91851282},{"$f":"'A4-FinPerf RE'!L24","v":852073685.81440067}]
["Remuneration of councillors",{"$f":"'A4-FinPerf RE'!C25","v":14428345.630000001},{"$f":"'A4-FinPerf RE'!D25","v":15611612.029999999},{"$f":"'A4-FinPerf RE'!E25","v":16496793.350000001},{"$f":"'A4-FinPerf RE'!F25","v":16088743},{"$f":"'A4-FinPerf RE'!G25","v":17058425.229999997},{"$f":"'A4-FinPerf RE'!H25","v":17058425.229999997},{"$f":"'A4-FinPerf RE'!I25","v":17058425.229999997},{"$f":"'A4-FinPerf RE'!J25","v":14941985.685000001},{"$f":"'A4-FinPerf RE'!K25","v":14941985.685000001},{"$f":"'A4-FinPerf RE'!L25","v":14941985.685000001}]
["Depreciation & asset impairment",{"$f":"'A4-FinPerf RE'!C27","v":111288592.51000001},{"$f":"'A4-FinPerf RE'!D27","v":107269535.26000001},{"$f":"'A4-FinPerf RE'!E27","v":129688666.67},{"$f":"'A4-FinPerf RE'!F27","v":162566655},{"$f":"'A4-FinPerf RE'!G27","v":162566655},{"$f":"'A4-FinPerf RE'!H27","v":162566655},{"$f":"'A4-FinPerf RE'!I27","v":162566655},{"$f":"'A4-FinPerf RE'!J27","v":170317363},{"$f":"'A4-FinPerf RE'!K27","v":187349108},{"$f":"'A4-FinPerf RE'!L27","v":206084037}]
["Finance charges",{"$f":"'A4-FinPerf RE'!C28","v":24634956.279999997},{"$f":"'A4-FinPerf RE'!D28","v":27598655.549999997},{"$f":"'A4-FinPerf RE'!E28","v":26002680.57},{"$f":"'A4-FinPerf RE'!F28","v":26354647},{"$f":"'A4-FinPerf RE'!G28","v":13686089},{"$f":"'A4-FinPerf RE'!H28","v":13686089},{"$f":"'A4-FinPerf RE'!I28","v":13686089},{"$f":"'A4-FinPerf RE'!J28","v":28139522.899999999},{"$f":"'A4-FinPerf RE'!K28","v":30338874.584899995},{"$f":"'A4-FinPerf RE'!L28","v":32441437.161427893}]
["Materials and bulk purchases",{"$f":"'A4-FinPerf RE'!C29+'A4-FinPerf RE'!C30","v":91620498},{"$f":"'A4-FinPerf RE'!D29+'A4-FinPerf RE'!D30","v":92358696.040000007},{"$f":"'A4-FinPerf RE'!E29+'A4-FinPerf RE'!E30","v":103846606.03},{"$f":"'A4-FinPerf RE'!F29+'A4-FinPerf RE'!F30","v":97079429},{"$f":"'A4-FinPerf RE'!G29+'A4-FinPerf RE'!G30","v":339126525},{"$f":"'A4-FinPerf RE'!H29+'A4-FinPerf RE'!H30","v":339126525},{"$f":"'A4-FinPerf RE'!I29+'A4-FinPerf RE'!I30","v":339126525},{"$f":"'A4-FinPerf RE'!J29+'A4-FinPerf RE'!J30","v":164533441.78},{"$f":"'A4-FinPerf RE'!K29+'A4-FinPerf RE'!K30","v":142274832},{"$f":"'A4-FinPerf RE'!L29+'A4-FinPerf RE'!L30","v":155633095.80000001}]
["Transfers and grants",{"$f":"'A4-FinPerf RE'!C32","v":169687378},{"$f":"'A4-FinPerf RE'!D32","v":57873697},{"$f":"'A4-FinPerf RE'!E32","v":7300000},{"$f":"'A4-FinPerf RE'!F32","v":20357689},{"$f":"'A4-FinPerf RE'!G32","v":19654217},{"$f":"'A4-FinPerf RE'!H32","v":19654217},{"$f":"'A4-FinPerf RE'!I32","v":19654217},{"$f":"'A4-FinPerf RE'!J32","v":15000000},{"$f":"'A4-FinPerf RE'!K32","v":10000000},{"$f":"'A4-FinPerf RE'!L32","v":10000000}]
["Other expenditure",{"$f":"'A4-FinPerf RE'!C26+'A4-FinPerf RE'!C31+'A4-FinPerf RE'!C33+'A4-FinPerf RE'!C34","v":414662122.89999998},{"$f":"'A4-FinPerf RE'!D26+'A4-FinPerf RE'!D31+'A4-FinPerf RE'!D33+'A4-FinPerf RE'!D34","v":502179455.03999996},{"$f":"'A4-FinPerf RE'!E26+'A4-FinPerf RE'!E31+'A4-FinPerf RE'!E33+'A4-FinPerf RE'!E34","v":664308912.02999997},{"$f":"'A4-FinPerf RE'!F26+'A4-FinPerf RE'!F31+'A4-FinPerf RE'!F33+'A4-FinPerf RE'!F34","v":443927569},{"$f":"'A4-FinPerf RE'!G26+'A4-FinPerf RE'!G31+'A4-FinPerf RE'!G33+'A4-FinPerf RE'!G34","v":508468846},{"$f":"'A4-FinPerf RE'!H26+'A4-FinPerf RE'!H31+'A4-FinPerf RE'!H33+'A4-FinPerf RE'!H34","v":508468846},{"$f":"'A4-FinPerf RE'!I26+'A4-FinPerf RE'!I31+'A4-FinPerf RE'!I33+'A4-FinPerf RE'!I34","v":508468846},{"$f":"'A4-FinPerf RE'!J26+'A4-FinPerf RE'!J31+'A4-FinPerf RE'!J33+'A4-FinPerf RE'!J34","v":479463719.62670529},{"$f":"'A4-FinPerf RE'!K26+'A4-FinPerf RE'!K31+'A4-FinPerf RE'!K33+'A4-FinPerf RE'!K34","v":534690925.57717896},{"$f":"'A4-FinPerf RE'!L26+'A4-FinPerf RE'!L31+'A4-FinPerf RE'!L33+'A4-FinPerf RE'!L34","v":558414131.54321885}]
[{"$f":"'A4-FinPerf RE'!A35","v":"Total Expenditure"},{"$f":"SUM(B11:B17)","v":1455329490},{"$f":"SUM(C11:C17)","v":1552775855.7099996},1676528846.3199997,1503724367.0047998,1833040201.2347999,1833040201.2347999,1833040201.2347999,1659266318.0598245,1741173766.7655916,1829588373.0040474]
[{"$f":"'A4-FinPerf RE'!A37","v":"Surplus/(Deficit)"},{"$f":"B10-B18","v":-364553111.03999996},-428433791.29999948,-316756109.94999981,48962718.038678408,27214188.808678389,27214188.808678389,27214188.808678389,15139997.940175533,15070919.234408379,15071879.995952606]
[{"$f":"'A4-FinPerf RE'!A38","v":"Transfers and subsidies - capital (monetary allocations) (National / Provincial and District)"},{"$f":"'A4-FinPerf RE'!C38","v":423906258.31999999},{"$f":"'A4-FinPerf RE'!D38","v":586026627},{"$f":"'A4-FinPerf RE'!E38","v":620037561},{"$f":"'A4-FinPerf RE'!F38","v":543037365},{"$f":"'A4-FinPerf RE'!G38","v":395484403},{"$f":"'A4-FinPerf RE'!H38","v":395484403},{"$f":"'A4-FinPerf RE'!I38","v":395484403},{"$f":"'A4-FinPerf RE'!J38","v":491381466},{"$f":"'A4-FinPerf RE'!K38","v":600491315},{"$f":"'A4-FinPerf RE'!L38","v":603602546}]
[{"$f":"'A4-FinPerf RE'!A39&\" & \"&'A4-FinPerf RE'!A40","v":"Transfers and subsidies - capital (monetary allocations) (National / Provincial Departmental Agencies, Households, Non-profit Institutions, Private Enterprises, Public Corporatons, Higher Educational Institutions) & Transfers and subsidies - capital (in-kind - all) "},{"$f":"'A4-FinPerf RE'!C39+'A4-FinPerf RE'!C40","v":0},{"$f":"'A4-FinPerf RE'!D39+'A4-FinPerf RE'!D40","v":0},{"$f":"'A4-FinPerf RE'!E39+'A4-FinPerf RE'!E40","v":0},{"$f":"'A4-FinPerf RE'!F39+'A4-FinPerf RE'!F40","v":0},{"$f":"'A4-FinPerf RE'!G39+'A4-FinPerf RE'!G40","v":0},{"$f":"'A4-FinPerf RE'!H39+'A4-FinPerf RE'!H40","v":0},{"$f":"'A4-FinPerf RE'!I39+'A4-FinPerf RE'!I40","v":0},{"$f":"'A4-FinPerf RE'!J39+'A4-FinPerf RE'!J40","v":0},{"$f":"'A4-FinPerf RE'!K39+'A4-FinPerf RE'!K40","v":0},{"$f":"'A4-FinPerf RE'!L39+'A4-FinPerf RE'!L40","v":0}]
[{"$f":"'A4-FinPerf RE'!A41","v":"Surplus/(Deficit) after capital transfers & contributions"},{"$f":"B19+SUM(B20:B21)","v":59353147.280000031},{"$f":"C19+SUM(C20:C21)","v":157592835.70000052},303281451.05000019,592000083.03867841,422698591.80867839,422698591.80867839,422698591.80867839,506521463.94017553,615562234.23440838,618674425.99595261]
[{"$f":"'A4-FinPerf RE'!A46","v":"Share of surplus/ (deficit) of associate"},{"$f":"'A4-FinPerf RE'!C46","v":0},{"$f":"'A4-FinPerf RE'!D46","v":0},{"$f":"'A4-FinPerf RE'!E46","v":0},{"$f":"'A4-FinPerf RE'!F46","v":0},{"$f":"'A4-FinPerf RE'!G46","v":0},{"$f":"'A4-FinPerf RE'!H46","v":0},{"$f":"'A4-FinPerf RE'!I46","v":0},{"$f":"'A4-FinPerf RE'!J46","v":0},{"$f":"'A4-FinPerf RE'!K46","v":0},{"$f":"'A4-FinPerf RE'!L46","v":0}]
[{"$f":"'A4-FinPerf RE'!A47","v":"Surplus/(Deficit) for the year"},{"$f":"B22+B23","v":59353147.280000031},{"$f":"C22+C23","v":157592835.70000052},303281451.05000019,592000083.03867841,422698591.80867839,422698591.80867839,422698591.80867839,506521463.94017553,615562234.23440838,618674425.99595261]
[]
["Capital expenditure & funds sources"]
["Capital expenditure",{"$f":"'A5-Capex'!C63","v":99254444},{"$f":"'A5-Capex'!D63","v":373029354},{"$f":"'A5-Capex'!E63","v":335619957.29000002},{"$f":"'A5-Capex'!F63","v":659655720},{"$f":"'A5-Capex'!G63","v":587482695.25257504},{"$f":"'A5-Capex'!H63","v":587482695.25257504},{"$f":"'A5-Capex'!I63","v":587482695.25257504},{"$f":"'A5-Capex'!J63","v":566483857.62379622},{"$f":"'A5-Capex'!K63","v":688904670},{"$f":"'A5-Capex'!L63","v":692025830}]
["Transfers recognised - capital",{"$f":"'A5-Capex'!C70","v":99254444},{"$f":"'A5-Capex'!D70","v":372229470},{"$f":"'A5-Capex'!E70","v":335159170.45999998},{"$f":"'A5-Capex'!F70","v":610693000},{"$f":"'A5-Capex'!G70","v":560470988},{"$f":"'A5-Capex'!H70","v":560470988},{"$f":"'A5-Capex'!I70","v":560470988},{"$f":"'A5-Capex'!J70","v":551483857.62379622},{"$f":"'A5-Capex'!K70","v":673904670},{"$f":"'A5-Capex'!L70","v":677025830}]
[]
[{"$f":"'A5-Capex'!A72","v":"Borrowing"},{"$f":"'A5-Capex'!C72","v":0},{"$f":"'A5-Capex'!D72","v":0},{"$f":"'A5-Capex'!E72","v":0},{"$f":"'A5-Capex'!F72","v":0},{"$f":"'A5-Capex'!G72","v":0},{"$f":"'A5-Capex'!H72","v":0},{"$f":"'A5-Capex'!I72","v":0},{"$f":"'A5-Capex'!J72","v":0},{"$f":"'A5-Capex'!K72","v":0},{"$f":"'A5-Capex'!L72","v":0}]
[{"$f":"'A5-Capex'!A73","v":"Internally generated funds"},{"$f":"'A5-Capex'!C73","v":0},{"$f":"'A5-Capex'!D73","v":799884},{"$f":"'A5-Capex'!E73","v":460786.83},{"$f":"'A5-Capex'!F73","v":48962720},{"$f":"'A5-Capex'!G73","v":27011707},{"$f":"'A5-Capex'!H73","v":27011707},{"$f":"'A5-Capex'!I73","v":27011707},{"$f":"'A5-Capex'!J73","v":15000000},{"$f":"'A5-Capex'!K73","v":15000000},{"$f":"'A5-Capex'!L73","v":15000000}]
["Total sources of capital funds",{"$f":"+B28+B30+B31","v":99254444},{"$f":"+C28+C30+C31","v":373029354},335619957.28999996,659655720,587482695,587482695,587482695,566483857.62379622,688904670,692025830]
[]
["Financial position"]
[{"$f":"'A6-FinPos'!A12","v":"Total current assets"},{"$f":"'A6-FinPos'!C12","v":302051989.60999995},{"$f":"'A6-FinPos'!D12","v":369550904.36999995},{"$f":"'A6-FinPos'!E12","v":544737041.90999985},{"$f":"'A6-FinPos'!F12","v":810459001.32621777},{"$f":"'A6-FinPos'!G12","v":699778917.36129642},{"$f":"'A6-FinPos'!H12","v":699778917.36129642},{"$f":"'A6-FinPos'!I12","v":699778917.36129642},{"$f":"'A6-FinPos'!J12","v":734882952.17947173},{"$f":"'A6-FinPos'!K12","v":829378057.45888031},{"$f":"'A6-FinPos'!L12","v":858754844.64985812}]
[{"$f":"'A6-FinPos'!A24","v":"Total non current assets"},{"$f":"'A6-FinPos'!C24","v":4882908669.3800001},{"$f":"'A6-FinPos'!D24","v":4622795942.5600004},{"$f":"'A6-FinPos'!E24","v":4822903738.5600004},{"$f":"'A6-FinPos'!F24","v":6640665765.0961723},{"$f":"'A6-FinPos'!G24","v":5247654372.5166759},{"$f":"'A6-FinPos'!H24","v":5247654372.5166759},{"$f":"'A6-FinPos'!I24","v":5247654372.5166759},{"$f":"'A6-FinPos'!J24","v":5643819867.1404724},{"$f":"'A6-FinPos'!K24","v":6145375429.1404724},{"$f":"'A6-FinPos'!L24","v":6631317222.1404724}]
[{"$f":"'A6-FinPos'!A34","v":"Total current liabilities"},{"$f":"'A6-FinPos'!C34","v":478901168.43999994},{"$f":"'A6-FinPos'!D34","v":666775171.18999994},{"$f":"'A6-FinPos'!E34","v":808563273.52999997},{"$f":"'A6-FinPos'!F34","v":712740835.6741358},{"$f":"'A6-FinPos'!G34","v":561867421.74050283},{"$f":"'A6-FinPos'!H34","v":561867421.74050283},{"$f":"'A6-FinPos'!I34","v":561867421.74050283},{"$f":"'A6-FinPos'!J34","v":574708740.85532284},{"$f":"'A6-FinPos'!K34","v":544863382.23394537},{"$f":"'A6-FinPos'!L34","v":530024982.47460586}]
[{"$f":"'A6-FinPos'!A39","v":"Total non current liabilities"},{"$f":"'A6-FinPos'!C39","v":265505876.13302097},{"$f":"'A6-FinPos'!D39","v":240444259},{"$f":"'A6-FinPos'!E39","v":172105545},{"$f":"'A6-FinPos'!F39","v":379241651.34638608},{"$f":"'A6-FinPos'!G39","v":174215262.59432},{"$f":"'A6-FinPos'!H39","v":174215262.59432},{"$f":"'A6-FinPos'!I39","v":174215262.59432},{"$f":"'A6-FinPos'!J39","v":174329134.66997001},{"$f":"'A6-FinPos'!K39","v":174329134.66997001},{"$f":"'A6-FinPos'!L39","v":174329134.66997001}]
["Community wealth/Equity",{"$f":"'A6-FinPos'!C48","v":4440553614.4169798},{"$f":"'A6-FinPos'!D48","v":4085127416.7400002},{"$f":"'A6-FinPos'!E48","v":4386971961.9400005},{"$f":"'A6-FinPos'!F48","v":6359142279.4018679},{"$f":"'A6-FinPos'!G48","v":5211350605.5431499},{"$f":"'A6-FinPos'!H48","v":5211350605.5431499},{"$f":"'A6-FinPos'!I48","v":5211350605.5431499},{"$f":"'A6-FinPos'!J48","v":5629664944.794651},{"$f":"'A6-FinPos'!K48","v":6255560970.6954374},{"$f":"'A6-FinPos'!L48","v":6785717950.6457548}]
[]
["Cash flows"]
["Net cash from (used) operating",{"$f":"'A7-CFlow'!C17","v":323860312},{"$f":"'A7-CFlow'!D17","v":385288490.70000005},{"$f":"'A7-CFlow'!E17","v":341434935.08999991},{"$f":"'A7-CFlow'!F17","v":754566737.03867841},{"$f":"'A7-CFlow'!G17","v":327789220.13867831},{"$f":"'A7-CFlow'!H17","v":327789220.13867831},{"$f":"'A7-CFlow'!I17","v":327789220.13867831},{"$f":"'A7-CFlow'!J17","v":524500020.14017534},{"$f":"'A7-CFlow'!K17","v":695210098.63440847},{"$f":"'A7-CFlow'!L17","v":633392928.43835282}]
["Net cash from (used) investing",{"$f":"'A7-CFlow'!C27","v":-155215136},{"$f":"'A7-CFlow'!D27","v":-371455043.73000002},{"$f":"'A7-CFlow'!E27","v":-330951162},{"$f":"'A7-CFlow'!F27","v":-592000085},{"$f":"'A7-CFlow'!G27","v":-422699475},{"$f":"'A7-CFlow'!H27","v":-422699475},{"$f":"'A7-CFlow'!I27","v":-422699475},{"$f":"'A7-CFlow'!J27","v":-506521465},{"$f":"'A7-CFlow'!K27","v":-615562235},{"$f":"'A7-CFlow'!L27","v":-618674426}]
["Net cash from (used) financing",{"$f":"'A7-CFlow'!C36","v":-132452558},{"$f":"'A7-CFlow'!D36","v":-659962},{"$f":"'A7-CFlow'!E36","v":-144261.26},{"$f":"'A7-CFlow'!F36","v":0},{"$f":"'A7-CFlow'!G36","v":0},{"$f":"'A7-CFlow'!H36","v":0},{"$f":"'A7-CFlow'!I36","v":0},{"$f":"'A7-CFlow'!J36","v":0},{"$f":"'A7-CFlow'!K36","v":0},{"$f":"'A7-CFlow'!L36","v":0}]
[{"$f":"LEFT('A7-CFlow'!A40,37)","v":"Cash/cash equivalents at the year end"},{"$f":"'A7-CFlow'!C40","v":167557250},{"$f":"'A7-CFlow'!D40","v":189959345.97000003},{"$f":"'A7-CFlow'!E40","v":200298857.92999992},{"$f":"'A7-CFlow'!F40","v":214045083.03867841},{"$f":"'A7-CFlow'!G40","v":95242728.8386783},{"$f":"'A7-CFlow'!H40","v":95242728.8386783},{"$f":"'A7-CFlow'!I40","v":95242728.8386783},{"$f":"'A7-CFlow'!J40","v":113221283.97885364},{"$f":"'A7-CFlow'!K40","v":192869147.61326212},{"$f":"'A7-CFlow'!L40","v":207587650.05161494}]
[]
["Cash backing/surplus reconciliation"]
[{"$f":"'A8-ResRecon'!A4","v":"Cash and investments available"},{"$f":"'A8-ResRecon'!C8","v":167557249.84},{"$f":"'A8-ResRecon'!D8","v":191959346.09999996},{"$f":"'A8-ResRecon'!E8","v":202435985.70999998},{"$f":"'A8-ResRecon'!F8","v":216045083.03867841},{"$f":"'A8-ResRecon'!G8","v":97379857.608678415},{"$f":"'A8-ResRecon'!H8","v":97379857.608678415},{"$f":"'A8-ResRecon'!I8","v":97379857.608678415},{"$f":"'A8-ResRecon'!J8","v":115358412.74885364},{"$f":"'A8-ResRecon'!K8","v":195006276.38326213},{"$f":"'A8-ResRecon'!L8","v":209724778.82161495}]
[{"$f":"'A8-ResRecon'!A10","v":"Application of cash and investments"},{"$f":"'A8-ResRecon'!C18","v":381194320.17999995},{"$f":"'A8-ResRecon'!D18","v":440913926.79999995},{"$f":"'A8-ResRecon'!E18","v":507517107.69999993},{"$f":"'A8-ResRecon'!F18","v":271447493.75050282},{"$f":"'A8-ResRecon'!G18","v":94714493.750502825},{"$f":"'A8-ResRecon'!H18","v":94714493.750502825},{"$f":"'A8-ResRecon'!I18","v":94714493.750502825},{"$f":"'A8-ResRecon'!J18","v":111278493.75050282},{"$f":"'A8-ResRecon'!K18","v":72359493.750502825},{"$f":"'A8-ResRecon'!L18","v":52897493.750502825}]
["Balance - surplus (shortfall)",{"$f":"B48-B49","v":-213637070.33999994},{"$f":"C48-C49","v":-248954580.69999999},-305081121.98999995,-55402410.711824417,2665363.8581755906,2665363.8581755906,2665363.8581755906,4079918.998350814,122646782.6327593,156827285.07111213]
[]
["Asset management"]
["Asset register summary (WDV)",{"$f":"'A9-Asset'!C165","v":4881196763.6999998},{"$f":"'A9-Asset'!D165","v":4619085003},{"$f":"'A9-Asset'!E165","v":4819055666},{"$f":"'A9-Asset'!F165","v":6636954859.2361727},{"$f":"'A9-Asset'!G165","v":5243805337.5966768},{"$f":"'A9-Asset'!H165","v":5243805337.5966768},{"$f":"'A9-Asset'!H165","v":5243805337.5966768},{"$f":"'A9-Asset'!I165","v":5639971832.2204733},{"$f":"'A9-Asset'!J165","v":6141527394.2204733},{"$f":"'A9-Asset'!K165","v":6627469187.2204733}]
[{"$f":"'A9-Asset'!A168","v":"Depreciation"},{"$f":"'A9-Asset'!C168","v":111288592.51000001},{"$f":"'A9-Asset'!D168","v":107269535.26000002},{"$f":"'A9-Asset'!E168","v":129688666.67},{"$f":"'A9-Asset'!F168","v":162566655},{"$f":"'A9-Asset'!G168","v":162566655},{"$f":"'A9-Asset'!H168","v":162566655},{"$f":"'A9-Asset'!H168","v":162566655},{"$f":"'A9-Asset'!I168","v":170317363},{"$f":"'A9-Asset'!J168","v":187349108},{"$f":"'A9-Asset'!K168","v":206084037}]
["Renewal and Upgrading of Existing Assets",{"$f":"'A9-Asset'!C37+'A9-Asset'!C69","v":0},{"$f":"'A9-Asset'!D37+'A9-Asset'!D69","v":2872742},{"$f":"'A9-Asset'!E37+'A9-Asset'!E69","v":972852.71},{"$f":"'A9-Asset'!F37+'A9-Asset'!F69","v":125487896.50797798},{"$f":"'A9-Asset'!G37+'A9-Asset'!G69","v":197203924.92601252},{"$f":"'A9-Asset'!H37+'A9-Asset'!H69","v":197203924.92601252},{"$f":"'A9-Asset'!H37+'A9-Asset'!H69","v":197203924.92601252},{"$f":"'A9-Asset'!I37+'A9-Asset'!I69","v":158400921.46000001},{"$f":"'A9-Asset'!J37+'A9-Asset'!J69","v":124992941.53936985},{"$f":"'A9-Asset'!K37+'A9-Asset'!K69","v":159617596.92439258}]
["Repairs and Maintenance",{"$f":"'A9-Asset'!C169","v":20715203},{"$f":"'A9-Asset'!D169","v":16524490.93},{"$f":"'A9-Asset'!E169","v":16074491.189999999},{"$f":"'A9-Asset'!F169","v":20616561},{"$f":"'A9-Asset'!G169","v":18757815},{"$f":"'A9-Asset'!H169","v":18757815},{"$f":"'A9-Asset'!H169","v":18757815},{"$f":"'A9-Asset'!I169","v":16837144},{"$f":"'A9-Asset'!J169","v":26619135},{"$f":"'A9-Asset'!K169","v":28332095}]
[]
["Free services"]
["Cost of Free Basic Services provided",{"$f":"'A10-SerDel'!C60","v":16391630},{"$f":"'A10-SerDel'!D60","v":17422415},{"$f":"'A10-SerDel'!E60","v":11462600},{"$f":"'A10-SerDel'!F60","v":50000000},{"$f":"'A10-SerDel'!G60","v":29752000},{"$f":"'A10-SerDel'!H60","v":29752000},{"$f":"'A10-SerDel'!I60","v":35000000},{"$f":"'A10-SerDel'!I60","v":35000000},{"$f":"'A10-SerDel'!J60","v":35600000},{"$f":"'A10-SerDel'!K60","v":56420000}]
["Revenue cost of free services provided",{"$f":"'A10-SerDel'!C79","v":0},{"$f":"'A10-SerDel'!D79","v":0},{"$f":"'A10-SerDel'!E79","v":0},{"$f":"'A10-SerDel'!F79","v":0},{"$f":"'A10-SerDel'!G79","v":0},{"$f":"'A10-SerDel'!H79","v":0},{"$f":"'A10-SerDel'!I79","v":0},{"$f":"'A10-SerDel'!I79","v":0},{"$f":"'A10-SerDel'!J79","v":0},{"$f":"'A10-SerDel'!K79","v":0}]
["Households below minimum service level"]
[{"$f":"'A10-SerDel'!A5","v":"Water:"},{"$f":"'A10-SerDel'!C14","v":13164},{"$f":"'A10-SerDel'!D14","v":11707},{"$f":"'A10-SerDel'!E14","v":0},{"$f":"'A10-SerDel'!F14","v":0},{"$f":"'A10-SerDel'!G14","v":0},{"$f":"'A10-SerDel'!H14","v":0},{"$f":"'A10-SerDel'!I14","v":0},{"$f":"'A10-SerDel'!I14","v":0},{"$f":"'A10-SerDel'!J14","v":0},{"$f":"'A10-SerDel'!K14","v":0}]
[{"$f":"'A10-SerDel'!A16","v":"Sanitation/sewerage:"},{"$f":"'A10-SerDel'!C26","v":84778},{"$f":"'A10-SerDel'!D26","v":57116},{"$f":"'A10-SerDel'!E26","v":0},{"$f":"'A10-SerDel'!F26","v":41492},{"$f":"'A10-SerDel'!G26","v":41492},{"$f":"'A10-SerDel'!H26","v":41492},{"$f":"'A10-SerDel'!I26","v":31492},{"$f":"'A10-SerDel'!I26","v":31492},{"$f":"'A10-SerDel'!J26","v":21492},{"$f":"'A10-SerDel'!K26","v":15000000}]
[{"$f":"'A10-SerDel'!A28","v":"Energy:"},{"$f":"'A10-SerDel'!C35","v":0},{"$f":"'A10-SerDel'!D35","v":0},{"$f":"'A10-SerDel'!E35","v":0},{"$f":"'A10-SerDel'!F35","v":0},{"$f":"'A10-SerDel'!G35","v":0},{"$f":"'A10-SerDel'!H35","v":0},{"$f":"'A10-SerDel'!I35","v":0},{"$f":"'A10-SerDel'!I35","v":0},{"$f":"'A10-SerDel'!J35","v":0},{"$f":"'A10-SerDel'!K35","v":0}]
[{"$f":"'A10-SerDel'!A37","v":"Refuse:"},{"$f":"'A10-SerDel'!C45","v":0},{"$f":"'A10-SerDel'!D45","v":0},{"$f":"'A10-SerDel'!E45","v":0},{"$f":"'A10-SerDel'!F45","v":0},{"$f":"'A10-SerDel'!G45","v":0},{"$f":"'A10-SerDel'!H45","v":0},{"$f":"'A10-SerDel'!I45","v":0},{"$f":"'A10-SerDel'!I45","v":0},{"$f":"'A10-SerDel'!J45","v":0},{"$f":"'A10-SerDel'!K45","v":0}]

{"sheet":"A2-FinPerf SC","index":7,"n_rows":58,"n_cols":11,"rows_kept":58,"cut":false,"hidden":false,"merged":[[53,0,53,10],[1,5,1,7],[1,8,1,10]]}
[{"$f":"muni&\" - \"&Approve3","v":"DC12 Amathole - Table A2 Budgeted Financial Performance (revenue and expenditure by functional classification)"}]
[{"$f":"\"Functional Classification \"&desc","v":"Functional Classification Description"},{"$f":"head27","v":"Ref"},{"$f":"head1b","v":"2016/17"},{"$f":"head1A","v":"2017/18"},{"$f":"Head1","v":"2018/19"},{"$f":"Head2","v":"Current Year 2019/20"},null,null,{"$f":"Head3","v":"2020/21 Medium Term Revenue & Expenditure Framework"}]
["R thousand",1,{"$f":"Head5","v":"Audited Outcome"},{"$f":"Head5","v":"Audited Outcome"},{"$f":"Head5","v":"Audited Outcome"},{"$f":"Head6","v":"Original Budget"},{"$f":"Head7","v":"Adjusted Budget"},{"$f":"Head8","v":"Full Year Forecast"},{"$f":"Head9","v":"Budget Year 2020/21"},{"$f":"Head10","v":"Budget Year +1 2021/22"},{"$f":"Head11","v":"Budget Year +2 2022/23"}]
["Revenue - Functional"]
["Governance and administration",null,{"$f":"SUM(C6:C8)","v":331477231.81999993},{"$f":"SUM(D6:D8)","v":384777310.06937307},445392905.34000009,307917052,298767948,298767948,330855364,354251647,376831641]
["Executive and council",null,{"$f":"A2A!C6","v":329138068.81999993},{"$f":"A2A!D6","v":382756494.07979745},{"$f":"A2A!E6","v":443053741.67000008},{"$f":"A2A!F6","v":41409067},{"$f":"A2A!G6","v":15774886},{"$f":"A2A!H6","v":15774886},{"$f":"A2A!I6","v":16976301},{"$f":"A2A!J6","v":18275336},{"$f":"A2A!K6","v":19501305}]
["Finance and administration",null,{"$f":"A2A!C9","v":2339163},{"$f":"A2A!D9","v":2020815.9895755975},{"$f":"A2A!E9","v":2339163.67},{"$f":"A2A!F9","v":266507985},{"$f":"A2A!G9","v":282993062},{"$f":"A2A!H9","v":282993062},{"$f":"A2A!I9","v":313879063},{"$f":"A2A!J9","v":335976311},{"$f":"A2A!K9","v":357330336}]
["Internal audit",null,{"$f":"A2A!C23","v":0},{"$f":"A2A!D23","v":0},{"$f":"A2A!E23","v":0},{"$f":"A2A!F23","v":0},{"$f":"A2A!G23","v":0},{"$f":"A2A!H23","v":0},{"$f":"A2A!I23","v":0},{"$f":"A2A!J23","v":0},{"$f":"A2A!K23","v":0}]
["Community and public safety",null,{"$f":"SUM(C10:C14)","v":8615375.7300000004},{"$f":"SUM(D10:D14)","v":7442868.5262671951},8615375.0500000007,100878885,127051268,127051268,109595767,117854257,125702197]
["Community and social services",null,{"$f":"A2A!C26","v":0},{"$f":"A2A!D26","v":0},{"$f":"A2A!E26","v":0},{"$f":"A2A!F26","v":0},{"$f":"A2A!G26","v":0},{"$f":"A2A!H26","v":0},{"$f":"A2A!I26","v":0},{"$f":"A2A!J26","v":0},{"$f":"A2A!K26","v":0}]
["Sport and recreation",null,{"$f":"A2A!C48","v":0},{"$f":"A2A!D48","v":0},{"$f":"A2A!E48","v":0},{"$f":"A2A!F48","v":0},{"$f":"A2A!G48","v":0},{"$f":"A2A!H48","v":0},{"$f":"A2A!I48","v":0},{"$f":"A2A!J48","v":0},{"$f":"A2A!K48","v":0}]
["Public safety",null,{"$f":"A2A!C54","v":4473843},{"$f":"A2A!D54","v":3864976.6409200015},{"$f":"A2A!E54","v":4473842.74},{"$f":"A2A!F54","v":6229598},{"$f":"A2A!G54","v":6232499},{"$f":"A2A!H54","v":6232499},{"$f":"A2A!I54","v":7737991},{"$f":"A2A!J54","v":8202270},{"$f":"A2A!K54","v":8694406}]
["Housing",null,{"$f":"A2A!C63","v":0},{"$f":"A2A!D63","v":0},{"$f":"A2A!E63","v":0},{"$f":"A2A!F63","v":19718601},{"$f":"A2A!G63","v":45888083},{"$f":"A2A!H63","v":45888083},{"$f":"A2A!I63","v":21220369},{"$f":"A2A!J63","v":22844164},{"$f":"A2A!K63","v":24376623}]
["Health",null,{"$f":"A2A!C66","v":4141532.73},{"$f":"A2A!D66","v":3577891.8853471936},{"$f":"A2A!E66","v":4141532.31},{"$f":"A2A!F66","v":74930686},{"$f":"A2A!G66","v":74930686},{"$f":"A2A!H66","v":74930686},{"$f":"A2A!I66","v":80637407},{"$f":"A2A!J66","v":86807823},{"$f":"A2A!K66","v":92631168}]
["Economic and environmental services",null,{"$f":"SUM(C16:C18)","v":10774},{"$f":"SUM(D16:D18)","v":8789.718508383794},10174.4,25032001,61484645,61484645,54906380,56065662,59680658]
["Planning and development",null,{"$f":"A2A!C75","v":10774},{"$f":"A2A!D75","v":8789.718508383794},{"$f":"A2A!E75","v":10174.4},{"$f":"A2A!F75","v":21919000},{"$f":"A2A!G75","v":58371644},{"$f":"A2A!H75","v":58371644},{"$f":"A2A!I75","v":51942380},{"$f":"A2A!J75","v":52938662},{"$f":"A2A!K75","v":56372658}]
["Road transport",null,{"$f":"A2A!C86","v":0},{"$f":"A2A!D86","v":0},{"$f":"A2A!E86","v":0},{"$f":"A2A!F86","v":3113001},{"$f":"A2A!G86","v":3113001},{"$f":"A2A!H86","v":3113001},{"$f":"A2A!I86","v":2964000},{"$f":"A2A!J86","v":3127000},{"$f":"A2A!K86","v":3308000}]
["Environmental protection",null,{"$f":"A2A!C91","v":0},{"$f":"A2A!D91","v":0},{"$f":"A2A!E91","v":0},{"$f":"A2A!F91","v":0},{"$f":"A2A!G91","v":0},{"$f":"A2A!H91","v":0},{"$f":"A2A!I91","v":0},{"$f":"A2A!J91","v":0},{"$f":"A2A!K91","v":0}]
["Trading services",null,{"$f":"SUM(C20:C23)","v":1174579255.73},{"$f":"SUM(D20:D23)","v":1318139723.0958519},1525791842.5799999,1661896512,1768435819,1768435819,1670430271,{"$f":"SUM(J20:J23)","v":1828564435},1886048303]
["Energy sources",null,{"$f":"A2A!C99","v":0},{"$f":"A2A!D99","v":0},{"$f":"A2A!E99","v":0},{"$f":"A2A!F99","v":0},{"$f":"A2A!G99","v":0},{"$f":"A2A!H99","v":0},{"$f":"A2A!I99","v":0},{"$f":"A2A!J99","v":0},{"$f":"A2A!K99","v":0}]
["Water management",null,{"$f":"A2A!C103","v":869683283.73000002},{"$f":"A2A!D103","v":1085936514.3903117},{"$f":"A2A!E103","v":1257008681.3899999},{"$f":"A2A!F103","v":1498192617},{"$f":"A2A!G103","v":1604655683},{"$f":"A2A!H103","v":1604655683},{"$f":"A2A!I103","v":1522479974},{"$f":"A2A!J103","v":1671737117},{"$f":"A2A!K103","v":1719811343}]
["Waste water management",null,{"$f":"A2A!C107","v":303986474},{"$f":"A2A!D107","v":231417488.62876198},{"$f":"A2A!E107","v":267873663.31},{"$f":"A2A!F107","v":157738861},{"$f":"A2A!G107","v":157812324},{"$f":"A2A!H107","v":157812324},{"$f":"A2A!I107","v":140540930},{"$f":"A2A!J107","v":148973389},{"$f":"A2A!K107","v":157911795}]
["Waste management",null,{"$f":"A2A!C112","v":909498},{"$f":"A2A!D112","v":785720.07677817089},{"$f":"A2A!E112","v":909497.88},{"$f":"A2A!F112","v":5965034},{"$f":"A2A!G112","v":5967812},{"$f":"A2A!H112","v":5967812},{"$f":"A2A!I112","v":7409367},{"$f":"A2A!J112","v":7853929},{"$f":"A2A!K112","v":8325165}]
["Other",4,{"$f":"A2A!C117","v":0},{"$f":"A2A!D117","v":0},{"$f":"A2A!E117","v":0},{"$f":"A2A!F117","v":0},{"$f":"A2A!G117","v":0},{"$f":"A2A!H117","v":0},{"$f":"A2A!I117","v":0},{"$f":"A2A!J117","v":0},{"$f":"A2A!K117","v":0}]
[{"$f":"\"Total \"&A4","v":"Total Revenue - Functional"},2,{"$f":"C5+C9+C15+C19+C24","v":1514682637.28},{"$f":"D5+D9+D15+D19+D24","v":1710368691.4100006},{"$f":"E5+E9+E15+E19+E24","v":1979810297.3699999},2095724450,2255739680,2255739680,{"$f":"I5+I9+I15+I19+I24","v":2165787782},2356736001,2448262799]
[]
["Expenditure - Functional"]
["Governance and administration",null,{"$f":"SUM(C29:C31)","v":469591359.80000001},{"$f":"SUM(D29:D31)","v":397244234.24199265},429294882.40999961,537598606.5,516344349,516344349,457142119.03725374,490710633.79912853,510328036.83814794]
["Executive and council",null,{"$f":"A2A!C128","v":168232844.80000001},{"$f":"A2A!D128","v":134705493.57339033},{"$f":"A2A!E128","v":145921214.28999969},{"$f":"A2A!F128","v":139207119},{"$f":"A2A!G128","v":97097110},{"$f":"A2A!H128","v":97097110},{"$f":"A2A!I128","v":83125195.227041006},{"$f":"A2A!J128","v":89565927.31464377},{"$f":"A2A!K128","v":91752045.499337971}]
["Finance and administration",null,{"$f":"A2A!C131","v":301358515},{"$f":"A2A!D131","v":262538740.66860232},{"$f":"A2A!E131","v":283373668.11999995},{"$f":"A2A!F131","v":389005507.5},{"$f":"A2A!G131","v":409971544},{"$f":"A2A!H131","v":409971544},{"$f":"A2A!I131","v":362285668.11246032},{"$f":"A2A!J131","v":389086601.86422533},{"$f":"A2A!K131","v":406203309.03284097}]
["Internal audit",null,{"$f":"A2A!C145","v":0},{"$f":"A2A!D145","v":0},{"$f":"A2A!E145","v":0},{"$f":"A2A!F145","v":9385980},{"$f":"A2A!G145","v":9275695},{"$f":"A2A!H145","v":9275695},{"$f":"A2A!I145","v":11731255.697752412},{"$f":"A2A!J145","v":12058104.620259374},{"$f":"A2A!K145","v":12372682.305968985}]
["Community and public safety",null,{"$f":"SUM(C33:C37)","v":216315829},{"$f":"SUM(D33:D37)","v":73919666.534960598},79785889.88000001,119429895.50479999,136632324.39102304,136632324.39102304,130383428.69364461,141412163.33680314,146381066.04053727]
["Community and social services",null,{"$f":"A2A!C148","v":7751704},{"$f":"A2A!D148","v":9453455.1340090558},{"$f":"A2A!E148","v":10203676.040000001},{"$f":"A2A!F148","v":8023577},{"$f":"A2A!G148","v":6878545},{"$f":"A2A!H148","v":6878545},{"$f":"A2A!I148","v":9423081.3470882811},{"$f":"A2A!J148","v":10311258.564774999},{"$f":"A2A!K148","v":10768722.971378751}]
["Sport and recreation",null,{"$f":"A2A!C170","v":0},{"$f":"A2A!D170","v":0},{"$f":"A2A!E170","v":0},{"$f":"A2A!F170","v":0},{"$f":"A2A!G170","v":0},{"$f":"A2A!H170","v":0},{"$f":"A2A!I170","v":0},{"$f":"A2A!J170","v":0},{"$f":"A2A!K170","v":0}]
["Public safety",null,{"$f":"A2A!C176","v":46509729},{"$f":"A2A!D176","v":32232834.094939072},{"$f":"A2A!E176","v":34790813.760000005},{"$f":"A2A!F176","v":62482923.004799999},{"$f":"A2A!G176","v":61766719},{"$f":"A2A!H176","v":61766719},{"$f":"A2A!I176","v":67175569.283545256},{"$f":"A2A!J176","v":74313133.487150013},{"$f":"A2A!K176","v":76973979.844845951}]
["Housing",null,{"$f":"A2A!C185","v":31341556},{"$f":"A2A!D185","v":2948401.544389056},{"$f":"A2A!E185","v":3182385.0399999996},{"$f":"A2A!F185","v":1525576},{"$f":"A2A!G185","v":27824616.391023055},{"$f":"A2A!H185","v":27824616.391023055},{"$f":"A2A!I185","v":2083886.1402745801},{"$f":"A2A!J185","v":2165422.8654375002},{"$f":"A2A!K185","v":2239407.1655109376}]
["Health",null,{"$f":"A2A!C188","v":130712840},{"$f":"A2A!D188","v":29284975.761623405},{"$f":"A2A!E188","v":31609015.040000007},{"$f":"A2A!F188","v":47397819.5},{"$f":"A2A!G188","v":40162444},{"$f":"A2A!H188","v":40162444},{"$f":"A2A!I188","v":51700891.922736496},{"$f":"A2A!J188","v":54622348.419440635},{"$f":"A2A!K188","v":56398956.058801644}]
["Economic and environmental services",null,{"$f":"SUM(C39:C41)","v":54149738},{"$f":"SUM(D39:D41)","v":43447898.707166538},46895899.620000005,59548940,119976319,119976319,120731196.34354523,118316041.32010624,122049930.2095933]
["Planning and development",null,{"$f":"A2A!C197","v":54149738},{"$f":"A2A!D197","v":42735740.021675244},{"$f":"A2A!E197","v":46127224.420000002},{"$f":"A2A!F197","v":55136807},{"$f":"A2A!G197","v":115493260},{"$f":"A2A!H197","v":115493260},{"$f":"A2A!I197","v":117122934.93196692},{"$f":"A2A!J197","v":114118334.24566874},{"$f":"A2A!K197","v":117635359.79210736}]
["Road transport",null,{"$f":"A2A!C208","v":0},{"$f":"A2A!D208","v":712158.68549129635},{"$f":"A2A!E208","v":768675.2},{"$f":"A2A!F208","v":4412133},{"$f":"A2A!G208","v":4483059},{"$f":"A2A!H208","v":4483059},{"$f":"A2A!I208","v":3608261.411578306},{"$f":"A2A!J208","v":4197707.0744375},{"$f":"A2A!K208","v":4414570.4174859375}]
["Environmental protection",null,{"$f":"A2A!C213","v":0},{"$f":"A2A!D213","v":0},{"$f":"A2A!E213","v":0},{"$f":"A2A!F213","v":0},{"$f":"A2A!G213","v":0},{"$f":"A2A!H213","v":0},{"$f":"A2A!I213","v":0},{"$f":"A2A!J213","v":0},{"$f":"A2A!K213","v":0}]
["Trading services",null,{"$f":"SUM(C43:C46)","v":715272563.20000005},{"$f":"SUM(D43:D46)","v":1038164056.2258799},1120552174.4100001,{"$f":"SUM(F43:F46)","v":787146924},1060087209.4664592,1060087209.4664592,951009573.98538077,990734928.3095541,{"$f":"SUM(K43:K46)","v":1050829339.9157689}]
["Energy sources",null,{"$f":"A2A!C221","v":0},{"$f":"A2A!D221","v":0},{"$f":"A2A!E221","v":0},{"$f":"A2A!F221","v":0},{"$f":"A2A!G221","v":0},{"$f":"A2A!H221","v":0},{"$f":"A2A!I221","v":0},{"$f":"A2A!J221","v":0},{"$f":"A2A!K221","v":0}]
["Water management",null,{"$f":"A2A!C225","v":682178763.20000005},{"$f":"A2A!D225","v":640034425.0537771},{"$f":"A2A!E225","v":690827198.6400001},{"$f":"A2A!F225","v":616607385},{"$f":"A2A!G225","v":869643433},{"$f":"A2A!H225","v":869643433},{"$f":"A2A!I225","v":756092082.17136073},{"$f":"A2A!J225","v":778925225.58823764},{"$f":"A2A!K225","v":829200670.50598562}]
["Waste water management",null,{"$f":"A2A!C229","v":33093800},{"$f":"A2A!D229","v":396554050.89097035},{"$f":"A2A!E229","v":428024358.31999999},{"$f":"A2A!F229","v":162287121},{"$f":"A2A!G229","v":184040744},{"$f":"A2A!H229","v":184040744},{"$f":"A2A!I229","v":187964717.09905294},{"$f":"A2A!J229","v":204245154.20727187},{"$f":"A2A!K229","v":213389622.71094903}]
["Waste management",null,{"$f":"A2A!C234","v":0},{"$f":"A2A!D234","v":1575580.2811324738},{"$f":"A2A!E234","v":1700617.4500000002},{"$f":"A2A!F234","v":8252418},{"$f":"A2A!G234","v":6403032.4664592119},{"$f":"A2A!H234","v":6403032.4664592119},{"$f":"A2A!I234","v":6952774.7149671894},{"$f":"A2A!J234","v":7564548.5140445661},{"$f":"A2A!K234","v":8239046.6988342404}]
["Other",4,{"$f":"A2A!C239","v":0},{"$f":"A2A!D239","v":0},{"$f":"A2A!E239","v":0},{"$f":"A2A!F239","v":0},{"$f":"A2A!G239","v":0},{"$f":"A2A!H239","v":0},{"$f":"A2A!I239","v":0},{"$f":"A2A!J239","v":0},{"$f":"A2A!K239","v":0}]
[{"$f":"\"Total \"&A27","v":"Total Expenditure - Functional"},3,{"$f":"C28+C32+C38+C42+C47","v":1455329490},{"$f":"D28+D32+D38+D42+D47","v":1552775855.7099996},{"$f":"E28+E32+E38+E42+E47","v":1676528846.3199997},{"$f":"F28+F32+F38+F42+F47","v":1503724366.0047998},1833040201.8574822,1833040201.8574822,1659266318.0598245,1741173766.7655921,1829588373.0040474]
[{"$f":"result","v":"Surplus/(Deficit) for the year"},null,{"$f":"C25-C48","v":59353147.279999971},{"$f":"D25-D48","v":157592835.700001},303281451.05000019,592000083.99520016,422699478.14251781,422699478.14251781,506521463.94017553,615562234.2344079,618674425.99595261]
[{"$f":"head27a","v":"References"}]
["1. Government Finance Statistics Functions and Sub-functions are standardised to assist the compilation of national and international accounts for comparison purposes"]
["2. Total Revenue by functional classification must reconcile to Total Operating Revenue shown in Budgeted Financial Performance (revenue and expenditure)"]
["3. Total Expenditure by Functional Classification must reconcile to Total Operating Expenditure shown in Budgeted Financial Performance (revenue and expenditure)"]
["4. All amounts must be classified under a functional classification . The GFS function 'Other' is only for Abbatoirs, Air Transport,  Forestry, Licensing and Regulation, Markets and Tourism - and if used must be supported by footnotes. Nothing else may be placed under 'Other'. Assign associate share to relevant classification."]
[]
[]
["check oprev balance",null,{"$f":"C25-'A4-FinPerf RE'!C59","v":0},{"$f":"D25-'A4-FinPerf RE'!D59","v":0},{"$f":"E25-'A4-FinPerf RE'!E59","v":0},{"$f":"F25-'A4-FinPerf RE'!F59","v":-4.3478250503540039E-2},{"$f":"G25-'A4-FinPerf RE'!G59","v":886.95652198791504},{"$f":"H25-'A4-FinPerf RE'!H59","v":886.95652198791504},{"$f":"I25-'A4-FinPerf RE'!J59","v":0},{"$f":"J25-'A4-FinPerf RE'!K59","v":0},{"$f":"K25-'A4-FinPerf RE'!L59","v":0}]
["check opexp balance",null,{"$f":"C48-'A4-FinPerf RE'!C35","v":0},{"$f":"D48-'A4-FinPerf RE'!D35","v":0},{"$f":"E48-'A4-FinPerf RE'!E35","v":0},{"$f":"F48-'A4-FinPerf RE'!F35","v":-1},{"$f":"G48-'A4-FinPerf RE'!G35","v":0.62268233299255371},{"$f":"H48-'A4-FinPerf RE'!H35","v":0.62268233299255371},{"$f":"I48-'A4-FinPerf RE'!J35","v":0},{"$f":"J48-'A4-FinPerf RE'!K35","v":0},{"$f":"K48-'A4-FinPerf RE'!L35","v":0}]

{"sheet":"A2A","index":8,"n_rows":256,"n_cols":11,"rows_kept":256,"cut":false,"hidden":false,"merged":[[1,5,1,7],[1,8,1,10],[251,0,251,10]]}
[{"$f":"muni&\" - \"&Approve3","v":"DC12 Amathole - Table A2 Budgeted Financial Performance (revenue and expenditure by functional classification)"}]
[{"$f":"\"Functional Classification \"&desc","v":"Functional Classification Description"},{"$f":"head27","v":"Ref"},{"$f":"head1b","v":"2016/17"},{"$f":"head1A","v":"2017/18"},{"$f":"Head1","v":"2018/19"},{"$f":"Head2","v":"Current Year 2019/20"},null,null,{"$f":"Head3","v":"2020/21 Medium Term Revenue & Expenditure Framework"}]
["R thousand",1,{"$f":"Head5","v":"Audited Outcome"},{"$f":"Head5","v":"Audited Outcome"},{"$f":"Head5","v":"Audited Outcome"},{"$f":"Head6","v":"Original Budget"},{"$f":"Head7","v":"Adjusted Budget"},{"$f":"Head8","v":"Full Year Forecast"},{"$f":"Head9","v":"Budget Year 2020/21"},{"$f":"Head10","v":"Budget Year +1 2021/22"},{"$f":"Head11","v":"Budget Year +2 2022/23"}]
["Revenue - Functional"]
["Municipal governance and administration",null,{"$f":"C6+C9+C23","v":331477231.81999993},384777310.06937307,445392905.34000009,307917052,298767948,298767948,330855364,354251647,376831641]
["Executive and council",null,{"$f":"SUM(C7:C8)","v":329138068.81999993},{"$f":"SUM(D7:D8)","v":382756494.07979745},443053741.67000008,41409067,15774886,15774886,16976301,18275336,19501305]
["Mayor and Council",null,null,1924.5392077662309,2227.7199999999998]
["Municipal Manager, Town Secretary and Chief Executive",null,{"$f":"333844194-4706125.18000007","v":329138068.81999993},382754569.54058969,{"$f":"600+329026934.01+117848731-3824751.05999994","v":443051513.95000005},41409067,15774886,15774886,16976301,18275336,19501305]
["Finance and administration",null,{"$f":"SUM(C10:C22)","v":2339163},2020815.9895755975,2339163.67,266507985,282993062,282993062,313879063,335976311,357330336]
["Administrative and Corporate Support",null,null,215690.33955650928,249668.95,84012571,82472971,82472971,88382985,95153575,101548310]
["Asset Management",null,null,null,null,null,0,0]
["Finance",null,2339163,1805125.6500190881,{"$f":"437.16+1971030.38+118027.18","v":2089494.7199999997},182495414,197577728,197577728,225496078,240822736,255782026]
["Fleet Management",null,null,null,null,null,0,0]
["Human Resources",null,null,null,null,null,0,0]
["Information Technology",null,null,null,null,null,2942363,2942363]
["Legal Services",null,null,null,null,null,0]
["Marketing, Customer Relations, Publicity and Media Co-ordination",null,null,null,null,null,0]
["Property Services"]
["Risk Management"]
["Security Services"]
["Supply Chain Management "]
["Valuation Service"]
["Internal audit",null,{"$f":"SUM(C24:C24)","v":0},0,0,null,0,0,0,0,0]
["Governance Function"]
["Community and public safety",null,{"$f":"C26+C48+C54+C63+C66","v":8615375.7300000004},7442868.5262671951,8615375.0500000007,100878885,127051268,127051268,109595767,117854257,125702197]
["Community and social services",null,{"$f":"SUM(C27:C47)","v":0},{"$f":"SUM(D27:D47)","v":0},0,0,0,0,0,0,0]
["Aged Care"]
["Agricultural"]
["Animal Care and Diseases"]
["Cemeteries, Funeral Parlours and Crematoriums"]
["Child Care Facilities"]
["Community Halls and Facilities"]
["Consumer Protection"]
["Cultural Matters"]
["Disaster Management"]
["Education"]
["Indigenous and Customary Law"]
["Industrial Promotion"]
["Language Policy"]
["Libraries and Archives"]
["Literacy Programmes"]
["Media Services"]
["Museums and Art Galleries"]
["Population Development"]
["Provincial Cultural Matters"]
["Theatres"]
["Zoo's"]
["Sport and recreation",null,{"$f":"SUM(C49:C53)","v":0},{"$f":"SUM(D49:D53)","v":0},0,0,0,0,0,0,0]
["Beaches and Jetties "]
["Casinos, Racing, Gambling, Wagering"]
["Community Parks (including Nurseries)"]
["Recreational Facilities"]
["Sports Grounds and Stadiums"]
["Public safety",null,{"$f":"SUM(C55:C62)","v":4473843},3864976.6409200015,4473842.74,6229598,6232499,6232499,7737991,8202270,8694406]
["Civil Defence"]
["Cleansing"]
["Control of Public Nuisances"]
["Fencing and Fences "]
["Fire Fighting and Protection",null,4473843,3864976.6409200015,4473842.74,6229598,6232499,6232499,7737991,8202270,8694406]
["Licensing and Control of Animals"]
["Police Forces, Traffic and Street Parking Control"]
["Pounds"]
["Housing",null,{"$f":"SUM(C64:C65)","v":0},{"$f":"SUM(D64:D65)","v":0},0,19718601,45888083,45888083,21220369,22844164,24376623]
["Housing",null,null,null,null,19718601,45888083,45888083,21220369,22844164,24376623]
["Informal Settlements"]
["Health",null,{"$f":"SUM(C67:C73)","v":4141532.73},{"$f":"SUM(D67:D73)","v":3577891.8853471936},4141532.31,74930686,74930686,74930686,80637407,86807823,92631168]
["Ambulance"]
["Health Services",null,4141532.73,3577891.8853471936,{"$f":"4139537.73+1994.58","v":4141532.31},74930686,74930686,74930686,80637407,86807823,92631168]
["Laboratory Services"]
["Food Control"]
["Health Surveillance and Prevention of Communicable Diseases including immunizations"]
["Vector Control"]
["Chemical Safety"]
["Economic and environmental services",null,{"$f":"C75+C86+C91","v":10774},8789.718508383794,10174.4,25032001,61484645,61484645,54906380,56065662,59680658]
["Planning and development",null,{"$f":"SUM(C76:C85)","v":10774},{"$f":"SUM(D76:D85)","v":8789.718508383794},10174.4,21919000,58371644,58371644,51942380,52938662,56372658]
["Billboards"]
["Corporate Wide Strategic Planning (IDPs, LEDs)"]
["Central City Improvement District"]
["Development Facilitation"]
["Economic Development/Planning",null,10774,null,null,2446000,13254809,13254809,3085000,0,0]
["Regional Planning and Development",null,null,null,null,null,0,0]
["Town Planning, Building Regulations and Enforcement, and City Engineer",null,null,null,null,null,0,0]
["Project Management Unit",null,null,null,null,19473000,19473000,19473000,21270900,23241250,24683050]
["Provincial Planning"]
["Support to Local Municipalities",null,null,8789.718508383794,10174.4,null,25643835,25643835,27586480,29697412,31689608]
["Road transport",null,{"$f":"SUM(C87:C90)","v":0},0,0,3113001,3113001,3113001,2964000,3127000,3308000]
["Public Transport",null,null,null,null,3113001,3113001,3113001,2964000,3127000,3308000]
["Road and Traffic Regulation"]
["Roads"]
["Taxi Ranks"]
["Environmental protection",null,{"$f":"SUM(C92:C97)","v":0},{"$f":"SUM(D92:D97)","v":0},0,0,0,0,0,0,0]
["Biodiversity and Landscape"]
["Coastal Protection"]
["Indigenous Forests"]
["Nature Conservation"]
["Pollution Control"]
["Soil Conservation"]
["Trading services",null,{"$f":"C99+C103+C107+C112","v":1174579255.73},{"$f":"D99+D103+D107+D112","v":1318139723.0958519},1525791842.5799999,1661896512,1768435819,1768435819,1670430271,1828564435,{"$f":"K99+K103+K107+K112","v":1886048303}]
["Energy sources",null,{"$f":"SUM(C100:C102)","v":0},{"$f":"SUM(D100:D102)","v":0},0,0,0,0,0,0,0]
["Electricity "]
["Street Lighting and Signal Systems"]
["Nonelectric Energy"]
["Water management",null,{"$f":"SUM(C104:C106)","v":869683283.73000002},{"$f":"SUM(D104:D106)","v":1085936514.3903117},1257008681.3899999,1498192617,1604655683,1604655683,1522479974,1671737117,1719811343]
["Water Treatment"]
["Water Distribution",null,{"$f":"870714069-1030785.26999998","v":869683283.73000002},1085936514.3903117,{"$f":"4815032.13+415773096.26+836420553","v":1257008681.3899999},1498192617,1604655683,1604655683,1522479974,1671737117,1719811343]
["Water Storage"]
["Waste water management",null,{"$f":"SUM(C108:C111)","v":303986474},{"$f":"SUM(D108:D111)","v":231417488.62876198},267873663.31,157738861,157812324,157812324,140540930,148973389,157911795]
["Public Toilets"]
["Sewerage",null,303986474,231417488.62876198,267873663.31,157738861,157812324,157812324,140540930,148973389,157911795]
["Storm Water Management"]
["Waste Water Treatment"]
["Waste management",null,{"$f":"SUM(C113:C116)","v":909498},{"$f":"SUM(D113:D116)","v":785720.07677817089},909497.88,5965034,5967812,5967812,7409367,7853929,8325165]
["Recycling"]
["Solid Waste Disposal (Landfill Sites)",null,909498,785720.07677817089,909497.88,5965034,5967812,5967812,7409367,7853929,8325165]
["Solid Waste Removal"]
["Street Cleaning"]
["Other",null,{"$f":"SUM(C118:C123)","v":0},{"$f":"SUM(D118:D123)","v":0},0,0,0,0,0,0,0]
["Abattoirs"]
["Air Transport"]
["Forestry "]
["Licensing and Regulation"]
["Markets"]
["Tourism"]
[{"$f":"\"Total \"&A4","v":"Total Revenue - Functional"},2,{"$f":"C5+C25+C74+C98+C117","v":1514682637.28},1710368691.4100006,1979810297.3699999,2095724450,2255739680,2255739680,2165787782,2356736001,2448262799]
[]
["Expenditure - Functional"]
[{"$f":"A5","v":"Municipal governance and administration"},null,{"$f":"C128+C131+C145","v":469591359.80000001},397244234.24199265,429294882.40999961,537598606.5,516344349,516344349,457142119.03725374,490710633.79912853,510328036.83814794]
["Executive and council",null,{"$f":"SUM(C129:C130)","v":168232844.80000001},134705493.57339033,145921214.28999969,139207119,97097110,97097110,83125195.227041006,89565927.31464377,91752045.499337971]
["Mayor and Council",null,null,19560538.544031575,21112851.93,23951754,28236145,28236145,31161333.124156326,31618783.339831255,32095562.325772345]
["Municipal Manager, Town Secretary and Chief Executive",null,{"$f":"613022675-444789830.2","v":168232844.80000001},{"$f":"115631881.029359-486926.000000238","v":115144955.02935876},{"$f":"129597611.73+1200625-728497.310000122-5261377.06000018","v":124808362.3599997},115255365,68860965,68860965,51963862.10288468,57947143.974812508,59656483.173565626]
["Finance and administration",null,{"$f":"SUM(C132:C144)","v":301358515},262538740.66860232,283373668.11999995,389005507.5,409971544,409971544,362285668.11246032,389086601.86422533,406203309.03284097]
["Administrative and Corporate Support",null,null,113441611.91021743,122444274.70999998,83028151,118425591,118425591,98381452.996790737,109630701.02514376,113414646.56197473]
["Asset Management",null,null,null,null,8698134,8764831,8764831,9410367.9369953685,9706412.868703125,10022329.994764455]
["Finance",null,301358515,104132107.0806524,112395972.78999999,118199020,119736617,119736617,117568497.66784778,125674849.37972188,131444342.56895711]
["Fleet Management"]
["Human Resources",null,null,20986433.832375895,22651905.470000003,96361713.5,86127890,86127890,51675395.330339104,54447744.787684679,57230686.819364205]
["Information Technology",null,null,23978587.845356625,25881515.149999999,52387688,49785701,49785701,52701358.84201774,55308685.313540623,58786278.888332263]
["Legal Services",null,null,null,null,4317561,3086496,3086496,4084660.3519345806,5751389.6694687502,5922077.8330960935]
["Marketing, Customer Relations, Publicity and Media Co-ordination",null,null,null,null,9846293,8244101,8244101,10993279.556750968,10585319.004859373,10891656.01616836]
["Property Services",null,null,null,null,null,0,0]
["Risk Management",null,null,null,null,1141290,802979,802979,1064558.4165316122,1088602.866459375,1113710.0146208594]
["Security Services",null,null,null,null,null,0,0]
["Supply Chain Management ",null,null,null,null,15025657,14997338,14997338,16406097.013252417,16892896.948643751,17377580.335562967]
["Valuation Service"]
["Internal audit",null,{"$f":"SUM(C146:C146)","v":0},0,0,9385980,9275695,9275695,11731255.697752412,12058104.620259374,12372682.305968985]
["Governance Function",null,null,null,null,9385980,9275695,9275695,11731255.697752412,12058104.620259374,12372682.305968985]
["Community and public safety",null,{"$f":"C148+C170+C176+C185+C188","v":216315829},73919666.534960598,79785889.88000001,119429895.50479999,136632324.39102304,136632324.39102304,130383428.69364461,141412163.33680314,146381066.04053727]
["Community and social services",null,{"$f":"SUM(C149:C169)","v":7751704},{"$f":"SUM(D149:D169)","v":9453455.1340090558},10203676.040000001,8023577,6878545,6878545,9423081.3470882811,10311258.564774999,10768722.971378751]
["Aged Care"]
["Agricultural"]
["Animal Care and Diseases"]
["Cemeteries, Funeral Parlours and Crematoriums"]
["Child Care Facilities"]
["Community Halls and Facilities"]
["Consumer Protection"]
["Cultural Matters"]
["Disaster Management",null,7751704,9453455.1340090558,10203676.040000001,8023577,6878545,6878545,9423081.3470882811,10311258.564774999,10768722.971378751]
["Education"]
[{"$f":"A37","v":"Indigenous and Customary Law"}]
["Industrial Promotion"]
["Language Policy"]
["Libraries and Archives"]
["Literacy Programmes"]
["Media Services"]
["Museums and Art Galleries"]
["Population Development"]
["Provincial Cultural Matters"]
["Theatres"]
["Zoo's"]
["Sport and recreation",null,{"$f":"SUM(C171:C175)","v":0},0,0,0,0,0,0,0,0]
["Beaches and Jetties "]
["Casinos, Racing, Gambling, Wagering"]
["Community Parks (including Nurseries)"]
["Recreational Facilities"]
["Sports Grounds and Stadiums"]
["Public safety",null,{"$f":"SUM(C177:C184)","v":46509729},32232834.094939072,34790813.760000005,62482923.004799999,61766719,61766719,67175569.283545256,74313133.487150013,76973979.844845951]
["Civil Defence"]
["Cleansing"]
[{"$f":"A57","v":"Control of Public Nuisances"}]
["Fencing and Fences "]
["Fire Fighting and Protection",null,46509729,32232834.094939072,34790813.760000005,62482923.004799999,61766719,61766719,67175569.283545256,74313133.487150013,76973979.844845951]
["Licensing and Control of Animals"]
["Police Forces, Traffic and Street Parking Control"]
["Pounds"]
[{"$f":"A63","v":"Housing"},null,{"$f":"SUM(C186:C187)","v":31341556},2948401.544389056,3182385.0399999996,1525576,27824616.391023055,27824616.391023055,2083886.1402745801,2165422.8654375002,2239407.1655109376]
["Housing",null,31341556,2948401.544389056,3182385.0399999996,1525576,27824616.391023055,27824616.391023055,2083886.1402745801,2165422.8654375002,2239407.1655109376]
["Informal Settlements"]
["Health",null,{"$f":"SUM(C189:C195)","v":130712840},{"$f":"SUM(D189:D195)","v":29284975.761623405},31609015.040000007,47397819.5,40162444,40162444,51700891.922736496,54622348.419440635,56398956.058801644]
["Ambulance"]
["Health Services",null,130712840,29284975.761623405,31609015.040000007,47397819.5,40162444,40162444,51700891.922736496,54622348.419440635,56398956.058801644]
["Laboratory Services"]
["Food Control"]
["Health Surveillance and Prevention of Communicable Diseases including immunizations"]
["Vector Control"]
["Chemical Safety"]
["Economic and environmental services",null,{"$f":"C197+C208+C213","v":54149738},43447898.707166538,46895899.620000005,59548940,119976319,119976319,120731196.34354523,118316041.32010624,122049930.2095933]
["Planning and development",null,{"$f":"SUM(C198:C207)","v":54149738},{"$f":"SUM(D198:D207)","v":42735740.021675244},46127224.420000002,55136807,115493260,115493260,117122934.93196692,114118334.24566874,117635359.79210736]
["Billboards"]
["Corporate Wide Strategic Planning (IDPs, LEDs)"]
["Central City Improvement District"]
["Development Facilitation"]
["Economic Development/Planning",null,54149738,34152239.997295685,36862542.640000001,21771042,78937205,78937205,78549388.125954166,73328758.448378116,75218585.027165711]
["Regional Planning and Development",null,null,null,null,null,0,0]
["Town Planning, Building Regulations and Enforcement, and City Engineer",null,null,8583500.0243795626,9264681.7800000031,7593248,6312351,6312351,8288688.0557699334,8527012.9209968746,8779777.0489280466]
["Project Management Unit",null,null,null,null,19473000,19373000,19373000,21163823.1675,23220036,24660561]
["Provincial Planning",null,null,null,null,null,0,0]
["Support to Local Municipalities",null,null,null,null,6299517,10870704,10870704,9121035.5827428158,9042526.8762937505,8976436.7160135936]
["Road transport",null,{"$f":"SUM(C209:C212)","v":0},712158.68549129635,768675.2,4412133,4483059,4483059,3608261.411578306,4197707.0744375,4414570.4174859375]
["Public Transport",null,null,712158.68549129635,768675.2,4412133,4483059,4483059,3608261.411578306,4197707.0744375,4414570.4174859375]
["Road and Traffic Regulation"]
["Roads"]
["Taxi Ranks"]
["Environmental protection",null,{"$f":"SUM(C214:C219)","v":0},{"$f":"SUM(D214:D219)","v":0},0,0,0,0,0,0,0]
["Biodiversity and Landscape"]
["Coastal Protection"]
["Indigenous Forests"]
[{"$f":"A95","v":"Nature Conservation"}]
["Pollution Control"]
["Soil Conservation"]
["Trading services",null,{"$f":"C221+C225+C229+C234","v":715272563.20000005},{"$f":"D221+D225+D229+D234","v":1038164056.2258799},1120552174.4100001,787146924,1060087209.4664592,1060087209.4664592,951009573.98538077,990734928.3095541,1050829339.9157689]
["Energy sources",null,{"$f":"SUM(C222:C224)","v":0},{"$f":"SUM(D222:D224)","v":0},0,0,0,0,0,0,0]
["Electricity "]
["Street Lighting and Signal Systems"]
["Nonelectric Energy"]
["Water management",null,{"$f":"SUM(C226:C228)","v":682178763.20000005},{"$f":"SUM(D226:D228)","v":640034425.0537771},690827198.6400001,616607385,869643433,869643433,756092082.17136073,778925225.58823764,829200670.50598562]
["Water Treatment"]
["Water Distribution",null,{"$f":"255384385+426794378.2","v":682178763.20000005},640034425.0537771,{"$f":"1118851556.96-428024358.32","v":690827198.6400001},616607385,869643433,869643433,756092082.17136073,778925225.58823764,829200670.50598562]
["Water Storage"]
["Waste water management",null,{"$f":"SUM(C230:C233)","v":33093800},{"$f":"SUM(D230:D233)","v":396554050.89097035},428024358.31999999,162287121,184040744,184040744,187964717.09905294,204245154.20727187,213389622.71094903]
["Public Toilets"]
["Sewerage",null,33093800,396554050.89097035,428024358.31999999,162287121,184040744,184040744,187964717.09905294,204245154.20727187,213389622.71094903]
["Storm Water Management"]
["Waste Water Treatment"]
["Waste management",null,{"$f":"SUM(C235:C238)","v":0},{"$f":"SUM(D235:D238)","v":1575580.2811324738},1700617.4500000002,8252418,6403032.4664592119,6403032.4664592119,6952774.7149671894,7564548.5140445661,8239046.6988342404]
["Recycling"]
["Solid Waste Disposal (Landfill Sites)",null,null,1575580.2811324738,1700617.4500000002,8252418,6403032.4664592119,6403032.4664592119,6952774.7149671894,7564548.5140445661,8239046.6988342404]
["Solid Waste Removal"]
["Street Cleaning"]
["Other",null,{"$f":"SUM(C240:C245)","v":0},{"$f":"SUM(D240:D245)","v":0},0,0,0,0,0,0,0]
["Abattoirs"]
["Air Transport"]
["Forestry "]
["Licensing and Regulation"]
["Markets"]
["Tourism"]
[{"$f":"\"Total \"&A126","v":"Total Expenditure - Functional"},3,{"$f":"C127+C147+C196+C220+C239","v":1455329490},1552775855.7099996,1676528846.3199997,1503724366.0047998,1833040201.8574822,1833040201.8574822,1659266318.0598245,1741173766.7655921,1829588373.0040474]
[{"$f":"result","v":"Surplus/(Deficit) for the year"},null,{"$f":"C124-C246","v":59353147.279999971},157592835.700001,303281451.05000019,592000083.99520016,422699478.14251781,422699478.14251781,506521463.94017553,615562234.2344079,618674425.99595261]
[{"$f":"head27a","v":"References"}]
["1. Government Finance Statistics Functions and Sub-functions are standardised to assist national and international accounts and comparison"]
["2. Total Revenue by Functional Classification must reconcile to total operating revenue shown in Financial Performance (revenue and expenditure)"]
["3. Total Expenditure by Functional Classification must reconcile to total operating expenditure shown in Financial Performance (revenue and expenditure)"]
["4. All amounts must be classified under a Functional classification. The GFS function 'Other' is only for Abbatoirs, Air Transport,  Forestry, Licensing and Regulation, Markets and Tourism - and if used must be supported by footnotes. Nothing else may be placed under 'Other'. Assign associate share to relevant classification"]
[]
[]
["check oprev balance",null,{"$f":"C124-'A4-FinPerf RE'!C59","v":0},{"$f":"D124-'A4-FinPerf RE'!D59","v":0},{"$f":"E124-'A4-FinPerf RE'!E59","v":0},{"$f":"F124-'A4-FinPerf RE'!F59","v":-4.3478250503540039E-2},{"$f":"G124-'A4-FinPerf RE'!G59","v":886.95652198791504},{"$f":"H124-'A4-FinPerf RE'!H59","v":886.95652198791504},{"$f":"I124-'A4-FinPerf RE'!J59","v":0},{"$f":"J124-'A4-FinPerf RE'!K59","v":0},{"$f":"K124-'A4-FinPerf RE'!L59","v":0}]
["check opexp balance",null,{"$f":"C246-'A4-FinPerf RE'!C35","v":0},{"$f":"D246-'A4-FinPerf RE'!D35","v":0},{"$f":"E246-'A4-FinPerf RE'!E35","v":0},{"$f":"F246-'A4-FinPerf RE'!F35","v":-1},{"$f":"G246-'A4-FinPerf RE'!G35","v":0.62268233299255371},{"$f":"H246-'A4-FinPerf RE'!H35","v":0.62268233299255371},{"$f":"I246-'A4-FinPerf RE'!J35","v":0},{"$f":"J246-'A4-FinPerf RE'!K35","v":0},{"$f":"K246-'A4-FinPerf RE'!L35","v":0}]

{"sheet":"A3-FinPerf V","index":9,"n_rows":45,"n_cols":23,"rows_kept":45,"cut":false,"hidden":false,"merged":[[1,5,1,7],[1,8,1,10],[1,11,1,22]]}
[{"$f":"muni&\" - \"&Approve2","v":"DC12 Amathole - Table A3 Budgeted Financial Performance (revenue and expenditure by municipal vote)"}]
[{"$f":"Vdesc","v":"Vote Description"},{"$f":"head27","v":"Ref"},{"$f":"head1b","v":"2016/17"},{"$f":"head1A","v":"2017/18"},{"$f":"Head1","v":"2018/19"},{"$f":"Head2","v":"Current Year 2019/20"},null,null,{"$f":"Head3","v":"2020/21 Medium Term Revenue & Expenditure Framework"},null,null,{"$f":"Head4","v":"LTFS"}]
["R thousand",null,{"$f":"Head5","v":"Audited Outcome"},{"$f":"Head5","v":"Audited Outcome"},{"$f":"Head5","v":"Audited Outcome"},{"$f":"Head6","v":"Original Budget"},{"$f":"Head7","v":"Adjusted Budget"},{"$f":"Head8","v":"Full Year Forecast"},{"$f":"Head9","v":"Budget Year 2020/21"},{"$f":"Head10","v":"Budget Year +1 2021/22"},{"$f":"Head11","v":"Budget Year +2 2022/23"},{"$f":"Head12","v":"Forecast 2023/24"},{"$f":"Head13","v":"Forecast 2024/25"},{"$f":"Head14","v":"Forecast 2025/26"},{"$f":"Head15","v":"Forecast 2026/27"},{"$f":"Head16","v":"Forecast 2027/28"},{"$f":"Head17","v":"Forecast 2028/29"},{"$f":"Head18","v":"Forecast 2029/30"},{"$f":"Head19","v":"Forecast 2030/31"},{"$f":"Head20","v":"Forecast 2031/32"},{"$f":"Head21","v":"Forecast 2032/33"},{"$f":"Head22","v":"Forecast 2033/34"},{"$f":"Head23","v":"Forecast 2034/35"}]
["Revenue by Vote",1]
[{"$f":"A3A!A5","v":"Vote 1 - Legislative & Executive Support Services"},null,{"$f":"A3A!C5","v":2227.7199999999998},{"$f":"A3A!D5","v":0},{"$f":"A3A!E5","v":0},{"$f":"A3A!F5","v":0},{"$f":"A3A!G5","v":0},{"$f":"A3A!H5","v":0},{"$f":"A3A!I5","v":0},{"$f":"A3A!J5","v":0},{"$f":"A3A!K5","v":0}]
[{"$f":"A3A!A12","v":"Vote 2 - Strategic Management"},null,{"$f":"A3A!C12","v":10174.4},{"$f":"A3A!D12","v":8385.3926325299472},{"$f":"A3A!E12","v":10174.4},{"$f":"A3A!F12","v":25634181},{"$f":"A3A!G12","v":25643835},{"$f":"A3A!H12","v":25643835},{"$f":"A3A!I12","v":27586480},{"$f":"A3A!J12","v":29697412},{"$f":"A3A!K12","v":31689608}]
[{"$f":"A3A!A21","v":"Vote 3 - Corporate Services"},null,{"$f":"A3A!C21","v":249668.95},{"$f":"A3A!D21","v":207604.62344480533},{"$f":"A3A!E21","v":251896.67},{"$f":"A3A!F21","v":84012571},{"$f":"A3A!G21","v":85415334},{"$f":"A3A!H21","v":85415334},{"$f":"A3A!I21","v":88382985},{"$f":"A3A!J21","v":95153575},{"$f":"A3A!K21","v":101548310}]
[{"$f":"A3A!A30","v":"Vote 4 - Budget & Treasury"},null,{"$f":"A3A!C30","v":19666594},{"$f":"A3A!D30","v":1722090.1115346581},{"$f":"A3A!E30","v":2089494.7199999997},{"$f":"A3A!F30","v":182495414},{"$f":"A3A!G30","v":197577728},{"$f":"A3A!H30","v":197577728},{"$f":"A3A!I30","v":225496078},{"$f":"A3A!J30","v":240822736},{"$f":"A3A!K30","v":255782026}]
[{"$f":"A3A!A41","v":"Vote 5 - Engineering Department"},null,{"$f":"A3A!C41","v":473464903.57999998},{"$f":"A3A!D41","v":4718456.4206370991},{"$f":"A3A!E41","v":5725130.0099999998},{"$f":"A3A!F41","v":1075384093},{"$f":"A3A!G41","v":1161402180},{"$f":"A3A!H41","v":1161402180},{"$f":"A3A!I41","v":1091565836},{"$f":"A3A!J41","v":1213423525},{"$f":"A3A!K41","v":1252569794}]
[{"$f":"A3A!A49","v":"Vote 6 - Health & Protection Department"},null,{"$f":"A3A!C49","v":8615375.0500000007},{"$f":"A3A!D49","v":7100497.5694637839},{"$f":"A3A!E49","v":8615375.0500000007},{"$f":"A3A!F49","v":81160284},{"$f":"A3A!G49","v":81163185},{"$f":"A3A!H49","v":81163185},{"$f":"A3A!I49","v":88375398},{"$f":"A3A!J49","v":95010093},{"$f":"A3A!K49","v":101325574}]
[{"$f":"A3A!A63","v":"Vote 7 - Water & Sanitation Management"},null,{"$f":"A3A!C63","v":415773096.25999999},{"$f":"A3A!D63","v":0},{"$f":"A3A!E63","v":0},{"$f":"A3A!F63","v":0},{"$f":"A3A!G63","v":0},{"$f":"A3A!H63","v":0},{"$f":"A3A!I63","v":0},{"$f":"A3A!J63","v":0},{"$f":"A3A!K63","v":0}]
[{"$f":"A3A!A68","v":"Vote 8 - Water Services"},null,{"$f":"A3A!C68","v":267873663.30999997},{"$f":"A3A!D68","v":1032015195.0980492},{"$f":"A3A!E68","v":1252193649.26},{"$f":"A3A!F68","v":451359559},{"$f":"A3A!G68","v":471806515},{"$f":"A3A!H68","v":471806515},{"$f":"A3A!I68","v":462558405},{"$f":"A3A!J68","v":492535771},{"$f":"A3A!K68","v":503557764}]
[{"$f":"A3A!A117","v":"Vote 9 - Sanitation Services"},null,{"$f":"A3A!C117","v":0},{"$f":"A3A!D117","v":220772315.10147837},{"$f":"A3A!E117","v":267873663.30999997},{"$f":"A3A!F117","v":157738861},{"$f":"A3A!G117","v":157812324},{"$f":"A3A!H117","v":157812324},{"$f":"A3A!I117","v":140540930},{"$f":"A3A!J117","v":148973389},{"$f":"A3A!K117","v":157911795}]
[{"$f":"A3A!A140","v":"Vote 10 - Land Human Settlement & Economic Development"},null,{"$f":"A3A!C140","v":0},{"$f":"A3A!D140","v":0},{"$f":"A3A!E140","v":0},{"$f":"A3A!F140","v":22164601},{"$f":"A3A!G140","v":59142892},{"$f":"A3A!H140","v":59142892},{"$f":"A3A!I140","v":24305369},{"$f":"A3A!J140","v":22844164},{"$f":"A3A!K140","v":24376623}]
[{"$f":"A3A!A145","v":"Vote 11 - Municipal Management"},null,{"$f":"A3A!C145","v":329026934.00999999},{"$f":"A3A!D145","v":443824147.09276003},{"$f":"A3A!E145","v":443050913.95000005},{"$f":"A3A!F145","v":15774886},{"$f":"A3A!G145","v":15774886},{"$f":"A3A!H145","v":15774886},{"$f":"A3A!I145","v":16976301},{"$f":"A3A!J145","v":18275336},{"$f":"A3A!K145","v":19501305},{"$f":"A5A!#REF!","v":{"$error":"#REF!"}}]
[{"$f":"A3A!A158","v":"Vote 12 - [NAME OF VOTE 12]"},null,{"$f":"A3A!C158","v":0},{"$f":"A3A!D158","v":0},{"$f":"A3A!E158","v":0},{"$f":"A3A!F158","v":0},{"$f":"A3A!G158","v":0},{"$f":"A3A!H158","v":0},{"$f":"A3A!I158","v":0},{"$f":"A3A!J158","v":0},{"$f":"A3A!K158","v":0},{"$f":"A5A!L106","v":0}]
[{"$f":"A3A!A161","v":"Vote 13 - [NAME OF VOTE 13]"},null,{"$f":"A3A!C161","v":0},{"$f":"A3A!D161","v":0},{"$f":"A3A!E161","v":0},{"$f":"A3A!F161","v":0},{"$f":"A3A!G161","v":0},{"$f":"A3A!H161","v":0},{"$f":"A3A!I161","v":0},{"$f":"A3A!J161","v":0},{"$f":"A3A!K161","v":0},{"$f":"A5A!L117","v":0}]
[{"$f":"A3A!A163","v":"Vote 14 - [NAME OF VOTE 14]"},null,{"$f":"A3A!C163","v":0},{"$f":"A3A!D163","v":0},{"$f":"A3A!E163","v":0},{"$f":"A3A!F163","v":0},{"$f":"A3A!G163","v":0},{"$f":"A3A!H163","v":0},{"$f":"A3A!I163","v":0},{"$f":"A3A!J163","v":0},{"$f":"A3A!K163","v":0},{"$f":"A5A!#REF!","v":{"$error":"#REF!"}}]
[{"$f":"A3A!A165","v":"Vote 15 - [NAME OF VOTE 15]"},null,{"$f":"A3A!C165","v":0},{"$f":"A3A!D165","v":0},{"$f":"A3A!E165","v":0},{"$f":"A3A!F165","v":0},{"$f":"A3A!G165","v":0},{"$f":"A3A!H165","v":0},{"$f":"A3A!I165","v":0},{"$f":"A3A!J165","v":0},{"$f":"A3A!K165","v":0},{"$f":"A5A!#REF!","v":{"$error":"#REF!"}}]
["Total Revenue by Vote",2,{"$f":"SUM(C5:C19)","v":1514682637.28},{"$f":"SUM(D5:D19)","v":1710368691.4100006},1979810297.3699999,2095724450,2255738879,2255738879,2165787782,2356736001,2448262799]
[]
["Expenditure by Vote to be appropriated",1]
[{"$f":"A3A!A170","v":"Vote 1 - Legislative & Executive Support Services"},null,{"$f":"A3A!C170","v":56562791.010000013},{"$f":"A3A!D170","v":0},{"$f":"A3A!E170","v":0},{"$f":"A3A!F170","v":0},{"$f":"A3A!G170","v":0},{"$f":"A3A!H170","v":0},{"$f":"A3A!I170","v":0},{"$f":"A3A!J170","v":0},{"$f":"A3A!K170","v":0}]
[{"$f":"A3A!A177","v":"Vote 2 - Strategic Management"},null,{"$f":"A3A!C177","v":54233284.609999999},{"$f":"A3A!D177","v":50043679.916309968},{"$f":"A3A!E177","v":54233284.609999999},{"$f":"A3A!F177","v":87081290},{"$f":"A3A!G177","v":83549547},{"$f":"A3A!H177","v":83549547},{"$f":"A3A!I177","v":91467317.757235974},{"$f":"A3A!J177","v":94050544.481900007},{"$f":"A3A!K177","v":98254624.428369373}]
[{"$f":"A3A!A186","v":"Vote 3 - Corporate Services"},null,{"$f":"A3A!C186","v":145096180.17999998},{"$f":"A3A!D186","v":186080505.34014547},{"$f":"A3A!E186","v":201658971.18999997},{"$f":"A3A!F186","v":237817785.5},{"$f":"A3A!G186","v":272698262},{"$f":"A3A!H186","v":272698262},{"$f":"A3A!I186","v":209376252.6197724},{"$f":"A3A!J186","v":224518946.86869094},{"$f":"A3A!K186","v":232242159.86198863}]
[{"$f":"A3A!A195","v":"Vote 4 - Budget & Treasury"},null,{"$f":"A3A!C195","v":117722113.78999999},{"$f":"A3A!D195","v":103713210.93002565},{"$f":"A3A!E195","v":112395972.78999999},{"$f":"A3A!F195","v":141922811},{"$f":"A3A!G195","v":143498786},{"$f":"A3A!H195","v":143498786},{"$f":"A3A!I195","v":143384962.61809558},{"$f":"A3A!J195","v":152274159.19706878},{"$f":"A3A!K195","v":158844252.89928454}]
[{"$f":"A3A!A206","v":"Vote 5 - Engineering Department"},null,{"$f":"A3A!C206","v":465851158.83000004},{"$f":"A3A!D206","v":310698534.53590918},{"$f":"A3A!E206","v":336709891.83000016},{"$f":"A3A!F206","v":117655185},{"$f":"A3A!G206","v":336707010},{"$f":"A3A!H206","v":336707010},{"$f":"A3A!I206","v":161645849.82906914},{"$f":"A3A!J206","v":136703859.10594457},{"$f":"A3A!K206","v":145095107.22920361}]
[{"$f":"A3A!A214","v":"Vote 6 - Health & Protection Department"},null,{"$f":"A3A!C214","v":76603504.840000004},{"$f":"A3A!D214","v":70685766.208849609},{"$f":"A3A!E214","v":76603504.840000004},{"$f":"A3A!F214","v":117904319.50479999},{"$f":"A3A!G214","v":108807708},{"$f":"A3A!H214","v":108807708},{"$f":"A3A!I214","v":128299542.55337001},{"$f":"A3A!J214","v":139246740.47136566},{"$f":"A3A!K214","v":144141658.87502632}]
[{"$f":"A3A!A228","v":"Vote 7 - Water & Sanitation Management"},null,{"$f":"A3A!C228","v":23390719.549999937},{"$f":"A3A!D228","v":0},{"$f":"A3A!E228","v":0},{"$f":"A3A!F228","v":56778114},{"$f":"A3A!G228","v":51196551},{"$f":"A3A!H228","v":51196551},{"$f":"A3A!I228","v":62755596.526854128},{"$f":"A3A!J228","v":66590473.146178126},{"$f":"A3A!K228","v":69674649.043365389}]
[{"$f":"A3A!A233","v":"Vote 8 - Water Services"},null,{"$f":"A3A!C233","v":428024358.31999993},{"$f":"A3A!D233","v":337588706.76939547},{"$f":"A3A!E233","v":365851281.24000001},{"$f":"A3A!F233","v":481904885},{"$f":"A3A!G233","v":518311315},{"$f":"A3A!H233","v":518311315},{"$f":"A3A!I233","v":571704183.16525316},{"$f":"A3A!J233","v":619140197.84559369},{"$f":"A3A!K233","v":660524869.39866507}]
[{"$f":"A3A!A282","v":"Vote 9 - Sanitation Services"},null,{"$f":"A3A!C282","v":87845378.8699999},{"$f":"A3A!D282","v":394958817.96914905},{"$f":"A3A!E282","v":428024358.31999993},{"$f":"A3A!F282","v":162287121},{"$f":"A3A!G282","v":184040744},{"$f":"A3A!H282","v":184040744},{"$f":"A3A!I282","v":187964717.09905294},{"$f":"A3A!J282","v":204245154.20727187},{"$f":"A3A!K282","v":213389622.710949}]
[{"$f":"A3A!A305","v":"Vote 10 - Land Human Settlement & Economic Development"},null,{"$f":"A3A!C305","v":0},{"$f":"A3A!D305","v":45910721.402924471},{"$f":"A3A!E305","v":49754319.119999997},{"$f":"A3A!F305","v":57905240},{"$f":"A3A!G305","v":89712967},{"$f":"A3A!H305","v":89712967},{"$f":"A3A!I305","v":59382827.146870062},{"$f":"A3A!J305","v":53716590.157684371},{"$f":"A3A!K305","v":55125659.383532733}]
[{"$f":"A3A!A310","v":"Vote 11 - Municipal Management"},null,{"$f":"A3A!C310","v":0},{"$f":"A3A!D310","v":53095912.637291163},{"$f":"A3A!E310","v":51297262.379999876},{"$f":"A3A!F310","v":42467615},{"$f":"A3A!G310","v":44517311},{"$f":"A3A!H310","v":44517311},{"$f":"A3A!I310","v":43285068.744251303},{"$f":"A3A!J310","v":50687101.283893757},{"$f":"A3A!K310","v":52295769.173662975},{"$f":"A3A!L311","v":0}]
[{"$f":"A3A!A323","v":"Vote 12 - [NAME OF VOTE 12]"},null,{"$f":"A3A!C323","v":0},{"$f":"A3A!D323","v":0},{"$f":"A3A!E323","v":0},{"$f":"A3A!F323","v":0},{"$f":"A3A!G323","v":0},{"$f":"A3A!H323","v":0},{"$f":"A3A!I323","v":0},{"$f":"A3A!J323","v":0},{"$f":"A3A!K323","v":0},{"$f":"A3A!L324","v":0}]
[{"$f":"A3A!A326","v":"Vote 13 - [NAME OF VOTE 13]"},null,{"$f":"A3A!C326","v":0},{"$f":"A3A!D326","v":0},{"$f":"A3A!E326","v":0},{"$f":"A3A!F326","v":0},{"$f":"A3A!G326","v":0},{"$f":"A3A!H326","v":0},{"$f":"A3A!I326","v":0},{"$f":"A3A!J326","v":0},{"$f":"A3A!K326","v":0},{"$f":"A3A!L327","v":0}]
[{"$f":"A3A!A328","v":"Vote 14 - [NAME OF VOTE 14]"},null,{"$f":"A3A!C328","v":0},{"$f":"A3A!D328","v":0},{"$f":"A3A!E328","v":0},{"$f":"A3A!F328","v":0},{"$f":"A3A!G328","v":0},{"$f":"A3A!H328","v":0},{"$f":"A3A!I328","v":0},{"$f":"A3A!J328","v":0},{"$f":"A3A!K328","v":0},{"$f":"A3A!L329","v":0}]
[{"$f":"A3A!A330","v":"Vote 15 - [NAME OF VOTE 15]"},null,{"$f":"A3A!C330","v":0},{"$f":"A3A!D330","v":0},{"$f":"A3A!E330","v":0},{"$f":"A3A!F330","v":0},{"$f":"A3A!G330","v":0},{"$f":"A3A!H330","v":0},{"$f":"A3A!I330","v":0},{"$f":"A3A!J330","v":0},{"$f":"A3A!K330","v":0},{"$f":"A3A!L331","v":0}]
["Total Expenditure by Vote",2,{"$f":"SUM(C23:C37)","v":1455329490},{"$f":"SUM(D23:D37)","v":1552775855.71},1676528846.3199997,1503724366.0047998,1833040201,1833040201,1659266318.0598247,1741173766.7655916,1829588373.0040474,{"$f":"SUM(L23:L29)","v":0},0,0,0,0,0,0,0,0,0,0,0]
[{"$f":"result","v":"Surplus/(Deficit) for the year"},2,{"$f":"C20-C38","v":59353147.279999971},157592835.70000052,303281451.05000019,592000083.99520016,422698678,422698678,506521463.94017529,615562234.23440838,618674425.99595261,0,0,0,0,0,0,0,0,0,0,0,0]
[{"$f":"head27a","v":"References"}]
["1. Insert 'Vote'; e.g. department, if different to functional classification structure"]
["2. Must reconcile to Budgeted Financial Performance (revenue and expenditure)"]
["3. Assign share in 'associate' to relevant Vote"]
[]
[{"$f":"\"check \"&A39","v":"check Surplus/(Deficit) for the year"},null,{"$f":"C39-A3A!C334","v":0},{"$f":"D39-A3A!D334","v":0},{"$f":"E39-A3A!E334","v":0},{"$f":"F39-A3A!F334","v":0},{"$f":"G39-A3A!G334","v":0},{"$f":"H39-A3A!H334","v":0},{"$f":"I39-A3A!I334","v":0},{"$f":"J39-A3A!J334","v":0},{"$f":"K39-A3A!K334","v":0}]

{"sheet":"A3A","index":10,"n_rows":341,"n_cols":23,"rows_kept":341,"cut":false,"hidden":false,"merged":[[1,11,1,22],[1,5,1,7],[1,8,1,10]]}
[{"$f":"muni&\" - \"&Approve2&\"A\"","v":"DC12 Amathole - Table A3 Budgeted Financial Performance (revenue and expenditure by municipal vote)A"}]
[{"$f":"Vdesc","v":"Vote Description"},{"$f":"head27","v":"Ref"},{"$f":"head1b","v":"2016/17"},{"$f":"head1A","v":"2017/18"},{"$f":"Head1","v":"2018/19"},{"$f":"Head2","v":"Current Year 2019/20"},null,null,{"$f":"Head3","v":"2020/21 Medium Term Revenue & Expenditure Framework"},null,null,{"$f":"Head4","v":"LTFS"}]
["R thousand",null,{"$f":"Head5","v":"Audited Outcome"},{"$f":"Head5","v":"Audited Outcome"},{"$f":"Head5","v":"Audited Outcome"},{"$f":"Head6","v":"Original Budget"},{"$f":"Head7","v":"Adjusted Budget"},{"$f":"Head8","v":"Full Year Forecast"},{"$f":"Head9","v":"Budget Year 2020/21"},{"$f":"Head10","v":"Budget Year +1 2021/22"},{"$f":"Head11","v":"Budget Year +2 2022/23"},{"$f":"Head12","v":"Forecast 2023/24"},{"$f":"Head13","v":"Forecast 2024/25"},{"$f":"Head14","v":"Forecast 2025/26"},{"$f":"Head15","v":"Forecast 2026/27"},{"$f":"Head16","v":"Forecast 2027/28"},{"$f":"Head17","v":"Forecast 2028/29"},{"$f":"Head18","v":"Forecast 2029/30"},{"$f":"Head19","v":"Forecast 2030/31"},{"$f":"Head20","v":"Forecast 2031/32"},{"$f":"Head21","v":"Forecast 2032/33"},{"$f":"Head22","v":"Forecast 2033/34"},{"$f":"Head23","v":"Forecast 2034/35"}]
["Revenue by Vote",1]
[{"$f":"'Org structure'!A2","v":"Vote 1 - Legislative & Executive Support Services"},null,{"$f":"SUM(C6:C11)","v":2227.7199999999998},0,0,0,0,0,0,0,0]
[{"$f":"'Org structure'!E3","v":"1,1 - Council General"},null,2227.7199999999998]
[{"$f":"'Org structure'!E4","v":"1,2 - Mayoral Committee"}]
[{"$f":"'Org structure'!E5","v":"1,3 - Executive Support Services"}]
[{"$f":"'Org structure'!E6","v":"1,4 - Legislative Support Services"}]
[{"$f":"'Org structure'!E7","v":"1,5 - Director: Leg&executive Support Services"}]
[{"$f":"'Org structure'!E8","v":"1,6 - Council Support"}]
[{"$f":"'Org structure'!A3","v":"Vote 2 - Strategic Management"},null,{"$f":"SUM(C13:C20)","v":10174.4},8385.3926325299472,10174.4,25634181,25643835,25643835,27586480,29697412,31689608]
[{"$f":"'Org structure'!E10","v":"2,1 - Risk Services"}]
[{"$f":"'Org structure'!E11","v":"2,2 - Municipal Support Unit"},null,10174.4,8385.3926325299472,10174.4]
[{"$f":"'Org structure'!E12","v":"2,3 - Strategic Planning"},null,null,null,null,25634181,25643835,25643835,27586480,29697412,31689608]
[{"$f":"'Org structure'!E13","v":"2,4 - Information Management Unit"}]
[{"$f":"'Org structure'!E14","v":"2,5 - Communications & Customer Care"}]
[{"$f":"'Org structure'!E15","v":"2,6 - Planning Monitoring & Evaluation"}]
[{"$f":"'Org structure'!E16","v":"2,7 - Speaker Support Services_(old)"}]
[{"$f":"'Org structure'!E17","v":"2,8 - Travel Desk & Igr"}]
[{"$f":"'Org structure'!A4","v":"Vote 3 - Corporate Services"},null,{"$f":"SUM(C22:C29)","v":249668.95},207604.62344480533,251896.67,84012571,85415334,85415334,88382985,95153575,101548310]
[{"$f":"'Org structure'!E19","v":"3,1 - Administration"},null,249668.95,205768.6127832096,249668.95,84012571,82472971,82472971,88382985,95153575,101548310]
[{"$f":"'Org structure'!E20","v":"3,2 - Human Resources"},null,null,null,null,null,2942363,2942363]
[{"$f":"'Org structure'!E21","v":"3,3 - Council General"},null,null,1836.0106615957316,2227.7199999999998]
[{"$f":"'Org structure'!E22","v":"3,4 - Mayoral Committee"}]
[{"$f":"'Org structure'!E23","v":"3,5 - Executive Support Services"}]
[{"$f":"'Org structure'!E24","v":"3,6 - Legislative Support Services"}]
[{"$f":"'Org structure'!E25","v":"3,7 - Director: Leg&executive Support Services"}]
[{"$f":"'Org structure'!E26","v":"3,8 - Council Support"}]
[{"$f":"'Org structure'!A5","v":"Vote 4 - Budget & Treasury"},null,{"$f":"SUM(C31:C40)","v":19666594},1722090.1115346581,2089494.7199999997,182495414,197577728,197577728,225496078,240822736,255782026]
[{"$f":"'Org structure'!E28","v":"4,1 - Chief Financial Officer"},null,19666594,360.29232615552678,437.16,106494517,106494517,106494517,114528978,123466276,131664932]
[{"$f":"'Org structure'!E29","v":"4,2 - Accounting And Reporting"},null,null,1624455.8526246955,1971030.38]
[{"$f":"'Org structure'!E30","v":"4,3 - Asset Management"}]
[{"$f":"'Org structure'!E31","v":"4,4 - Supply Chain Management"}]
[{"$f":"'Org structure'!E32","v":"4,5 - Budgeting"}]
[{"$f":"'Org structure'!E33","v":"4,6 - Credit Control"}]
[{"$f":"'Org structure'!E34","v":"4,7 - Billing"}]
[{"$f":"'Org structure'!E35","v":"4,8 - Revenue Data Management"}]
[{"$f":"'Org structure'!E36","v":"4,9 - Receipting & Reconciliaton"},null,null,97273.966583806992,118027.18,76000897,91083211,91083211,110967100,117356460,124117094]
[{"$f":"'Org structure'!E37","v":"4.10 - Expenditure"}]
[{"$f":"'Org structure'!A6","v":"Vote 5 - Engineering Department"},null,{"$f":"SUM(C42:C48)","v":473464903.57999998},4718456.4206370991,5725130.0099999998,1075384093,1161402180,1161402180,1091565836,1213423525,1252569794]
[{"$f":"'Org structure'!E39","v":"5,1 - Engineering Services"},null,{"$f":"479201813.3-5736909.72000003","v":473464903.57999998},3968384.8628220805,4815032.13,1046833058,1132848367,1132848367,1059921569,1179201346,1216253579]
[{"$f":"'Org structure'!E40","v":"5,2 - Building And Services Planning"},null,null,494.49948690025633,600]
[{"$f":"'Org structure'!E41","v":"5,3 - Solid Waste Site"},null,null,749577.05832811818,909497.88,5965034,5967812,5967812,7409367,7853929,8325165]
[{"$f":"'Org structure'!E42","v":"5,4 - Managment Of Building & Services Plannin"},null,null,null,null,null,0,0]
[{"$f":"'Org structure'!E43","v":"5,5 - Transport Unit"},null,null,null,null,3113001,3113001,3113001,2964000,3127000,3308000]
[{"$f":"'Org structure'!E44","v":"5,6 - Water Service Authority"},null,null,null,null,null,0,0]
[{"$f":"'Org structure'!E45","v":"5,7 - Project Management Unit"},null,null,null,null,19473000,19473000,19473000,21270900,23241250,24683050]
[{"$f":"'Org structure'!A7","v":"Vote 6 - Health & Protection Department"},null,{"$f":"SUM(C50:C62)","v":8615375.0500000007},{"$f":"SUM(D50:D62)","v":7100497.5694637839},8615375.0500000007,81160284,81163185,81163185,88375398,95010093,101325574]
[{"$f":"'Org structure'!E47","v":"6,1 - Community Services"},null,null,null,null,74930686,74930686,74930686,80637407,86807823,92631168]
[{"$f":"'Org structure'!E48","v":"6,2 - Disaster Management"},null,null,null,null,null,0,0]
[{"$f":"'Org structure'!E49","v":"6,3 - Community Safety Services"},null,null,null,null,null,0,0]
[{"$f":"'Org structure'!E50","v":"6,4 - Municipal Health (adm)"},null,4139537.73,3411665.4724820862,4139537.73,null,0,0]
[{"$f":"'Org structure'!E51","v":"6,5 - Fire Services"},null,4473842.74,3687188.2323373947,4473842.74,6229598,6232499,6232499,7737991,8202270,8694406]
[{"$f":"'Org structure'!E52","v":"6,6 - Mhs In Mbhashe 1516"},null,1994.58,1643.864644302522,1994.58]
[{"$f":"'Org structure'!E53","v":"6,7 - Mhs In Mnquma 1516"}]
[{"$f":"'Org structure'!E54","v":"6,8 - Mhs In Great Kei 1516"}]
[{"$f":"'Org structure'!E55","v":"6,9 - Mhs In Amahlathi"}]
[{"$f":"'Org structure'!E56","v":"6,10 - Mhs Devolution"}]
[{"$f":"'Org structure'!E57","v":"6,11 - Mhs In Nkonkobe"}]
[{"$f":"'Org structure'!E58","v":"6,12 - Mhs In Nxuba"}]
[{"$f":"'Org structure'!E59","v":"6,13 - Mhs In Ngqushwa 1516"}]
[{"$f":"'Org structure'!A8","v":"Vote 7 - Water & Sanitation Management"},null,{"$f":"SUM(C64:C67)","v":415773096.25999999},0,0,0,0,0,0,0,0]
[{"$f":"'Org structure'!E61","v":"7,1 - Management Of O&m Water & Sanitation"},null,415773096.25999999]
[{"$f":"'Org structure'!E62","v":"7,2 - Mechanical & Electrical"}]
[{"$f":"'Org structure'!E63","v":"7,3 - Water Conservation & Demand Mngt"}]
[{"$f":"'Org structure'!E64","v":"7,4 - Water Care Unit"}]
[{"$f":"'Org structure'!A9","v":"Vote 8 - Water Services"},null,{"$f":"SUM(C69:C116)","v":267873663.30999997},{"$f":"SUM(D69:D116)","v":1032015195.0980492},1252193649.26,451359559,471806515,471806515,462558405,492535771,503557764]
[{"$f":"'Org structure'!E66","v":"8,1 - Dutywa Water Scheme"},null,267873663.30999997,1032015195.0980492,1252193649.26,4234404,4236377,4236377,3917358,4152399,4401543]
[{"$f":"'Org structure'!E67","v":"8,2 - Willowvale Water Scheme"},null,null,null,null,null,0,0]
[{"$f":"'Org structure'!E68","v":"8,3 - Elliotdale Water Scheme"},null,null,null,null,null,0,0]
[{"$f":"'Org structure'!E69","v":"8,4 - Qwaninga Water Scheme"},null,null,null,null,null,0,0]
[{"$f":"'Org structure'!E70","v":"8,5 - Mendu Water Scheme"},null,null,null,null,null,0,0]
[{"$f":"'Org structure'!E71","v":"8,6 - Dwesa Water Scheme"},null,null,null,null,null,0,0]
[{"$f":"'Org structure'!E72","v":"8,7 - Cwebe Water Scheme"},null,null,null,null,null,0,0]
[{"$f":"'Org structure'!E73","v":"8,8 - Qolora Water Scheme"},null,null,null,null,null,0,0]
[{"$f":"'Org structure'!E74","v":"8,9 - Butterworth Water Scheme"},null,null,null,null,66455446,69028912.182720006,69028912.182720006,64320879,68509925,72697849]
[{"$f":"'Org structure'!E75","v":"8,10 - Tynira Water Scheme Old"},null,null,null,null,null,0,0]
[{"$f":"'Org structure'!E76","v":"8,11 - Kotana & Ehlobo Water Scheme"},null,null,null,null,null,0,0]
[{"$f":"'Org structure'!E77","v":"8,12 - Ngqamakwe Water Scheme"},null,null,null,null,1187981,1188534,1188534,1099032,1164974,1234872]
[{"$f":"'Org structure'!E78","v":"8,13 - Haga Haga Water Scheme"},null,null,null,null,73799754,74376296.291999996,74376296.291999996,68753455,72900005,77244127]
[{"$f":"'Org structure'!E79","v":"8,14 - Kei Mouth Water Scheme"},null,null,null,null,260031,260152,260152,240561,254995,270295]
[{"$f":"'Org structure'!E80","v":"8,15 - Morgan Bay Water Scheme"},null,null,null,null,4719865,4722063,4722063,4366470,4628458,4906166]
[{"$f":"'Org structure'!E81","v":"8,16 - Chintsa Water Scheme"},null,null,null,null,769891,770249,770249,712247,754982,800281]
[{"$f":"'Org structure'!E82","v":"8,17 - Kei Bridge/komga Water Scheme"},null,null,null,null,38733141,38751180,38751180,35833036,37983018,40261999]
[{"$f":"'Org structure'!E83","v":"8,18 - Kei Road & Amabele Water Scheme"},null,null,null,null,4600326,8075691.3060800005,8075691.3060800005,14292427,15560572,16776611]
[{"$f":"'Org structure'!E84","v":"8,19 - Stutterheim Water Scheme"},null,null,null,null,83188414,83227157,83227157,76959765,81577351,86471992]
[{"$f":"'Org structure'!E85","v":"8,20 - Cathcart Water Scheme"},null,null,null,null,3953375,7089827.6460800003,7089827.6460800003,7194487,7997819,8719519]
[{"$f":"'Org structure'!E86","v":"8,21 - Seymour Water Scheme"},null,null,null,null,7784938,9253370.9179200009,9253370.9179200009,8686695,9336621,-9980045]
[{"$f":"'Org structure'!E87","v":"8,22 - Fort Beaufort Water Scheme"},null,null,null,null,35456064,35784090.18304,35784090.18304,33004395,35005655,37130364]
[{"$f":"'Org structure'!E88","v":"8,23 - Alice Water Scheme"},null,null,null,null,25374962,29202391.267680001,29202391.267680001,27337471,29351282,31461367]
[{"$f":"'Org structure'!E89","v":"8,24 - Hogsback Water Scheme"},null,null,null,null,560170,560431,560431,518228,549321,582280]
[{"$f":"'Org structure'!E90","v":"8,25 - Adelaide Water Scheme"},null,null,null,null,41128390,42302512.649439998,42302512.649439998,38931076,41403111,43990079]
[{"$f":"'Org structure'!E91","v":"8,26 - Bedford Water Scheme"},null,null,null,null,3364944,5695908.6104000006,5695908.6104000006,5883702,6500733,7086487]
[{"$f":"'Org structure'!E92","v":"8,27 - Laing Water Scheme"},null,null,null,null,null,0,0]
[{"$f":"'Org structure'!E93","v":"8,28 - Dabi Water Scheme Old"},null,null,null,null,null,0,0]
[{"$f":"'Org structure'!E94","v":"8,29 - Glenmore Water Scheme"},null,null,null,null,null,0,0]
[{"$f":"'Org structure'!E95","v":"8,30 - Peddie Regional Water Scheme"},null,null,null,null,37586777,39072208.944640003,39072208.944640003,53669193,57056346,60582882]
[{"$f":"'Org structure'!E96","v":"8,31 - Mncwasa Water Treatment Works"},null,null,null,null,null,0,0]
[{"$f":"'Org structure'!E97","v":"8,32 - Sandile Water Scheme"},null,null,null,null,null,0,0]
[{"$f":"'Org structure'!E98","v":"8,33 - Debe Neck Water Scheme"},null,null,null,null,null,0,0]
[{"$f":"'Org structure'!E99","v":"8,34 - Gagatyume (incl Middeldrift) Water Schem"},null,null,null,null,null,0,0]
[{"$f":"'Org structure'!E100","v":"8,35 - Masincedane Water Scheme"},null,null,null,null,null,0,0]
[{"$f":"'Org structure'!E101","v":"8,36 - Upper Myameni Water Scheme"},null,null,null,null,18200686,18209162,18209162,16837928,17848204,18919096]
[{"$f":"'Org structure'!E102","v":"8,37 - Rooikrantz Water Scheme"}]
[{"$f":"'Org structure'!E103","v":"8,38 - Ekuphumleni Phase 2 Water Scheme"}]
[{"$f":"'Org structure'!E104","v":"8,39 - Ehlobo Water Supply Scheme Old"}]
[{"$f":"'Org structure'!E105","v":"8,40 - Nqadu Water Supply Scheme"}]
[{"$f":"'Org structure'!E106","v":"8,41 - Mbhashe North Regional Water Supply Sche"}]
[{"$f":"'Org structure'!E107","v":"8,42 - Communal Package Plants"}]
[{"$f":"'Org structure'!E108","v":"8,43 - Centane Water"}]
[{"$f":"'Org structure'!E109","v":"8,44 - Borehole Schemes"}]
[{"$f":"'Org structure'!E110","v":"8,45 - Toleni Water Scheme Ex Dws"}]
[{"$f":"'Org structure'!E111","v":"8,46 - Borehole Schemes Ex Dws"}]
[{"$f":"'Org structure'!E112","v":"8,47 - Ibeka Water Supply"}]
[{"$f":"'Org structure'!E113","v":"8,48 - Xhora Water Supply"}]
[{"$f":"'Org structure'!A10","v":"Vote 9 - Sanitation Services"},null,{"$f":"SUM(C118:C139)","v":0},{"$f":"SUM(D118:D139)","v":220772315.10147837},267873663.30999997,157738861,157812324,157812324,140540930,148973389,157911795]
[{"$f":"'Org structure'!E115","v":"9,1 - Dutywa Sewerage"},null,null,220772315.10147837,267873663.30999997,14488904,14495653,14495653,13404062,14208306,15060805]
[{"$f":"'Org structure'!E116","v":"9,2 - Butterworth Sewerage"},null,null,null,null,5288773,5291236,5291236,4892781,5186348,5497529]
[{"$f":"'Org structure'!E117","v":"9,3 - Kei Mouth Sewerage"},null,null,null,null,11182286,11187493,11187493,4957629,5255087,5570392]
[{"$f":"'Org structure'!E118","v":"9,4 - Chintsa East Sewerage"},null,null,null,null,null,0,0]
[{"$f":"'Org structure'!E119","v":"9,5 - Komga Sewerage"},null,null,null,null,29202907,29216507,29216507,27016369,28637352,30355594]
[{"$f":"'Org structure'!E120","v":"9,6 - Keiskammahoek Sewerage"},null,null,null,null,18833713,18842485,18842485,17423559,18468973,19577112]
[{"$f":"'Org structure'!E121","v":"9,7 - Kei Road Sewerage"},null,null,null,null,null,0,0]
[{"$f":"'Org structure'!E122","v":"9,8 - Cathcart Sewerage"},null,null,null,null,4274244,4276235,4276235,3954215,4191468,4442956]
[{"$f":"'Org structure'!E123","v":"9,9 - Stutterheim Sewerage"},null,null,null,null,29840351,29854248,29854248,27606085,29262451,31018198]
[{"$f":"'Org structure'!E124","v":"9,10 - Seymour Sewerage"},null,null,null,null,3604384,3606062,3606062,3334509,3534580,3746655]
[{"$f":"'Org structure'!E125","v":"9,11 - Alice Sewerage"},null,null,null,null,10096232,10100934,10100934,9340287,9900704,10494746]
[{"$f":"'Org structure'!E126","v":"9,12 - Middledrift Sewerage"},null,null,null,null,null,0,0]
[{"$f":"'Org structure'!E127","v":"9,13 - Fort Beaufort Sewerage"},null,null,null,null,3291292,3292825,3292825,3044860,3227551,3421204]
[{"$f":"'Org structure'!E128","v":"9,14 - Adelaide Sewerage"},null,null,null,null,11465013,11470353,11470353,10606581,11242976,11917555]
[{"$f":"'Org structure'!E129","v":"9,15 - Bedford Sewerage"},null,null,null,null,7539297,7542808,7542808,6974800,7393288,7836885]
[{"$f":"'Org structure'!E130","v":"9,16 - Peddie Sewerage"},null,null,null,null,8631465,8635485,8635485,7985193,8464305,8972164]
[{"$f":"'Org structure'!E131","v":"9,17 - Tanker Services"}]
[{"$f":"'Org structure'!E132","v":"9,18 - Ngqamakwe Sanitation"}]
[{"$f":"'Org structure'!E133","v":"9,19 - Rural Sanitation Schemes"}]
[{"$f":"'Org structure'!E134","v":"9,20 - Centane Sanitation"}]
[{"$f":"'Org structure'!E135","v":"9,21 - Amabele Sanitation"}]
[{"$f":"'Org structure'!E136","v":"9,22 - Morgan Bay Sewerage"}]
[{"$f":"'Org structure'!A11","v":"Vote 10 - Land Human Settlement & Economic Development"},null,{"$f":"SUM(C141:C144)","v":0},0,0,22164601,59142892,59142892,24305369,22844164,24376623]
[{"$f":"'Org structure'!E138","v":"10,1 - Land Administration & Housing"},null,null,null,null,19718601,45888083,45888083,21220369,22844164,24376623]
[{"$f":"'Org structure'!E139","v":"10,2 - Economic Development"},null,null,null,null,2446000,13254809,13254809]
[{"$f":"'Org structure'!E140","v":"10,3 - Director Land Admin Housing & Eco Dev"}]
[{"$f":"'Org structure'!E141","v":"10,4 - EPWP"},null,null,null,null,null,null,null,3085000,0,0]
[{"$f":"'Org structure'!A12","v":"Vote 11 - Municipal Management"},null,{"$f":"SUM(C146:C157)","v":329026934.00999999},{"$f":"SUM(D146:D157)","v":443824147.09276003},443050913.95000005,15774886,15774886,15774886,16976301,18275336,19501305]
[{"$f":"'Org structure'!E143","v":"11,1 - Municipal Manager"},null,329026934.00999999,{"$f":"368299645.09276+75524502","v":443824147.09276003},{"$f":"329026934.01+117848731-3824751.05999994","v":443050913.95000005},15774886,15774886,15774886,16976301,18275336,19501305]
[{"$f":"'Org structure'!E144","v":"11,2 - Legal Services"}]
[{"$f":"'Org structure'!E145","v":"11,3 - Projects Investment & Stakeholder Mngt"}]
[{"$f":"'Org structure'!E146","v":"11,4 - Internal Audit"}]
[{"$f":"'Org structure'!E147","v":"11,5 - Policy Development And Research Unit"}]
[{"$f":"'Org structure'!E148","v":"11,6 - Amahlathi Satellite Office"}]
[{"$f":"'Org structure'!E149","v":"11,7 - Great Kei Satellite Office"}]
[{"$f":"'Org structure'!E150","v":"11,8 - Mbhashe Satellite Office"}]
[{"$f":"'Org structure'!E151","v":"11,9 - Mnquma Satellite Office"}]
[{"$f":"'Org structure'!E152","v":"11,10 - Ngqushwa Satelite Office"}]
[{"$f":"'Org structure'!E153","v":"11,11 - Nkonkobe Satellite Office"}]
[{"$f":"'Org structure'!E154","v":"11,12 - Nxuba Satellite Office"}]
[{"$f":"'Org structure'!A13","v":"Vote 12 - [NAME OF VOTE 12]"},null,{"$f":"SUM(C159:C160)","v":0},0,0,0,0,0,0,0,0]
[{"$f":"'Org structure'!E156","v":"12,1 - Municipal Manager"}]
[{"$f":"'Org structure'!E157","v":"12,2 - Legal Services"}]
[{"$f":"'Org structure'!A14","v":"Vote 13 - [NAME OF VOTE 13]"},null,{"$f":"SUM(C162:C162)","v":0},0,0,0,0,0,0,0,0]
[{"$f":"'Org structure'!E169","v":"13.1 - [Name of sub-vote]"}]
[{"$f":"'Org structure'!A15","v":"Vote 14 - [NAME OF VOTE 14]"},null,{"$f":"SUM(C164:C164)","v":0},0,0,0,0,0,0,0,0]
[{"$f":"'Org structure'!E180","v":"14.1 - [Name of sub-vote]"}]
[{"$f":"'Org structure'!A16","v":"Vote 15 - [NAME OF VOTE 15]"},null,{"$f":"SUM(C166:C166)","v":0},0,0,0,0,0,0,0,0]
[{"$f":"'Org structure'!E191","v":"15.1 - [Name of sub-vote]"}]
["Total Revenue by Vote",2,{"$f":"C5+C12+C21+C30+C41+C49+C63+C68+C117+C140+C145+C158+C161+C163+C165","v":1514682637.28},1710368691.4100006,1979810297.3699999,2095724450,2255738879,2255738879,2165787782,2356736001,2448262799,{"$f":"SUM(#REF!)","v":{"$error":"#REF!"}},{"$f":"SUM(#REF!)","v":{"$error":"#REF!"}},{"$f":"SUM(#REF!)","v":{"$error":"#REF!"}},{"$f":"SUM(#REF!)","v":{"$error":"#REF!"}},{"$f":"SUM(#REF!)","v":{"$error":"#REF!"}},{"$f":"SUM(#REF!)","v":{"$error":"#REF!"}},{"$f":"SUM(#REF!)","v":{"$error":"#REF!"}},{"$f":"SUM(#REF!)","v":{"$error":"#REF!"}},{"$f":"SUM(#REF!)","v":{"$error":"#REF!"}},{"$f":"SUM(#REF!)","v":{"$error":"#REF!"}},{"$f":"SUM(#REF!)","v":{"$error":"#REF!"}},{"$f":"SUM(#REF!)","v":{"$error":"#REF!"}}]
[]
["Expenditure by Vote",1]
[{"$f":"A5","v":"Vote 1 - Legislative & Executive Support Services"},null,{"$f":"SUM(C171:C176)","v":56562791.010000013},0,0,0,0,0,0,0,0]
["1,1 - Council General",null,14837208.98]
["1,2 - Mayoral Committee",null,6275642.9499999993]
["1,3 - Executive Support Services"]
["1,4 - Legislative Support Services",null,35449939.080000013]
["1,5 - Director: Leg&executive Support Services"]
["1,6 - Council Support"]
["Vote 2 - Strategic Management",null,{"$f":"SUM(C178:C185)","v":54233284.609999999},50043679.916309968,54233284.609999999,87081290,83549547,83549547,91467317.757235974,94050544.481900007,98254624.428369373]
["2,1 - Risk Services",null,null,null,null,1141290,802979,802979,1064558.4165316122,1088602.866459375,1113710.0146208594]
["2,2 - Municipal Support Unit",null,6809142.419999999,6283125.6897211233,6809142.419999999,6299517,5752108,5752108,8139309.7375853527,8340940.4305593744,8553278.3240108583]
["2,3 - Strategic Planning",null,21542627.040000003,19878425.950019259,21542627.040000003,9844245,10870704,10870704,9121035.5827428158,9042526.8762937505,8976436.7160135936]
["2,4 - Information Management Unit",null,25881515.149999999,23882128.276569586,25881515.149999999,52387688,49785701,49785701,52701358.84201774,55308685.313540623,58786278.888332263]
["2,5 - Communications & Customer Care",null,null,null,null,9846293,8244101,8244101,10993279.556750968,10585319.004859373,10891656.01616836]
["2,6 - Planning Monitoring & Evaluation",null,null,null,null,3382002,4233056,4233056,5444695.1703037415,5575318.7239562506,5712443.4645551573]
["2,7 - Speaker Support Services_(old)",null,null,null,null,null,0,0]
["2,8 - Travel Desk & Igr",null,null,null,null,4180255,3860898,3860898,4003080.4513037414,4109151.26623125,4220821.0046682814]
["Vote 3 - Corporate Services",null,{"$f":"SUM(C187:C194)","v":145096180.17999998},186080505.34014547,201658971.18999997,237817785.5,272698262,272698262,209376252.6197724,224518946.86869094,232242159.86198863]
["3,1 - Administration",null,122444274.70999998,112985266.06375071,122444274.70999998,83028151,116685555,116685555,96008719.038027853,107199084.59554373,110921394.51232223]
["3,2 - Human Resources",null,22651905.470000003,20902010.914274789,22651905.470000003,96361713.5,86127890,86127890,51675395.330339104,54447744.787684679,57230686.819364205]
["3,3 - Council General",null,null,13691011.753870608,14837208.98,14974883,14285903,14285903,15143204.058846025,15363901.859999999,15591497.346874999]
["3,4 - Mayoral Committee",null,null,5790839.8747609481,6275642.9499999993,8976871,8805577,8805577,7872938.088546209,7880378.5300000003,7888316.0300000003]
["3,5 - Executive Support Services",null,null,null,null,13525830,14151366,14151366,15889994.200028189,16370602.387856249,16872437.483560465]
["3,6 - Legislative Support Services",null,null,32711376.7334884,35449939.080000013,7933299,9649307,9649307,8697610.570271628,8930170.3114874996,9175484.9127121866]
["3,7 - Director: Leg&executive Support Services",null,null,null,null,5664032,5279202,5279202,5943200.3569493033,5952561.4462874997,5946593.8082571877]
["3,8 - Council Support",null,null,null,null,7353006,17713462,17713462,8145190.976764095,8374502.9498312511,8615748.948897345]
["Vote 4 - Budget & Treasury",null,{"$f":"SUM(C196:C205)","v":117722113.78999999},103713210.93002565,112395972.78999999,141922811,143498786,143498786,143384962.61809558,152274159.19706878,158844252.89928454]
["4,1 - Chief Financial Officer",null,15527392.09,9413188.7449748218,10201251.09,33174224,33753549,33753549,21811318.120602772,26213800.385087498,28483853.565964688]
["4,2 - Accounting And Reporting",null,13370328.879999999,12337450.398922373,13370328.879999999,11483088,15130212,15130212,11835192.229428742,11921228.842934376,12169784.933070235]
["4,3 - Asset Management",null,7183462.6099999994,6628529.0690163234,7183462.6099999994,8698134,8764831,8764831,9410367.9369953685,9706412.868703125,10022329.994764455]
["4,4 - Supply Chain Management",null,12290853.000000002,11341365.691817319,12290853.000000002,15025657,14997338,14997338,16406097.013252417,16892896.948643751,17377580.335562967]
["4,5 - Budgeting",null,3916294.0600000005,3613754.3172269622,3916294.0600000005,3989142,4179095,4179095,5998751.4338037409,6161375.1344187502,6333037.6095604692]
["4,6 - Credit Control",null,null,null,null,20161261,17660067,17660067,21827447.598404396,22875643.694503125,23648702.267936017]
[{"$f":"A37","v":"4,7 - Billing"},null,null,null,null,33885382,30947880,30947880,38339109.471067049,40128420.227771878,41819041.975888044]
["4,8 - Revenue Data Management",null,59869493.699999988,55244483.180756696,59869493.699999988,6733947,7846491,7846491,7249734.4794545146,7514242.4825093755,7752622.0540877338]
["4,9 - Receipting & Reconciliaton",null,null,null,null,3482195,3501593,3501593,4624337.1677103527,4785747.3593124989,4958458.1730453121]
["4.10 - Expenditure",null,5564289.4500000002,5134439.5273111677,5564289.4500000002,5289781,6717730,6717730,5882607.1673762091,6074391.2531843744,6278841.9894046094]
["Vote 5 - Engineering Department",null,{"$f":"SUM(C207:C213)","v":465851158.83000004},310698534.53590918,336709891.83000016,117655185,336707010,336707010,161645849.82906914,136703859.10594457,145095107.22920361]
["5,1 - Engineering Services",null,{"$f":"448637026.99","v":448637026.99000001},294814220.87073106,319495759.99000013,73777928,296727776,296727776,115587508.33481207,86941401.823587507,92524697.882489681]
["5,2 - Building And Services Planning",null,9264681.7800000031,8548970.8554237075,9264681.7800000031,6637551,5356654,5356654,8288688.0557699334,8527012.9209968746,8779777.0489280466]
["5,3 - Solid Waste Site",null,1700617.4500000002,1569242.1349710925,1700617.4500000002,8252418,6403033,6403033,6952774.7149671894,7564548.5140445661,8239046.6988342404]
["5,4 - Managment Of Building & Services Plannin",null,null,0,null,955697,955697,955697]
["5,5 - Transport Unit",null,768675.2,709293.85791456583,768675.2,4412133,4483059,4483059,3608261.411578306,4197707.0744375,4414570.4174859375]
["5,6 - Water Service Authority",null,5480157.4100000011,5056806.81686881,5480157.4100000011,4146458,3861589,3861589,6044794.144441627,6253152.7728781253,6476454.1814657031]
["5,7 - Project Management Unit",null,null,null,null,19473000,18919202,18919202,21163823.1675,23220036,24660561]
["Vote 6 - Health & Protection Department",null,{"$f":"SUM(C215:C227)","v":76603504.840000004},70685766.208849609,76603504.840000004,117904319.50479999,108807708,108807708,128299542.55337001,139246740.47136566,144141658.87502632]
["6,1 - Community Services",null,7310658.2600000007,6745898.6593172094,7310658.2600000007,14061033,12104548,12104548,16914068.067609433,17161400.857846875,17492870.921011798]
["6,2 - Disaster Management",null,7974434.2700000005,7358396.9510847032,7974434.2700000005,8023577,6878545,6878545,9423081.3470882811,10311258.564774999,10768722.971378751]
["6,3 - Community Safety Services",null,2229241.77,2057029.4127709535,2229241.77,1696938.0048,1882198,1882198,3104368.5922120037,3194159.8601343753,3289567.1944033592]
["6,4 - Municipal Health (adm)",null,2698560.3400000003,2490092.4010217097,2698560.3400000003,2444910,3437167,3437167,2412238.5671378868,2499991.0260593751,2590155.8857733593]
["6,5 - Fire Services",null,34790813.760000005,32103169.858761627,34790813.760000005,60785985,59884521,59884521,64071200.691333257,71118973.62701562,73684412.65044257]
["6,6 - Mhs In Mbhashe 1516",null,21599796.440000005,19931178.925893418,21599796.440000005,5436919,4250996,4250996,5009498.6659726864,5456731.9820062499,5635452.4214314055]
["6,7 - Mhs In Mnquma 1516",null,null,null,null,8514142,6931018,6931018,9100232.1850607879,9688855.1279218737,10065460.42293242]
["6,8 - Mhs In Great Kei 1516",null,null,null,null,1911159.5,1298518,1298518,1694047.9001845806,1950172.1413624999,2019930.6161465624]
["6,9 - Mhs In Amahlathi",null,null,null,null,6038651.5,5193305,5193305,7708578.0675250459,8151449.1960937502,8418463.6759648435]
["6,10 - Mhs Devolution",null,null,null,null,null,0,0]
["6,11 - Mhs In Nkonkobe",null,null,null,null,5061072.5,4179360,4179360,5417351.0423640488,5976779.5692218756,6319569.0113899224]
["6,12 - Mhs In Nxuba",null,null,null,null,1591134,1062060,1062060,1211953.7809475139,1309469.9592781249,1352522.3340725782]
["6,13 - Mhs In Ngqushwa 1516",null,null,null,null,2338798,1705472,1705472,2232923.6459345082,2427498.5596500002,2504530.7700787503]
["Vote 7 - Water & Sanitation Management",null,{"$f":"SUM(C229:C232)","v":23390719.549999937},0,0,56778114,51196551,51196551,62755596.526854128,66590473.146178126,69674649.043365389]
["7,1 - Management Of O&m Water & Sanitation",null,{"$f":"17446754.24+5943965.30999994","v":23390719.549999937},null,null,27406120,24114299,24114299,29642571.463300653,31747702.017506253,33588499.02302359]
["7,2 - Mechanical & Electrical",null,null,null,null,1231470,1231470,1231470,853220,938542,1032396]
["7,3 - Water Conservation & Demand Mngt",null,null,null,null,11819755,10834636,10834636,13520532.159296907,14105638.579521876,14565758.283838045]
["7,4 - Water Care Unit",null,null,null,null,16320769,15016146,15016146,18739272.904256571,19798590.549150001,20487995.73650375]
["Vote 8 - Water Services",null,{"$f":"SUM(C234:C281)","v":428024358.31999993},337588706.76939547,365851281.24000001,481904885,518311315,518311315,{"$f":"SUM(I234:I281)","v":571704183.16525316},619140197.84559369,660524869.39866507]
[{"$f":"A69","v":"8,1 - Dutywa Water Scheme"},null,428024358.31999993,337588706.76939547,365851281.24000001,26124474,33480129,33480129,34095946.090937383,36506433.780709371,38773363.460883364]
["8,2 - Willowvale Water Scheme",null,null,null,null,6535041,6637321,6637321,7586010.5111983977,8226707.0797718763,8647432.563179763]
["8,3 - Elliotdale Water Scheme",null,null,null,null,6721340,6549562,6549562,7721915.6606795099,8247130.9553968757,8669967.0696814973]
["8,4 - Qwaninga Water Scheme",null,null,null,null,6349375,6161116,6161116,6589311.9216366448,7098344.9129468752,7578780.7511455463]
["8,5 - Mendu Water Scheme",null,null,null,null,1383479,1560534,1560534,1546472.6150559343,1699569.574,1807537.8119125001]
["8,6 - Dwesa Water Scheme",null,null,null,null,4099239,4381543,4381543,4601507.8182183085,4949152.8429781245,5223974.5194588285]
["8,7 - Cwebe Water Scheme",null,null,null,null,1361717,1534638,1534638,1658920.284420741,1801820.6974375001,1910702.8994359376]
["8,8 - Qolora Water Scheme",null,null,null,null,4988332,5308946,5308946,5505644.2743899096,6074528.2887218744,6579647.9824399222]
["8,9 - Butterworth Water Scheme",null,null,null,null,44231580,55690599,55690599,46372455.41999647,51066196.292368755,55437796.840972677]
["8,10 - Tynira Water Scheme Old",null,null,null,null,null,0,0,448842,500000,800000]
["8,11 - Kotana & Ehlobo Water Scheme",null,null,null,null,9887101,8177489,8177489,10510928.855944946,11812786.147559375,12537942.55937336]
["8,12 - Ngqamakwe Water Scheme",null,null,null,null,7934182,6166318,6166318,11484098.559825402,12481240.674778126,13284600.945802387]
["8,13 - Haga Haga Water Scheme",null,null,null,null,9926635,10955378,10955378,12458575.247222584,13321927.302984376,14054829.415246483]
["8,14 - Kei Mouth Water Scheme",null,null,null,null,9570332,11252101,11252101,11840127.906518944,12539250.618378125,13248669.398275077]
["8,15 - Morgan Bay Water Scheme",null,null,null,null,6155797,6773070,6773070,5659363.2713302923,6108972.7890281249,6477104.8631600775]
["8,16 - Chintsa Water Scheme",null,null,null,null,10569857,16035394,16035394,11814248.558269309,12602159.067524999,13151862.280917812]
["8,17 - Kei Bridge/komga Water Scheme",null,null,null,null,11237675,12278196,12278196,13483312.079361623,14550473.078190625,15385561.863134351]
["8,18 - Kei Road & Amabele Water Scheme",null,null,null,null,22962445,21962557,21962557,22248535.624944992,24439644.304859374,25842459.266105264]
["8,19 - Stutterheim Water Scheme",null,null,null,null,23581589,26074705,26074705,26230857.571204569,28136188.827471875,30142721.496532422]
["8,20 - Cathcart Water Scheme",null,null,null,null,4582799,4717471,4717471,5261092.2117420966,5573763.4892343748,5893761.6087878346]
["8,21 - Seymour Water Scheme",null,null,null,null,11500714,9962593,9962593,10928600.662298357,11624915.986215625,12141207.839473914]
["8,22 - Fort Beaufort Water Scheme",null,null,null,null,19368103,20923370,20923370,22010591.55318867,23422047.229971875,24749553.958067991]
["8,23 - Alice Water Scheme",null,null,null,null,7331245,6607050,6607050,15785841.150938664,17546445.985315625,18757123.956275675]
["8,24 - Hogsback Water Scheme",null,null,null,null,7249302,6865845,6865845,8432257.3446744774,8914406.6695718747,9324085.7676861715]
["8,25 - Adelaide Water Scheme",null,null,null,null,18597052,22890355,22890355,25287324.635221809,27110816.695215624,28775873.667551227]
["8,26 - Bedford Water Scheme",null,null,null,null,12875530,16081239,16081239,17698184.009999998,19043390.234000001,20296509.710575201]
["8,27 - Laing Water Scheme",null,null,null,null,1618691,1723503,1723503,2708722.4256991744,2926421.9821531251,3134005.9055504533]
["8,28 - Dabi Water Scheme Old",null,null,null,null,null,0,0]
["8,29 - Glenmore Water Scheme",null,null,null,null,7351635,7064602,7064602,10046718.383650705,10795790.466068748,11441487.438396968]
["8,30 - Peddie Regional Water Scheme",null,null,null,null,39833941,47503644,47503644,46933922.999039434,50322896.871771872,53671813.128908671]
["8,31 - Mncwasa Water Treatment Works",null,null,null,null,3676784,4437909,4437909,5433611.8189492077,6380154.0539093753,6712194.1816068739]
["8,32 - Sandile Water Scheme",null,null,null,null,17970503,18157928,18157928,23802849.161385171,26150762.725771874,28233119.591666173]
[{"$f":"A101","v":"8,33 - Debe Neck Water Scheme"},null,null,null,null,7185361,6950760,6950760,15340095.027338531,16559397.261643751,17845906.571203843]
["8,34 - Gagatyume (incl Middeldrift) Water Schem",null,null,null,null,34783552,38383519,38383519,33534505.054353092,36737657.49587813,39723740.330417581]
["8,35 - Masincedane Water Scheme",null,null,null,null,7855519,8089825,8089825,18819884.293965667,20388035.996896874,22075579.241585959]
["8,36 - Upper Myameni Water Scheme",null,null,null,null,2576655,2734367,2734367,3700274.618730105,3875794.2623624997,4085282.5172755625]
["8,37 - Rooikrantz Water Scheme",null,null,null,null,1049,1049,1049]
["8,38 - Ekuphumleni Phase 2 Water Scheme",null,null,null,null,null,0,0,500000,550000,600000]
["8,39 - Ehlobo Water Supply Scheme Old",null,null,null,null,null,0,0]
["8,40 - Nqadu Water Supply Scheme",null,null,null,null,1317418,1380733,1380733,950914.33405417274,1016483.23531875,1068896.7717782813]
["8,41 - Mbhashe North Regional Water Supply Sche",null,null,null,null,27682725,19851601,19851601,29906993.802867018,32010676.389378123,33506371.94778914]
["8,42 - Communal Package Plants",null,null,null,null,170875,225939,225939,4209.4313691608941,4403,4605.5]
["8,43 - Centane Water",null,null,null,null,2443465,1444092,1444092,2125532.5,2216006,2334580]
["8,44 - Borehole Schemes",null,null,null,null,18663588,17597009,17597009,19642793,21506199.063999999,23516044.404899202]
["8,45 - Toleni Water Scheme Ex Dws",null,null,null,null,5567014,251591,251591,6406846.9903831501,6935802.2270781249,7385403.6690050783]
["8,46 - Borehole Schemes Ex Dws",null,null,null,null,7960038,5290030,5290030,4273989.6642483128,5037435.28873125,5346000.7025057813]
["8,47 - Ibeka Water Supply",null,null,null,null,null,0,0]
["8,48 - Xhora Water Supply",null,null,null,null,121137,8195695,8195695,311353.82,327968,346765]
["Vote 9 - Sanitation Services",null,{"$f":"SUM(C283:C304)","v":87845378.8699999},394958817.96914905,428024358.31999993,162287121,184040744,184040744,187964717.09905294,204245154.20727187,213389622.710949]
["9,1 - Dutywa Sewerage",null,87845378.8699999,394958817.96914905,428024358.31999993,19131617,23282923,23282923,23791566.62874645,25269860.316715624,26764249.305539764]
["9,2 - Butterworth Sewerage",null,null,null,null,29752042,30800305,30800305,35646276.372626334,38586154.14667812,40741885.212882578]
["9,3 - Kei Mouth Sewerage",null,null,null,null,3119229,3454821,3454821,3323427.212453221,3654907.2049968755,3868104.9747467968]
["9,4 - Chintsa East Sewerage",null,null,null,null,3971293,4440632,4440632,4101502.0277708322,4485205.8436750006,4717681.577779375]
["9,5 - Komga Sewerage",null,null,null,null,7367429,9248023,9248023,8273823.4307793966,9104316.6640875004,9590720.304377187]
["9,6 - Keiskammahoek Sewerage",null,null,null,null,4519648,3702466,3702466,3838813.8708180273,4193953.3401156254,4392940.6291185161]
["9,7 - Kei Road Sewerage",null,null,null,null,840118,1097756,1097756,1129158.7089561429,1233298.0298656248,1298606.4803310155]
["9,8 - Cathcart Sewerage",null,null,null,null,5251882,5655255,5655255,5902739.2583094258,6324490.2213593749,6632346.7342683598]
["9,9 - Stutterheim Sewerage",null,null,null,null,11393490,15818104,15818104,13155402.963926611,14211581.917275,14965040.439972501]
["9,10 - Seymour Sewerage",null,null,null,null,2348276,2220763,2220763,2051564.374782559,2240134.6436156249,2365314.5449560154]
["9,11 - Alice Sewerage",null,null,null,null,4578183,2941354,2941354,2503266.531782106,2700186.1395406248,2864194.4375916407]
["9,12 - Middledrift Sewerage",null,null,null,null,2910436,2887849,2887849,3384601.2378200232,3600455.1781500001,3760498.5511037502]
["9,13 - Fort Beaufort Sewerage",null,null,null,null,15259098,21368636,21368636,18801872.614941955,20728293.4884625,21956410.785486564]
["9,14 - Adelaide Sewerage",null,null,null,null,23099710,21241356,21241356,26079994.479097426,27777429.847350001,28765133.43355719]
["9,15 - Bedford Sewerage",null,null,null,null,13085414,17123617,17123617,18016309.965736788,19150435.855478127,20292074.329927579]
[{"$f":"A133","v":"9,16 - Peddie Sewerage"},null,null,null,null,11233781,13143082,13143082,14015768.712744886,16655264.613009375,15857934.902522109]
["9,17 - Tanker Services",null,null,null,null,537369,717707,717707,581805.43943251309,638658.75018437509,659103.77443898446]
["9,18 - Ngqamakwe Sanitation",null,null,null,null,36180,36180,36180]
["9,19 - Rural Sanitation Schemes",null,null,null,null,null,0,0]
["9,20 - Centane Sanitation",null,null,null,null,1655622,2182802,2182802,1651383.1778424652,1777922.5823500003,1888185.2135337498]
["9,21 - Amabele Sanitation",null,null,null,null,1402234,1760350,1760350,1417069.090485777,1557019.4243625,1624507.0788153126]
["9,22 - Morgan Bay Sewerage",null,null,null,null,794070,916763,916763,298371,355586,384690]
["Vote 10 - Land Human Settlement & Economic Development",null,{"$f":"SUM(C306:C309)","v":0},45910721.402924471,49754319.119999997,57905240,89712967,89712967,59382827.146870062,53716590.157684371,55125659.383532733]
["10,1 - Land Administration & Housing",null,null,2936540.8984070248,3182385.0399999996,1525576,27824615,27824615,2083886.1402745801,2165422.8654375002,2239407.1655109376]
["10,2 - Economic Development",null,null,34014854.494675756,36862542.640000001,21771042,26910994,26910994,21875908.360725988,23924954.573131248,24989916.172615781]
["10,3 - Director Land Admin Housing & Eco Dev",null,null,8959326.0098416861,9709391.4399999976,34608622,33027232,33027232,32338032.64586949,27626212.719115622,27896336.045406014]
["10,4 - EPWP",null,null,null,null,null,1950126,1950126,3085000,0,0]
["Vote 11 - Municipal Management",null,{"$f":"SUM(C311:C322)","v":0},53095912.637291163,51297262.379999876,42467615,44517311,44517311,43285068.744251303,50687101.283893757,52295769.173662975]
["11,1 - Municipal Manager",null,null,{"$f":"40608235.3366086+906515.13","v":41514750.466608606},{"$f":"43535786.76+1200625-728497.309999943-5261377.06000018","v":38746537.389999874},13904692,16771269,16771269,9511729.6312031783,14347287.986637501,14859809.248365939]
["11,2 - Legal Services",null,null,3223858.8215185171,3493756.9199999995,4317561,3086496,3086496,4084660.3519345806,5751389.6694687502,5922077.8330960935]
["11,3 - Projects Investment & Stakeholder Mngt",null,null,0,null,861720,1740036,1740036,2372733.9587628865,2431616.4295999999,2493252.0496525001]
["11,4 - Internal Audit",null,null,8357303.3491640417,9056968.0700000003,9385980,9275695,9275695,11731255.697752412,12058104.620259374,12372682.305968985]
["11,5 - Policy Development And Research Unit",null,null,null,null,3280777,3202791,3202791,3663361.7601658548,3752180.7353843749,3845790.0159096094]
["11,6 - Amahlathi Satellite Office",null,null,null,null,1937788,1815249,1815249,2096815.7426845804,2162773.98055,2232937.9910012502]
["11,7 - Great Kei Satellite Office",null,null,null,null,1497381,1438315,1438315,1620324.736578306,1671579.6776874999,1726326.7795046875]
["11,8 - Mbhashe Satellite Office",null,null,null,null,1529257,1528278,1528278,1704805.766578306,1754518.1635624999,1807392.7840890624]
["11,9 - Mnquma Satellite Office",null,null,null,null,1520853,1577194,1577194,1894015.6736943105,1963563.28970625,2038064.7633864062]
["11,10 - Ngqushwa Satelite Office",null,null,null,null,1434795,1363299,1363299,1499654.01274027,1536219.6286875,1574698.8019046874]
["11,11 - Nkonkobe Satellite Office",null,null,null,null,1040667,1017697,1017697,1095842.0205783059,1167570.3607874999,1245743.8427446876]
["11,12 - Nxuba Satellite Office",null,null,null,null,1756144,1700992,1700992,2009869.391578306,2090296.7415624999,2176992.7580390628]
["Vote 12 - [NAME OF VOTE 12]",null,{"$f":"SUM(C324:C325)","v":0},0,0,0,0,0,0,0,0]
["12,1 - Municipal Manager"]
["12,2 - Legal Services"]
[{"$f":"A161","v":"Vote 13 - [NAME OF VOTE 13]"},null,{"$f":"SUM(C327:C327)","v":0},0,0,0,0,0,0,0,0]
["13.1 - [Name of sub-vote]"]
["Vote 14 - [NAME OF VOTE 14]",null,{"$f":"SUM(C329:C329)","v":0},0,0,0,0,0,0,0,0]
["14.1 - [Name of sub-vote]"]
["Vote 15 - [NAME OF VOTE 15]",null,{"$f":"SUM(C331:C331)","v":0},0,0,0,0,0,0,0,0]
["15.1 - [Name of sub-vote]"]
["Total Expenditure by Vote",2,{"$f":"C170+C177+C186+C195+C206+C214+C228+C233+C282+C310+C323+C326+C328+C330+C305","v":1455329490},1552775855.71,1676528846.3199997,1503724366.0047998,1833040201,1833040201,1659266318.0598247,1741173766.7655916,1829588373.0040474,{"$f":"SUM(L170:L232)","v":0},0,0,0,0,0,0,0,0,0,0,0]
[]
[{"$f":"result","v":"Surplus/(Deficit) for the year"},2,{"$f":"C167-C332","v":59353147.279999971},157592835.70000052,303281451.05000019,592000083.99520016,422698678,422698678,506521463.94017529,615562234.23440838,618674425.99595261,{"$error":"#REF!"},{"$error":"#REF!"},{"$error":"#REF!"},{"$error":"#REF!"},{"$error":"#REF!"},{"$error":"#REF!"},{"$error":"#REF!"},{"$error":"#REF!"},{"$error":"#REF!"},{"$error":"#REF!"},{"$error":"#REF!"},{"$error":"#REF!"}]
[{"$f":"head27a","v":"References"}]
["1. Insert 'Vote'; e.g. Department, if different to Functional structure"]
["2. Must reconcile to Financial Performance ('Revenue and Expenditure by Functional Classification' and 'Revenue and Expenditure')"]
["3. Assign share in 'associate' to relevant Vote"]
[]
["check revenue",null,{"$f":"C167-'A4-FinPerf RE'!C59","v":0},{"$f":"D167-'A4-FinPerf RE'!D59","v":0},{"$f":"E167-'A4-FinPerf RE'!E59","v":0},{"$f":"F167-'A4-FinPerf RE'!F59","v":-4.3478250503540039E-2},{"$f":"G167-'A4-FinPerf RE'!G59","v":85.956521987915039},{"$f":"H167-'A4-FinPerf RE'!H59","v":85.956521987915039},{"$f":"I167-'A4-FinPerf RE'!J59","v":0},{"$f":"J167-'A4-FinPerf RE'!K59","v":0},{"$f":"K167-'A4-FinPerf RE'!L59","v":0}]
["check expenditure",null,{"$f":"C332-'A4-FinPerf RE'!C35","v":0},{"$f":"D332-'A4-FinPerf RE'!D35","v":0},{"$f":"E332-'A4-FinPerf RE'!E35","v":0},{"$f":"F332-'A4-FinPerf RE'!F35","v":-1},{"$f":"G332-'A4-FinPerf RE'!G35","v":-0.23479986190795898},{"$f":"H332-'A4-FinPerf RE'!H35","v":-0.23479986190795898},{"$f":"I332-'A4-FinPerf RE'!J35","v":0},{"$f":"J332-'A4-FinPerf RE'!K35","v":0},{"$f":"K332-'A4-FinPerf RE'!L35","v":0}]

{"sheet":"A4-FinPerf RE","index":11,"n_rows":59,"n_cols":25,"rows_kept":59,"cut":false,"hidden":false,"merged":[[1,12,1,23],[1,9,1,11],[1,5,1,8]]}
[{"$f":"muni&\" - \"&Approve4","v":"DC12 Amathole - Table A4 Budgeted Financial Performance (revenue and expenditure)"}]
[{"$f":"desc","v":"Description"},{"$f":"head27","v":"Ref"},{"$f":"head1b","v":"2016/17"},{"$f":"head1A","v":"2017/18"},{"$f":"Head1","v":"2018/19"},{"$f":"Head2","v":"Current Year 2019/20"},null,null,null,{"$f":"Head3","v":"2020/21 Medium Term Revenue & Expenditure Framework"},null,null,{"$f":"Head4","v":"LTFS"}]
["R thousand",1,{"$f":"Head5","v":"Audited Outcome"},{"$f":"Head5","v":"Audited Outcome"},{"$f":"Head5","v":"Audited Outcome"},{"$f":"Head6","v":"Original Budget"},{"$f":"Head7","v":"Adjusted Budget"},{"$f":"Head8","v":"Full Year Forecast"},{"$f":"Head5b","v":"Pre-audit outcome"},{"$f":"Head9","v":"Budget Year 2020/21"},{"$f":"Head10","v":"Budget Year +1 2021/22"},{"$f":"Head11","v":"Budget Year +2 2022/23"},{"$f":"Head12","v":"Forecast 2023/24"},{"$f":"Head13","v":"Forecast 2024/25"},{"$f":"Head14","v":"Forecast 2025/26"},{"$f":"Head15","v":"Forecast 2026/27"},{"$f":"Head16","v":"Forecast 2027/28"},{"$f":"Head17","v":"Forecast 2028/29"},{"$f":"Head18","v":"Forecast 2029/30"},{"$f":"Head19","v":"Forecast 2030/31"},{"$f":"Head20","v":"Forecast 2031/32"},{"$f":"Head21","v":"Forecast 2032/33"},{"$f":"Head22","v":"Forecast 2033/34"},{"$f":"Head23","v":"Forecast 2034/35"}]
["Revenue By Source"]
["Property rates",2,{"$f":"'SA1'!C9","v":0},{"$f":"'SA1'!D9","v":0},{"$f":"'SA1'!E9","v":0},{"$f":"'SA1'!F9","v":0},{"$f":"'SA1'!G9","v":0},{"$f":"'SA1'!H9","v":0},{"$f":"'SA1'!I9","v":0},{"$f":"'SA1'!J9","v":0},{"$f":"'SA1'!K9","v":0},{"$f":"'SA1'!L9","v":0}]
["Service charges - electricity revenue",2,{"$f":"'SA1'!C15","v":0},{"$f":"'SA1'!D15","v":0},{"$f":"'SA1'!E15","v":0},{"$f":"'SA1'!F15","v":0},{"$f":"'SA1'!G15","v":0},{"$f":"'SA1'!H15","v":0},{"$f":"'SA1'!I15","v":0},{"$f":"'SA1'!J15","v":0},{"$f":"'SA1'!K15","v":0},{"$f":"'SA1'!L15","v":0}]
["Service charges - water revenue",2,{"$f":"'SA1'!C21","v":150890951.25999999},{"$f":"'SA1'!D21","v":171527916.5},{"$f":"'SA1'!E21","v":254598657.84999999},{"$f":"'SA1'!F21","v":377199682},{"$f":"'SA1'!G21","v":397646638},{"$f":"'SA1'!H21","v":397646638},{"$f":"'SA1'!I21","v":397646638},{"$f":"'SA1'!J21","v":383511942},{"$f":"'SA1'!K21","v":408022656},{"$f":"'SA1'!L21","v":413820012},null,null,null,null,null,null,null,null,null,null,null,null,{"$f":"C7+C8+C9","v":221794532}]
["Service charges - sanitation revenue",2,{"$f":"'SA1'!C27","v":66458689.780000001},{"$f":"'SA1'!D27","v":85873314.049999997},{"$f":"'SA1'!E27","v":104081785.68000001},{"$f":"'SA1'!F27","v":157738861},{"$f":"'SA1'!G27","v":157812324},{"$f":"'SA1'!H27","v":157812324},{"$f":"'SA1'!I27","v":157812324},{"$f":"'SA1'!J27","v":140540930},{"$f":"'SA1'!K27","v":148973389},{"$f":"'SA1'!L27","v":157911795},null,null,null,null,null,null,null,null,null,null,null,null,221794532]
["Service charges - refuse revenue",2,{"$f":"'SA1'!C34","v":4444890.96},{"$f":"'SA1'!D34","v":4629359.74},{"$f":"'SA1'!E34","v":5584480.8700000001},{"$f":"'SA1'!F34","v":5965034},{"$f":"'SA1'!G34","v":5967812},{"$f":"'SA1'!H34","v":5967812},{"$f":"'SA1'!I34","v":5967812},{"$f":"'SA1'!J34","v":7409367},{"$f":"'SA1'!K34","v":7853929},{"$f":"'SA1'!L34","v":8325165},null,null,null,null,null,null,null,null,null,null,null,null,{"$f":"Y7-Y8","v":0}]
[]
["Rental of facilities and equipment",null,335592.82,308025.87,267582.40000000002,2180377,640777,640777,640777,318452,350297,385327,null,null,null,null,null,null,null,null,null,null,null,null,1030785.27000001]
["Interest earned - external investments",null,15566237.99,6723310.6699999999,19321252.91,5073193,20155507,20155507,20155507,17911009,18717004,19559270]
["Interest earned - outstanding debtors",null,32914766,11555028.6,65599065.469999999,70927704,70927704,70927704,70927704,93056091,98639456,104557824]
["Dividends received",null,null,null,null,null,0,0,0]
["Fines, penalties and forfeits",null,null,null,null,null,0,0,0]
["Licences and permits",null,null,null,null,null,0,0,0]
["Agency services",null,null,null,null,null,0,0,0]
["Transfers and subsidies",null,741023363.93000007,765904512.03999996,788895275,859258783,1125274830,1125274830,1125274830,959432133,991670163,1057558355]
["Other revenue",2,{"$f":"'SA1'!C49","v":61564787.219999999},{"$f":"'SA1'!D49","v":2296094.94},{"$f":"'SA1'!E49","v":3575905.19},{"$f":"'SA1'!F49","v":74343451.043478265},{"$f":"'SA1'!G49","v":81828798.043478265},{"$f":"'SA1'!H49","v":81828798.043478265},{"$f":"'SA1'!I49","v":81828798.043478265},{"$f":"'SA1'!J49","v":72226392},{"$f":"'SA1'!K49","v":82017792},{"$f":"'SA1'!L49","v":82542505}]
["Gains",null,17577099,75524502,117848731]
["Total Revenue (excluding capital transfers and contributions)",null,{"$f":"SUM(C5:C9)+SUM(C11:C20)","v":1090776378.96},{"$f":"SUM(D5:D9)+SUM(D11:D20)","v":1124342064.4100001},1359772736.3699999,1552687085.0434783,1860254390.0434783,1860254390.0434783,1860254390.0434783,1674406316,1756244686,1844660253,{"$f":"SUM(M5:M20)","v":0},0,0,0,0,0,0,0,0,0,0,0]
[]
["Expenditure By Type"]
["Employee related costs",2,{"$f":"'SA1'!C67","v":629007596.67999995},{"$f":"'SA1'!D67","v":749884204.78999984},{"$f":"'SA1'!E67","v":728885187.66999984},{"$f":"'SA1'!F67","v":737349635.00479996},{"$f":"'SA1'!G67","v":772479444.00479996},{"$f":"'SA1'!H67","v":772479444.00479996},{"$f":"'SA1'!I67","v":772479444.00479996},{"$f":"'SA1'!J67","v":786870285.06811917},{"$f":"'SA1'!K67","v":821578040.91851282},{"$f":"'SA1'!L67","v":852073685.81440067}]
["Remuneration of councillors",null,14428345.630000001,15611612.029999999,16496793.350000001,16088743,17058425.229999997,17058425.229999997,17058425.229999997,14941985.685000001,14941985.685000001,14941985.685000001]
["Debt impairment",3,128945383,162267044.66,246777489,159782210,208910236.00000003,208910236.00000003,208910236.00000003,221309141,234587689,248662951]
["Depreciation & asset impairment",2,{"$f":"'SA1'!C83","v":111288592.51000001},{"$f":"'SA1'!D83","v":107269535.26000001},{"$f":"'SA1'!E83","v":129688666.67},{"$f":"'SA1'!F83","v":162566655},{"$f":"'SA1'!G83","v":162566655},{"$f":"'SA1'!H83","v":162566655},{"$f":"'SA1'!I83","v":162566655},{"$f":"'SA1'!J83","v":170317363},{"$f":"'SA1'!K83","v":187349108},{"$f":"'SA1'!L83","v":206084037}]
["Finance charges",null,24634956.279999997,27598655.549999997,26002680.57,26354647,13686089,13686089,13686089,28139522.899999999,30338874.584899995,32441437.161427893]
["Bulk purchases",2,{"$f":"'SA1'!C88","v":91620498},{"$f":"'SA1'!D88","v":92358696.040000007},{"$f":"'SA1'!E88","v":103846606.03},{"$f":"'SA1'!F88","v":97079429},{"$f":"'SA1'!G88","v":104000000},{"$f":"'SA1'!H88","v":104000000},{"$f":"'SA1'!I88","v":104000000},{"$f":"'SA1'!J88","v":120000000},{"$f":"'SA1'!K88","v":129936000},{"$f":"'SA1'!L88","v":140694700.80000001}]
["Other materials",8,null,null,null,0,235126525,235126525,235126525,44533441.780000001,12338832,14938395]
["Contracted services",null,{"$f":"'SA1'!C127","v":37101241.899999999},{"$f":"'SA1'!D127","v":41939300.199999996},{"$f":"'SA1'!E127","v":37052367.189999998},{"$f":"'SA1'!F127","v":69422304},{"$f":"'SA1'!G127","v":71118199},{"$f":"'SA1'!H127","v":71118199},{"$f":"'SA1'!I127","v":71118199},{"$f":"'SA1'!J127","v":64826394.434782609},{"$f":"'SA1'!K127","v":89945034.340869576},{"$f":"'SA1'!L127","v":96503104.609001741}]
["Transfers and subsidies",null,{"$f":"'SA1'!C93","v":169687378},{"$f":"'SA1'!D93","v":57873697},{"$f":"'SA1'!E93","v":7300000},{"$f":"'SA1'!F93","v":20357689},{"$f":"'SA1'!G93","v":19654217},{"$f":"'SA1'!H93","v":19654217},{"$f":"'SA1'!I93","v":19654217},{"$f":"'SA1'!J93","v":15000000},{"$f":"'SA1'!K93","v":10000000},{"$f":"'SA1'!L93","v":10000000}]
["Other expenditure","4, 5",{"$f":"'SA1'!C157","v":243289357},{"$f":"'SA1'!D157","v":297066595.05000001},{"$f":"'SA1'!E157","v":379298567.83999997},{"$f":"'SA1'!F157","v":214723055},{"$f":"'SA1'!G157","v":228440411},{"$f":"'SA1'!H157","v":228440411},{"$f":"'SA1'!I157","v":228440411},{"$f":"'SA1'!J157","v":193328184.19192269},{"$f":"'SA1'!K157","v":210158202.23630938},{"$f":"'SA1'!L157","v":213248075.93421713}]
["Losses",null,5326141,906515.13,1180488]
["Total Expenditure",null,{"$f":"SUM(C24:C34)","v":1455329490},{"$f":"SUM(D24:D34)","v":1552775855.7099998},1676528846.3199997,1503724367.0047998,1833040201.2347999,1833040201.2347999,1833040201.2347999,1659266318.0598242,1741173766.7655916,1829588373.0040474,{"$f":"SUM(M24:M34)","v":0},0,0,0,0,0,0,0,0,0,0,0]
[]
["Surplus/(Deficit)",null,{"$f":"C21-C35","v":-364553111.03999996},-428433791.29999971,-316756109.94999981,48962718.038678408,27214188.808678389,27214188.808678389,27214188.808678389,15139997.940175772,15070919.234408379,15071879.995952606,{"$f":"M21+M35","v":0},0,0,0,0,0,0,0,0,0,0,0]
["Transfers and subsidies - capital (monetary allocations) (National / Provincial and District)",null,423906258.31999999,586026627,620037561,543037365,395484403,395484403,395484403,491381466,600491315,603602546]
["Transfers and subsidies - capital (monetary allocations) (National / Provincial Departmental Agencies, Households, Non-profit Institutions, Private Enterprises, Public Corporatons, Higher Educational Institutions)",6,{"$f":"'SA1'!C76","v":0}]
["Transfers and subsidies - capital (in-kind - all) "]
["Surplus/(Deficit) after capital transfers & contributions",null,{"$f":"SUM(C37:C40)","v":59353147.280000031},157592835.70000029,303281451.05000019,592000083.03867841,422698591.80867839,422698591.80867839,422698591.80867839,506521463.94017577,615562234.23440838,618674425.99595261]
["Taxation",null,null,486926,1436626]
["Surplus/(Deficit) after taxation",null,{"$f":"C41-C42","v":59353147.280000031},157105909.70000029,301844825.05000019,592000083.03867841,422698591.80867839,422698591.80867839,422698591.80867839,506521463.94017577,615562234.23440838,618674425.99595261]
["Attributable to minorities"]
["Surplus/(Deficit) attributable to municipality",null,{"$f":"SUM(C43:C44)","v":59353147.280000031},157105909.70000029,301844825.05000019,592000083.03867841,422698591.80867839,422698591.80867839,422698591.80867839,506521463.94017577,615562234.23440838,618674425.99595261]
["Share of surplus/ (deficit) of associate",7]
[{"$f":"result","v":"Surplus/(Deficit) for the year"},null,{"$f":"SUM(C45:C46)","v":59353147.280000031},157105909.70000029,301844825.05000019,592000083.03867841,422698591.80867839,422698591.80867839,422698591.80867839,506521463.94017577,615562234.23440838,618674425.99595261,{"$f":"M25+M46","v":0},0,0,0,0,0,0,0,0,0,0,0]
[{"$f":"head27a","v":"References"}]
["1. Classifications are revenue sources and expenditure type"]
["2. Detail to be provided in Table SA1"]
["3. Previously described as 'bad or doubtful debts' - amounts shown should reflect the change in the provision for debt impairment"]
["4. Expenditure type components previously shown under repairs and maintenance should be allocated back to the originating expenditure group/item; e.g. employee costs"]
["5. Repairs & maintenance detailed in Table A9 and Table SA34c"]
["6. Contributions are funds provided by external organisations to assist with infrastructure development; e.g. developer contributions (detail to be provided in Table SA1)"]
["7. Equity method ( Includes Joint Ventures)"]
["8. All materials not part of 'bulk' e.g  road making materials, pipe, cable etc."]
["check balance",null,{"$f":"C45-'A3-FinPerf V'!C39","v":5.9604644775390625E-8},{"$f":"D45-'A3-FinPerf V'!D39","v":-486926.00000023842},{"$f":"E45-'A3-FinPerf V'!E39","v":-1436626},{"$f":"F45-'A3-FinPerf V'!F39","v":-0.95652174949645996},{"$f":"G45-'A3-FinPerf V'!G39","v":-86.191321611404419},{"$f":"H45-'A3-FinPerf V'!H39","v":-86.191321611404419},null,{"$f":"J45-'A3-FinPerf V'!I39","v":4.76837158203125E-7},{"$f":"K45-'A3-FinPerf V'!J39","v":0},{"$f":"L45-'A3-FinPerf V'!K39","v":0}]
[]
["Total revenue",null,{"$f":"C21+SUM(C38:C40)","v":1514682637.28},1710368691.4100001,1979810297.3699999,2095724450.0434783,2255738793.043478,2255738793.043478,2255738793.043478,2165787782,2356736001,2448262799]

{"sheet":"A5-Capex","index":12,"n_rows":85,"n_cols":12,"rows_kept":85,"cut":false,"hidden":false,"merged":[[1,9,1,11],[1,5,1,8],[82,0,82,11],[77,0,77,11],[76,0,76,11],[78,0,78,11]]}
[" "]
[{"$f":"Vdesc","v":"Vote Description"},{"$f":"head27","v":"Ref"},{"$f":"head1b","v":"2016/17"},{"$f":"head1A","v":"2017/18"},{"$f":"Head1","v":"2018/19"},{"$f":"Head2","v":"Current Year 2019/20"},null,null,null,{"$f":"Head3","v":"2020/21 Medium Term Revenue & Expenditure Framework"}]
["R thousand",1,{"$f":"Head5","v":"Audited Outcome"},{"$f":"Head5","v":"Audited Outcome"},{"$f":"Head5","v":"Audited Outcome"},{"$f":"Head6","v":"Original Budget"},{"$f":"Head7","v":"Adjusted Budget"},{"$f":"Head8","v":"Full Year Forecast"},{"$f":"Head5b","v":"Pre-audit outcome"},{"$f":"Head9","v":"Budget Year 2020/21"},{"$f":"Head10","v":"Budget Year +1 2021/22"},{"$f":"Head11","v":"Budget Year +2 2022/23"}]
["Capital expenditure - Vote"]
["Multi-year expenditure  to be appropriated",2]
[{"$f":"A5A!A6","v":"Vote 1 - Legislative & Executive Support Services"},null,{"$f":"A5A!C6","v":0},{"$f":"A5A!D6","v":0},{"$f":"A5A!E6","v":0},{"$f":"A5A!F6","v":0},{"$f":"A5A!G6","v":0},{"$f":"A5A!H6","v":0},{"$f":"A5A!I6","v":0},{"$f":"A5A!J6","v":0},{"$f":"A5A!K6","v":0},{"$f":"A5A!L6","v":0}]
[{"$f":"A5A!A13","v":"Vote 2 - Strategic Management"},null,{"$f":"A5A!C13","v":0},{"$f":"A5A!D13","v":0},{"$f":"A5A!E13","v":0},{"$f":"A5A!F13","v":0},{"$f":"A5A!G13","v":0},{"$f":"A5A!H13","v":0},{"$f":"A5A!I13","v":0},{"$f":"A5A!J13","v":0},{"$f":"A5A!K13","v":0},{"$f":"A5A!L13","v":0}]
[{"$f":"A5A!A22","v":"Vote 3 - Corporate Services"},null,{"$f":"A5A!C22","v":0},{"$f":"A5A!D22","v":0},{"$f":"A5A!E22","v":0},{"$f":"A5A!F22","v":0},{"$f":"A5A!G22","v":0},{"$f":"A5A!H22","v":0},{"$f":"A5A!I22","v":0},{"$f":"A5A!J22","v":0},{"$f":"A5A!K22","v":0},{"$f":"A5A!L22","v":0}]
[{"$f":"A5A!A31","v":"Vote 4 - Budget & Treasury"},null,{"$f":"A5A!C31","v":0},{"$f":"A5A!D31","v":0},{"$f":"A5A!E31","v":0},{"$f":"A5A!F31","v":0},{"$f":"A5A!G31","v":0},{"$f":"A5A!H31","v":0},{"$f":"A5A!I31","v":0},{"$f":"A5A!J31","v":0},{"$f":"A5A!K31","v":0},{"$f":"A5A!L31","v":0}]
[{"$f":"A5A!A42","v":"Vote 5 - Engineering Department"},null,{"$f":"A5A!C42","v":99254444},{"$f":"A5A!D42","v":372229470},{"$f":"A5A!E42","v":321541192.51999998},{"$f":"A5A!F42","v":610693000},{"$f":"A5A!G42","v":560267619},{"$f":"A5A!H42","v":560267619},{"$f":"A5A!I42","v":560267619},{"$f":"A5A!J42","v":551343857.62379622},{"$f":"A5A!K42","v":673833750},{"$f":"A5A!L42","v":676953950}]
[{"$f":"A5A!A50","v":"Vote 6 - Health & Protection Department"},null,{"$f":"A5A!C50","v":0},{"$f":"A5A!D50","v":0},{"$f":"A5A!E50","v":0},{"$f":"A5A!F50","v":0},{"$f":"A5A!G50","v":0},{"$f":"A5A!H50","v":0},{"$f":"A5A!I50","v":0},{"$f":"A5A!J50","v":0},{"$f":"A5A!K50","v":0},{"$f":"A5A!L50","v":0}]
[{"$f":"A5A!A64","v":"Vote 7 - Water & Sanitation Management"},null,{"$f":"A5A!C64","v":0},{"$f":"A5A!D64","v":0},{"$f":"A5A!E64","v":0},{"$f":"A5A!F64","v":0},{"$f":"A5A!G64","v":0},{"$f":"A5A!H64","v":0},{"$f":"A5A!I64","v":0},{"$f":"A5A!J64","v":0},{"$f":"A5A!K64","v":0},{"$f":"A5A!L64","v":0}]
[{"$f":"A5A!A69","v":"Vote 8 - Water Services"},null,{"$f":"A5A!C69","v":0},{"$f":"A5A!D69","v":0},{"$f":"A5A!E69","v":0},{"$f":"A5A!F69","v":0},{"$f":"A5A!G69","v":0},{"$f":"A5A!H69","v":0},{"$f":"A5A!I69","v":0},{"$f":"A5A!J69","v":0},{"$f":"A5A!K69","v":0},{"$f":"A5A!L69","v":0}]
[{"$f":"A5A!A80","v":"Vote 9 - Sanitation Services"},null,{"$f":"A5A!C80","v":0},{"$f":"A5A!D80","v":0},{"$f":"A5A!E80","v":0},{"$f":"A5A!F80","v":0},{"$f":"A5A!G80","v":0},{"$f":"A5A!H80","v":0},{"$f":"A5A!I80","v":0},{"$f":"A5A!J80","v":0},{"$f":"A5A!K80","v":0},{"$f":"A5A!L80","v":0}]
[{"$f":"A5A!A91","v":"Vote 10 - Land Human Settlement & Economic Development"},null,{"$f":"A5A!C91","v":0},{"$f":"A5A!D91","v":0},{"$f":"A5A!E91","v":0},{"$f":"A5A!F91","v":0},{"$f":"A5A!G91","v":0},{"$f":"A5A!H91","v":0},{"$f":"A5A!I91","v":0},{"$f":"A5A!J91","v":0},{"$f":"A5A!K91","v":0},{"$f":"A5A!L91","v":0}]
[{"$f":"A5A!A96","v":"Vote 11 - Municipal Management"},null,{"$f":"A5A!C96","v":0},{"$f":"A5A!D96","v":0},{"$f":"A5A!E96","v":0},{"$f":"A5A!F96","v":0},{"$f":"A5A!G96","v":0},{"$f":"A5A!H96","v":0},{"$f":"A5A!I96","v":0},{"$f":"A5A!J96","v":0},{"$f":"A5A!K96","v":0},{"$f":"A5A!L96","v":0}]
[{"$f":"A5A!A107","v":"Vote 12 - [NAME OF VOTE 12]"},null,{"$f":"A5A!C107","v":0},{"$f":"A5A!D107","v":0},{"$f":"A5A!E107","v":0},{"$f":"A5A!F107","v":0},{"$f":"A5A!G107","v":0},{"$f":"A5A!H107","v":0},{"$f":"A5A!I107","v":0},{"$f":"A5A!J107","v":0},{"$f":"A5A!K107","v":0},{"$f":"A5A!L107","v":0}]
[{"$f":"A5A!A118","v":"Vote 13 - [NAME OF VOTE 13]"},null,{"$f":"A5A!C118","v":0},{"$f":"A5A!D118","v":0},{"$f":"A5A!E118","v":0},{"$f":"A5A!F118","v":0},{"$f":"A5A!G118","v":0},{"$f":"A5A!H118","v":0},{"$f":"A5A!I118","v":0},{"$f":"A5A!J118","v":0},{"$f":"A5A!K118","v":0},{"$f":"A5A!L118","v":0}]
[{"$f":"A5A!A120","v":"Vote 14 - [NAME OF VOTE 14]"},null,{"$f":"A5A!C120","v":0},{"$f":"A5A!D120","v":0},{"$f":"A5A!E120","v":0},{"$f":"A5A!F120","v":0},{"$f":"A5A!G120","v":0},{"$f":"A5A!H120","v":0},{"$f":"A5A!I120","v":0},{"$f":"A5A!J120","v":0},{"$f":"A5A!K120","v":0},{"$f":"A5A!L120","v":0}]
[{"$f":"A5A!A122","v":"Vote 15 - [NAME OF VOTE 15]"},null,{"$f":"A5A!C122","v":0},{"$f":"A5A!D122","v":0},{"$f":"A5A!E122","v":0},{"$f":"A5A!F122","v":0},{"$f":"A5A!G122","v":0},{"$f":"A5A!H122","v":0},{"$f":"A5A!I122","v":0},{"$f":"A5A!J122","v":0},{"$f":"A5A!K122","v":0},{"$f":"A5A!L122","v":0}]
["Capital multi-year expenditure sub-total",7,{"$f":"SUM(C6:C20)","v":99254444},{"$f":"SUM(D6:D20)","v":372229470},321541192.51999998,610693000,560267619,{"$f":"SUM(H6:H20)","v":560267619},560267619,551343857.62379622,673833750,676953950]
[]
["Single-year expenditure to be appropriated",2]
[{"$f":"A6","v":"Vote 1 - Legislative & Executive Support Services"},null,{"$f":"A5A!C128","v":0},{"$f":"A5A!D128","v":0},{"$f":"A5A!E128","v":0},{"$f":"A5A!F128","v":0},{"$f":"A5A!G128","v":0},{"$f":"A5A!H128","v":0},{"$f":"A5A!I128","v":0},{"$f":"A5A!J128","v":0},{"$f":"A5A!K128","v":0},{"$f":"A5A!L128","v":0}]
[{"$f":"A7","v":"Vote 2 - Strategic Management"},null,{"$f":"A5A!C135","v":0},{"$f":"A5A!D135","v":585960},{"$f":"A5A!E135","v":200229.41},{"$f":"A5A!F135","v":47462720},{"$f":"A5A!G135","v":27011707.25257501},{"$f":"A5A!H135","v":27011707.25257501},{"$f":"A5A!I135","v":27011707.25257501},{"$f":"A5A!J135","v":15000000},{"$f":"A5A!K135","v":15000000},{"$f":"A5A!L135","v":15000000}]
["Vote 3 - Corporate Services",null,{"$f":"A5A!C144","v":0},{"$f":"A5A!D144","v":0},{"$f":"A5A!E144","v":0},{"$f":"A5A!F144","v":0},{"$f":"A5A!G144","v":0},{"$f":"A5A!H144","v":0},{"$f":"A5A!I144","v":0},{"$f":"A5A!J144","v":0},{"$f":"A5A!K144","v":0},{"$f":"A5A!L144","v":0}]
["Vote 4 - Budget & Treasury",null,{"$f":"A5A!C153","v":0},{"$f":"A5A!D153","v":0},{"$f":"A5A!E153","v":0},{"$f":"A5A!F153","v":0},{"$f":"A5A!G153","v":103369},{"$f":"A5A!H153","v":103369},{"$f":"A5A!I153","v":103369},{"$f":"A5A!J153","v":50000},{"$f":"A5A!K153","v":50000},{"$f":"A5A!L153","v":50000}]
["Vote 5 - Engineering Department",null,{"$f":"A5A!C164","v":0},{"$f":"A5A!D164","v":0},{"$f":"A5A!E164","v":13617978},{"$f":"A5A!F164","v":0},{"$f":"A5A!G164","v":100000},{"$f":"A5A!H164","v":100000},{"$f":"A5A!I164","v":100000},{"$f":"A5A!J164","v":90000},{"$f":"A5A!K164","v":20920},{"$f":"A5A!L164","v":21880}]
["Vote 6 - Health & Protection Department",null,{"$f":"A5A!C172","v":0},{"$f":"A5A!D172","v":0},{"$f":"A5A!E172","v":0},{"$f":"A5A!F172","v":1500000},{"$f":"A5A!G172","v":0},{"$f":"A5A!H172","v":0},{"$f":"A5A!I172","v":0},{"$f":"A5A!J172","v":0},{"$f":"A5A!K172","v":0},{"$f":"A5A!L172","v":0}]
["Vote 7 - Water & Sanitation Management",null,{"$f":"A5A!C186","v":0},{"$f":"A5A!D186","v":213924},{"$f":"A5A!E186","v":115286.42},{"$f":"A5A!F186","v":0},{"$f":"A5A!G186","v":0},{"$f":"A5A!H186","v":0},{"$f":"A5A!I186","v":0},{"$f":"A5A!J186","v":0},{"$f":"A5A!K186","v":0},{"$f":"A5A!L186","v":0}]
["Vote 8 - Water Services",null,{"$f":"A5A!C191","v":0},{"$f":"A5A!D191","v":0},{"$f":"A5A!E191","v":0},{"$f":"A5A!F191","v":0},{"$f":"A5A!G191","v":0},{"$f":"A5A!H191","v":0},{"$f":"A5A!I191","v":0},{"$f":"A5A!J191","v":0},{"$f":"A5A!K191","v":0},{"$f":"A5A!L191","v":0}]
["Vote 9 - Sanitation Services",null,{"$f":"A5A!C202","v":0},{"$f":"A5A!D202","v":0},{"$f":"A5A!E202","v":0},{"$f":"A5A!F202","v":0},{"$f":"A5A!G202","v":0},{"$f":"A5A!H202","v":0},{"$f":"A5A!I202","v":0},{"$f":"A5A!J202","v":0},{"$f":"A5A!K202","v":0},{"$f":"A5A!L202","v":0}]
["Vote 10 - Land Human Settlement & Economic Development",null,{"$f":"A5A!C213","v":0},{"$f":"A5A!D213","v":0},{"$f":"A5A!E213","v":145271},{"$f":"A5A!F213","v":0},{"$f":"A5A!G213","v":0},{"$f":"A5A!H213","v":0},{"$f":"A5A!I213","v":0},{"$f":"A5A!J213","v":0},{"$f":"A5A!K213","v":0},{"$f":"A5A!L213","v":0}]
["Vote 11 - Municipal Management",null,{"$f":"A5A!C218","v":0},{"$f":"A5A!D218","v":0},{"$f":"A5A!E218","v":0},{"$f":"A5A!F218","v":0},{"$f":"A5A!G218","v":0},{"$f":"A5A!H218","v":0},{"$f":"A5A!I218","v":0},{"$f":"A5A!J218","v":0},{"$f":"A5A!K218","v":0},{"$f":"A5A!L218","v":0}]
["Vote 12 - [NAME OF VOTE 12]",null,{"$f":"A5A!C229","v":0},{"$f":"A5A!D229","v":0},{"$f":"A5A!E229","v":0},{"$f":"A5A!F229","v":0},{"$f":"A5A!G229","v":0},{"$f":"A5A!H229","v":0},{"$f":"A5A!I229","v":0},{"$f":"A5A!J229","v":0},{"$f":"A5A!K229","v":0},{"$f":"A5A!L229","v":0}]
["Vote 13 - [NAME OF VOTE 13]",null,{"$f":"A5A!C240","v":0},{"$f":"A5A!D240","v":0},{"$f":"A5A!E240","v":0},{"$f":"A5A!F240","v":0},{"$f":"A5A!G240","v":0},{"$f":"A5A!H240","v":0},{"$f":"A5A!I240","v":0},{"$f":"A5A!J240","v":0},{"$f":"A5A!K240","v":0},{"$f":"A5A!L240","v":0}]
["Vote 14 - [NAME OF VOTE 14]",null,{"$f":"A5A!C242","v":0},{"$f":"A5A!D242","v":0},{"$f":"A5A!E242","v":0},{"$f":"A5A!F242","v":0},{"$f":"A5A!G242","v":0},{"$f":"A5A!H242","v":0},{"$f":"A5A!I242","v":0},{"$f":"A5A!J242","v":0},{"$f":"A5A!K242","v":0},{"$f":"A5A!L242","v":0}]
[{"$f":"A20","v":"Vote 15 - [NAME OF VOTE 15]"},null,{"$f":"A5A!C244","v":0},{"$f":"A5A!D244","v":0},{"$f":"A5A!E244","v":0},{"$f":"A5A!F244","v":0},{"$f":"A5A!G244","v":0},{"$f":"A5A!H244","v":0},{"$f":"A5A!I244","v":0},{"$f":"A5A!J244","v":0},{"$f":"A5A!K244","v":0},{"$f":"A5A!L244","v":0}]
["Capital single-year expenditure sub-total",null,{"$f":"SUM(C24:C38)","v":0},{"$f":"SUM(D24:D38)","v":799884},14078764.83,48962720,27215076.25257501,27215076.25257501,27215076.25257501,15140000,15070920,15071880]
["Total Capital Expenditure - Vote",null,{"$f":"C39+C21","v":99254444},{"$f":"D39+D21","v":373029354},335619957.34999996,659655720,587482695.25257504,587482695.25257504,587482695.25257504,566483857.62379622,688904670,692025830]
[]
["Capital Expenditure - Functional"]
["Governance and administration",null,{"$f":"SUM(C44:C46)","v":99254444},{"$f":"SUM(D44:D46)","v":585960},200229.41,47462720,27115076.252574999,27115076.252574999,27115076.252574999,50000,50000,50000]
["Executive and council",null,99254444,585960,200229.41,46462720,26611707.252574999,26611707.252574999,26611707.252574999]
["Finance and administration",null,null,null,null,1000000,503369,503369,503369,50000,50000,50000]
["Internal audit"]
["Community and public safety",null,{"$f":"SUM(C48:C52)","v":0},{"$f":"SUM(D48:D52)","v":2152338},657336.88,1500000,0,0,0,0,0,0]
["Community and social services",null,null,2152338,657336.88,null,null,null,null,null,0,0]
["Sport and recreation"]
["Public safety",null,null,null,null,null,null,null,null,null,0,0]
["Housing"]
["Health",null,null,null,null,1500000,0,0,null,null,0,0]
["Economic and environmental services",null,{"$f":"SUM(C54:C56)","v":0},{"$f":"SUM(D54:D56)","v":0},145271,0,100000,100000,100000,15090000,15020920,15021880]
["Planning and development",null,null,null,145271,0,100000,100000,100000,15090000,15020920,15021880]
["Road transport"]
["Environmental protection"]
["Trading services",null,{"$f":"SUM(C58:C61)","v":0},{"$f":"SUM(D58:D61)","v":370291056},334617120,610693000,560267619,560267619,560267619,551343857.62379622,673833750,676953950]
["Energy sources"]
["Water management",null,null,{"$f":"213924+360591659","v":360805583},{"$f":"115286.42+13617978+320157085","v":333890349.42000002},610693000,468808474,468808474,468808474,551343857.62379622,673833750,676953950]
["Waste water management",null,null,9485473,726770.58,null,91459145,91459145,91459145]
["Waste management"]
["Other"]
["Total Capital Expenditure - Functional",3,{"$f":"C43+C47+C53+C57+C62","v":99254444},{"$f":"D43+D47+D53+D57+D62","v":373029354},335619957.29000002,659655720,587482695.25257504,587482695.25257504,587482695.25257504,566483857.62379622,688904670,{"$f":"L43+L47+L53+L57+L62","v":692025830}]
[]
["Funded by:"]
["National Government",null,99254444,{"$f":"9485473+360591659+2152338","v":372229470},{"$f":"657336.88+13617978+320157085+726770.58","v":335159170.45999998},610693000,560470988,560470988,560470988,551483857.62379622,673904670,677025830]
["Provincial Government"]
["District Municipality"]
[{"$f":"'A4-FinPerf RE'!A39","v":"Transfers and subsidies - capital (monetary allocations) (National / Provincial Departmental Agencies, Households, Non-profit Institutions, Private Enterprises, Public Corporatons, Higher Educational Institutions)"}]
["Transfers recognised - capital",4,{"$f":"SUM(C66:C69)","v":99254444},372229470,335159170.45999998,610693000,560470988,560470988,560470988,551483857.62379622,673904670,677025830]
[]
["Borrowing",6]
["Internally generated funds",null,null,{"$f":"213924+585960","v":799884},{"$f":"145271+200229.41+115286.42","v":460786.83},48962720,27011707,27011707,27011707,15000000,15000000,15000000]
["Total Capital Funding",7,{"$f":"+C70+C72+C73","v":99254444},{"$f":"+D70+D72+D73","v":373029354},335619957.28999996,659655720,587482695,587482695,587482695,566483857.62379622,688904670,692025830]
[{"$f":"head27a","v":"References"}]
["1. Municipalities may choose to appropriate for capital expenditure for three years or for one year (if one year appropriation projected expenditure required for yr2 and yr3)."]
["2. Include capital component of PPP unitary payment. Note that capital transfers are only appropriated to municipalities for the budget year"]
["3. Capital expenditure by functional classification must reconcile to the appropriations by vote"]
["4. Must reconcile to supporting table SA20 and to Budgeted Financial Performance (revenue and expenditure)"]
[]
["6. Include finance leases and PPP capital funding component of unitary payment - total borrowing/repayments to reconcile to changes in Table SA17"]
["7. Total Capital Funding must balance with Total Capital Expenditure"]
["8. Include any capitalised interest (MFMA section 46) as part of relevant capital budget"]
[]
["check balance",null,{"$f":"IF((C63-C74)=0,0,\"Unbalanced\")","v":0},{"$f":"IF((D63-D74)=0,0,\"Unbalanced\")","v":0},"Unbalanced",0,"Unbalanced","Unbalanced","Unbalanced",0,0,0]

{"sheet":"A5A","index":13,"n_rows":247,"n_cols":24,"rows_kept":247,"cut":false,"hidden":false,"merged":[[1,5,1,8],[1,9,1,11],[1,13,1,16],[1,17,1,20],[1,21,1,23]]}
[{"$f":"muni&\" - \"&Approve5","v":"DC12 Amathole - Table A5 Budgeted Capital Expenditure by vote, functional classification and funding"}]
[{"$f":"Vdesc","v":"Vote Description"},{"$f":"head27","v":"Ref"},{"$f":"head1b","v":"2016/17"},{"$f":"head1A","v":"2017/18"},{"$f":"Head1","v":"2018/19"},{"$f":"Head2","v":"Current Year 2019/20"},null,null,null,{"$f":"Head3","v":"2020/21 Medium Term Revenue & Expenditure Framework"},null,null,null,{"$f":"\"Multi-year appropriation for \"&Head9&\n\"\n in the \"&Head2A&\" Annual Budget\"","v":"Multi-year appropriation for Budget Year 2020/21\n in the 2019/20 Annual Budget"},null,null,null,{"$f":"\"Multi-year appropriation for \"&RIGHT(Head10,7)&\n\"\n in the \"&Head2A&\" Annual Budget\"","v":"Multi-year appropriation for 2021/22\n in the 2019/20 Annual Budget"},null,null,null,"New multi-year appropriations \n(funds for new and existing projects) "]
["R thousand",1,{"$f":"Head5","v":"Audited Outcome"},{"$f":"Head5","v":"Audited Outcome"},{"$f":"Head5","v":"Audited Outcome"},{"$f":"Head6","v":"Original Budget"},{"$f":"Head7","v":"Adjusted Budget"},{"$f":"Head8","v":"Full Year Forecast"},{"$f":"Head5b","v":"Pre-audit outcome"},{"$f":"Head9","v":"Budget Year 2020/21"},{"$f":"Head10","v":"Budget Year +1 2021/22"},{"$f":"Head11","v":"Budget Year +2 2022/23"},null,{"$f":"\"Appropriation for \"&RIGHT(Head9,7)","v":"Appropriation for 2020/21"},{"$f":"\"Adjustments in \"&Head2A","v":"Adjustments in 2019/20"},{"$f":"\"Downward adjustments for \"&RIGHT(Head9,7)","v":"Downward adjustments for 2020/21"},"Appropriation carried forward",{"$f":"\"Appropriation for \"&RIGHT(Head9,7)","v":"Appropriation for 2020/21"},{"$f":"\"Adjustments in \"&Head2A","v":"Adjustments in 2019/20"},{"$f":"\"Downward adjustments for \"&RIGHT(Head9,7)","v":"Downward adjustments for 2020/21"},"Appropriation carried forward",{"$f":"Head9","v":"Budget Year 2020/21"},{"$f":"Head10","v":"Budget Year +1 2021/22"},{"$f":"Head11","v":"Budget Year +2 2022/23"}]
["Capital expenditure - Municipal Vote"]
["Multi-year expenditure appropriation",2]
[{"$f":"'Org structure'!A2","v":"Vote 1 - Legislative & Executive Support Services"},null,{"$f":"SUM(C7:C12)","v":0},0,0,0,0,0,0,0,0,0,null,{"$f":"SUM(N7:N12)","v":0},0,0,0,0,0,0,0,0,0,0]
[{"$f":"'Org structure'!E3","v":"1,1 - Council General"},null,null,null,null,null,null,null,null,{"$f":"Q7+V7","v":0},{"$f":"U7+W7","v":0},{"$f":"X7","v":0},null,null,null,null,{"$f":"SUM(N7:P7)","v":0},null,null,null,{"$f":"SUM(R7:T7)","v":0}]
[{"$f":"'Org structure'!E4","v":"1,2 - Mayoral Committee"},null,null,null,null,null,null,null,null,{"$f":"Q8+V8","v":0},{"$f":"U8+W8","v":0},{"$f":"X8","v":0},null,null,null,null,{"$f":"SUM(N8:P8)","v":0},null,null,null,{"$f":"SUM(R8:T8)","v":0}]
[{"$f":"'Org structure'!E5","v":"1,3 - Executive Support Services"},null,null,null,null,null,null,null,null,{"$f":"Q9+V9","v":0},{"$f":"U9+W9","v":0},0,null,null,null,null,0,null,null,null,0]
[{"$f":"'Org structure'!E6","v":"1,4 - Legislative Support Services"},null,null,null,null,null,null,null,null,0,0,0,null,null,null,null,0,null,null,null,0]
[{"$f":"'Org structure'!E7","v":"1,5 - Director: Leg&executive Support Services"},null,null,null,null,null,null,null,null,0,0,{"$f":"X11","v":0},null,null,null,null,0,null,null,null,0]
[{"$f":"'Org structure'!E8","v":"1,6 - Council Support"},null,null,null,null,null,null,null,null,0,0,0,null,null,null,null,0,null,null,null,0]
[{"$f":"'Org structure'!A3","v":"Vote 2 - Strategic Management"},null,{"$f":"SUM(C14:C21)","v":0},0,0,0,0,0,0,0,0,0,null,{"$f":"SUM(N14:N21)","v":0},0,0,0,0,0,0,0,0,0,0]
[{"$f":"'Org structure'!E10","v":"2,1 - Risk Services"},null,null,null,null,null,null,null,null,{"$f":"Q14+V14","v":0},{"$f":"U14+W14","v":0},{"$f":"X14","v":0},null,null,null,null,{"$f":"SUM(N14:P14)","v":0},null,null,null,0]
[{"$f":"'Org structure'!E11","v":"2,2 - Municipal Support Unit"},null,null,null,null,null,null,null,null,{"$f":"Q15+V15","v":0},{"$f":"U15+W15","v":0},0,null,null,null,null,0,null,null,null,0]
[{"$f":"'Org structure'!E12","v":"2,3 - Strategic Planning"},null,null,null,null,null,null,null,null,0,0,0,null,null,null,null,0,null,null,null,0]
[{"$f":"'Org structure'!E13","v":"2,4 - Information Management Unit"},null,null,null,null,null,null,null,null,0,{"$f":"U17+W17","v":0},0,null,null,null,null,0,null,null,null,0]
[{"$f":"'Org structure'!E14","v":"2,5 - Communications & Customer Care"},null,null,null,null,null,null,null,null,0,0,0,null,null,null,null,0,null,null,null,0]
[{"$f":"'Org structure'!E15","v":"2,6 - Planning Monitoring & Evaluation"},null,null,null,null,null,null,null,null,0,0,0,null,null,null,null,0,null,null,null,0]
[{"$f":"'Org structure'!E16","v":"2,7 - Speaker Support Services_(old)"},null,null,null,null,null,null,null,null,0,0,0,null,null,null,null,0,null,null,null,0]
[{"$f":"'Org structure'!E17","v":"2,8 - Travel Desk & Igr"},null,null,null,null,null,null,null,null,0,0,0,null,null,null,null,0,null,null,null,0]
[{"$f":"'Org structure'!A4","v":"Vote 3 - Corporate Services"},null,{"$f":"SUM(C23:C30)","v":0},0,0,0,0,0,0,0,0,0,null,{"$f":"SUM(N23:N30)","v":0},0,0,0,0,0,0,0,0,0,0]
[{"$f":"'Org structure'!E19","v":"3,1 - Administration"},null,null,null,null,null,null,null,null,{"$f":"Q23+V23","v":0},{"$f":"U23+W23","v":0},{"$f":"X23","v":0},null,null,null,null,{"$f":"SUM(N23:P23)","v":0},null,null,null,0]
[{"$f":"'Org structure'!E20","v":"3,2 - Human Resources"},null,null,null,null,null,null,null,null,0,0,0,null,null,null,null,0,null,null,null,0]
[{"$f":"'Org structure'!E21","v":"3,3 - Council General"},null,null,null,null,null,null,null,null,0,0,0,null,null,null,null,0,null,null,null,{"$f":"SUM(R25:T25)","v":0}]
[{"$f":"'Org structure'!E22","v":"3,4 - Mayoral Committee"},null,null,null,null,null,null,null,null,0,{"$f":"U26+W26","v":0},0,null,null,null,null,0,null,null,null,0]
[{"$f":"'Org structure'!E23","v":"3,5 - Executive Support Services"},null,null,null,null,null,null,null,null,{"$f":"Q27+V27","v":0},0,0,null,null,null,null,0,null,null,null,0]
[{"$f":"'Org structure'!E24","v":"3,6 - Legislative Support Services"},null,null,null,null,null,null,null,null,0,0,0,null,null,null,null,0,null,null,null,0]
[{"$f":"'Org structure'!E25","v":"3,7 - Director: Leg&executive Support Services"},null,null,null,null,null,null,null,null,0,0,0,null,null,null,null,0,null,null,null,0]
[{"$f":"'Org structure'!E26","v":"3,8 - Council Support"},null,null,null,null,null,null,null,null,0,0,0,null,null,null,null,0,null,null,null,0]
[{"$f":"'Org structure'!A5","v":"Vote 4 - Budget & Treasury"},null,{"$f":"SUM(C32:C41)","v":0},{"$f":"SUM(D32:D41)","v":0},0,0,0,0,{"$f":"SUM(I32:I41)","v":0},0,0,0,null,{"$f":"SUM(N32:N41)","v":0},0,0,0,0,0,0,0,0,0,0]
[{"$f":"'Org structure'!E28","v":"4,1 - Chief Financial Officer"},null,null,null,null,null,null,null,null,{"$f":"Q32+V32","v":0},{"$f":"U32+W32","v":0},{"$f":"X32","v":0},null,null,null,null,{"$f":"SUM(N32:P32)","v":0},null,null,null,0]
[{"$f":"'Org structure'!E29","v":"4,2 - Accounting And Reporting"},null,null,null,null,null,null,null,null,0,0,0,null,null,null,null,0,null,null,null,0]
[{"$f":"'Org structure'!E30","v":"4,3 - Asset Management"},null,null,null,null,null,null,null,null,0,0,0,null,null,null,null,0,null,null,null,0]
[{"$f":"'Org structure'!E31","v":"4,4 - Supply Chain Management"},null,null,null,null,null,null,null,null,0,0,0,null,null,null,null,0,null,null,null,0]
[{"$f":"'Org structure'!E32","v":"4,5 - Budgeting"},null,null,null,null,null,null,null,null,0,0,0,null,null,null,null,0,null,null,null,0]
[{"$f":"'Org structure'!E33","v":"4,6 - Credit Control"},null,null,null,null,null,null,null,null,0,0,0,null,null,null,null,0,null,null,null,0]
[{"$f":"'Org structure'!E34","v":"4,7 - Billing"},null,null,null,null,null,null,null,null,0,0,0,null,null,null,null,0,null,null,null,0]
[{"$f":"'Org structure'!E35","v":"4,8 - Revenue Data Management"},null,null,null,null,null,null,null,null,0,0,0,null,null,null,null,0,null,null,null,0]
[{"$f":"'Org structure'!E36","v":"4,9 - Receipting & Reconciliaton"},null,null,null,null,null,null,null,null,0,0,0,null,null,null,null,0,null,null,null,0]
[{"$f":"'Org structure'!E37","v":"4.10 - Expenditure"},null,null,null,null,null,null,null,null,0,0,0,null,null,null,null,0,null,null,null,0]
[{"$f":"'Org structure'!A6","v":"Vote 5 - Engineering Department"},null,{"$f":"SUM(C43:C49)","v":99254444},372229470,321541192.51999998,610693000,560267619,560267619,560267619,551343857.62379622,673833750,676953950,null,{"$f":"SUM(N43:N49)","v":0},0,0,0,0,0,0,0,551343857.62379622,673833750,676953950]
[{"$f":"'Org structure'!E39","v":"5,1 - Engineering Services"},null,99254444,372229470,{"$f":"320883855.52+657337","v":321541192.51999998},610693000,560267619,560267619,560267619,{"$f":"Q43+V43","v":551343857.62379622},{"$f":"U43+W43","v":673833750},{"$f":"X43","v":676953950},null,null,null,null,{"$f":"SUM(N43:P43)","v":0},null,null,null,0,551343857.62379622,673833750,676953950]
[{"$f":"'Org structure'!E40","v":"5,2 - Building And Services Planning"},null,null,null,null,null,null,null,null,0,0,0,null,null,null,null,0,null,null,null,0]
[{"$f":"'Org structure'!E41","v":"5,3 - Solid Waste Site"},null,null,null,null,null,null,null,null,0,0,0,null,null,null,null,0,null,null,null,0]
[{"$f":"'Org structure'!E42","v":"5,4 - Managment Of Building & Services Plannin"},null,null,null,null,null,null,null,null,0,0,0,null,null,null,null,0,null,null,null,0]
[{"$f":"'Org structure'!E43","v":"5,5 - Transport Unit"},null,null,null,null,null,null,null,null,0,0,0,null,null,null,null,0,null,null,null,0]
[{"$f":"'Org structure'!E44","v":"5,6 - Water Service Authority"},null,null,null,null,null,null,null,null,0,0,0,null,null,null,null,0,null,null,null,0]
[{"$f":"'Org structure'!E45","v":"5,7 - Project Management Unit"},null,null,null,null,null,null,null,null,0,0,0,null,null,null,null,0,null,null,null,0]
[{"$f":"'Org structure'!A7","v":"Vote 6 - Health & Protection Department"},null,{"$f":"SUM(C51:C63)","v":0},{"$f":"SUM(D51:D63)","v":0},0,0,0,0,{"$f":"SUM(I51:I63)","v":0},0,0,0,null,{"$f":"SUM(N51:N63)","v":0},0,0,0,0,0,0,0,0,0,0]
[{"$f":"'Org structure'!E47","v":"6,1 - Community Services"},null,null,null,null,null,null,null,null,{"$f":"Q51+V51","v":0},{"$f":"U51+W51","v":0},{"$f":"X51","v":0},null,null,null,null,{"$f":"SUM(N51:P51)","v":0},null,null,null,0]
[{"$f":"'Org structure'!E48","v":"6,2 - Disaster Management"},null,null,null,null,null,null,null,null,0,0,0,null,null,null,null,0,null,null,null,0]
[{"$f":"'Org structure'!E49","v":"6,3 - Community Safety Services"},null,null,null,null,null,null,null,null,0,0,0,null,null,null,null,0,null,null,null,0]
[{"$f":"'Org structure'!E50","v":"6,4 - Municipal Health (adm)"},null,null,null,null,null,null,null,null,0,0,0,null,null,null,null,0,null,null,null,0]
[{"$f":"'Org structure'!E51","v":"6,5 - Fire Services"},null,null,null,null,null,null,null,null,0,0,0,null,null,null,null,0,null,null,null,0]
[{"$f":"'Org structure'!E52","v":"6,6 - Mhs In Mbhashe 1516"},null,null,null,null,null,null,null,null,0,0,0,null,null,null,null,0,null,null,null,0]
[{"$f":"'Org structure'!E53","v":"6,7 - Mhs In Mnquma 1516"},null,null,null,null,null,null,null,null,0,0,0,null,null,null,null,0,null,null,null,0]
[{"$f":"'Org structure'!E54","v":"6,8 - Mhs In Great Kei 1516"},null,null,null,null,null,null,null,null,0,0,0,null,null,null,null,0,null,null,null,0]
[{"$f":"'Org structure'!E55","v":"6,9 - Mhs In Amahlathi"},null,null,null,null,null,null,null,null,0,0,0,null,null,null,null,0,null,null,null,0]
[{"$f":"'Org structure'!E56","v":"6,10 - Mhs Devolution"},null,null,null,null,null,null,null,null,{"$f":"Q60+V60","v":0},{"$f":"U60+W60","v":0},{"$f":"X60","v":0},null,null,null,null,0,null,null,null,0]
[{"$f":"'Org structure'!E57","v":"6,11 - Mhs In Nkonkobe"},null,null,null,null,null,null,null,null,0,0,0,null,null,null,null,0,null,null,null,0]
[{"$f":"'Org structure'!E58","v":"6,12 - Mhs In Nxuba"},null,null,null,null,null,null,null,null,0,0,0,null,null,null,null,0,null,null,null,0]
[{"$f":"'Org structure'!E59","v":"6,13 - Mhs In Ngqushwa 1516"},null,null,null,null,null,null,null,null,0,0,0,null,null,null,null,0,null,null,null,0]
[{"$f":"'Org structure'!A8","v":"Vote 7 - Water & Sanitation Management"},null,{"$f":"SUM(C65:C68)","v":0},0,0,0,0,0,0,0,0,0,null,{"$f":"SUM(N65:N68)","v":0},0,0,0,0,0,0,0,0,0,0]
[{"$f":"'Org structure'!E61","v":"7,1 - Management Of O&m Water & Sanitation"},null,null,null,null,null,null,null,null,{"$f":"Q65+V65","v":0},{"$f":"U65+W65","v":0},{"$f":"X65","v":0},null,null,null,null,{"$f":"SUM(N65:P65)","v":0},null,null,null,{"$f":"SUM(R65:T65)","v":0}]
[{"$f":"'Org structure'!E62","v":"7,2 - Mechanical & Electrical"},null,null,null,null,null,null,null,null,0,0,0,null,null,null,null,0,null,null,null,0]
[{"$f":"'Org structure'!E63","v":"7,3 - Water Conservation & Demand Mngt"},null,null,null,null,null,null,null,null,0,0,0,null,null,null,null,0,null,null,null,0]
[{"$f":"'Org structure'!E64","v":"7,4 - Water Care Unit"},null,null,null,null,null,null,null,null,0,0,0,null,null,null,null,0,null,null,null,0]
[{"$f":"'Org structure'!A9","v":"Vote 8 - Water Services"},null,{"$f":"SUM(C70:C79)","v":0},0,0,0,0,0,0,0,0,0,null,{"$f":"SUM(N70:N79)","v":0},0,0,0,0,0,0,0,0,0,0]
[{"$f":"'Org structure'!E66","v":"8,1 - Dutywa Water Scheme"},null,null,null,null,null,null,null,null,{"$f":"Q70+V70","v":0},{"$f":"U70+W70","v":0},{"$f":"X70","v":0},null,null,null,null,{"$f":"SUM(N70:P70)","v":0},null,null,null,0]
[{"$f":"'Org structure'!E67","v":"8,2 - Willowvale Water Scheme"},null,null,null,null,null,null,null,null,0,0,0,null,null,null,null,0,null,null,null,0]
[{"$f":"'Org structure'!E68","v":"8,3 - Elliotdale Water Scheme"},null,null,null,null,null,null,null,null,0,0,0,null,null,null,null,0,null,null,null,0]
[{"$f":"'Org structure'!E69","v":"8,4 - Qwaninga Water Scheme"},null,null,null,null,null,null,null,null,0,0,0,null,null,null,null,0,null,null,null,0]
[{"$f":"'Org structure'!E70","v":"8,5 - Mendu Water Scheme"},null,null,null,null,null,null,null,null,0,0,0,null,null,null,null,0,null,null,null,0]
[{"$f":"'Org structure'!E71","v":"8,6 - Dwesa Water Scheme"},null,null,null,null,null,null,null,null,0,0,0,null,null,null,null,0,null,null,null,0]
[{"$f":"'Org structure'!E72","v":"8,7 - Cwebe Water Scheme"},null,null,null,null,null,null,null,null,0,0,0,null,null,null,null,0,null,null,null,0]
[{"$f":"'Org structure'!E73","v":"8,8 - Qolora Water Scheme"},null,null,null,null,null,null,null,null,0,0,0,null,null,null,null,0,null,null,null,0]
[{"$f":"'Org structure'!E74","v":"8,9 - Butterworth Water Scheme"},null,null,null,null,null,null,null,null,0,0,0,null,null,null,null,0,null,null,null,0]
[{"$f":"'Org structure'!E113","v":"8,48 - Xhora Water Supply"},null,null,null,null,null,null,null,null,0,0,0,null,null,null,null,0,null,null,null,0]
[{"$f":"'Org structure'!A10","v":"Vote 9 - Sanitation Services"},null,{"$f":"SUM(C81:C90)","v":0},{"$f":"SUM(D81:D90)","v":0},0,0,0,0,0,0,0,0,null,{"$f":"SUM(N81:N90)","v":0},0,0,0,0,0,0,0,0,0,0]
[{"$f":"'Org structure'!E115","v":"9,1 - Dutywa Sewerage"},null,null,null,null,null,null,null,null,{"$f":"Q81+V81","v":0},{"$f":"U81+W81","v":0},{"$f":"X81","v":0},null,null,null,null,{"$f":"SUM(N81:P81)","v":0},null,null,null,0]
[{"$f":"'Org structure'!E116","v":"9,2 - Butterworth Sewerage"},null,null,null,null,null,null,null,null,0,0,0,null,null,null,null,0,null,null,null,0]
[{"$f":"'Org structure'!E117","v":"9,3 - Kei Mouth Sewerage"},null,null,null,null,null,null,null,null,0,0,0,null,null,null,null,0,null,null,null,0]
[{"$f":"'Org structure'!E118","v":"9,4 - Chintsa East Sewerage"},null,null,null,null,null,null,null,null,0,0,0,null,null,null,null,0,null,null,null,0]
[{"$f":"'Org structure'!E119","v":"9,5 - Komga Sewerage"},null,null,null,null,null,null,null,null,0,0,0,null,null,null,null,0,null,null,null,0]
[{"$f":"'Org structure'!E120","v":"9,6 - Keiskammahoek Sewerage"},null,null,null,null,null,null,null,null,0,0,0,null,null,null,null,0,null,null,null,0]
[{"$f":"'Org structure'!E121","v":"9,7 - Kei Road Sewerage"},null,null,null,null,null,null,null,null,0,0,0,null,null,null,null,0,null,null,null,0]
[{"$f":"'Org structure'!E122","v":"9,8 - Cathcart Sewerage"},null,null,null,null,null,null,null,null,0,0,0,null,null,null,null,0,null,null,null,0]
[{"$f":"'Org structure'!E123","v":"9,9 - Stutterheim Sewerage"},null,null,null,null,null,null,null,null,0,0,0,null,null,null,null,0,null,null,null,0]
[{"$f":"'Org structure'!E136","v":"9,22 - Morgan Bay Sewerage"},null,null,null,null,null,null,null,null,0,0,0,null,null,null,null,0,null,null,null,0]
[{"$f":"'Org structure'!A11","v":"Vote 10 - Land Human Settlement & Economic Development"},null,{"$f":"SUM(C92:C95)","v":0},0,0,0,0,0,0,0,0,0,null,{"$f":"SUM(N92:N95)","v":0},0,0,0,0,0,0,0,0,0,0]
[{"$f":"'Org structure'!E138","v":"10,1 - Land Administration & Housing"},null,null,null,null,null,null,null,null,{"$f":"Q92+V92","v":0},{"$f":"U92+W92","v":0},{"$f":"X92","v":0},null,null,null,null,{"$f":"SUM(N92:P92)","v":0},null,null,null,0]
[{"$f":"'Org structure'!E139","v":"10,2 - Economic Development"},null,null,null,null,null,null,null,null,0,0,0,null,null,null,null,0,null,null,null,0]
[{"$f":"'Org structure'!E140","v":"10,3 - Director Land Admin Housing & Eco Dev"},null,null,null,null,null,null,null,null,0,0,0,null,null,null,null,0,null,null,null,0]
[{"$f":"'Org structure'!E141","v":"10,4 - EPWP"},null,null,null,null,null,null,null,null,0,0,0,null,null,null,null,0,null,null,null,0]
[{"$f":"'Org structure'!A12","v":"Vote 11 - Municipal Management"},null,{"$f":"SUM(C97:C106)","v":0},0,0,0,0,0,0,0,0,0,null,{"$f":"SUM(N97:N106)","v":0},0,0,0,0,0,0,0,0,0,0]
[{"$f":"'Org structure'!E143","v":"11,1 - Municipal Manager"},null,null,null,null,null,null,null,null,{"$f":"Q97+V97","v":0},{"$f":"U97+W97","v":0},{"$f":"X97","v":0},null,null,null,null,{"$f":"SUM(N97:P97)","v":0},null,null,null,0]
[{"$f":"'Org structure'!E144","v":"11,2 - Legal Services"},null,null,null,null,null,null,null,null,0,0,0,null,null,null,null,0,null,null,null,0]
[{"$f":"'Org structure'!E145","v":"11,3 - Projects Investment & Stakeholder Mngt"},null,null,null,null,null,null,null,null,0,0,0,null,null,null,null,0,null,null,null,0]
[{"$f":"'Org structure'!E146","v":"11,4 - Internal Audit"},null,null,null,null,null,null,null,null,0,0,0,null,null,null,null,0,null,null,null,0]
[{"$f":"'Org structure'!E147","v":"11,5 - Policy Development And Research Unit"},null,null,null,null,null,null,null,null,0,0,0,null,null,null,null,0,null,null,null,0]
[{"$f":"'Org structure'!E148","v":"11,6 - Amahlathi Satellite Office"},null,null,null,null,null,null,null,null,0,0,0,null,null,null,null,0,null,null,null,0]
[{"$f":"'Org structure'!E149","v":"11,7 - Great Kei Satellite Office"},null,null,null,null,null,null,null,null,0,0,0,null,null,null,null,0,null,null,null,0]
[{"$f":"'Org structure'!E150","v":"11,8 - Mbhashe Satellite Office"},null,null,null,null,null,null,null,null,0,0,0,null,null,null,null,0,null,null,null,0]
[{"$f":"'Org structure'!E151","v":"11,9 - Mnquma Satellite Office"},null,null,null,null,null,null,null,null,0,0,0,null,null,null,null,0,null,null,null,0]
[{"$f":"'Org structure'!E154","v":"11,12 - Nxuba Satellite Office"},null,null,null,null,null,null,null,null,0,0,0,null,null,null,null,0,null,null,null,0]
[{"$f":"'Org structure'!A13","v":"Vote 12 - [NAME OF VOTE 12]"},null,{"$f":"SUM(C108:C117)","v":0},0,0,0,0,0,0,0,0,0,null,{"$f":"SUM(N108:N117)","v":0},0,0,0,0,0,0,0,0,0,0]
[{"$f":"'Org structure'!E156","v":"12,1 - Municipal Manager"},null,null,null,null,null,null,null,null,{"$f":"Q108+V108","v":0},{"$f":"U108+W108","v":0},{"$f":"X108","v":0},null,null,null,null,{"$f":"SUM(N108:P108)","v":0},null,null,null,0]
[{"$f":"'Org structure'!E157","v":"12,2 - Legal Services"},null,null,null,null,null,null,null,null,0,0,0,null,null,null,null,0,null,null,null,0]
[{"$f":"'Org structure'!E158","v":"12,3 - Projects Investment & Stakeholder Mngt"},null,null,null,null,null,null,null,null,0,0,0,null,null,null,null,0,null,null,null,0]
[{"$f":"'Org structure'!E159","v":"12,4 - Internal Audit"},null,null,null,null,null,null,null,null,0,0,0,null,null,null,null,0,null,null,null,0]
[{"$f":"'Org structure'!E160","v":"12,5 - Policy Development And Research Unit"},null,null,null,null,null,null,null,null,0,0,0,null,null,null,null,0,null,null,null,0]
[{"$f":"'Org structure'!E161","v":"12,6 - Amahlathi Satellite Office"},null,null,null,null,null,null,null,null,{"$f":"Q113+V113","v":0},0,0,null,null,null,null,0,null,null,null,0]
[{"$f":"'Org structure'!E162","v":"12,7 - Great Kei Satellite Office"},null,null,null,null,null,null,null,null,0,0,0,null,null,null,null,0,null,null,null,0]
[{"$f":"'Org structure'!E163","v":"12,8 - Mbhashe Satellite Office"},null,null,null,null,null,null,null,null,0,0,0,null,null,null,null,0,null,null,null,0]
[{"$f":"'Org structure'!E164","v":"12,9 - Mnquma Satellite Office"},null,null,null,null,null,null,null,null,0,0,0,null,null,null,null,0,null,null,null,{"$f":"SUM(R116:T116)","v":0}]
[{"$f":"'Org structure'!E167","v":"12,12 - Nxuba Satellite Office"},null,null,null,null,null,null,null,null,0,0,0,null,null,null,null,0,null,null,null,0]
[{"$f":"'Org structure'!A14","v":"Vote 13 - [NAME OF VOTE 13]"},null,{"$f":"SUM(C119:C119)","v":0},0,0,0,0,0,0,0,0,0,null,{"$f":"SUM(N119:N119)","v":0},0,0,0,0,0,0,0,0,0,0]
[{"$f":"'Org structure'!E169","v":"13.1 - [Name of sub-vote]"},null,null,null,null,null,null,null,null,{"$f":"Q119+V119","v":0},{"$f":"U119+W119","v":0},{"$f":"X119","v":0},null,null,null,null,{"$f":"SUM(N119:P119)","v":0},null,null,null,0]
[{"$f":"'Org structure'!A15","v":"Vote 14 - [NAME OF VOTE 14]"},null,{"$f":"SUM(C121:C121)","v":0},0,0,0,0,0,0,0,0,0,null,{"$f":"SUM(N121:N121)","v":0},0,0,0,0,0,0,0,0,0,0]
[{"$f":"'Org structure'!E180","v":"14.1 - [Name of sub-vote]"},null,null,null,null,null,null,null,null,{"$f":"Q121+V121","v":0},{"$f":"U121+W121","v":0},{"$f":"X121","v":0},null,null,null,null,{"$f":"SUM(N121:P121)","v":0},null,null,null,0]
[{"$f":"'Org structure'!A16","v":"Vote 15 - [NAME OF VOTE 15]"},null,{"$f":"SUM(C123:C123)","v":0},0,0,0,0,0,0,0,0,0,null,{"$f":"SUM(N123:N123)","v":0},0,0,0,0,0,0,0,0,0,0]
[{"$f":"'Org structure'!E191","v":"15.1 - [Name of sub-vote]"},null,null,null,null,null,null,null,null,{"$f":"Q123+V123","v":0},{"$f":"U123+W123","v":0},{"$f":"X123","v":0},null,null,null,null,{"$f":"SUM(N123:P123)","v":0},null,null,null,0]
["Capital multi-year expenditure sub-total",null,{"$f":"C6+C13+C22+C31+C42+C50+C64+C69+C80+C91+C96+C107+C118+C120+C122","v":99254444},372229470,321541192.51999998,610693000,560267619,560267619,560267619,551343857.62379622,673833750,676953950,null,{"$f":"N6+N13+N22+N31+N42+N50+N64+N69+N80+N91+N96+N107+N118+N120+N122","v":0},0,0,0,0,0,null,{"$f":"U6+U13+U22+U31+U42+U50+U64+U69+U80+U91+U96+U107+U118+U120+U122","v":0},{"$f":"V6+V13+V22+V31+V42+V50+V64+V69+V80+V91+V96+V107+V118+V120+V122","v":551343857.62379622},{"$f":"W6+W13+W22+W31+W42+W50+W64+W69+W80+W91+W96+W107+W118+W120+W122","v":673833750}]
[]
["Capital expenditure - Municipal Vote"]
["Single-year expenditure appropriation",2]
[{"$f":"A6","v":"Vote 1 - Legislative & Executive Support Services"},null,{"$f":"SUM(C129:C134)","v":0},0,0,0,0,0,0,0,0,0]
["1,1 - Council General"]
["1,2 - Mayoral Committee"]
["1,3 - Executive Support Services"]
["1,4 - Legislative Support Services"]
["1,5 - Director: Leg&executive Support Services"]
["1,6 - Council Support"]
["Vote 2 - Strategic Management",null,{"$f":"SUM(C136:C143)","v":0},585960,200229.41,47462720,27011707.25257501,27011707.25257501,27011707.25257501,15000000,15000000,15000000]
["2,1 - Risk Services"]
["2,2 - Municipal Support Unit"]
["2,3 - Strategic Planning",null,null,585960,200229.41,46462720,26611707.25257501,26611707.25257501,26611707.25257501,15000000,15000000,15000000]
["2,4 - Information Management Unit",null,null,null,null,1000000,400000,400000,400000]
["2,5 - Communications & Customer Care"]
["2,6 - Planning Monitoring & Evaluation"]
["2,7 - Speaker Support Services_(old)"]
["2,8 - Travel Desk & Igr"]
["Vote 3 - Corporate Services",null,{"$f":"SUM(C145:C152)","v":0},0,0,0,0,0,0,0,0,0]
["3,1 - Administration"]
["3,2 - Human Resources"]
["3,3 - Council General"]
["3,4 - Mayoral Committee"]
["3,5 - Executive Support Services"]
["3,6 - Legislative Support Services"]
["3,7 - Director: Leg&executive Support Services"]
["3,8 - Council Support"]
["Vote 4 - Budget & Treasury",null,{"$f":"SUM(C154:C163)","v":0},0,0,0,103369,103369,103369,50000,50000,50000]
["4,1 - Chief Financial Officer",null,null,null,null,null,103369,103369,103369,50000,50000,50000]
["4,2 - Accounting And Reporting"]
["4,3 - Asset Management"]
["4,4 - Supply Chain Management"]
["4,5 - Budgeting"]
["4,6 - Credit Control"]
[{"$f":"A38","v":"4,7 - Billing"}]
["4,8 - Revenue Data Management"]
["4,9 - Receipting & Reconciliaton"]
["4.10 - Expenditure"]
["Vote 5 - Engineering Department",null,{"$f":"SUM(C165:C171)","v":0},0,13617978,0,100000,100000,100000,90000,20920,21880]
["5,1 - Engineering Services",null,null,null,13617978]
["5,2 - Building And Services Planning"]
["5,3 - Solid Waste Site"]
["5,4 - Managment Of Building & Services Plannin"]
["5,5 - Transport Unit"]
["5,6 - Water Service Authority"]
["5,7 - Project Management Unit",null,null,null,null,null,100000,100000,100000,90000,20920,21880]
["Vote 6 - Health & Protection Department",null,{"$f":"SUM(C173:C185)","v":0},0,0,1500000,0,0,0,0,0,0]
["6,1 - Community Services"]
["6,2 - Disaster Management",null,null,null,null,null,null,null,null,null,0,0]
["6,3 - Community Safety Services"]
["6,4 - Municipal Health (adm)",null,null,null,null,null,null,null,null,null,0,0]
["6,5 - Fire Services",null,null,null,null,1500000,null,null,null,null,0,0]
["6,6 - Mhs In Mbhashe 1516",null,null,null,null,null,null,null,null,null,0,0]
["6,7 - Mhs In Mnquma 1516",null,null,null,null,null,null,null,null,null,0,0]
["6,8 - Mhs In Great Kei 1516",null,null,null,null,null,null,null,null,null,0,0]
["6,9 - Mhs In Amahlathi",null,null,null,null,null,null,null,null,null,0,0]
[{"$f":"A60","v":"6,10 - Mhs Devolution"}]
["6,11 - Mhs In Nkonkobe",null,null,null,null,null,null,null,null,null,0,0]
["6,12 - Mhs In Nxuba"]
[{"$f":"A63","v":"6,13 - Mhs In Ngqushwa 1516"},null,null,null,null,null,null,null,null,null,0,0]
["Vote 7 - Water & Sanitation Management",null,{"$f":"SUM(C187:C190)","v":0},213924,115286.42,0,0,0,0,0,0,0]
["7,1 - Management Of O&m Water & Sanitation",null,null,{"$f":"79480+134444","v":213924},115286.42]
["7,2 - Mechanical & Electrical"]
["7,3 - Water Conservation & Demand Mngt"]
["7,4 - Water Care Unit"]
["Vote 8 - Water Services",null,{"$f":"SUM(C192:C201)","v":0},0,0,0,0,0,0,0,0,0]
["8,1 - Dutywa Water Scheme"]
["8,2 - Willowvale Water Scheme"]
["8,3 - Elliotdale Water Scheme"]
["8,4 - Qwaninga Water Scheme"]
["8,5 - Mendu Water Scheme"]
["8,6 - Dwesa Water Scheme"]
["8,7 - Cwebe Water Scheme"]
["8,8 - Qolora Water Scheme"]
["8,9 - Butterworth Water Scheme"]
["8,48 - Xhora Water Supply"]
["Vote 9 - Sanitation Services",null,{"$f":"SUM(C203:C212)","v":0},0,0,0,0,0,0,0,0,0]
["9,1 - Dutywa Sewerage"]
["9,2 - Butterworth Sewerage"]
["9,3 - Kei Mouth Sewerage"]
["9,4 - Chintsa East Sewerage"]
["9,5 - Komga Sewerage"]
["9,6 - Keiskammahoek Sewerage"]
["9,7 - Kei Road Sewerage"]
["9,8 - Cathcart Sewerage"]
["9,9 - Stutterheim Sewerage"]
["9,22 - Morgan Bay Sewerage"]
["Vote 10 - Land Human Settlement & Economic Development",null,{"$f":"SUM(C214:C217)","v":0},0,145271,0,0,0,0,0,0,0]
["10,1 - Land Administration & Housing"]
["10,2 - Economic Development",null,null,null,145271]
["10,3 - Director Land Admin Housing & Eco Dev"]
[{"$f":"A95","v":"10,4 - EPWP"}]
["Vote 11 - Municipal Management",null,{"$f":"SUM(C219:C228)","v":0},0,0,0,0,0,0,0,0,0]
["11,1 - Municipal Manager"]
["11,2 - Legal Services"]
["11,3 - Projects Investment & Stakeholder Mngt"]
["11,4 - Internal Audit"]
["11,5 - Policy Development And Research Unit"]
["11,6 - Amahlathi Satellite Office"]
["11,7 - Great Kei Satellite Office"]
["11,8 - Mbhashe Satellite Office"]
["11,9 - Mnquma Satellite Office"]
["11,12 - Nxuba Satellite Office"]
["Vote 12 - [NAME OF VOTE 12]",null,{"$f":"SUM(C230:C239)","v":0},0,0,0,0,0,0,0,0,0]
["12,1 - Municipal Manager"]
["12,2 - Legal Services"]
["12,3 - Projects Investment & Stakeholder Mngt"]
["12,4 - Internal Audit"]
["12,5 - Policy Development And Research Unit"]
["12,6 - Amahlathi Satellite Office"]
["12,7 - Great Kei Satellite Office"]
["12,8 - Mbhashe Satellite Office"]
["12,9 - Mnquma Satellite Office"]
["12,12 - Nxuba Satellite Office"]
["Vote 13 - [NAME OF VOTE 13]",null,{"$f":"SUM(C241:C241)","v":0},0,0,0,0,0,0,0,0,0]
["13.1 - [Name of sub-vote]"]
["Vote 14 - [NAME OF VOTE 14]",null,{"$f":"SUM(C243:C243)","v":0},0,0,0,0,0,0,0,0,0]
["14.1 - [Name of sub-vote]"]
["Vote 15 - [NAME OF VOTE 15]",null,{"$f":"SUM(C245:C245)","v":0},0,0,0,0,0,0,0,0,0]
["15.1 - [Name of sub-vote]"]
["Capital single-year expenditure sub-total",null,{"$f":"C128+C135+C144+C153+C164+C172+C186+C191+C202+C213+C218+C229+C240+C242+C244","v":0},799884,14078764.83,48962720,27215076.25257501,27215076.25257501,27215076.25257501,15140000,15070920,15071880]
["Total Capital Expenditure",null,{"$f":"C124+C246","v":99254444},373029354,335619957.34999996,659655720,587482695.25257504,587482695.25257504,587482695.25257504,566483857.62379622,688904670,692025830]

{"sheet":"A6-FinPos","index":15,"n_rows":55,"n_cols":12,"rows_kept":55,"cut":false,"hidden":false,"merged":[[49,0,49,11],[1,9,1,11],[1,5,1,8]]}
[{"$f":"muni&\" - \"&Approve6","v":"DC12 Amathole - Table A6 Budgeted Financial Position"}]
[{"$f":"desc","v":"Description"},{"$f":"head27","v":"Ref"},{"$f":"head1b","v":"2016/17"},{"$f":"head1A","v":"2017/18"},{"$f":"Head1","v":"2018/19"},{"$f":"Head2","v":"Current Year 2019/20"},null,null,null,{"$f":"Head3","v":"2020/21 Medium Term Revenue & Expenditure Framework"}]
["R thousand",null,{"$f":"Head5","v":"Audited Outcome"},{"$f":"Head5","v":"Audited Outcome"},{"$f":"Head5","v":"Audited Outcome"},{"$f":"Head6","v":"Original Budget"},{"$f":"Head7","v":"Adjusted Budget"},{"$f":"Head8","v":"Full Year Forecast"},{"$f":"Head5b","v":"Pre-audit outcome"},{"$f":"Head9","v":"Budget Year 2020/21"},{"$f":"Head10","v":"Budget Year +1 2021/22"},{"$f":"Head11","v":"Budget Year +2 2022/23"}]
["ASSETS"]
["Current assets"]
["Cash",null,167557249.84,156027526.10999998,165332572.22,214045083.03867841,95242728.83867842,95242728.83867842,95242728.83867842,{"$f":"'A7-CFlow'!J40","v":113221283.97885364},{"$f":"'A7-CFlow'!K40","v":192869147.61326212},{"$f":"'A7-CFlow'!L40","v":207587650.05161494}]
["Call investment deposits",1,null,33931819.989999995,34966284.489999995]
["Consumer debtors",1,{"$f":"'SA3'!C14","v":120518010.90999997},{"$f":"'SA3'!D14","v":170852945},{"$f":"'SA3'!E14","v":314366656.17999983},{"$f":"'SA3'!F14","v":579019917.72753942},{"$f":"'SA3'!G14","v":571252011.01261806},{"$f":"'SA3'!H14","v":571252011.01261806},{"$f":"'SA3'!I14","v":571252011.01261806},{"$f":"'SA3'!J14","v":583924146.51261806},{"$f":"'SA3'!K14","v":597156610.51261806},{"$f":"'SA3'!L14","v":609923021.07021809}]
["Other debtors",null,4754423.21,4028527,5131344.51,8464321,8464321,8464321,8464321,{"$f":"I9","v":8464321},{"$f":"J9*1.045","v":8845215.4450000003},{"$f":"K9*1.045","v":9243250.1400249992}]
["Current portion of long-term receivables",null,null,656460,120328]
["Inventory",2,9222305.6499999985,4053626.2699999996,24819856.510000002,8929679.5600000005,24819856.510000002,24819856.510000002,24819856.510000002,{"$f":"I11+'A4-FinPerf RE'!J30*10%","v":29273200.688000001},{"$f":"J11+'A4-FinPerf RE'!K30*10%","v":30507083.888},{"$f":"K11+'A4-FinPerf RE'!L30*10%","v":32000923.388}]
["Total current assets",null,{"$f":"SUM(C6:C11)","v":302051989.60999995},369550904.36999995,544737041.90999985,810459001.32621777,699778917.36129642,699778917.36129642,699778917.36129642,734882952.17947173,829378057.45888031,858754844.64985812]
[]
["Non current assets"]
["Long-term receivables",null,1710906,1710802.56,1710802.56,1710906,1710906,1710906,1710906,{"$f":"I15","v":1710906},1710906,1710906]
["Investments",null,null,2000000,2137129,2000000,2137128.77,2137128.77,2137128.77,2137128.77,2137128.77,2137128.77]
["Investment property",null,152121773,151081758,150724402,172734625,150276647.41999999,150276647.41999999,150276647.41999999,{"$f":"'A9-Asset'!I151","v":149784116.41999999},{"$f":"'A9-Asset'!J151","v":149242332.41999999},{"$f":"'A9-Asset'!K151","v":148646370.41999999}]
["Investment in Associate",null,1000,0,0,null,1000,1000,1000,0]
["Property, plant and equipment",3,{"$f":"'SA3'!C26","v":4679047463.1400003},{"$f":"'SA3'!D26","v":4428203511},{"$f":"'SA3'!E26","v":4641381547},{"$f":"'SA3'!F26","v":6329907151.0961723},{"$f":"'SA3'!G26","v":5053996238.476676},{"$f":"'SA3'!H26","v":5053996238.476676},{"$f":"'SA3'!I26","v":5053996238.476676},{"$f":"'SA3'!J26","v":5451055942.1004725},{"$f":"'SA3'!K26","v":5955094034.1004725},{"$f":"'SA3'!L26","v":6445266610.1004725}]
[]
["Biological",null,null,0,0]
["Intangible",null,49627527.239999995,39399871,26549858,133963783,39132451.849999994,39132451.849999994,39132451.849999994,{"$f":"'A9-Asset'!I158","v":38731773.849999994},{"$f":"'A9-Asset'!J158","v":36791027.849999994},{"$f":"'A9-Asset'!K158","v":33156206.849999994}]
["Other non-current assets",null,400000,400000,400000,349300,400000,400000,400000,{"$f":"'A9-Asset'!I148","v":400000},{"$f":"'A9-Asset'!J148","v":400000},{"$f":"'A9-Asset'!K148","v":400000}]
["Total non current assets",null,{"$f":"SUM(C15:C19)+SUM(C21:C23)","v":4882908669.3800001},{"$f":"SUM(D15:D19)+SUM(D21:D23)","v":4622795942.5600004},4822903738.5600004,6640665765.0961723,5247654372.5166759,5247654372.5166759,5247654372.5166759,5643819867.1404724,6145375429.1404724,6631317222.1404724]
["TOTAL ASSETS",null,{"$f":"C12+C24","v":5184960658.9899998},{"$f":"D12+D24","v":4992346846.9300003},{"$f":"E12+E24","v":5367640780.4700003},{"$f":"F12+F24","v":7451124766.42239},5947433289.8779726,5947433289.8779726,5947433289.8779726,6378702819.3199444,6974753486.5993528,7490072066.7903309]
[]
["LIABILITIES"]
["Current liabilities"]
["Bank overdraft",1,null,null,null,null,null,null,null,0]
["Borrowing",4,{"$f":"'SA3'!C32","v":148421},{"$f":"'SA3'!D32","v":144261},{"$f":"'SA3'!E32","v":4159.74},{"$f":"'SA3'!F32","v":0},{"$f":"'SA3'!G32","v":0},{"$f":"'SA3'!H32","v":0},{"$f":"'SA3'!I32","v":0},{"$f":"'SA3'!J32","v":0},{"$f":"'SA3'!K32","v":0},{"$f":"'SA3'!L32","v":0}]
["Consumer deposits",null,2989539,3017984.35,3056332,3288492.9000000004,3288492.9000000004,3288492.9000000004,3288492.9000000004,{"$f":"I31*1.045","v":3436475.0805000002},{"$f":"J31*1.045","v":3591116.4591224999},{"$f":"K31*1.045","v":3752716.6997830123}]
["Trade and other payables",4,{"$f":"'SA3'!C39","v":461967333.17999995},{"$f":"'SA3'!D39","v":548234599.79999995},{"$f":"'SA3'!E39","v":676989754.69999993},{"$f":"'SA3'!F39","v":634167493.75050282},{"$f":"'SA3'!G39","v":387587493.75050282},{"$f":"'SA3'!H39","v":387587493.75050282},{"$f":"'SA3'!I39","v":387587493.75050282},{"$f":"'SA3'!J39","v":399587493.75050282},{"$f":"'SA3'!K39","v":369587493.75050282},{"$f":"'SA3'!L39","v":354587493.75050282}]
["Provisions",null,13795875.260000002,115378326.04000001,128513027.09,75284849.023632988,170991435.09,170991435.09,170991435.09,{"$f":"'SA3'!J51","v":171684772.02432001},{"$f":"'SA3'!K51","v":171684772.02432001},{"$f":"'SA3'!L51","v":171684772.02432001}]
["Total current liabilities",null,{"$f":"SUM(C29:C33)","v":478901168.43999994},666775171.18999994,808563273.52999997,712740835.6741358,561867421.74050283,561867421.74050283,561867421.74050283,574708740.85532284,544863382.23394537,530024982.47460586]
[]
["Non current liabilities"]
["Borrowing",null,{"$f":"'SA3'!C44","v":1961483.9730209787},{"$f":"'SA3'!D44","v":973462},{"$f":"'SA3'!E44","v":2542682},{"$f":"'SA3'!F44","v":327921.15638610558},{"$f":"'SA3'!G44","v":2530490.5699999994},{"$f":"'SA3'!H44","v":2530490.5699999994},{"$f":"'SA3'!I44","v":2530490.5699999994},{"$f":"'SA3'!J44","v":2644362.6456499998},{"$f":"'SA3'!K44","v":2644362.6456499998},{"$f":"'SA3'!L44","v":2644362.6456499998}]
["Provisions",null,{"$f":"'SA3'!C51","v":263544392.16},{"$f":"'SA3'!D51","v":239470797},{"$f":"'SA3'!E51","v":169562863},{"$f":"'SA3'!F51","v":378913730.19},{"$f":"'SA3'!G51","v":171684772.02432001},{"$f":"'SA3'!H51","v":171684772.02432001},{"$f":"'SA3'!I51","v":171684772.02432001},{"$f":"'SA3'!J51","v":171684772.02432001},{"$f":"'SA3'!K51","v":171684772.02432001},{"$f":"'SA3'!L51","v":171684772.02432001}]
["Total non current liabilities",null,{"$f":"SUM(C37:C38)","v":265505876.13302097},{"$f":"SUM(D37:D38)","v":240444259},{"$f":"SUM(E37:E38)","v":172105545},{"$f":"SUM(F37:F38)","v":379241651.34638608},174215262.59432,174215262.59432,174215262.59432,174329134.66997001,{"$f":"SUM(K37:K38)","v":174329134.66997001},174329134.66997001]
["TOTAL LIABILITIES",null,{"$f":"C34+C39","v":744407044.57302094},{"$f":"D34+D39","v":907219430.18999994},{"$f":"E34+E39","v":980668818.52999997},{"$f":"F34+F39","v":1091982487.0205219},736082684.33482289,736082684.33482289,736082684.33482289,749037875.52529287,{"$f":"K34+K39","v":719192516.90391541},704354117.14457583]
[]
["NET ASSETS",5,{"$f":"C25-C40","v":4440553614.4169788},4085127416.7400002,4386971961.9400005,6359142279.4018679,5211350605.5431499,5211350605.5431499,5211350605.5431499,5629664943.794651,6255560969.6954374,6785717949.6457548]
[]
["COMMUNITY WEALTH/EQUITY"]
["Accumulated Surplus/(Deficit)",null,4440553614.4169798,4085127416.7400002,4386971961.9400005,6359142279.4018679,5211350605.5431499,5211350605.5431499,5211350605.5431499,{"$f":"'SA3'!J63","v":5629664944.794651},{"$f":"'SA3'!K63","v":6255560970.6954374},{"$f":"'SA3'!L63","v":6785717950.6457548}]
["Reserves",4,{"$f":"'SA3'!C70","v":0},{"$f":"'SA3'!D70","v":0},{"$f":"'SA3'!E70","v":0},{"$f":"'SA3'!F70","v":0},{"$f":"'SA3'!G70","v":0},{"$f":"'SA3'!H70","v":0},{"$f":"'SA3'!I70","v":0},{"$f":"'SA3'!J70","v":0},{"$f":"'SA3'!K70","v":0},{"$f":"'SA3'!L70","v":0}]
[]
["TOTAL COMMUNITY WEALTH/EQUITY",5,{"$f":"SUM(C45:C46)","v":4440553614.4169798},{"$f":"SUM(D45:D46)","v":4085127416.7400002},4386971961.9400005,6359142279.4018679,5211350605.5431499,5211350605.5431499,5211350605.5431499,5629664944.794651,6255560970.6954374,6785717950.6457548]
[{"$f":"head27a","v":"References"}]
["1. Detail to be provided in Table SA3"]
["2. Include completed low cost housing to be transferred to beneficiaries within 12 months"]
["3. Include 'Construction-work-in-progress' (disclosed separately in annual financial statements)"]
["4. Detail to be provided in Table SA3. Includes reserves to be funded by statute.",null,null,null,null,null,null,null,null,{"$f":"J42-J48","v":-1},{"$f":"K42-K48","v":-1},{"$f":"L42-L48","v":-1}]
["5. Net assets must balance with Total Community Wealth/Equity"]
["check balance",null,{"$f":"IF((C42-C48)=0,0,\"Unbalanced\")","v":"Unbalanced"},{"$f":"IF((D42-D48)=0,0,\"Unbalanced\")","v":0},0,0,0,0,0,"Unbalanced","Unbalanced","Unbalanced"]

{"sheet":"A7-CFlow","index":16,"n_rows":51,"n_cols":12,"rows_kept":51,"cut":false,"hidden":false,"merged":[[1,9,1,11],[1,5,1,8]]}
[{"$f":"muni&\" - \"&Approve7","v":"DC12 Amathole - Table A7 Budgeted Cash Flows"}]
[{"$f":"desc","v":"Description"},{"$f":"head27","v":"Ref"},{"$f":"head1b","v":"2016/17"},{"$f":"head1A","v":"2017/18"},{"$f":"Head1","v":"2018/19"},{"$f":"Head2","v":"Current Year 2019/20"},null,null,null,{"$f":"Head3","v":"2020/21 Medium Term Revenue & Expenditure Framework"}]
["R thousand",null,{"$f":"Head5","v":"Audited Outcome"},{"$f":"Head5","v":"Audited Outcome"},{"$f":"Head5","v":"Audited Outcome"},{"$f":"Head6","v":"Original Budget"},{"$f":"Head7","v":"Adjusted Budget"},{"$f":"Head8","v":"Full Year Forecast"},{"$f":"Head5b","v":"Pre-audit outcome"},{"$f":"Head9","v":"Budget Year 2020/21"},{"$f":"Head10","v":"Budget Year +1 2021/22"},{"$f":"Head11","v":"Budget Year +2 2022/23"}]
["CASH FLOW FROM OPERATING ACTIVITIES"]
["Receipts"]
["Property rates",null,null,null,null,null,null,null,null,{"$f":"'SA30'!N5","v":0},{"$f":"'SA30'!O5","v":0},{"$f":"'SA30'!P5","v":0}]
["Service charges",null,76984152,49457056.599999905,118285806.94,381121367,283829636.5,283829636.5,283829636.5,{"$f":"'SA30'!N6+'SA30'!N7+'SA30'!N8+'SA30'!N9","v":265731119.5},{"$f":"'SA30'!O6+'SA30'!O7+'SA30'!O8+'SA30'!O9","v":282424987},{"$f":"'SA30'!P6+'SA30'!P7+'SA30'!P8+'SA30'!P9","v":290028486.44239998}]
["Other revenue",null,61533308,3450086.75,4075517,76523828.043478265,76237076.043478265,76237076.043478265,76237076.043478265,{"$f":"'SA30'!N11+'SA30'!N15+'SA30'!N16+'SA30'!N17+'SA30'!N19","v":72544844},{"$f":"'SA30'!O11+'SA30'!O15+'SA30'!O16+'SA30'!O17+'SA30'!O19","v":82368089},{"$f":"'SA30'!P11+'SA30'!P15+'SA30'!P16+'SA30'!P17+'SA30'!P19","v":82927832}]
["Transfers and Subsidies - Operational",1,null,{"$f":"1363057169.34-577943626","v":785113543.33999991},{"$f":"1384061510.34-613129611","v":770931899.33999991},859258783,1125274830,1125274830,1125274830,{"$f":"'SA30'!N18","v":959432133},{"$f":"'SA30'!O18","v":991670163},{"$f":"'SA30'!P18","v":1057558355}]
["Transfers and Subsidies - Capital",1,1173816883,577943626,613129611,543037365,395484403,395484403,395484403,{"$f":"'SA30'!N23","v":491381465},{"$f":"'SA30'!O23","v":600491315},{"$f":"'SA30'!P23","v":603602546}]
["Interest",null,48481005,18278339.200000003,19337350.379999995,76000897,48526588.600000001,48526588.600000001,48526588.600000001,{"$f":"'SA30'!N12+'SA30'!N13","v":83050272.699999988},{"$f":"'SA30'!O12+'SA30'!O13","v":107492514.40000001},{"$f":"'SA30'!P12+'SA30'!P13","v":124117094}]
["Dividends",null,null,null,null,null,null,null,null,{"$f":"'SA30'!N14","v":0},{"$f":"'SA30'!O14","v":0},{"$f":"'SA30'!P14","v":0}]
["Payments"]
["Suppliers and employees",null,-1028776895,-1019453125.0099999,-1155541157,-1134663167.0047998,-1568223008.0047998,-1568223008.0047998,-1568223008.0047998,{"$f":"-('SA30'!N35+'SA30'!N36+'SA30'!N38+'SA30'!N39+'SA30'!N40+'SA30'!N41+'SA30'!N44+'SA30'!N50)","v":-1304500291.1598246},{"$f":"-('SA30'!O35+'SA30'!O36+'SA30'!O38+'SA30'!O39+'SA30'!O40+'SA30'!O41+'SA30'!O44+'SA30'!O50)","v":-1328898095.1806917},{"$f":"-('SA30'!P35+'SA30'!P36+'SA30'!P38+'SA30'!P39+'SA30'!P40+'SA30'!P41+'SA30'!P44+'SA30'!P50)","v":-1482399947.8426192}]
["Finance charges",null,-8178141,-27598655.179999996,-26002680.57,-26354647,-13686089,-13686089,-13686089,{"$f":"-('SA30'!N37)","v":-28139522.899999999},{"$f":"-('SA30'!O37)","v":-30338874.584899995},{"$f":"-('SA30'!P37)","v":-32441437.161427893}]
["Transfers and Grants",1,null,-1902381,-2781412,-20357689,-19654217,-19654217,-19654217,{"$f":"-('SA30'!N42+'SA30'!N43)","v":-15000000},{"$f":"-('SA30'!O42+'SA30'!O43)","v":-10000000},{"$f":"-('SA30'!P42+'SA30'!P43)","v":-10000000}]
["NET CASH FROM/(USED) OPERATING ACTIVITIES",null,{"$f":"SUM(C6:C12)+SUM(C14:C16)","v":323860312},385288490.70000005,341434935.08999991,754566737.03867841,327789220.13867831,327789220.13867831,327789220.13867831,524500020.14017534,695210098.63440847,633392928.43835282]
[]
["CASH FLOWS FROM INVESTING ACTIVITIES"]
["Receipts"]
["Proceeds on disposal of PPE",null,264549,13212,167098,null,null,null,null,{"$f":"'SA30'!N24+'SA30'!N25","v":0},{"$f":"'SA30'!O24+'SA30'!O25","v":0},{"$f":"'SA30'!P24+'SA30'!P25","v":0}]
[]
["Decrease (increase) in non-current receivables",null,null,103.26000000000931,null,null,null,null,null,{"$f":"'SA30'!N30","v":0},{"$f":"'SA30'!O30","v":0},{"$f":"'SA30'!P30","v":0}]
["Decrease (increase) in non-current investments",null,125599349,-2000000,null,null,null,null,null,{"$f":"'SA30'!N31","v":0},{"$f":"'SA30'!O31","v":0},{"$f":"'SA30'!P31","v":0}]
["Payments"]
["Capital assets",null,-281079034,-369468358.99000001,{"$f":"-331080993-37267","v":-331118260},-592000085,-422699475,-422699475,-422699475,{"$f":"-('SA30'!N48)","v":-506521465},{"$f":"-('SA30'!O48)","v":-615562235},{"$f":"-('SA30'!P48)","v":-618674426}]
["NET CASH FROM/(USED) INVESTING ACTIVITIES",null,{"$f":"+C21+C23+C24+C26","v":-155215136},{"$f":"+D21+D23+D24+D26","v":-371455043.73000002},-330951162,-592000085,-422699475,-422699475,-422699475,-506521465,-615562235,-618674426]
[]
["CASH FLOWS FROM FINANCING ACTIVITIES"]
["Receipts"]
["Short term loans",null,null,null,null,null,null,null,null,{"$f":"'SA30'!N26","v":0},{"$f":"'SA30'!O26","v":0},{"$f":"'SA30'!P26","v":0}]
["Borrowing long term/refinancing",null,null,null,null,null,null,null,null,{"$f":"'SA30'!N27","v":0},{"$f":"'SA30'!O27","v":0},{"$f":"'SA30'!P27","v":0}]
["Increase (decrease) in consumer deposits",null,231710,null,null,null,null,null,null,{"$f":"'SA30'!N28","v":0},{"$f":"'SA30'!O28","v":0},{"$f":"'SA30'!P28","v":0}]
["Payments"]
["Repayment of borrowing",null,-132684268,-659962,-144261.26,null,null,null,null,{"$f":"-('SA30'!N49)","v":0},{"$f":"-('SA30'!O49)","v":0},{"$f":"-('SA30'!P49)","v":0}]
["NET CASH FROM/(USED) FINANCING ACTIVITIES",null,{"$f":"SUM(C31:C33)+C35","v":-132452558},-659962,-144261.26,0,0,0,0,0,0,0]
[]
["NET INCREASE/ (DECREASE) IN CASH HELD",null,{"$f":"C17+C27+C36","v":36192618},{"$f":"D17+D27+D36","v":13173484.970000029},10339511.829999914,162566652.03867841,-94910254.861321688,-94910254.861321688,-94910254.861321688,17978555.140175343,79647863.634408474,14718502.438352823]
["Cash/cash equivalents at the year begin:",2,131364632,176785861,189959346.09999999,51478431,190152983.69999999,190152983.69999999,190152983.69999999,{"$f":"'SA30'!N54","v":95242728.8386783},{"$f":"J40","v":113221283.97885364},{"$f":"K40","v":192869147.61326212}]
["Cash/cash equivalents at the year end:",2,{"$f":"C38+C39","v":167557250},{"$f":"D38+D39","v":189959345.97000003},{"$f":"E38+E39","v":200298857.92999992},{"$f":"F38+F39","v":214045083.03867841},95242728.8386783,95242728.8386783,95242728.8386783,113221283.97885364,192869147.61326212,207587650.05161494]
[{"$f":"head27a","v":"References"}]
["1. Local/District municipalities to include transfers from/to District/Local Municipalities"]
["2. Cash equivalents includes investments with maturities of 3 months or less"]
["3. The MTREF is populated directly from SA30."]
["Total receipts",null,{"$f":"SUM(C6:C12)+SUM(C21:C23)","v":1361079897},1434255967.1499999,1525927282.6599998,1935942240.0434783,1929352534.1434782,1929352534.1434782,1929352534.1434782,1872139834.2,2064447068.4000001,2158234313.4424]
["Total payments",null,{"$f":"SUM(C14:C16)+C26","v":-1318034070},{"$f":"SUM(D14:D16)+D26","v":-1418422520.1799998},-1515443509.5699999,-1773375588.0047998,-2024262789.0047998,-2024262789.0047998,-2024262789.0047998,-1854161279.0598247,-1984799204.7655916,-2143515811.0040472]
[null,null,{"$f":"C45+C46","v":43045827},{"$f":"D45+D46","v":15833446.970000029},10483773.089999914,162566652.03867841,-94910254.861321688,-94910254.861321688,-94910254.861321688,17978555.140175343,79647863.634408474,14718502.438352823]
["Borrowings & investments & c.deposits",null,{"$f":"C24+C32+C33","v":125831059},{"$f":"D24+D32+D33","v":-2000000},0,0,0,0,0,0,0,0]
[{"$f":"A35","v":"Repayment of borrowing"},null,{"$f":"C35","v":-132684268},{"$f":"D35","v":-659962},-144261.26,0,0,0,{"$f":"I35","v":0},0,0,0]
[null,null,{"$f":"C47+C48+C49","v":36192618},{"$f":"D47+D48+D49","v":13173484.970000029},10339511.829999914,162566652.03867841,-94910254.861321688,-94910254.861321688,-94910254.861321688,17978555.140175343,79647863.634408474,14718502.438352823]
[null,null,{"$f":"C38-C50","v":0},0,0,0,0,0,0,0,0,0]

{"sheet":"A8-ResRecon","index":17,"n_rows":67,"n_cols":12,"rows_kept":67,"cut":false,"hidden":false,"merged":[[1,9,1,11],[1,5,1,8]]}
[{"$f":"muni&\" - \"&Approve8","v":"DC12 Amathole - Table A8 Cash backed reserves/accumulated surplus reconciliation"}]
[{"$f":"desc","v":"Description"},{"$f":"head27","v":"Ref"},{"$f":"head1b","v":"2016/17"},{"$f":"head1A","v":"2017/18"},{"$f":"Head1","v":"2018/19"},{"$f":"Head2","v":"Current Year 2019/20"},null,null,null,{"$f":"Head3","v":"2020/21 Medium Term Revenue & Expenditure Framework"}]
["R thousand",null,{"$f":"Head5","v":"Audited Outcome"},{"$f":"Head5","v":"Audited Outcome"},{"$f":"Head5","v":"Audited Outcome"},{"$f":"Head6","v":"Original Budget"},{"$f":"Head7","v":"Adjusted Budget"},{"$f":"Head8","v":"Full Year Forecast"},{"$f":"Head5b","v":"Pre-audit outcome"},{"$f":"Head9","v":"Budget Year 2020/21"},{"$f":"Head10","v":"Budget Year +1 2021/22"},{"$f":"Head11","v":"Budget Year +2 2022/23"}]
["Cash and investments available"]
[{"$f":"LEFT('A7-CFlow'!A40,37)","v":"Cash/cash equivalents at the year end"},1,{"$f":"'A7-CFlow'!C40","v":167557250},{"$f":"'A7-CFlow'!D40","v":189959345.97000003},{"$f":"'A7-CFlow'!E40","v":200298857.92999992},{"$f":"'A7-CFlow'!F40","v":214045083.03867841},{"$f":"'A7-CFlow'!G40","v":95242728.8386783},{"$f":"'A7-CFlow'!H40","v":95242728.8386783},{"$f":"'A7-CFlow'!I40","v":95242728.8386783},{"$f":"'A7-CFlow'!J40","v":113221283.97885364},{"$f":"'A7-CFlow'!K40","v":192869147.61326212},{"$f":"'A7-CFlow'!L40","v":207587650.05161494}]
["Other current investments  > 90 days",null,{"$f":"'A6-FinPos'!C6+'A6-FinPos'!C7-'A6-FinPos'!C29-'A8-ResRecon'!C5","v":-0.15999999642372131},{"$f":"'A6-FinPos'!D6+'A6-FinPos'!D7-'A6-FinPos'!D29-'A8-ResRecon'!D5","v":0.12999993562698364},{"$f":"'A6-FinPos'!E6+'A6-FinPos'!E7-'A6-FinPos'!E29-'A8-ResRecon'!E5","v":-1.2199999392032623},{"$f":"'A6-FinPos'!F6+'A6-FinPos'!F7-'A6-FinPos'!F29-'A8-ResRecon'!F5","v":0},{"$f":"'A6-FinPos'!G6+'A6-FinPos'!G7-'A6-FinPos'!G29-'A8-ResRecon'!G5","v":1.1920928955078125E-7},{"$f":"'A6-FinPos'!H6+'A6-FinPos'!H7-'A6-FinPos'!H29-'A8-ResRecon'!H5","v":1.1920928955078125E-7},{"$f":"'A6-FinPos'!I6+'A6-FinPos'!I7-'A6-FinPos'!I29-'A8-ResRecon'!I5","v":1.1920928955078125E-7},{"$f":"'A6-FinPos'!J6+'A6-FinPos'!J7-'A6-FinPos'!J29-'A8-ResRecon'!J5","v":0},{"$f":"'A6-FinPos'!K6+'A6-FinPos'!K7-'A6-FinPos'!K29-'A8-ResRecon'!K5","v":0},{"$f":"'A6-FinPos'!L6+'A6-FinPos'!L7-'A6-FinPos'!L29-'A8-ResRecon'!L5","v":0}]
[{"$f":"'A6-FinPos'!A14&\" - \"&'A6-FinPos'!A16","v":"Non current assets - Investments"},1,{"$f":"'A6-FinPos'!C16","v":0},{"$f":"'A6-FinPos'!D16","v":2000000},{"$f":"'A6-FinPos'!E16","v":2137129},{"$f":"'A6-FinPos'!F16","v":2000000},{"$f":"'A6-FinPos'!G16","v":2137128.77},{"$f":"'A6-FinPos'!H16","v":2137128.77},{"$f":"'A6-FinPos'!I16","v":2137128.77},{"$f":"'A6-FinPos'!J16","v":2137128.77},{"$f":"'A6-FinPos'!K16","v":2137128.77},{"$f":"'A6-FinPos'!L16","v":2137128.77}]
["Cash and investments available:",null,{"$f":"SUM(C5:C7)","v":167557249.84},{"$f":"SUM(D5:D7)","v":191959346.09999996},202435985.70999998,216045083.03867841,97379857.608678415,97379857.608678415,97379857.608678415,115358412.74885364,195006276.38326213,209724778.82161495]
[]
["Application of cash and investments"]
[{"$f":"'SA3'!A37","v":"Unspent conditional transfers"},null,{"$f":"'SA3'!C37","v":50801686.770000003},{"$f":"'SA3'!D37","v":67213572},{"$f":"'SA3'!E37","v":111276824.47},{"$f":"'SA3'!F37","v":0},{"$f":"'SA3'!G37","v":0},{"$f":"'SA3'!H37","v":0},{"$f":"'SA3'!I37","v":0},{"$f":"'SA3'!J37","v":0},{"$f":"'SA3'!K37","v":0},{"$f":"'SA3'!L37","v":0}]
["Unspent borrowing",null,{"$f":"'SA17'!C67","v":0},{"$f":"'SA17'!D67","v":0},{"$f":"'SA17'!E67","v":0},{"$f":"'SA17'!F67","v":0},{"$f":"'SA17'!G67","v":0},{"$f":"'SA17'!H67","v":0},null,{"$f":"'SA17'!I67","v":0},{"$f":"'SA17'!J67","v":0},{"$f":"'SA17'!K67","v":0}]
["Statutory requirements",2]
["Other working capital requirements",3,{"$f":"-C32","v":330392633.40999997},{"$f":"-D32","v":373700354.79999995},396240283.22999996,{"$f":"-F32","v":242447493.75050282},94714493.750502825,94714493.750502825,94714493.750502825,111278493.75050282,72359493.750502825,52897493.750502825]
["Other provisions"]
["Long term investments committed",4,{"$f":"C52","v":0},{"$f":"D52","v":0},0,0,0,0,0,0,0,0]
["Reserves to be backed by cash/investments",5,null,null,null,29000000]
[{"$f":"\"Total \"&A10&\":\"","v":"Total Application of cash and investments:"},null,{"$f":"SUM(C11:C17)","v":381194320.17999995},{"$f":"SUM(D11:D17)","v":440913926.79999995},507517107.69999993,271447493.75050282,94714493.750502825,94714493.750502825,94714493.750502825,111278493.75050282,72359493.750502825,52897493.750502825]
["Surplus(shortfall)",null,{"$f":"C8-C18","v":-213637070.33999994},{"$f":"D8-D18","v":-248954580.69999999},-305081121.98999995,-55402410.711824417,2665363.8581755906,2665363.8581755906,2665363.8581755906,4079918.998350814,122646782.6327593,156827285.07111213]
[{"$f":"head27a","v":"References"}]
["1. Must reconcile with Budgeted Cash Flows"]
["2. For example: VAT, taxation"]
["3. Council approval for policy required - include sufficient working capital (e.g. allowing for a % of current debtors > 90 days as uncollectable)"]
["4. For example: sinking fund requirements for borrowing"]
["5. Council approval required for each reserve created and basis of cash backing of reserves"]
[]
[]
["Other working capital requirements"]
["Debtors",null,{"$f":"IF(ISERROR(ROUND(C35*C36,-3)),0,(ROUND(C35*C36,-3)))","v":55556000},{"$f":"IF(ISERROR(ROUND(D35*D36,-3)),0,(ROUND(D35*D36,-3)))","v":33828000},90622000,391720000,292873000,292873000,292873000,288309000,297228000,301690000]
[]
["Creditors due",null,{"$f":"'SA3'!C35+'SA3'!C36","v":385948633.40999997},{"$f":"'SA3'!D35+'SA3'!D36","v":407528354.79999995},{"$f":"'SA3'!E35+'SA3'!E36","v":486862283.22999996},{"$f":"'SA3'!F35+'SA3'!F36","v":634167493.75050282},{"$f":"'SA3'!G35+'SA3'!G36","v":387587493.75050282},{"$f":"'SA3'!H35+'SA3'!H36","v":387587493.75050282},{"$f":"'SA3'!I35+'SA3'!I36","v":387587493.75050282},{"$f":"'SA3'!J35+'SA3'!J36","v":399587493.75050282},{"$f":"'SA3'!K35+'SA3'!K36","v":369587493.75050282},{"$f":"'SA3'!L35+'SA3'!L36","v":354587493.75050282}]
["Total",null,{"$f":"C29-C31","v":-330392633.40999997},{"$f":"D29-D31","v":-373700354.79999995},-396240283.22999996,-242447493.75050282,-94714493.750502825,-94714493.750502825,-94714493.750502825,-111278493.75050282,-72359493.750502825,-52897493.750502825]
[]
["Debtors collection assumptions"]
["Balance outstanding - debtors",null,{"$f":"'A6-FinPos'!C8+'A6-FinPos'!C9+'A6-FinPos'!C15","v":126983340.11999996},{"$f":"'A6-FinPos'!D8+'A6-FinPos'!D9+'A6-FinPos'!D15","v":176592274.56},{"$f":"'A6-FinPos'!E8+'A6-FinPos'!E9+'A6-FinPos'!E15","v":321208803.24999982},{"$f":"'A6-FinPos'!F8+'A6-FinPos'!F9+'A6-FinPos'!F15","v":589195144.72753942},{"$f":"'A6-FinPos'!G8+'A6-FinPos'!G9+'A6-FinPos'!G15","v":581427238.01261806},{"$f":"'A6-FinPos'!H8+'A6-FinPos'!H9+'A6-FinPos'!H15","v":581427238.01261806},{"$f":"'A6-FinPos'!I8+'A6-FinPos'!I9+'A6-FinPos'!I15","v":581427238.01261806},{"$f":"'A6-FinPos'!J8+'A6-FinPos'!J9+'A6-FinPos'!J15","v":594099373.51261806},{"$f":"'A6-FinPos'!K8+'A6-FinPos'!K9+'A6-FinPos'!K15","v":607712731.95761812},{"$f":"'A6-FinPos'!L8+'A6-FinPos'!L9+'A6-FinPos'!L15","v":620877177.21024311}]
["Estimate of debtors collection rate",null,{"$f":"IF(ISERROR('SA10'!D10),0,('SA10'!D10))","v":0.43750229259416362},{"$f":"IF(ISERROR('SA10'!E10),0,('SA10'!E10))","v":0.19156085742891157},{"$f":"IF(ISERROR('SA10'!F10),0,('SA10'!F10))","v":0.28212869341475705},{"$f":"IF(ISERROR('SA10'!G10),0,('SA10'!G10))","v":0.66483881506946474},{"$f":"IF(ISERROR('SA10'!H10),0,('SA10'!H10))","v":0.50371376146400837},{"$f":"IF(ISERROR('SA10'!I10),0,('SA10'!I10))","v":0.50371376146400837},{"$f":"IF(ISERROR('SA10'!J10),0,('SA10'!J10))","v":0.50371376146400837},{"$f":"IF(ISERROR('SA10'!K10),0,('SA10'!K10))","v":0.48528738300554664},{"$f":"IF(ISERROR('SA10'!L10),0,('SA10'!L10))","v":0.48909217472137595},{"$f":"IF(ISERROR('SA10'!M10),0,('SA10'!M10))","v":0.48590958317744404}]
[]
[]
[null,null,null,null,null,null,null,null,null,null,"`"]
[{"$f":"A16","v":"Long term investments committed"}]
["Balance (Insert description; eg sinking fund)"]
[]
[]
[]
[]
[]
[]
[]
[]
[]
[]
[null,null,{"$f":"SUM(C41:C51)","v":0},{"$f":"SUM(D41:D51)","v":0},0,0,0,0,0,0,0,0]
[{"$f":"A17","v":"Reserves to be backed by cash/investments"}]
[{"$f":"'SA3'!A65","v":"Housing Development Fund"},null,{"$f":"'SA3'!C65","v":0},{"$f":"'SA3'!D65","v":0},{"$f":"'SA3'!E65","v":0},{"$f":"'SA3'!F65","v":0},{"$f":"'SA3'!G65","v":0},{"$f":"'SA3'!H65","v":0},{"$f":"'SA3'!I65","v":0},{"$f":"'SA3'!J65","v":0},{"$f":"'SA3'!K65","v":0},{"$f":"'SA3'!L65","v":0}]
[{"$f":"'SA3'!A66","v":"Capital replacement"}]
[{"$f":"'SA3'!A67","v":"Self-insurance"}]
["Other (list)"]
[]
[]
[]
[]
[]
[]
[]
[]
[]
[null,null,{"$f":"SUM(C54:C65)","v":0},0,0,0,0,0,0,0,0,0]

{"sheet":"A9-Asset","index":18,"n_rows":217,"n_cols":11,"rows_kept":217,"cut":false,"hidden":false,"merged":[[1,5,1,7],[1,8,1,10]]}
[{"$f":"muni&\" - \"&Approve9","v":"DC12 Amathole - Table A9 Asset Management"}]
[{"$f":"desc","v":"Description"},{"$f":"head27","v":"Ref"},{"$f":"head1b","v":"2016/17"},{"$f":"head1A","v":"2017/18"},{"$f":"Head1","v":"2018/19"},{"$f":"Head2","v":"Current Year 2019/20"},null,null,{"$f":"Head3","v":"2020/21 Medium Term Revenue & Expenditure Framework"}]
["R thousand",null,{"$f":"Head5","v":"Audited Outcome"},{"$f":"Head5","v":"Audited Outcome"},{"$f":"Head5","v":"Audited Outcome"},{"$f":"Head6","v":"Original Budget"},{"$f":"Head7","v":"Adjusted Budget"},{"$f":"Head8","v":"Full Year Forecast"},{"$f":"Head9","v":"Budget Year 2020/21"},{"$f":"Head10","v":"Budget Year +1 2021/22"},{"$f":"Head11","v":"Budget Year +2 2022/23"}]
["CAPITAL EXPENDITURE"]
["Total New Assets",1,{"$f":"C15+C18+C19+C22+C25+C26+SUM(C29:C35)","v":32180119},{"$f":"D15+D18+D19+D22+D25+D26+SUM(D29:D35)","v":370156612},334647104.51999992,534167823.48802197,390278770.41066384,390278770.41066384,408082936.16379666,563911728.4606303,532408233.075607]
["Roads Infrastructure",null,{"$f":"SA34a!C7","v":0},{"$f":"SA34a!D7","v":0},{"$f":"SA34a!E7","v":0},{"$f":"SA34a!F7","v":0},{"$f":"SA34a!G7","v":0},{"$f":"SA34a!H7","v":0},{"$f":"SA34a!I7","v":0},{"$f":"SA34a!J7","v":0},{"$f":"SA34a!K7","v":0}]
["Storm water Infrastructure",null,{"$f":"SA34a!C12","v":0},{"$f":"SA34a!D12","v":0},{"$f":"SA34a!E12","v":0},{"$f":"SA34a!F12","v":0},{"$f":"SA34a!G12","v":0},{"$f":"SA34a!H12","v":0},{"$f":"SA34a!I12","v":0},{"$f":"SA34a!J12","v":0},{"$f":"SA34a!K12","v":0}]
["Electrical Infrastructure",null,{"$f":"SA34a!C16","v":0},{"$f":"SA34a!D16","v":0},{"$f":"SA34a!E16","v":0},{"$f":"SA34a!F16","v":0},{"$f":"SA34a!G16","v":0},{"$f":"SA34a!H16","v":0},{"$f":"SA34a!I16","v":0},{"$f":"SA34a!J16","v":0},{"$f":"SA34a!K16","v":0}]
["Water Supply Infrastructure",null,{"$f":"SA34a!C26","v":58651184},{"$f":"SA34a!D26","v":360591659},{"$f":"SA34a!E26","v":320157084.93999994},{"$f":"SA34a!F26","v":309289021.01157141},{"$f":"SA34a!G26","v":322184707.42500544},{"$f":"SA34a!H26","v":322184707.42500544},{"$f":"SA34a!I26","v":360811346.09650898},{"$f":"SA34a!J26","v":499389435.16363657},{"$f":"SA34a!K26","v":465994873.68560702}]
["Sanitation Infrastructure",null,{"$f":"SA34a!C37","v":84701},{"$f":"SA34a!D37","v":9485473},{"$f":"SA34a!E37","v":726770.58},{"$f":"SA34a!F37","v":176916082.47645053},{"$f":"SA34a!G37","v":41482355.985658415},{"$f":"SA34a!H37","v":41482355.985658415},{"$f":"SA34a!I37","v":32271590.067287698},{"$f":"SA34a!J37","v":49522293.29699374},{"$f":"SA34a!K37","v":51413359.390000001}]
["Solid Waste Infrastructure",null,{"$f":"SA34a!C44","v":0},{"$f":"SA34a!D44","v":0},{"$f":"SA34a!E44","v":0},{"$f":"SA34a!F44","v":0},{"$f":"SA34a!G44","v":0},{"$f":"SA34a!H44","v":0},{"$f":"SA34a!I44","v":0},{"$f":"SA34a!J44","v":0},{"$f":"SA34a!K44","v":0}]
["Rail Infrastructure",null,{"$f":"SA34a!C52","v":0},{"$f":"SA34a!D52","v":0},{"$f":"SA34a!E52","v":0},{"$f":"SA34a!F52","v":0},{"$f":"SA34a!G52","v":0},{"$f":"SA34a!H52","v":0},{"$f":"SA34a!I52","v":0},{"$f":"SA34a!J52","v":0},{"$f":"SA34a!K52","v":0}]
["Coastal Infrastructure",null,{"$f":"SA34a!C62","v":0},{"$f":"SA34a!D62","v":0},{"$f":"SA34a!E62","v":0},{"$f":"SA34a!F62","v":0},{"$f":"SA34a!G62","v":0},{"$f":"SA34a!H62","v":0},{"$f":"SA34a!I62","v":0},{"$f":"SA34a!J62","v":0},{"$f":"SA34a!K62","v":0}]
["Information and Communication Infrastructure",null,{"$f":"SA34a!C68","v":0},{"$f":"SA34a!D68","v":0},{"$f":"SA34a!E68","v":0},{"$f":"SA34a!F68","v":0},{"$f":"SA34a!G68","v":0},{"$f":"SA34a!H68","v":0},{"$f":"SA34a!I68","v":0},{"$f":"SA34a!J68","v":0},{"$f":"SA34a!K68","v":0}]
["Infrastructure",null,{"$f":"SUM(C6:C14)","v":58735885},{"$f":"SUM(D6:D14)","v":370077132},320883855.51999992,486205103.48802197,363667063.41066384,363667063.41066384,393082936.16379666,548911728.4606303,517408233.075607]
["Community Facilities",null,{"$f":"SA34a!C75","v":0},{"$f":"SA34a!D75","v":0},{"$f":"SA34a!E75","v":0},{"$f":"SA34a!F75","v":0},{"$f":"SA34a!G75","v":0},{"$f":"SA34a!H75","v":0},{"$f":"SA34a!I75","v":0},{"$f":"SA34a!J75","v":0},{"$f":"SA34a!K75","v":0}]
["Sport and Recreation Facilities",null,{"$f":"SA34a!C98","v":0},{"$f":"SA34a!D98","v":0},{"$f":"SA34a!E98","v":0},{"$f":"SA34a!F98","v":0},{"$f":"SA34a!G98","v":0},{"$f":"SA34a!H98","v":0},{"$f":"SA34a!I98","v":0},{"$f":"SA34a!J98","v":0},{"$f":"SA34a!K98","v":0}]
["Community Assets",null,{"$f":"SUM(C16:C17)","v":0},{"$f":"SUM(D16:D17)","v":0},0,0,0,0,0,0,0]
["Heritage Assets",null,{"$f":"SA34a!C103","v":0},{"$f":"SA34a!D103","v":0},{"$f":"SA34a!E103","v":0},{"$f":"SA34a!F103","v":0},{"$f":"SA34a!G103","v":0},{"$f":"SA34a!H103","v":0},{"$f":"SA34a!I103","v":0},{"$f":"SA34a!J103","v":0},{"$f":"SA34a!K103","v":0}]
["Revenue Generating",null,{"$f":"SA34a!C111","v":0},{"$f":"SA34a!D111","v":0},{"$f":"SA34a!E111","v":0},{"$f":"SA34a!F111","v":0},{"$f":"SA34a!G111","v":0},{"$f":"SA34a!H111","v":0},{"$f":"SA34a!I111","v":0},{"$f":"SA34a!J111","v":0},{"$f":"SA34a!K111","v":0}]
["Non-revenue Generating",null,{"$f":"SA34a!C114","v":0},{"$f":"SA34a!D114","v":0},{"$f":"SA34a!E114","v":0},{"$f":"SA34a!F114","v":0},{"$f":"SA34a!G114","v":0},{"$f":"SA34a!H114","v":0},{"$f":"SA34a!I114","v":0},{"$f":"SA34a!J114","v":0},{"$f":"SA34a!K114","v":0}]
["Investment properties",null,{"$f":"SUM(C20:C21)","v":0},{"$f":"SUM(D20:D21)","v":0},0,0,0,0,0,0,0]
["Operational Buildings",null,{"$f":"SA34a!C119","v":0},{"$f":"SA34a!D119","v":0},{"$f":"SA34a!E119","v":0},{"$f":"SA34a!F119","v":0},{"$f":"SA34a!G119","v":0},{"$f":"SA34a!H119","v":0},{"$f":"SA34a!I119","v":0},{"$f":"SA34a!J119","v":0},{"$f":"SA34a!K119","v":0}]
["Housing",null,{"$f":"SA34a!C131","v":0},{"$f":"SA34a!D131","v":0},{"$f":"SA34a!E131","v":0},{"$f":"SA34a!F131","v":0},{"$f":"SA34a!G131","v":0},{"$f":"SA34a!H131","v":0},{"$f":"SA34a!I131","v":0},{"$f":"SA34a!J131","v":0},{"$f":"SA34a!K131","v":0}]
["Other Assets",null,{"$f":"SUM(C23:C24)","v":0},{"$f":"SUM(D23:D24)","v":0},0,0,0,0,0,0,0]
["Biological or Cultivated Assets",null,{"$f":"SA34a!C136","v":0},{"$f":"SA34a!D136","v":0},{"$f":"SA34a!E136","v":0},{"$f":"SA34a!F136","v":0},{"$f":"SA34a!G136","v":0},{"$f":"SA34a!H136","v":0},{"$f":"SA34a!I136","v":0},{"$f":"SA34a!J136","v":0},{"$f":"SA34a!K136","v":0}]
["Servitudes",null,{"$f":"SA34a!C140","v":0},{"$f":"SA34a!D140","v":0},{"$f":"SA34a!E140","v":0},{"$f":"SA34a!F140","v":0},{"$f":"SA34a!G140","v":0},{"$f":"SA34a!H140","v":0},{"$f":"SA34a!I140","v":0},{"$f":"SA34a!J140","v":0},{"$f":"SA34a!K140","v":0}]
["Licences and Rights",null,{"$f":"SA34a!C141","v":-29759074},{"$f":"SA34a!D141","v":0},{"$f":"SA34a!E141","v":0},{"$f":"SA34a!F141","v":46462720},{"$f":"SA34a!G141","v":26611707},{"$f":"SA34a!H141","v":26611707},{"$f":"SA34a!I141","v":15000000},{"$f":"SA34a!J141","v":15000000},{"$f":"SA34a!K141","v":15000000}]
["Intangible Assets",null,{"$f":"SUM(C27:C28)","v":-29759074},{"$f":"SUM(D27:D28)","v":0},0,46462720,26611707,26611707,15000000,15000000,15000000]
["Computer Equipment",null,{"$f":"SA34a!C149","v":0},{"$f":"SA34a!D149","v":0},{"$f":"SA34a!E149","v":139771},{"$f":"SA34a!F149","v":0},{"$f":"SA34a!G149","v":0},{"$f":"SA34a!H149","v":0},{"$f":"SA34a!I149","v":0},{"$f":"SA34a!J149","v":0},{"$f":"SA34a!K149","v":0}]
["Furniture and Office Equipment",null,{"$f":"SA34a!C152","v":766510},{"$f":"SA34a!D152","v":0},{"$f":"SA34a!E152","v":5500},{"$f":"SA34a!F152","v":0},{"$f":"SA34a!G152","v":0},{"$f":"SA34a!H152","v":0},{"$f":"SA34a!I152","v":0},{"$f":"SA34a!J152","v":0},{"$f":"SA34a!K152","v":0}]
["Machinery and Equipment",null,{"$f":"SA34a!C155","v":26197},{"$f":"SA34a!D155","v":79480},{"$f":"SA34a!E155","v":0},{"$f":"SA34a!F155","v":1500000},{"$f":"SA34a!G155","v":0},{"$f":"SA34a!H155","v":0},{"$f":"SA34a!I155","v":0},{"$f":"SA34a!J155","v":0},{"$f":"SA34a!K155","v":0}]
["Transport Assets",null,{"$f":"SA34a!C158","v":2394548},{"$f":"SA34a!D158","v":0},{"$f":"SA34a!E158","v":13617978},{"$f":"SA34a!F158","v":0},{"$f":"SA34a!G158","v":0},{"$f":"SA34a!H158","v":0},{"$f":"SA34a!I158","v":0},{"$f":"SA34a!J158","v":0},{"$f":"SA34a!K158","v":0}]
["Land",null,{"$f":"SA34a!C161","v":16053},{"$f":"SA34a!D161","v":0},{"$f":"SA34a!E161","v":0},{"$f":"SA34a!F161","v":0},{"$f":"SA34a!G161","v":0},{"$f":"SA34a!H161","v":0},{"$f":"SA34a!I161","v":0},{"$f":"SA34a!J161","v":0},{"$f":"SA34a!K161","v":0}]
["Zoo's, Marine and Non-biological Animals",null,{"$f":"SA34a!C164","v":0},{"$f":"SA34a!D164","v":0},{"$f":"SA34a!E164","v":0},{"$f":"SA34a!F164","v":0},{"$f":"SA34a!G164","v":0},{"$f":"SA34a!H164","v":0},{"$f":"SA34a!I164","v":0},{"$f":"SA34a!J164","v":0},{"$f":"SA34a!K164","v":0}]
[]
["Total Renewal of Existing Assets",2,{"$f":"C47+C50+C51+C54+C57+C58+SUM(C61:C67)","v":0},{"$f":"D47+D50+D51+D54+D57+D58+SUM(D61:D67)","v":720404},315515.82999999996,3200000,3913658,3913658,22930000,9894327.2543415427,9571880]
["Roads Infrastructure",null,{"$f":"SA34b!C7","v":0},{"$f":"SA34b!D7","v":0},{"$f":"SA34b!E7","v":0},{"$f":"SA34b!F7","v":0},{"$f":"SA34b!G7","v":0},{"$f":"SA34b!H7","v":0},{"$f":"SA34b!I7","v":0},{"$f":"SA34b!J7","v":0},{"$f":"SA34b!K7","v":0}]
["Storm water Infrastructure",null,{"$f":"SA34b!C12","v":0},{"$f":"SA34b!D12","v":0},{"$f":"SA34b!E12","v":0},{"$f":"SA34b!F12","v":0},{"$f":"SA34b!G12","v":0},{"$f":"SA34b!H12","v":0},{"$f":"SA34b!I12","v":0},{"$f":"SA34b!J12","v":0},{"$f":"SA34b!K12","v":0}]
["Electrical Infrastructure",null,{"$f":"SA34b!C16","v":0},{"$f":"SA34b!D16","v":0},{"$f":"SA34b!E16","v":0},{"$f":"SA34b!F16","v":0},{"$f":"SA34b!G16","v":0},{"$f":"SA34b!H16","v":0},{"$f":"SA34b!I16","v":0},{"$f":"SA34b!J16","v":0},{"$f":"SA34b!K16","v":0}]
["Water Supply Infrastructure",null,{"$f":"SA34b!C26","v":0},{"$f":"SA34b!D26","v":0},{"$f":"SA34b!E26","v":0},{"$f":"SA34b!F26","v":2200000},{"$f":"SA34b!G26","v":860000},{"$f":"SA34b!H26","v":860000},{"$f":"SA34b!I26","v":15500000},{"$f":"SA34b!J26","v":8094022.8669937002},{"$f":"SA34b!K26","v":9500000}]
["Sanitation Infrastructure",null,{"$f":"SA34b!C37","v":0},{"$f":"SA34b!D37","v":0},{"$f":"SA34b!E37","v":0},{"$f":"SA34b!F37","v":0},{"$f":"SA34b!G37","v":2450289},{"$f":"SA34b!H37","v":2450289},{"$f":"SA34b!I37","v":7290000},{"$f":"SA34b!J37","v":1729384.3873478435},{"$f":"SA34b!K37","v":0}]
["Solid Waste Infrastructure",null,{"$f":"SA34b!C44","v":0},{"$f":"SA34b!D44","v":0},{"$f":"SA34b!E44","v":0},{"$f":"SA34b!F44","v":0},{"$f":"SA34b!G44","v":0},{"$f":"SA34b!H44","v":0},{"$f":"SA34b!I44","v":0},{"$f":"SA34b!J44","v":0},{"$f":"SA34b!K44","v":0}]
["Rail Infrastructure",null,{"$f":"SA34b!C52","v":0},{"$f":"SA34b!D52","v":0},{"$f":"SA34b!E52","v":0},{"$f":"SA34b!F52","v":0},{"$f":"SA34b!G52","v":0},{"$f":"SA34b!H52","v":0},{"$f":"SA34b!I52","v":0},{"$f":"SA34b!J52","v":0},{"$f":"SA34b!K52","v":0}]
["Coastal Infrastructure",null,{"$f":"SA34b!C62","v":0},{"$f":"SA34b!D62","v":0},{"$f":"SA34b!E62","v":0},{"$f":"SA34b!F62","v":0},{"$f":"SA34b!G62","v":0},{"$f":"SA34b!H62","v":0},{"$f":"SA34b!I62","v":0},{"$f":"SA34b!J62","v":0},{"$f":"SA34b!K62","v":0}]
["Information and Communication Infrastructure",null,{"$f":"SA34b!C68","v":0},{"$f":"SA34b!D68","v":0},{"$f":"SA34b!E68","v":0},{"$f":"SA34b!F68","v":0},{"$f":"SA34b!G68","v":0},{"$f":"SA34b!H68","v":0},{"$f":"SA34b!I68","v":0},{"$f":"SA34b!J68","v":0},{"$f":"SA34b!K68","v":0}]
["Infrastructure",null,{"$f":"SUM(C38:C46)","v":0},{"$f":"SUM(D38:D46)","v":0},0,2200000,3310289,3310289,22790000,9823407.2543415427,9500000]
["Community Facilities",null,{"$f":"SA34b!C75","v":0},{"$f":"SA34b!D75","v":0},{"$f":"SA34b!E75","v":0},{"$f":"SA34b!F75","v":0},{"$f":"SA34b!G75","v":0},{"$f":"SA34b!H75","v":0},{"$f":"SA34b!I75","v":0},{"$f":"SA34b!J75","v":0},{"$f":"SA34b!K75","v":0}]
["Sport and Recreation Facilities",null,{"$f":"SA34b!C98","v":0},{"$f":"SA34b!D98","v":0},{"$f":"SA34b!E98","v":0},{"$f":"SA34b!F98","v":0},{"$f":"SA34b!G98","v":0},{"$f":"SA34b!H98","v":0},{"$f":"SA34b!I98","v":0},{"$f":"SA34b!J98","v":0},{"$f":"SA34b!K98","v":0}]
["Community Assets",null,{"$f":"SUM(C48:C49)","v":0},{"$f":"SUM(D48:D49)","v":0},0,0,0,0,0,0,0]
["Heritage Assets",null,{"$f":"SA34b!C103","v":0},{"$f":"SA34b!D103","v":0},{"$f":"SA34b!E103","v":0},{"$f":"SA34b!F103","v":0},{"$f":"SA34b!G103","v":0},{"$f":"SA34b!H103","v":0},{"$f":"SA34b!I103","v":0},{"$f":"SA34b!J103","v":0},{"$f":"SA34b!K103","v":0}]
["Revenue Generating",null,{"$f":"SA34b!C111","v":0},{"$f":"SA34b!D111","v":0},{"$f":"SA34b!E111","v":0},{"$f":"SA34b!F111","v":0},{"$f":"SA34b!G111","v":0},{"$f":"SA34b!H111","v":0},{"$f":"SA34b!I111","v":0},{"$f":"SA34b!J111","v":0},{"$f":"SA34b!K111","v":0}]
["Non-revenue Generating",null,{"$f":"SA34b!C114","v":0},{"$f":"SA34b!D114","v":0},{"$f":"SA34b!E114","v":0},{"$f":"SA34b!F114","v":0},{"$f":"SA34b!G114","v":0},{"$f":"SA34b!H114","v":0},{"$f":"SA34b!I114","v":0},{"$f":"SA34b!J114","v":0},{"$f":"SA34b!K114","v":0}]
["Investment properties",null,{"$f":"SUM(C52:C53)","v":0},{"$f":"SUM(D52:D53)","v":0},0,0,0,0,0,0,0]
["Operational Buildings",null,{"$f":"SA34b!C119","v":0},{"$f":"SA34b!D119","v":0},{"$f":"SA34b!E119","v":0},{"$f":"SA34b!F119","v":0},{"$f":"SA34b!G119","v":0},{"$f":"SA34b!H119","v":0},{"$f":"SA34b!I119","v":0},{"$f":"SA34b!J119","v":0},{"$f":"SA34b!K119","v":0}]
["Housing",null,{"$f":"SA34b!C131","v":0},{"$f":"SA34b!D131","v":0},{"$f":"SA34b!E131","v":0},{"$f":"SA34b!F131","v":0},{"$f":"SA34b!G131","v":0},{"$f":"SA34b!H131","v":0},{"$f":"SA34b!I131","v":0},{"$f":"SA34b!J131","v":0},{"$f":"SA34b!K131","v":0}]
["Other Assets",null,{"$f":"SUM(C55:C56)","v":0},{"$f":"SUM(D55:D56)","v":0},0,0,0,0,0,0,0]
["Biological or Cultivated Assets",null,{"$f":"SA34b!C136","v":0},{"$f":"SA34b!D136","v":0},{"$f":"SA34b!E136","v":0},{"$f":"SA34b!F136","v":0},{"$f":"SA34b!G136","v":0},{"$f":"SA34b!H136","v":0},{"$f":"SA34b!I136","v":0},{"$f":"SA34b!J136","v":0},{"$f":"SA34b!K136","v":0}]
["Servitudes",null,{"$f":"SA34b!C140","v":0},{"$f":"SA34b!D140","v":0},{"$f":"SA34b!E140","v":0},{"$f":"SA34b!F140","v":0},{"$f":"SA34b!G140","v":0},{"$f":"SA34b!H140","v":0},{"$f":"SA34b!I140","v":0},{"$f":"SA34b!J140","v":0},{"$f":"SA34b!K140","v":0}]
["Licences and Rights",null,{"$f":"SA34b!C141","v":0},{"$f":"SA34b!D141","v":0},{"$f":"SA34b!E141","v":0},{"$f":"SA34b!F141","v":0},{"$f":"SA34b!G141","v":0},{"$f":"SA34b!H141","v":0},{"$f":"SA34b!I141","v":0},{"$f":"SA34b!J141","v":0},{"$f":"SA34b!K141","v":0}]
["Intangible Assets",null,{"$f":"SUM(C59:C60)","v":0},{"$f":"SUM(D59:D60)","v":0},0,0,0,0,0,0,0]
["Computer Equipment",null,{"$f":"SA34b!C149","v":0},{"$f":"SA34b!D149","v":585960},{"$f":"SA34b!E149","v":200229.41},{"$f":"SA34b!F149","v":1000000},{"$f":"SA34b!G149","v":603369},{"$f":"SA34b!H149","v":603369},{"$f":"SA34b!I149","v":120000},{"$f":"SA34b!J149","v":50000},{"$f":"SA34b!K149","v":50000}]
["Furniture and Office Equipment",null,{"$f":"SA34b!C152","v":0},{"$f":"SA34b!D152","v":0},{"$f":"SA34b!E152","v":0},{"$f":"SA34b!F152","v":0},{"$f":"SA34b!G152","v":0},{"$f":"SA34b!H152","v":0},{"$f":"SA34b!I152","v":20000},{"$f":"SA34b!J152","v":20920},{"$f":"SA34b!K152","v":21880}]
["Machinery and Equipment",null,{"$f":"SA34b!C155","v":0},{"$f":"SA34b!D155","v":0},{"$f":"SA34b!E155","v":115286.41999999995},{"$f":"SA34b!F155","v":0},{"$f":"SA34b!G155","v":0},{"$f":"SA34b!H155","v":0},{"$f":"SA34b!I155","v":0},{"$f":"SA34b!J155","v":0},{"$f":"SA34b!K155","v":0}]
["Transport Assets",null,{"$f":"SA34b!C158","v":0},{"$f":"SA34b!D158","v":134444},{"$f":"SA34b!E158","v":0},{"$f":"SA34b!F158","v":0},{"$f":"SA34b!G158","v":0},{"$f":"SA34b!H158","v":0},{"$f":"SA34b!I158","v":0},{"$f":"SA34b!J158","v":0},{"$f":"SA34b!K158","v":0}]
["Land",null,{"$f":"SA34b!C161","v":0},{"$f":"SA34b!D161","v":0},{"$f":"SA34b!E161","v":0},{"$f":"SA34b!F161","v":0},{"$f":"SA34b!G161","v":0},{"$f":"SA34b!H161","v":0},{"$f":"SA34b!I161","v":0},{"$f":"SA34b!J161","v":0},{"$f":"SA34b!K161","v":0}]
["Zoo's, Marine and Non-biological Animals",null,{"$f":"SA34b!C164","v":0},{"$f":"SA34b!D164","v":0},{"$f":"SA34b!E164","v":0},{"$f":"SA34b!F164","v":0},{"$f":"SA34b!G164","v":0},{"$f":"SA34b!H164","v":0},{"$f":"SA34b!I164","v":0},{"$f":"SA34b!J164","v":0},{"$f":"SA34b!K164","v":0}]
[]
["Total Upgrading of Existing Assets",6,{"$f":"C79+C82+C83+C86+C89+C90+SUM(C93:C99)","v":0},{"$f":"D79+D82+D83+D86+D89+D90+SUM(D93:D99)","v":2152338},657336.88,122287896.50797798,193290266.92601252,193290266.92601252,135470921.46000001,115098614.28502831,150045716.92439258]
["Roads Infrastructure",null,{"$f":"SA34e!C7","v":0},{"$f":"SA34e!D7","v":0},{"$f":"SA34e!E7","v":0},{"$f":"SA34e!F7","v":0},{"$f":"SA34e!G7","v":0},{"$f":"SA34e!H7","v":0},{"$f":"SA34e!I7","v":0},{"$f":"SA34e!J7","v":0},{"$f":"SA34e!K7","v":0}]
["Storm water Infrastructure",null,{"$f":"SA34e!C12","v":0},{"$f":"SA34e!D12","v":0},{"$f":"SA34e!E12","v":0},{"$f":"SA34e!F12","v":0},{"$f":"SA34e!G12","v":0},{"$f":"SA34e!H12","v":0},{"$f":"SA34e!I12","v":0},{"$f":"SA34e!J12","v":0},{"$f":"SA34e!K12","v":0}]
["Electrical Infrastructure",null,{"$f":"SA34e!C16","v":0},{"$f":"SA34e!D16","v":0},{"$f":"SA34e!E16","v":0},{"$f":"SA34e!F16","v":0},{"$f":"SA34e!G16","v":0},{"$f":"SA34e!H16","v":0},{"$f":"SA34e!I16","v":0},{"$f":"SA34e!J16","v":0},{"$f":"SA34e!K16","v":0}]
["Water Supply Infrastructure",null,{"$f":"SA34e!C26","v":0},{"$f":"SA34e!D26","v":0},{"$f":"SA34e!E26","v":0},{"$f":"SA34e!F26","v":86711396.581965461},{"$f":"SA34e!G26","v":145763767},{"$f":"SA34e!H26","v":145763767},{"$f":"SA34e!I26","v":107010921.46000001},{"$f":"SA34e!J26","v":91305877.8380346},{"$f":"SA34e!K26","v":114545716.9243926}]
["Sanitation Infrastructure",null,{"$f":"SA34e!C37","v":0},{"$f":"SA34e!D37","v":0},{"$f":"SA34e!E37","v":0},{"$f":"SA34e!F37","v":35576499.926012516},{"$f":"SA34e!G37","v":47526499.926012516},{"$f":"SA34e!H37","v":47526499.926012516},{"$f":"SA34e!I37","v":28460000},{"$f":"SA34e!J37","v":23792736.446993701},{"$f":"SA34e!K37","v":35500000}]
["Solid Waste Infrastructure",null,{"$f":"SA34e!C44","v":0},{"$f":"SA34e!D44","v":0},{"$f":"SA34e!E44","v":0},{"$f":"SA34e!F44","v":0},{"$f":"SA34e!G44","v":0},{"$f":"SA34e!H44","v":0},{"$f":"SA34e!I44","v":0},{"$f":"SA34e!J44","v":0},{"$f":"SA34e!K44","v":0}]
["Rail Infrastructure",null,{"$f":"SA34e!C52","v":0},{"$f":"SA34e!D52","v":0},{"$f":"SA34e!E52","v":0},{"$f":"SA34e!F52","v":0},{"$f":"SA34e!G52","v":0},{"$f":"SA34e!H52","v":0},{"$f":"SA34e!I52","v":0},{"$f":"SA34e!J52","v":0},{"$f":"SA34e!K52","v":0}]
["Coastal Infrastructure",null,{"$f":"SA34e!C62","v":0},{"$f":"SA34e!D62","v":0},{"$f":"SA34e!E62","v":0},{"$f":"SA34e!F62","v":0},{"$f":"SA34e!G62","v":0},{"$f":"SA34e!H62","v":0},{"$f":"SA34e!I62","v":0},{"$f":"SA34e!J62","v":0},{"$f":"SA34e!K62","v":0}]
["Information and Communication Infrastructure",null,{"$f":"SA34e!C68","v":0},{"$f":"SA34e!D68","v":0},{"$f":"SA34e!E68","v":0},{"$f":"SA34e!F68","v":0},{"$f":"SA34e!G68","v":0},{"$f":"SA34e!H68","v":0},{"$f":"SA34e!I68","v":0},{"$f":"SA34e!J68","v":0},{"$f":"SA34e!K68","v":0}]
["Infrastructure",null,{"$f":"SUM(C70:C78)","v":0},0,0,122287896.50797798,193290266.92601252,193290266.92601252,135470921.46000001,115098614.28502831,150045716.92439258]
["Community Facilities",null,{"$f":"SA34e!C75","v":0},{"$f":"SA34e!D75","v":2152338},{"$f":"SA34e!E75","v":657336.88},{"$f":"SA34e!F75","v":0},{"$f":"SA34e!G75","v":0},{"$f":"SA34e!H75","v":0},{"$f":"SA34e!I75","v":0},{"$f":"SA34e!J75","v":0},{"$f":"SA34e!K75","v":0}]
["Sport and Recreation Facilities",null,{"$f":"SA34e!C98","v":0},{"$f":"SA34e!D98","v":0},{"$f":"SA34e!E98","v":0},{"$f":"SA34e!F98","v":0},{"$f":"SA34e!G98","v":0},{"$f":"SA34e!H98","v":0},{"$f":"SA34e!I98","v":0},{"$f":"SA34e!J98","v":0},{"$f":"SA34e!K98","v":0}]
["Community Assets",null,{"$f":"SUM(C80:C81)","v":0},2152338,657336.88,0,0,0,0,0,0]
["Heritage Assets",null,{"$f":"SA34e!C103","v":0},{"$f":"SA34e!D103","v":0},{"$f":"SA34e!E103","v":0},{"$f":"SA34e!F103","v":0},{"$f":"SA34e!G103","v":0},{"$f":"SA34e!H103","v":0},{"$f":"SA34e!I103","v":0},{"$f":"SA34e!J103","v":0},{"$f":"SA34e!K103","v":0}]
["Revenue Generating",null,{"$f":"SA34e!C111","v":0},{"$f":"SA34e!D111","v":0},{"$f":"SA34e!E111","v":0},{"$f":"SA34e!F111","v":0},{"$f":"SA34e!G111","v":0},{"$f":"SA34e!H111","v":0},{"$f":"SA34e!I111","v":0},{"$f":"SA34e!J111","v":0},{"$f":"SA34e!K111","v":0}]
["Non-revenue Generating",null,{"$f":"SA34e!C114","v":0},{"$f":"SA34e!D114","v":0},{"$f":"SA34e!E114","v":0},{"$f":"SA34e!F114","v":0},{"$f":"SA34e!G114","v":0},{"$f":"SA34e!H114","v":0},{"$f":"SA34e!I114","v":0},{"$f":"SA34e!J114","v":0},{"$f":"SA34e!K114","v":0}]
["Investment properties",null,{"$f":"SUM(C84:C85)","v":0},0,0,0,0,0,0,0,0]
["Operational Buildings",null,{"$f":"SA34e!C119","v":0},{"$f":"SA34e!D119","v":0},{"$f":"SA34e!E119","v":0},{"$f":"SA34e!F119","v":0},{"$f":"SA34e!G119","v":0},{"$f":"SA34e!H119","v":0},{"$f":"SA34e!I119","v":0},{"$f":"SA34e!J119","v":0},{"$f":"SA34e!K119","v":0}]
["Housing",null,{"$f":"SA34e!C131","v":0},{"$f":"SA34e!D131","v":0},{"$f":"SA34e!E131","v":0},{"$f":"SA34e!F131","v":0},{"$f":"SA34e!G131","v":0},{"$f":"SA34e!H131","v":0},{"$f":"SA34e!I131","v":0},{"$f":"SA34e!J131","v":0},{"$f":"SA34e!K131","v":0}]
["Other Assets",null,{"$f":"SUM(C87:C88)","v":0},0,0,0,0,0,0,0,0]
["Biological or Cultivated Assets",null,{"$f":"SA34e!C136","v":0},{"$f":"SA34e!D136","v":0},{"$f":"SA34e!E136","v":0},{"$f":"SA34e!F136","v":0},{"$f":"SA34e!G136","v":0},{"$f":"SA34e!H136","v":0},{"$f":"SA34e!I136","v":0},{"$f":"SA34e!J136","v":0},{"$f":"SA34e!K136","v":0}]
["Servitudes",null,{"$f":"SA34e!C140","v":0},{"$f":"SA34e!D140","v":0},{"$f":"SA34e!E140","v":0},{"$f":"SA34e!F140","v":0},{"$f":"SA34e!G140","v":0},{"$f":"SA34e!H140","v":0},{"$f":"SA34e!I140","v":0},{"$f":"SA34e!J140","v":0},{"$f":"SA34e!K140","v":0}]
["Licences and Rights",null,{"$f":"SA34e!C141","v":0},{"$f":"SA34e!D141","v":0},{"$f":"SA34e!E141","v":0},{"$f":"SA34e!F141","v":0},{"$f":"SA34e!G141","v":0},{"$f":"SA34e!H141","v":0},{"$f":"SA34e!I141","v":0},{"$f":"SA34e!J141","v":0},{"$f":"SA34e!K141","v":0}]
["Intangible Assets",null,{"$f":"SUM(C91:C92)","v":0},0,0,0,0,0,0,0,0]
["Computer Equipment",null,{"$f":"SA34e!C149","v":0},{"$f":"SA34e!D149","v":0},{"$f":"SA34e!E149","v":0},{"$f":"SA34e!F149","v":0},{"$f":"SA34e!G149","v":0},{"$f":"SA34e!H149","v":0},{"$f":"SA34e!I149","v":0},{"$f":"SA34e!J149","v":0},{"$f":"SA34e!K149","v":0}]
["Furniture and Office Equipment",null,{"$f":"SA34e!C152","v":0},{"$f":"SA34e!D152","v":0},{"$f":"SA34e!E152","v":0},{"$f":"SA34e!F152","v":0},{"$f":"SA34e!G152","v":0},{"$f":"SA34e!H152","v":0},{"$f":"SA34e!I152","v":0},{"$f":"SA34e!J152","v":0},{"$f":"SA34e!K152","v":0}]
["Machinery and Equipment",null,{"$f":"SA34e!C155","v":0},{"$f":"SA34e!D155","v":0},{"$f":"SA34e!E155","v":0},{"$f":"SA34e!F155","v":0},{"$f":"SA34e!G155","v":0},{"$f":"SA34e!H155","v":0},{"$f":"SA34e!I155","v":0},{"$f":"SA34e!J155","v":0},{"$f":"SA34e!K155","v":0}]
["Transport Assets",null,{"$f":"SA34e!C158","v":0},{"$f":"SA34e!D158","v":0},{"$f":"SA34e!E158","v":0},{"$f":"SA34e!F158","v":0},{"$f":"SA34e!G158","v":0},{"$f":"SA34e!H158","v":0},{"$f":"SA34e!I158","v":0},{"$f":"SA34e!J158","v":0},{"$f":"SA34e!K158","v":0}]
["Land",null,{"$f":"SA34e!C161","v":0},{"$f":"SA34e!D161","v":0},{"$f":"SA34e!E161","v":0},{"$f":"SA34e!F161","v":0},{"$f":"SA34e!G161","v":0},{"$f":"SA34e!H161","v":0},{"$f":"SA34e!I161","v":0},{"$f":"SA34e!J161","v":0},{"$f":"SA34e!K161","v":0}]
["Zoo's, Marine and Non-biological Animals",null,{"$f":"SA34e!C164","v":0},{"$f":"SA34e!D164","v":0},{"$f":"SA34e!E164","v":0},{"$f":"SA34e!F164","v":0},{"$f":"SA34e!G164","v":0},{"$f":"SA34e!H164","v":0},{"$f":"SA34e!I164","v":0},{"$f":"SA34e!J164","v":0},{"$f":"SA34e!K164","v":0}]
[]
["Total Capital Expenditure",4,{"$f":"+C5+C37+C69","v":32180119},{"$f":"+D5+D37+D69","v":373029354},335619957.2299999,659655719.99599993,587482695.33667636,587482695.33667636,566483857.6237967,688904670.00000012,692025829.99999964]
["Roads Infrastructure",null,{"$f":"+C6+C38+C70","v":0},{"$f":"+D6+D38+D70","v":0},0,0,0,0,0,0,0]
["Storm water Infrastructure",null,{"$f":"+C7+C39+C71","v":0},0,0,0,0,0,0,0,0]
["Electrical Infrastructure",null,0,0,0,0,0,0,0,0,0]
["Water Supply Infrastructure",null,58651184,360591659,320157084.93999994,398200417.59353685,468808474.42500544,468808474.42500544,483322267.55650902,598789335.86866486,590040590.60999966]
["Sanitation Infrastructure",null,84701,9485473,726770.58,212492582.40246305,91459144.911670923,91459144.911670923,68021590.067287698,75044414.131335288,86913359.390000001]
["Solid Waste Infrastructure",null,0,0,0,0,0,0,0,0,0]
["Rail Infrastructure",null,0,0,0,0,0,0,0,0,0]
["Coastal Infrastructure",null,0,0,0,0,0,0,0,0,0]
["Information and Communication Infrastructure",null,0,0,0,0,0,0,0,0,0]
["Infrastructure",null,{"$f":"SUM(C102:C110)","v":58735885},{"$f":"SUM(D102:D110)","v":370077132},320883855.51999992,610692999.99599993,560267619.33667636,560267619.33667636,551343857.6237967,673833750.00000012,676953949.99999964]
["Community Facilities",null,{"$f":"+C16+C48+C80","v":0},{"$f":"+D16+D48+D80","v":2152338},657336.88,0,0,0,0,0,0]
["Sport and Recreation Facilities",null,{"$f":"+C17+C49+C81","v":0},{"$f":"+D17+D49+D81","v":0},0,0,0,0,0,0,0]
["Community Assets",null,{"$f":"SUM(C112:C113)","v":0},{"$f":"SUM(D112:D113)","v":2152338},657336.88,0,0,0,0,0,0]
["Heritage Assets",null,{"$f":"+C19+C51+C83","v":0},{"$f":"+D19+D51+D83","v":0},0,0,0,0,0,0,0]
["Revenue Generating",null,{"$f":"+C20+C52+C84","v":0},{"$f":"+D20+D52+D84","v":0},0,0,0,0,0,0,0]
["Non-revenue Generating",null,{"$f":"+C21+C53+C85","v":0},{"$f":"+D21+D53+D85","v":0},0,0,0,0,0,0,0]
["Investment properties",null,{"$f":"SUM(C116:C117)","v":0},{"$f":"SUM(D116:D117)","v":0},0,0,0,0,0,0,0]
["Operational Buildings",null,{"$f":"+C23+C55+C87","v":0},{"$f":"+D23+D55+D87","v":0},0,0,0,0,0,{"$f":"+J23+J55+J87","v":0},0]
["Housing",null,{"$f":"+C24+C56+C88","v":0},{"$f":"+D24+D56+D88","v":0},0,0,0,0,0,0,0]
["Other Assets",null,{"$f":"SUM(C119:C120)","v":0},0,0,0,0,0,0,0,0]
["Biological or Cultivated Assets",null,{"$f":"+C26+C58+C90","v":0},{"$f":"+D26+D58+D90","v":0},0,0,0,0,0,0,0]
["Servitudes",null,{"$f":"+C27+C59+C91","v":0},{"$f":"+D27+D59+D91","v":0},0,0,0,0,0,0,0]
["Licences and Rights",null,{"$f":"+C28+C60+C92","v":-29759074},{"$f":"+D28+D60+D92","v":0},0,46462720,26611707,26611707,15000000,15000000,15000000]
["Intangible Assets",null,{"$f":"SUM(C123:C124)","v":-29759074},{"$f":"SUM(D123:D124)","v":0},0,46462720,26611707,26611707,15000000,15000000,15000000]
["Computer Equipment",null,{"$f":"+C30+C62+C94","v":0},{"$f":"+D30+D62+D94","v":585960},340000.41000000003,1000000,603369,603369,120000,50000,50000]
["Furniture and Office Equipment",null,{"$f":"+C31+C63+C95","v":766510},0,5500,0,0,0,20000,20920,21880]
["Machinery and Equipment",null,26197,79480,115286.41999999995,1500000,0,0,0,0,0]
["Transport Assets",null,2394548,134444,13617978,0,0,0,0,0,0]
["Land",null,16053,0,0,0,0,0,0,0,0]
["Zoo's, Marine and Non-biological Animals",null,0,0,0,0,0,0,0,0,0]
["TOTAL CAPITAL EXPENDITURE - Asset class",null,{"$f":"+C5+C37+C69","v":32180119},{"$f":"+D5+D37+D69","v":373029354},335619957.2299999,659655719.99599993,587482695.33667636,587482695.33667636,566483857.6237967,688904670.00000012,692025829.99999964]
[]
["ASSET REGISTER SUMMARY - PPE (WDV)",5,{"$f":"C144+C147+C148+C151+C154+C155+C158+C159+C160+C161+C162+C163+C164","v":4881196763.6999998},{"$f":"D144+D147+D148+D151+D154+D155+D158+D159+D160+D161+D162+D163+D164","v":4619085003},4819055666,6636954859.2361727,5243805337.5966768,5243805337.5966768,5639971832.2204733,6141527394.2204733,6627469187.2204733]
["Roads Infrastructure"]
["Storm water Infrastructure"]
["Electrical Infrastructure"]
["Water Supply Infrastructure",null,{"$f":"4522012195.28*60%","v":2713207317.1679997},4065040239,4301692804,5542582035.9373417,4655315820.2950058,4655315820.2950058,{"$f":"H138+I105-SA34d!I26","v":5011934139.8515148},{"$f":"I138+J105-SA34d!J26","v":5471349130.7201796},{"$f":"J138+K105-SA34d!K26","v":5908077939.3301792}]
["Sanitation Infrastructure",null,{"$f":"4522012195.28*40%","v":1808804878.112},205976564,194684692,628290909.40957248,275764083.97167093,275764083.97167093,{"$f":"H139+I106-SA34d!I37","v":332367944.03895861},{"$f":"I139+J106-SA34d!J37","v":394852852.17029393},{"$f":"J139+K106-SA34d!K37","v":467950752.56029391}]
["Solid Waste Infrastructure",null,null,2770721,2572957]
["Rail Infrastructure"]
["Coastal Infrastructure"]
["Information and Communication Infrastructure"]
["Infrastructure",null,{"$f":"SUM(C135:C143)","v":4522012195.2799997},{"$f":"SUM(D135:D143)","v":4273787524},4498950453,6170872945.3469143,4931079904.2666769,4931079904.2666769,5344302083.8904734,5866201982.8904734,6376028691.8904734]
[]
[]
["Community Assets",null,48113420.039999999,39804687,38979966,51568236.574125513,35982275.07,35982275.07,{"$f":"H147+I114-SA34d!I74","v":35982275.07},{"$f":"I147+J114-SA34d!J74","v":35982275.07},{"$f":"J147+K114-SA34d!K74","v":35982275.07}]
["Heritage Assets",null,400000,400000,400000,349300,400000,400000,{"$f":"H148+I115-SA34d!I103","v":400000},{"$f":"I148+J115-SA34d!J103","v":400000},{"$f":"J148+K115-SA34d!K103","v":400000}]
[]
[]
["Investment properties",null,152121774,151081758,150724402,172734625,150276647.41999999,150276647.41999999,{"$f":"H151+I118-SA34d!I110","v":149784116.41999999},{"$f":"I151+J118-SA34d!J110","v":149242332.41999999},{"$f":"J151+K118-SA34d!K110","v":148646370.41999999}]
[]
[]
["Other Assets",null,20290770.140000001,{"$f":"26833339+119236","v":26952575},22483443,18435338.140000001,21955862.18,21955862.18,{"$f":"H154+I121-SA34d!I118","v":21375523.18},{"$f":"I154+J121-SA34d!J118","v":20737150.18},{"$f":"J154+K121-SA34d!K118","v":20034939.18}]
["Biological or Cultivated Assets"]
[]
[]
["Intangible Assets",null,49627527.239999995,39399871,26549858,133963783,39132451.849999994,39132451.849999994,{"$f":"H158+I124-SA34d!I139","v":38731773.849999994},{"$f":"I158+J124-SA34d!J139","v":36791027.849999994},{"$f":"J158+K124-SA34d!K139","v":33156206.849999994}]
["Computer Equipment",null,{"$f":"1138529+20805276+284150","v":22227955},27461029,21530536,24057433.745697673,15881710.970000003,15881710.970000003,{"$f":"H159+I126-SA34d!I149","v":12165817.970000003},{"$f":"I159+J126-SA34d!J149","v":7996335.9700000025},{"$f":"J159+K126-SA34d!K149","v":3404904.9700000025}]
["Furniture and Office Equipment",null,{"$f":"11614165+1492632+192159","v":13298956},10622144,8062674,11674115.982207362,5746989.3200000003,5746989.3200000003,{"$f":"H160+I127-SA34d!I152","v":4179720.3200000003},{"$f":"I160+J127-SA34d!J152","v":2454640.3200000003},{"$f":"J160+K127-SA34d!K152","v":555916.3200000003}]
["Machinery and Equipment",null,5968737,3543554,1798389,13245090.234721016,1244325.7599999998,1244325.7599999998,{"$f":"H161+I128-SA34d!I155","v":899546.75999999978},{"$f":"I161+J128-SA34d!J155","v":520288.75999999978},{"$f":"J161+K128-SA34d!K155","v":103101.75999999978}]
["Transport Assets",null,{"$f":"47135429","v":47135429},40706769,44250853,40053991.212505959,34206985.400000006,34206985.400000006,{"$f":"H162+I129-SA34d!I158","v":24252789.400000006},{"$f":"I162+J129-SA34d!J158","v":13303175.400000006},{"$f":"J162+K129-SA34d!K158","v":1258595.400000006}]
["Land",null,null,5325092,5325092,null,7898185.3599999994,7898185.3599999994,{"$f":"H163+I130-SA34d!I161","v":7898185.3599999994},{"$f":"I163+J130-SA34d!J161","v":7898185.3599999994},{"$f":"J163+K130-SA34d!K161","v":7898185.3599999994}]
["Zoo's, Marine and Non-biological Animals"]
["TOTAL ASSET REGISTER SUMMARY - PPE (WDV)",5,{"$f":"C144+C147+C148+C151+C154+C155+C158+C159+C160+C161+C162+C163+C164","v":4881196763.6999998},{"$f":"D144+D147+D148+D151+D154+D155+D158+D159+D160+D161+D162+D163+D164","v":4619085003},4819055666,6636954859.2361727,5243805337.5966768,5243805337.5966768,5639971832.2204733,6141527394.2204733,6627469187.2204733]
[]
["EXPENDITURE OTHER ITEMS",null,{"$f":"SUM(C168:C169)","v":132003795.51000001},{"$f":"SUM(D168:D169)","v":123794026.19000003},145763157.86000001,183183216,181324470,181324470,187154507,213968243,234416132]
["Depreciation",7,{"$f":"SA34d!C167","v":111288592.51000001},{"$f":"SA34d!D167","v":107269535.26000002},{"$f":"SA34d!E167","v":129688666.67},{"$f":"SA34d!F167","v":162566655},{"$f":"SA34d!G167","v":162566655},{"$f":"SA34d!H167","v":162566655},{"$f":"SA34d!I167","v":170317363},{"$f":"SA34d!J167","v":187349108},{"$f":"SA34d!K167","v":206084037}]
["Repairs and Maintenance by Asset Class",3,{"$f":"C179+C182+C183+C186+C189+C190+SUM(C193:C199)","v":20715203},{"$f":"D179+D182+D183+D186+D189+D190+SUM(D193:D199)","v":16524490.93},16074491.189999999,20616561,18757815,18757815,16837144,26619135,28332095]
["Roads Infrastructure",null,{"$f":"SA34c!C7","v":0},{"$f":"SA34c!D7","v":0},{"$f":"SA34c!E7","v":0},{"$f":"SA34c!F7","v":0},{"$f":"SA34c!G7","v":981599},{"$f":"SA34c!H7","v":981599},{"$f":"SA34c!I7","v":0},{"$f":"SA34c!J7","v":0},{"$f":"SA34c!K7","v":0}]
["Storm water Infrastructure",null,{"$f":"SA34c!C12","v":0},{"$f":"SA34c!D12","v":0},{"$f":"SA34c!E12","v":0},{"$f":"SA34c!F12","v":0},{"$f":"SA34c!G12","v":0},{"$f":"SA34c!H12","v":0},{"$f":"SA34c!I12","v":0},{"$f":"SA34c!J12","v":0},{"$f":"SA34c!K12","v":0}]
["Electrical Infrastructure",null,{"$f":"SA34c!C16","v":0},{"$f":"SA34c!D16","v":0},{"$f":"SA34c!E16","v":0},{"$f":"SA34c!F16","v":0},{"$f":"SA34c!G16","v":0},{"$f":"SA34c!H16","v":0},{"$f":"SA34c!I16","v":0},{"$f":"SA34c!J16","v":0},{"$f":"SA34c!K16","v":0}]
["Water Supply Infrastructure",null,{"$f":"SA34c!C26","v":20715203},{"$f":"SA34c!D26","v":16524490.93},{"$f":"SA34c!E26","v":16074491.189999999},{"$f":"SA34c!F26","v":8696008},{"$f":"SA34c!G26","v":12359218},{"$f":"SA34c!H26","v":12359218},{"$f":"SA34c!I26","v":14022019},{"$f":"SA34c!J26","v":22971054},{"$f":"SA34c!K26","v":24455023}]
["Sanitation Infrastructure",null,{"$f":"SA34c!C37","v":0},{"$f":"SA34c!D37","v":0},{"$f":"SA34c!E37","v":0},{"$f":"SA34c!F37","v":3172150},{"$f":"SA34c!G37","v":3926133},{"$f":"SA34c!H37","v":3926133},{"$f":"SA34c!I37","v":2815125},{"$f":"SA34c!J37","v":3648081},{"$f":"SA34c!K37","v":3877072}]
["Solid Waste Infrastructure",null,{"$f":"SA34c!C44","v":0},{"$f":"SA34c!D44","v":0},{"$f":"SA34c!E44","v":0},{"$f":"SA34c!F44","v":0},{"$f":"SA34c!G44","v":0},{"$f":"SA34c!H44","v":0},{"$f":"SA34c!I44","v":0},{"$f":"SA34c!J44","v":0},{"$f":"SA34c!K44","v":0}]
["Rail Infrastructure",null,{"$f":"SA34c!C52","v":0},{"$f":"SA34c!D52","v":0},{"$f":"SA34c!E52","v":0},{"$f":"SA34c!F52","v":0},{"$f":"SA34c!G52","v":0},{"$f":"SA34c!H52","v":0},{"$f":"SA34c!I52","v":0},{"$f":"SA34c!J52","v":0},{"$f":"SA34c!K52","v":0}]
["Coastal Infrastructure",null,{"$f":"SA34c!C62","v":0},{"$f":"SA34c!D62","v":0},{"$f":"SA34c!E62","v":0},{"$f":"SA34c!F62","v":0},{"$f":"SA34c!G62","v":0},{"$f":"SA34c!H62","v":0},{"$f":"SA34c!I62","v":0},{"$f":"SA34c!J62","v":0},{"$f":"SA34c!K62","v":0}]
["Information and Communication Infrastructure",null,{"$f":"SA34c!C68","v":0},{"$f":"SA34c!D68","v":0},{"$f":"SA34c!E68","v":0},{"$f":"SA34c!F68","v":0},{"$f":"SA34c!G68","v":0},{"$f":"SA34c!H68","v":0},{"$f":"SA34c!I68","v":0},{"$f":"SA34c!J68","v":0},{"$f":"SA34c!K68","v":0}]
["Infrastructure",null,{"$f":"SUM(C170:C178)","v":20715203},{"$f":"SUM(D170:D178)","v":16524490.93},16074491.189999999,11868158,17266950,17266950,16837144,26619135,28332095]
["Community Facilities",null,{"$f":"SA34c!C75","v":0},{"$f":"SA34c!D75","v":0},{"$f":"SA34c!E75","v":0},{"$f":"SA34c!F75","v":792000},{"$f":"SA34c!G75","v":0},{"$f":"SA34c!H75","v":0},{"$f":"SA34c!I75","v":0},{"$f":"SA34c!J75","v":0},{"$f":"SA34c!K75","v":0}]
["Sport and Recreation Facilities",null,{"$f":"SA34c!C98","v":0},{"$f":"SA34c!D98","v":0},{"$f":"SA34c!E98","v":0},{"$f":"SA34c!F98","v":0},{"$f":"SA34c!G98","v":0},{"$f":"SA34c!H98","v":0},{"$f":"SA34c!I98","v":0},{"$f":"SA34c!J98","v":0},{"$f":"SA34c!K98","v":0}]
["Community Assets",null,{"$f":"SUM(C180:C181)","v":0},0,0,792000,0,0,0,0,0]
["Heritage Assets",null,{"$f":"SA34c!C103","v":0},{"$f":"SA34c!D103","v":0},{"$f":"SA34c!E103","v":0},{"$f":"SA34c!F103","v":0},{"$f":"SA34c!G103","v":0},{"$f":"SA34c!H103","v":0},{"$f":"SA34c!I103","v":0},{"$f":"SA34c!J103","v":0},{"$f":"SA34c!K103","v":0}]
["Revenue Generating",null,{"$f":"SA34c!C111","v":0},{"$f":"SA34c!D111","v":0},{"$f":"SA34c!E111","v":0},{"$f":"SA34c!F111","v":0},{"$f":"SA34c!G111","v":0},{"$f":"SA34c!H111","v":0},{"$f":"SA34c!I111","v":0},{"$f":"SA34c!J111","v":0},{"$f":"SA34c!K111","v":0}]
["Non-revenue Generating",null,{"$f":"SA34c!C114","v":0},{"$f":"SA34c!D114","v":0},{"$f":"SA34c!E114","v":0},{"$f":"SA34c!F114","v":0},{"$f":"SA34c!G114","v":0},{"$f":"SA34c!H114","v":0},{"$f":"SA34c!I114","v":0},{"$f":"SA34c!J114","v":0},{"$f":"SA34c!K114","v":0}]
["Investment properties",null,{"$f":"SUM(C184:C185)","v":0},0,0,0,0,0,0,0,0]
["Operational Buildings",null,{"$f":"SA34c!C119","v":0},{"$f":"SA34c!D119","v":0},{"$f":"SA34c!E119","v":0},{"$f":"SA34c!F119","v":3229139},{"$f":"SA34c!G119","v":1487527},{"$f":"SA34c!H119","v":1487527},{"$f":"SA34c!I119","v":0},{"$f":"SA34c!J119","v":0},{"$f":"SA34c!K119","v":0}]
["Housing",null,{"$f":"SA34c!C131","v":0},{"$f":"SA34c!D131","v":0},{"$f":"SA34c!E131","v":0},{"$f":"SA34c!F131","v":0},{"$f":"SA34c!G131","v":0},{"$f":"SA34c!H131","v":0},{"$f":"SA34c!I131","v":0},{"$f":"SA34c!J131","v":0},{"$f":"SA34c!K131","v":0}]
["Other Assets",null,{"$f":"SUM(C187:C188)","v":0},0,0,3229139,1487527,1487527,0,0,0]
["Biological or Cultivated Assets",null,{"$f":"SA34c!C136","v":0},{"$f":"SA34c!D136","v":0},{"$f":"SA34c!E136","v":0},{"$f":"SA34c!F136","v":0},{"$f":"SA34c!G136","v":0},{"$f":"SA34c!H136","v":0},{"$f":"SA34c!I136","v":0},{"$f":"SA34c!J136","v":0},{"$f":"SA34c!K136","v":0}]
["Servitudes",null,{"$f":"SA34c!C140","v":0},{"$f":"SA34c!D140","v":0},{"$f":"SA34c!E140","v":0},{"$f":"SA34c!F140","v":0},{"$f":"SA34c!G140","v":0},{"$f":"SA34c!H140","v":0},{"$f":"SA34c!I140","v":0},{"$f":"SA34c!J140","v":0},{"$f":"SA34c!K140","v":0}]
["Licences and Rights",null,{"$f":"SA34c!C141","v":0},{"$f":"SA34c!D141","v":0},{"$f":"SA34c!E141","v":0},{"$f":"SA34c!F141","v":0},{"$f":"SA34c!G141","v":0},{"$f":"SA34c!H141","v":0},{"$f":"SA34c!I141","v":0},{"$f":"SA34c!J141","v":0},{"$f":"SA34c!K141","v":0}]
["Intangible Assets",null,{"$f":"SUM(C191:C192)","v":0},0,0,0,0,0,0,0,0]
["Computer Equipment",null,{"$f":"SA34c!C149","v":0},{"$f":"SA34c!D149","v":0},{"$f":"SA34c!E149","v":0},{"$f":"SA34c!F149","v":0},{"$f":"SA34c!G149","v":0},{"$f":"SA34c!H149","v":0},{"$f":"SA34c!I149","v":0},{"$f":"SA34c!J149","v":0},{"$f":"SA34c!K149","v":0}]
["Furniture and Office Equipment",null,{"$f":"SA34c!C152","v":0},{"$f":"SA34c!D152","v":0},{"$f":"SA34c!E152","v":0},{"$f":"SA34c!F152","v":0},{"$f":"SA34c!G152","v":0},{"$f":"SA34c!H152","v":0},{"$f":"SA34c!I152","v":0},{"$f":"SA34c!J152","v":0},{"$f":"SA34c!K152","v":0}]
["Machinery and Equipment",null,{"$f":"SA34c!C155","v":0},{"$f":"SA34c!D155","v":0},{"$f":"SA34c!E155","v":0},{"$f":"SA34c!F155","v":319765},{"$f":"SA34c!G155","v":3338},{"$f":"SA34c!H155","v":3338},{"$f":"SA34c!I155","v":0},{"$f":"SA34c!J155","v":0},{"$f":"SA34c!K155","v":0}]
["Transport Assets",null,{"$f":"SA34c!C158","v":0},{"$f":"SA34c!D158","v":0},{"$f":"SA34c!E158","v":0},{"$f":"SA34c!F158","v":4407499},{"$f":"SA34c!G158","v":0},{"$f":"SA34c!H158","v":0},{"$f":"SA34c!I158","v":0},{"$f":"SA34c!J158","v":0},{"$f":"SA34c!K158","v":0}]
["Land",null,{"$f":"SA34c!C161","v":0},{"$f":"SA34c!D161","v":0},{"$f":"SA34c!E161","v":0},{"$f":"SA34c!F161","v":0},{"$f":"SA34c!G161","v":0},{"$f":"SA34c!H161","v":0},{"$f":"SA34c!I161","v":0},{"$f":"SA34c!J161","v":0},{"$f":"SA34c!K161","v":0}]
["Zoo's, Marine and Non-biological Animals",null,{"$f":"SA34c!C164","v":0},{"$f":"SA34c!D164","v":0},{"$f":"SA34c!E164","v":0},{"$f":"SA34c!F164","v":0},{"$f":"SA34c!G164","v":0},{"$f":"SA34c!H164","v":0},{"$f":"SA34c!I164","v":0},{"$f":"SA34c!J164","v":0},{"$f":"SA34c!K164","v":0}]
[]
["TOTAL EXPENDITURE OTHER ITEMS",null,{"$f":"SUM(C168:C169)","v":132003795.51000001},123794026.19000003,145763157.86000001,183183216,181324470,181324470,187154507,213968243,234416132]
[]
["Renewal and upgrading of Existing Assets as % of total capex",null,{"$f":"IF(ISERROR((C37+C69)/C132),0,((C37+C69)/C132))","v":0},{"$f":"IF(ISERROR((D37+D69)/D132),0,((D37+D69)/D132))","v":7.7011151245754243E-3},2.8986736010257739E-3,0.19023240867029687,0.33567614244875466,0.33567614244875466,0.2796212448567148,0.18143721037537724,0.23065265775468621]
["Renewal and upgrading of Existing Assets as % of deprecn",null,{"$f":"IF(ISERROR((C37+C69)/C168),0,((C37+C69)/C168))","v":0},{"$f":"IF(ISERROR((D37+D69)/D168),0,((D37+D69)/D168))","v":2.6780595189836935E-2},7.5014473891961402E-3,0.77191658097398863,1.2130650343147709,1.2130650343147709,0.93003390065403968,0.66716592821658827,0.77452673796560279]
["R&M as a % of PPE",null,{"$f":"IF(ISERROR(ROUND(C169/'A6-FinPos'!C19,3)),0,(ROUND(C169/'A6-FinPos'!C19,3)))","v":4.0000000000000001E-3},{"$f":"IF(ISERROR(ROUND(D169/'A6-FinPos'!D19,3)),0,(ROUND(D169/'A6-FinPos'!D19,3)))","v":4.0000000000000001E-3},{"$f":"IF(ISERROR(ROUND(E169/'A6-FinPos'!E19,3)),0,(ROUND(E169/'A6-FinPos'!E19,3)))","v":3.0000000000000001E-3},{"$f":"IF(ISERROR(ROUND(F169/'A6-FinPos'!F19,3)),0,(ROUND(F169/'A6-FinPos'!F19,3)))","v":3.0000000000000001E-3},{"$f":"IF(ISERROR(ROUND(G169/'A6-FinPos'!G19,3)),0,(ROUND(G169/'A6-FinPos'!G19,3)))","v":4.0000000000000001E-3},{"$f":"IF(ISERROR(ROUND(H169/'A6-FinPos'!H19,3)),0,(ROUND(H169/'A6-FinPos'!H19,3)))","v":4.0000000000000001E-3},{"$f":"IF(ISERROR(ROUND(I169/'A6-FinPos'!J19,3)),0,(ROUND(I169/'A6-FinPos'!J19,3)))","v":3.0000000000000001E-3},{"$f":"IF(ISERROR(ROUND(J169/'A6-FinPos'!K19,3)),0,(ROUND(J169/'A6-FinPos'!K19,3)))","v":4.0000000000000001E-3},{"$f":"IF(ISERROR(ROUND(K169/'A6-FinPos'!L19,3)),0,(ROUND(K169/'A6-FinPos'!L19,3)))","v":4.0000000000000001E-3}]
["Renewal and upgrading and R&M as a % of PPE",null,{"$f":"IF(ISERROR(ROUND((C37+C69+C169)/C165,2)),0,(ROUND((C37+C69+C169)/C165,2)))","v":0},{"$f":"IF(ISERROR(ROUND((D37+D69+D169)/D165,2)),0,(ROUND((D37+D69+D169)/D165,2)))","v":0},0,0.02,0.04,0.04,0.03,0.02,0.03]
[]
[{"$f":"head27a","v":"References"}]
["1. Detail of new assets provided in Table SA34a"]
["2. Detail of renewal of existing assets provided in Table SA34b"]
["3. Detail of Repairs and Maintenance by Asset Class provided in Table SA34c"]
["4. Must reconcile to total capital expenditure on Budgeted Capital Expenditure"]
["5. Must reconcile to 'Budgeted Financial Position' (written down value)"]
["6. Detail of upgrading of existing assets provided in Table SA34e"]
["7. Detail of depreciation provided in Table SA34d"]
[]
["Check balance to A6",null,{"$f":"C165-'A6-FinPos'!D17-'A6-FinPos'!D19-'A6-FinPos'!D20-'A6-FinPos'!D21-'A6-FinPos'!D22-C148","v":262111623.69999981},{"$f":"D165-'A6-FinPos'!E17-'A6-FinPos'!E19-'A6-FinPos'!E20-'A6-FinPos'!E21-'A6-FinPos'!E22-D148","v":-199970804},{"$f":"E165-'A6-FinPos'!F17-'A6-FinPos'!F19-'A6-FinPos'!F20-'A6-FinPos'!F21-'A6-FinPos'!F22-E148","v":-1817949893.0961723},{"$f":"F165-'A6-FinPos'!G17-'A6-FinPos'!G19-'A6-FinPos'!G20-'A6-FinPos'!G21-'A6-FinPos'!G22-F148","v":1393200221.4894967},{"$f":"G165-'A6-FinPos'!H17-'A6-FinPos'!H19-'A6-FinPos'!H20-'A6-FinPos'!H21-'A6-FinPos'!H22-G148","v":-0.1499992311000824},{"$f":"H165-'A6-FinPos'!I17-'A6-FinPos'!I19-'A6-FinPos'!I20-'A6-FinPos'!I21-'A6-FinPos'!I22-H148","v":-0.1499992311000824},{"$f":"I165-'A6-FinPos'!J17-'A6-FinPos'!J19-'A6-FinPos'!J20-'A6-FinPos'!J21-'A6-FinPos'!J22-I148","v":-0.1499992311000824},{"$f":"J165-'A6-FinPos'!K17-'A6-FinPos'!K19-'A6-FinPos'!K20-'A6-FinPos'!K21-'A6-FinPos'!K22-J148","v":-0.1499992311000824},{"$f":"K165-'A6-FinPos'!L17-'A6-FinPos'!L19-'A6-FinPos'!L20-'A6-FinPos'!L21-'A6-FinPos'!L22-K148","v":-0.1499992311000824}]

{"sheet":"A10-SerDel","index":19,"n_rows":89,"n_cols":11,"rows_kept":89,"cut":false,"hidden":false,"merged":[[1,5,1,7],[1,8,1,10],[1,0,2,0],[1,1,2,1]]}
[{"$f":"muni&\" - \"&Approve10","v":"DC12 Amathole - Table A10 Basic service delivery measurement"}]
[{"$f":"desc","v":"Description"},{"$f":"head27","v":"Ref"},{"$f":"head1b","v":"2016/17"},{"$f":"head1A","v":"2017/18"},{"$f":"Head1","v":"2018/19"},{"$f":"Head2","v":"Current Year 2019/20"},null,null,{"$f":"Head3","v":"2020/21 Medium Term Revenue & Expenditure Framework"}]
[null,null,{"$f":"Head5A","v":"Outcome"},{"$f":"Head5A","v":"Outcome"},{"$f":"Head5A","v":"Outcome"},{"$f":"Head6","v":"Original Budget"},{"$f":"Head7","v":"Adjusted Budget"},{"$f":"Head8","v":"Full Year Forecast"},{"$f":"Head9","v":"Budget Year 2020/21"},{"$f":"Head10","v":"Budget Year +1 2021/22"},{"$f":"Head11","v":"Budget Year +2 2022/23"}]
["Household service targets",1]
["Water:"]
["Piped water inside dwelling",null,{"$f":"'SA9'!E67","v":31902},{"$f":"'SA9'!F67","v":31902},{"$f":"'SA9'!G67","v":0},{"$f":"'SA9'!H67","v":0},{"$f":"'SA9'!I67","v":0},{"$f":"'SA9'!J67","v":0},{"$f":"'SA9'!K67","v":0},{"$f":"'SA9'!L67","v":0},{"$f":"'SA9'!M67","v":0}]
["Piped water inside yard (but not in dwelling)",null,{"$f":"'SA9'!E68","v":0},{"$f":"'SA9'!F68","v":0},{"$f":"'SA9'!G68","v":0},{"$f":"'SA9'!H68","v":0},{"$f":"'SA9'!I68","v":0},{"$f":"'SA9'!J68","v":0},{"$f":"'SA9'!K68","v":0},{"$f":"'SA9'!L68","v":0},{"$f":"'SA9'!M68","v":0}]
["Using public tap (at least min.service level)",2,{"$f":"'SA9'!E69","v":194934},{"$f":"'SA9'!F69","v":196391},{"$f":"'SA9'!G69","v":0},{"$f":"'SA9'!H69","v":204694},{"$f":"'SA9'!I69","v":204694},{"$f":"'SA9'!J69","v":204694},{"$f":"'SA9'!K69","v":211113},{"$f":"'SA9'!L69","v":217532},{"$f":"'SA9'!M69","v":230583.92}]
["Other water supply (at least min.service level)",4,{"$f":"'SA9'!E70","v":0},{"$f":"'SA9'!F70","v":0},{"$f":"'SA9'!G70","v":0},{"$f":"'SA9'!H70","v":0},{"$f":"'SA9'!I70","v":0},{"$f":"'SA9'!J70","v":0},{"$f":"'SA9'!K70","v":0},{"$f":"'SA9'!L70","v":0},{"$f":"'SA9'!M70","v":0}]
["Minimum Service Level and Above sub-total",null,{"$f":"SUM(C6:C9)","v":226836},{"$f":"SUM(D6:D9)","v":228293},0,204694,204694,204694,211113,217532,230583.92]
["Using public tap (< min.service level)",3,{"$f":"'SA9'!E72","v":0},{"$f":"'SA9'!F72","v":0},{"$f":"'SA9'!G72","v":0},{"$f":"'SA9'!H72","v":0},{"$f":"'SA9'!I72","v":0},{"$f":"'SA9'!J72","v":0},{"$f":"'SA9'!K72","v":0},{"$f":"'SA9'!L72","v":0},{"$f":"'SA9'!M72","v":0}]
["Other water supply (< min.service level)",{"$f":"B9","v":4},{"$f":"'SA9'!E73","v":13164},{"$f":"'SA9'!F73","v":11707},{"$f":"'SA9'!G73","v":0},{"$f":"'SA9'!H73","v":0},{"$f":"'SA9'!I73","v":0},{"$f":"'SA9'!J73","v":0},{"$f":"'SA9'!K73","v":0},{"$f":"'SA9'!L73","v":0},{"$f":"'SA9'!M73","v":0}]
["No water supply",null,{"$f":"'SA9'!E74","v":0},{"$f":"'SA9'!F74","v":0},{"$f":"'SA9'!G74","v":0},{"$f":"'SA9'!H74","v":0},{"$f":"'SA9'!I74","v":0},{"$f":"'SA9'!J74","v":0},{"$f":"'SA9'!K74","v":0},{"$f":"'SA9'!L74","v":0},{"$f":"'SA9'!M74","v":0}]
["Below Minimum Service Level sub-total",null,{"$f":"SUM(C11:C13)","v":13164},{"$f":"SUM(D11:D13)","v":11707},0,0,0,0,0,0,0]
["Total number of households",5,{"$f":"C10+C14","v":240000},{"$f":"D10+D14","v":240000},0,204694,204694,204694,211113,217532,230583.92]
["Sanitation/sewerage:"]
["Flush toilet (connected to sewerage)",null,{"$f":"'SA9'!E78","v":23882},{"$f":"'SA9'!F78","v":23882},{"$f":"'SA9'!G78","v":0},{"$f":"'SA9'!H78","v":24682},{"$f":"'SA9'!I78","v":24682},{"$f":"'SA9'!J78","v":24682},{"$f":"'SA9'!K78","v":24682},{"$f":"'SA9'!L78","v":24682},{"$f":"'SA9'!M78","v":25792.69}]
["Flush toilet (with septic tank)",null,{"$f":"'SA9'!E79","v":0},{"$f":"'SA9'!F79","v":0},{"$f":"'SA9'!G79","v":0},{"$f":"'SA9'!H79","v":0},{"$f":"'SA9'!I79","v":0},{"$f":"'SA9'!J79","v":0},{"$f":"'SA9'!K79","v":0},{"$f":"'SA9'!L79","v":0},{"$f":"'SA9'!M79","v":0}]
["Chemical toilet",null,{"$f":"'SA9'!E80","v":0},{"$f":"'SA9'!F80","v":0},{"$f":"'SA9'!G80","v":0},{"$f":"'SA9'!H80","v":0},{"$f":"'SA9'!I80","v":0},{"$f":"'SA9'!J80","v":0},{"$f":"'SA9'!K80","v":0},{"$f":"'SA9'!L80","v":0},{"$f":"'SA9'!M80","v":0}]
["Pit toilet (ventilated)",null,{"$f":"'SA9'!E81","v":131964},{"$f":"'SA9'!F81","v":153880},{"$f":"'SA9'!G81","v":0},{"$f":"'SA9'!H81","v":0},{"$f":"'SA9'!I81","v":0},{"$f":"'SA9'!J81","v":0},{"$f":"'SA9'!K81","v":0},{"$f":"'SA9'!L81","v":0},{"$f":"'SA9'!M81","v":0}]
["Other toilet provisions (> min.service level)",null,{"$f":"'SA9'!E82","v":155846},{"$f":"'SA9'!F82","v":177762},{"$f":"'SA9'!G82","v":0},{"$f":"'SA9'!H82","v":192762},{"$f":"'SA9'!I82","v":192762},{"$f":"'SA9'!J82","v":192762},{"$f":"'SA9'!K82","v":202762},{"$f":"'SA9'!L82","v":212762},{"$f":"'SA9'!M82","v":222336.28999999998}]
[{"$f":"$A$10","v":"Minimum Service Level and Above sub-total"},null,{"$f":"SUM(C17:C21)","v":311692},{"$f":"SUM(D17:D21)","v":355524},0,217444,217444,217444,227444,237444,248128.97999999998]
["Bucket toilet",null,{"$f":"'SA9'!E84","v":624},{"$f":"'SA9'!F84","v":624},{"$f":"'SA9'!G84","v":0},{"$f":"'SA9'!H84","v":0},{"$f":"'SA9'!I84","v":0},{"$f":"'SA9'!J84","v":0},{"$f":"'SA9'!K84","v":0},{"$f":"'SA9'!L84","v":0},{"$f":"'SA9'!M84","v":0}]
["Other toilet provisions (< min.service level)",null,{"$f":"'SA9'!E85","v":0},{"$f":"'SA9'!F85","v":0},{"$f":"'SA9'!G85","v":0},{"$f":"'SA9'!H85","v":0},{"$f":"'SA9'!I85","v":0},{"$f":"'SA9'!J85","v":0},{"$f":"'SA9'!K85","v":0},{"$f":"'SA9'!L85","v":0},{"$f":"'SA9'!M85","v":0}]
["No toilet provisions",null,{"$f":"'SA9'!E86","v":84154},{"$f":"'SA9'!F86","v":56492},{"$f":"'SA9'!G86","v":0},{"$f":"'SA9'!H86","v":41492},{"$f":"'SA9'!I86","v":41492},{"$f":"'SA9'!J86","v":41492},{"$f":"'SA9'!K86","v":31492},{"$f":"'SA9'!L86","v":21492},{"$f":"'SA9'!M86","v":15000000}]
[{"$f":"$A$14","v":"Below Minimum Service Level sub-total"},null,{"$f":"SUM(C23:C25)","v":84778},{"$f":"SUM(D23:D25)","v":57116},0,41492,41492,41492,31492,21492,15000000]
[{"$f":"$A$15","v":"Total number of households"},{"$f":"$B$15","v":5},{"$f":"C22+C26","v":396470},{"$f":"D22+D26","v":412640},0,258936,258936,258936,258936,258936,15248128.98]
["Energy:"]
["Electricity (at least min.service level)",null,{"$f":"'SA9'!E90","v":0},{"$f":"'SA9'!F90","v":0},{"$f":"'SA9'!G90","v":0},{"$f":"'SA9'!H90","v":0},{"$f":"'SA9'!I90","v":0},{"$f":"'SA9'!J90","v":0},{"$f":"'SA9'!K90","v":0},{"$f":"'SA9'!L90","v":0},{"$f":"'SA9'!M90","v":0}]
["Electricity - prepaid (min.service level)",null,{"$f":"'SA9'!E91","v":0},{"$f":"'SA9'!F91","v":0},{"$f":"'SA9'!G91","v":0},{"$f":"'SA9'!H91","v":0},{"$f":"'SA9'!I91","v":0},{"$f":"'SA9'!J91","v":0},{"$f":"'SA9'!K91","v":0},{"$f":"'SA9'!L91","v":0},{"$f":"'SA9'!M91","v":0}]
[{"$f":"$A$10","v":"Minimum Service Level and Above sub-total"},null,{"$f":"SUM(C29:C30)","v":0},{"$f":"SUM(D29:D30)","v":0},0,0,0,0,0,0,0]
["Electricity (< min.service level)",null,{"$f":"'SA9'!E93","v":0},{"$f":"'SA9'!F93","v":0},{"$f":"'SA9'!G93","v":0},{"$f":"'SA9'!H93","v":0},{"$f":"'SA9'!I93","v":0},{"$f":"'SA9'!J93","v":0},{"$f":"'SA9'!K93","v":0},{"$f":"'SA9'!L93","v":0},{"$f":"'SA9'!M93","v":0}]
["Electricity - prepaid (< min. service level)",null,{"$f":"'SA9'!E94","v":0},{"$f":"'SA9'!F94","v":0},{"$f":"'SA9'!G94","v":0},{"$f":"'SA9'!H94","v":0},{"$f":"'SA9'!I94","v":0},{"$f":"'SA9'!J94","v":0},{"$f":"'SA9'!K94","v":0},{"$f":"'SA9'!L94","v":0},{"$f":"'SA9'!M94","v":0}]
["Other energy sources",null,{"$f":"'SA9'!E95","v":0},{"$f":"'SA9'!F95","v":0},{"$f":"'SA9'!G95","v":0},{"$f":"'SA9'!H95","v":0},{"$f":"'SA9'!I95","v":0},{"$f":"'SA9'!J95","v":0},{"$f":"'SA9'!K95","v":0},{"$f":"'SA9'!L95","v":0},{"$f":"'SA9'!M95","v":0}]
[{"$f":"$A$14","v":"Below Minimum Service Level sub-total"},null,{"$f":"SUM(C32:C34)","v":0},{"$f":"SUM(D32:D34)","v":0},0,0,0,0,0,0,0]
[{"$f":"$A$15","v":"Total number of households"},{"$f":"$B$15","v":5},{"$f":"C31+C35","v":0},{"$f":"D31+D35","v":0},0,0,0,0,0,0,0]
["Refuse:"]
["Removed at least once a week",null,{"$f":"'SA9'!E99","v":0},{"$f":"'SA9'!F99","v":0},{"$f":"'SA9'!G99","v":0},{"$f":"'SA9'!H99","v":0},{"$f":"'SA9'!I99","v":0},{"$f":"'SA9'!J99","v":0},{"$f":"'SA9'!K99","v":0},{"$f":"'SA9'!L99","v":0},{"$f":"'SA9'!M99","v":0}]
[{"$f":"$A$10","v":"Minimum Service Level and Above sub-total"},null,{"$f":"SUM(C38)","v":0},{"$f":"SUM(D38)","v":0},0,0,0,0,0,0,0]
["Removed less frequently than once a week",null,{"$f":"'SA9'!E101","v":0},{"$f":"'SA9'!F101","v":0},{"$f":"'SA9'!G101","v":0},{"$f":"'SA9'!H101","v":0},{"$f":"'SA9'!I101","v":0},{"$f":"'SA9'!J101","v":0},{"$f":"'SA9'!K101","v":0},{"$f":"'SA9'!L101","v":0},{"$f":"'SA9'!M101","v":0}]
["Using communal refuse dump",null,{"$f":"'SA9'!E102","v":0},{"$f":"'SA9'!F102","v":0},{"$f":"'SA9'!G102","v":0},{"$f":"'SA9'!H102","v":0},{"$f":"'SA9'!I102","v":0},{"$f":"'SA9'!J102","v":0},{"$f":"'SA9'!K102","v":0},{"$f":"'SA9'!L102","v":0},{"$f":"'SA9'!M102","v":0}]
["Using own refuse dump",null,{"$f":"'SA9'!E103","v":0},{"$f":"'SA9'!F103","v":0},{"$f":"'SA9'!G103","v":0},{"$f":"'SA9'!H103","v":0},{"$f":"'SA9'!I103","v":0},{"$f":"'SA9'!J103","v":0},{"$f":"'SA9'!K103","v":0},{"$f":"'SA9'!L103","v":0},{"$f":"'SA9'!M103","v":0}]
["Other rubbish disposal",null,{"$f":"'SA9'!E104","v":0},{"$f":"'SA9'!F104","v":0},{"$f":"'SA9'!G104","v":0},{"$f":"'SA9'!H104","v":0},{"$f":"'SA9'!I104","v":0},{"$f":"'SA9'!J104","v":0},{"$f":"'SA9'!K104","v":0},{"$f":"'SA9'!L104","v":0},{"$f":"'SA9'!M104","v":0}]
["No rubbish disposal",null,{"$f":"'SA9'!E105","v":0},{"$f":"'SA9'!F105","v":0},{"$f":"'SA9'!G105","v":0},{"$f":"'SA9'!H105","v":0},{"$f":"'SA9'!I105","v":0},{"$f":"'SA9'!J105","v":0},{"$f":"'SA9'!K105","v":0},{"$f":"'SA9'!L105","v":0},{"$f":"'SA9'!M105","v":0}]
[{"$f":"$A$14","v":"Below Minimum Service Level sub-total"},null,{"$f":"SUM(C40:C44)","v":0},0,0,0,0,0,0,0,0]
[{"$f":"$A$15","v":"Total number of households"},{"$f":"$B$15","v":5},{"$f":"C39+C45","v":0},{"$f":"D39+D45","v":0},0,0,0,0,0,0,0]
[]
["Households receiving Free Basic Service",7]
["Water (6 kilolitres per household per month)",null,{"$f":"'SA9'!E263","v":206836},{"$f":"'SA9'!F263","v":209067},{"$f":"'SA9'!G263","v":0},{"$f":"'SA9'!H263","v":0},{"$f":"'SA9'!I263","v":0},{"$f":"'SA9'!J263","v":0},{"$f":"'SA9'!K263","v":29142},{"$f":"'SA9'!L263","v":30890.520000000004},{"$f":"'SA9'!M263","v":32743.9512}]
["Sanitation (free minimum level service)",null,{"$f":"'SA9'!E275","v":0},{"$f":"'SA9'!F275","v":0},{"$f":"'SA9'!G275","v":0},{"$f":"'SA9'!H275","v":0},{"$f":"'SA9'!I275","v":0},{"$f":"'SA9'!J275","v":0},{"$f":"'SA9'!K275","v":0},{"$f":"'SA9'!L275","v":0},{"$f":"'SA9'!M275","v":0}]
["Electricity/other energy (50kwh per household per month)",null,{"$f":"'SA9'!E251","v":0},{"$f":"'SA9'!F251","v":0},{"$f":"'SA9'!G251","v":0},{"$f":"'SA9'!H251","v":0},{"$f":"'SA9'!I251","v":0},{"$f":"'SA9'!J251","v":0},{"$f":"'SA9'!K251","v":0},{"$f":"'SA9'!L251","v":0},{"$f":"'SA9'!M251","v":0}]
["Refuse (removed at least once a week)",null,{"$f":"'SA9'!E287","v":0},{"$f":"'SA9'!F287","v":0},{"$f":"'SA9'!G287","v":0},{"$f":"'SA9'!H287","v":0},{"$f":"'SA9'!I287","v":0},{"$f":"'SA9'!J287","v":0},{"$f":"'SA9'!K287","v":0},{"$f":"'SA9'!L287","v":0},{"$f":"'SA9'!M287","v":0}]
[]
["Cost of Free Basic Services provided - Formal Settlements (R'000)",8]
["Water (6 kilolitres per indigent household per month)",null,{"$f":"'SA1'!C20","v":16391630},{"$f":"'SA1'!D20","v":17422415},{"$f":"'SA1'!E20","v":11462600},{"$f":"'SA1'!F20","v":50000000},{"$f":"'SA1'!G20","v":29752000},{"$f":"'SA1'!H20","v":29752000},{"$f":"'SA1'!J20","v":35000000},{"$f":"'SA1'!K20","v":35600000},{"$f":"'SA1'!L20","v":56420000}]
["Sanitation (free sanitation service to indigent households)",null,{"$f":"'SA1'!C26","v":0},{"$f":"'SA1'!D26","v":0},{"$f":"'SA1'!E26","v":0},{"$f":"'SA1'!F26","v":0},{"$f":"'SA1'!G26","v":0},{"$f":"'SA1'!H26","v":0},{"$f":"'SA1'!J26","v":0},{"$f":"'SA1'!K26","v":0},{"$f":"'SA1'!L26","v":0}]
["Electricity/other energy (50kwh per indigent household per month)",null,{"$f":"'SA1'!C14","v":0},{"$f":"'SA1'!D14","v":0},{"$f":"'SA1'!E14","v":0},{"$f":"'SA1'!F14","v":0},{"$f":"'SA1'!G14","v":0},{"$f":"'SA1'!H14","v":0},{"$f":"'SA1'!J14","v":0},{"$f":"'SA1'!K14","v":0},{"$f":"'SA1'!L14","v":0}]
["Refuse (removed once a week for indigent households)",null,{"$f":"'SA1'!C33","v":0},{"$f":"'SA1'!D33","v":0},{"$f":"'SA1'!E33","v":0},{"$f":"'SA1'!F33","v":0},{"$f":"'SA1'!G33","v":0},{"$f":"'SA1'!H33","v":0},{"$f":"'SA1'!J33","v":0},{"$f":"'SA1'!K33","v":0},{"$f":"'SA1'!L33","v":0}]
["Cost of Free Basic Services provided - Informal Formal Settlements (R'000)",null,{"$f":"'SA9'!E260+'SA9'!E272+'SA9'!E284+'SA9'!E296","v":0},{"$f":"'SA9'!F260+'SA9'!F272+'SA9'!F284+'SA9'!F296","v":0},{"$f":"'SA9'!G260+'SA9'!G272+'SA9'!G284+'SA9'!G296","v":0},{"$f":"'SA9'!H260+'SA9'!H272+'SA9'!H284+'SA9'!H296","v":0},{"$f":"'SA9'!I260+'SA9'!I272+'SA9'!I284+'SA9'!I296","v":0},{"$f":"'SA9'!J260+'SA9'!J272+'SA9'!J284+'SA9'!J296","v":0},{"$f":"'SA9'!K260+'SA9'!K272+'SA9'!K284+'SA9'!K296","v":0},{"$f":"'SA9'!L260+'SA9'!L272+'SA9'!L284+'SA9'!L296","v":0},{"$f":"'SA9'!M260+'SA9'!M272+'SA9'!M284+'SA9'!M296","v":0}]
["Total cost of FBS provided  ",null,{"$f":"SUM(C55:C59)","v":16391630},17422415,11462600,50000000,29752000,29752000,35000000,35600000,56420000]
[]
["Highest level of free service provided per household"]
["Property rates (R value threshold)"]
["Water (kilolitres per household per month)",null,6,6,55.055999999999997,58.359360000000002,58.359360000000002,58.359360000000002,62.341903309433953,66.082417507999992,70.047362558479989]
["Sanitation (kilolitres per household per month)"]
["Sanitation (Rand per household per month)",null,173.26,173.26,198.43100000000001,210.33686000000003,210.33686000000003,210.33686000000003,223.50582053779291,236.91616977006049,236.91616977006049]
["Electricity (kwh per household per month)"]
["Refuse (average litres per week)"]
["Revenue  cost of subsidised services provided (R'000)",9]
["Property rates (tariff adjustment) ( impermissable values per section 17 of MPRA)"]
["Property rates  exemptions, reductions and rebates and impermissable values in excess of section 17 of MPRA)",null,{"$f":"'SA1'!C8","v":0},{"$f":"'SA1'!D8","v":0},{"$f":"'SA1'!E8","v":0},{"$f":"'SA1'!F8","v":0},{"$f":"'SA1'!G8","v":0},{"$f":"'SA1'!H8","v":0},{"$f":"'SA1'!J8","v":0},{"$f":"'SA1'!K8","v":0},{"$f":"'SA1'!L8","v":0}]
["Water (in excess of 6 kilolitres per indigent household per month)",null,{"$f":"'SA1'!C19","v":0},{"$f":"'SA1'!D19","v":0},{"$f":"'SA1'!E19","v":0},{"$f":"'SA1'!F19","v":0},{"$f":"'SA1'!G19","v":0},{"$f":"'SA1'!H19","v":0},{"$f":"'SA1'!J19","v":0},{"$f":"'SA1'!K19","v":0},{"$f":"'SA1'!L19","v":0}]
["Sanitation (in excess of free sanitation service to indigent households)",null,{"$f":"'SA1'!C25","v":0},{"$f":"'SA1'!D25","v":0},{"$f":"'SA1'!E25","v":0},{"$f":"'SA1'!F25","v":0},{"$f":"'SA1'!G25","v":0},{"$f":"'SA1'!H25","v":0},{"$f":"'SA1'!J25","v":0},{"$f":"'SA1'!K25","v":0},{"$f":"'SA1'!L25","v":0}]
["Electricity/other energy (in excess of 50 kwh per indigent household per month)",null,{"$f":"'SA1'!C13","v":0},{"$f":"'SA1'!D13","v":0},{"$f":"'SA1'!E13","v":0},{"$f":"'SA1'!F13","v":0},{"$f":"'SA1'!G13","v":0},{"$f":"'SA1'!H13","v":0},{"$f":"'SA1'!J13","v":0},{"$f":"'SA1'!K13","v":0},{"$f":"'SA1'!L13","v":0}]
["Refuse (in excess of one removal a week for indigent households)",null,{"$f":"'SA1'!C32","v":0},{"$f":"'SA1'!D32","v":0},{"$f":"'SA1'!E32","v":0},{"$f":"'SA1'!F32","v":0},{"$f":"'SA1'!G32","v":0},{"$f":"'SA1'!H32","v":0},{"$f":"'SA1'!J32","v":0},{"$f":"'SA1'!K32","v":0},{"$f":"'SA1'!L32","v":0}]
["Municipal Housing - rental rebates"]
["Housing - top structure subsidies",6]
["Other"]
["Total revenue cost of subsidised services provided ",null,{"$f":"SUM(C70:C78)","v":0},{"$f":"SUM(D70:D78)","v":0},0,0,0,0,0,{"$f":"SUM(J70:J78)","v":0},{"$f":"SUM(K70:K78)","v":0}]
[{"$f":"head27a","v":"References"}]
["1. Include services provided by another entity; e.g. Eskom"]
["2. Stand distance <= 200m from dwelling"]
["3. Stand distance > 200m from dwelling"]
["4. Borehole, spring, rain-water tank etc."]
["5. Must agree to total number of households in municipal area (informal settlements receiving services must be included)"]
["6. Include value of subsidy provided by municipality above provincial subsidy level"]
["7. Show number of households receiving at least these levels of services completely free (informal settlements must be included)"]
["8. Must reflect the cost to the municipality of providing the Free Basic Service"]
["9. Reflect the cost to the municipality in terms of 'revenue foregone' of providing free services (note this will not equal 'Revenue Foregone' on SA1)"]

{"sheet":"SA1","index":20,"n_rows":179,"n_cols":12,"rows_kept":179,"cut":false,"hidden":false,"merged":[[1,9,1,11],[1,5,1,8],[1,0,2,0],[1,1,2,1]]}
[{"$f":"muni&\" - \"&TableA1","v":"DC12 Amathole - Supporting Table SA1 Supportinging detail to 'Budgeted Financial Performance'"}]
[{"$f":"desc","v":"Description"},{"$f":"head27","v":"Ref"},{"$f":"head1b","v":"2016/17"},{"$f":"head1A","v":"2017/18"},{"$f":"Head1","v":"2018/19"},{"$f":"Head2","v":"Current Year 2019/20"},null,null,null,{"$f":"Head3","v":"2020/21 Medium Term Revenue & Expenditure Framework"}]
[null,null,{"$f":"Head5","v":"Audited Outcome"},{"$f":"Head5","v":"Audited Outcome"},{"$f":"Head5","v":"Audited Outcome"},{"$f":"Head6","v":"Original Budget"},{"$f":"Head7","v":"Adjusted Budget"},{"$f":"Head8","v":"Full Year Forecast"},{"$f":"Head5b","v":"Pre-audit outcome"},{"$f":"Head9","v":"Budget Year 2020/21"},{"$f":"Head10","v":"Budget Year +1 2021/22"},{"$f":"Head11","v":"Budget Year +2 2022/23"}]
["R thousand"]
["REVENUE ITEMS:"]
[{"$f":"'A4-FinPerf RE'!A5","v":"Property rates"},6]
["Total Property Rates"]
["less Revenue Foregone (exemptions, reductions and rebates and impermissable values in excess of section 17 of MPRA)"]
["Net Property Rates",null,{"$f":"C7-C8","v":0},{"$f":"D7-D8","v":0},0,0,0,0,0,0,0,0]
[]
[{"$f":"'A4-FinPerf RE'!A6","v":"Service charges - electricity revenue"},6]
[{"$f":"\"Total \"&A11","v":"Total Service charges - electricity revenue"}]
["less Revenue Foregone (in excess of 50 kwh per indigent household per month)"]
["less Cost of Free Basis Services (50 kwh per indigent household per month)",null,{"$f":"'SA9'!E250","v":0},{"$f":"'SA9'!F250","v":0},{"$f":"'SA9'!G250","v":0},{"$f":"'SA9'!H250","v":0},{"$f":"'SA9'!I250","v":0},{"$f":"'SA9'!J250","v":0},null,{"$f":"'SA9'!K250","v":0},{"$f":"'SA9'!L250","v":0},{"$f":"'SA9'!M250","v":0}]
[{"$f":"\"Net \"& A11","v":"Net Service charges - electricity revenue"},null,{"$f":"C12-C13-C14","v":0},{"$f":"D12-D13-D14","v":0},0,0,0,0,0,0,0,0]
[]
[{"$f":"'A4-FinPerf RE'!A7","v":"Service charges - water revenue"},6]
[{"$f":"\"Total \"&A17","v":"Total Service charges - water revenue"},null,{"$f":"168313366.53-1030785.27000001","v":167282581.25999999},{"$f":"171527916.5+17422415","v":188950331.5},{"$f":"254598657.85+11462600","v":266061257.84999999},427199682,427398638,427398638,427398638,418511942,443622656,470240012]
["less Revenue Foregone (in excess of 6 kilolitres per indigent household per month)"]
["less Cost of Free Basis Services (6 kilolitres per indigent household per month)",null,{"$f":"'SA9'!E262","v":16391630},{"$f":"'SA9'!F262","v":17422415},{"$f":"'SA9'!G262","v":11462600},{"$f":"'SA9'!H262","v":50000000},{"$f":"'SA9'!I262","v":29752000},{"$f":"'SA9'!J262","v":29752000},{"$f":"'SA9'!J262","v":29752000},{"$f":"'SA9'!K262","v":35000000},{"$f":"'SA9'!L262","v":35600000},{"$f":"'SA9'!M262","v":56420000}]
[{"$f":"\"Net \"& A17","v":"Net Service charges - water revenue"},null,{"$f":"C18-C19-C20","v":150890951.25999999},{"$f":"D18-D19-D20","v":171527916.5},254598657.84999999,377199682,397646638,397646638,397646638,383511942,408022656,413820012]
[]
[{"$f":"'A4-FinPerf RE'!A8","v":"Service charges - sanitation revenue"}]
[{"$f":"\"Total \"&A23","v":"Total Service charges - sanitation revenue"},null,66458689.780000001,85873314.049999997,104081785.68000001,157738861,157812324,157812324,157812324,140540930,148973389,157911795]
["less Revenue Foregone (in excess of free sanitation service to indigent households)"]
["less Cost of Free Basis Services (free sanitation service to indigent households)",null,{"$f":"'SA9'!E274","v":0},{"$f":"'SA9'!F274","v":0},{"$f":"'SA9'!G274","v":0},{"$f":"'SA9'!H274","v":0},{"$f":"'SA9'!I274","v":0},{"$f":"'SA9'!J274","v":0},null,{"$f":"'SA9'!K274","v":0},{"$f":"'SA9'!L274","v":0},{"$f":"'SA9'!M274","v":0}]
[{"$f":"\"Net \"& A23","v":"Net Service charges - sanitation revenue"},null,{"$f":"C24-C25-C26","v":66458689.780000001},{"$f":"D24-D25-D26","v":85873314.049999997},104081785.68000001,157738861,157812324,157812324,157812324,140540930,148973389,157911795]
[]
[{"$f":"'A4-FinPerf RE'!A9","v":"Service charges - refuse revenue"},6]
["Total refuse removal revenue"]
["Total landfill revenue",null,4444890.96,4629359.74,5584480.8700000001,5965034,5967812,5967812,5967812,7409367,7853929,8325165]
["less Revenue Foregone (in excess of one removal a week to indigent households)"]
["less Cost of Free Basis Services  (removed once a week to indigent households)",null,{"$f":"'SA9'!E286","v":0},{"$f":"'SA9'!F286","v":0},{"$f":"'SA9'!G286","v":0},{"$f":"'SA9'!H286","v":0},{"$f":"'SA9'!I286","v":0},{"$f":"'SA9'!J286","v":0},null,{"$f":"'SA9'!K286","v":0},{"$f":"'SA9'!L286","v":0},{"$f":"'SA9'!M286","v":0}]
[{"$f":"\"Net \"& A29","v":"Net Service charges - refuse revenue"},null,{"$f":"SUM(C30:C31)-C32-C33","v":4444890.96},{"$f":"SUM(D30:D31)-D32-D33","v":4629359.74},5584480.8700000001,5965034,5967812,5967812,5967812,7409367,7853929,8325165]
[]
["Other Revenue by source"]
["Fire services charges",null,null,null,null,6229598,6232499,6232499,6232499,7737991,8202270,8694406]
["Other Revenue",null,61564787.219999999,2296094.94,3575905.19,68113853.043478265,75596299.043478265,75596299.043478265,75596299.043478265,64488401,73815522,73848099]
[]
[]
[]
[]
[]
[]
[]
[]
[]
[]
["Total 'Other' Revenue",1,{"$f":"SUM(C37:C38)","v":61564787.219999999},{"$f":"SUM(D37:D38)","v":2296094.94},{"$f":"SUM(E37:E38)","v":3575905.19},74343451.043478265,81828798.043478265,81828798.043478265,81828798.043478265,72226392,82017792,82542505]
[]
["EXPENDITURE ITEMS:"]
[{"$f":"'A4-FinPerf RE'!A24","v":"Employee related costs"}]
["Basic Salaries and Wages",2,629007596.67999995,404385841,408696529.38999999,443868045,431927473,431927473,431927473,463216213.15074998,472016418.12151873,484089933.14355665]
["Pension and UIF Contributions",null,null,72212070.560000002,73997450.359999999,76508290,85007831,85007831,85007831,84175188.927125007,86345840.081303164,88576932.214335695]
["Medical Aid Contributions",null,null,59139171,37649708.719999999,44439966.004799999,39397410.004799999,39397410.004799999,39397410.004799999,44811959.299499996,51481718.251800001,59175221.589570008]
["Overtime",null,null,28872310.579999998,35571198.810000002,10000000,36063100,36063100,36063100,23718447.501994148,33809092.380543754,34654816.097307324]
["Performance Bonus",null,null,null,null,0,0,0,0]
["Motor Vehicle Allowance",null,null,52223670.509999998,55993167.820000008,45337914,49490715,49490715,49490715,53757209.930000007,54324482.930000007,54941370.930000007]
["Cellphone Allowance",null,null,10084993.17,10148919.560000001,2999322,11234475,11234475,11234475,10465612.875,10494605.875,10525657.875]
["Housing Allowances",null,null,2706576.17,11407785.65,3675750,5303991,5303991,5303991,3685546.125,3694442.125,3703969.125]
["Other benefits and allowances",null,null,52157355.799999997,51363653.790000007,61607970,62213712,62213712,62213712,56776109.739124976,58079910.988978118,59418819.345077582]
["Payments in lieu of leave",null,null,61529527,14834425.01,27517908,27237320,27237320,27237320,1347107.6696250001,1380785.3613656252,1415304.9953997659]
["Long service awards",null,null,null,null,6153382,9362329,9362329,9362329,15766680.995000001,16428004.619753439,17020509.288416054]
["Post-retirement benefit obligations",4,null,6572689,29222348.559999999,15241088,15241088,15241088,15241088,29150208.854999997,33522740.183249995,38551151.210737497]
["sub-total",5,{"$f":"SUM(C53:C64)","v":629007596.67999995},{"$f":"SUM(D53:D64)","v":749884204.78999984},728885187.66999984,737349635.00479996,772479444.00479996,772479444.00479996,772479444.00479996,786870285.06811917,821578040.91851282,852073685.81440067]
["Less: Employees costs capitalised to PPE"]
[{"$f":"\"Total \"&A52","v":"Total Employee related costs"},1,{"$f":"C65-C66","v":629007596.67999995},{"$f":"D65-D66","v":749884204.78999984},728885187.66999984,737349635.00479996,772479444.00479996,772479444.00479996,772479444.00479996,786870285.06811917,821578040.91851282,852073685.81440067]
[]
[]
[]
[]
[]
[]
[]
[]
[]
[]
[{"$f":"'A4-FinPerf RE'!A27","v":"Depreciation & asset impairment"}]
["Depreciation of Property, Plant & Equipment",null,111288592.51000001,107269535.26000001,129688666.67,162566655,162566655,162566655,162566655,170317363,187349108,206084037]
["Lease amortisation"]
["Capital asset impairment"]
[]
[{"$f":"\"Total \"&LEFT(A78,35)","v":"Total Depreciation & asset impairment"},1,{"$f":"SUM(C79:C81)","v":111288592.51000001},{"$f":"SUM(D79:D81)","v":107269535.26000001},129688666.67,162566655,162566655,162566655,162566655,170317363,187349108,206084037]
[]
[{"$f":"'A4-FinPerf RE'!A29","v":"Bulk purchases"}]
["Electricity Bulk Purchases"]
["Water Bulk Purchases",null,91620498,92358696.040000007,103846606.03,97079429,104000000,104000000,104000000,120000000,129936000,140694700.80000001]
["Total bulk purchases",1,{"$f":"SUM(C86:C87)","v":91620498},{"$f":"SUM(D86:D87)","v":92358696.040000007},103846606.03,97079429,104000000,104000000,104000000,120000000,129936000,140694700.80000001]
[]
["Transfers and grants"]
["Cash transfers and grants",null,{"$f":"'SA21'!C32","v":169687378},{"$f":"'SA21'!D32","v":57873697},{"$f":"'SA21'!E32","v":7300000},{"$f":"'SA21'!F32","v":20357689},{"$f":"'SA21'!G32","v":19654217},{"$f":"'SA21'!H32","v":19654217},{"$f":"'SA21'!I32","v":19654217},{"$f":"'SA21'!J32","v":15000000},{"$f":"'SA21'!K32","v":10000000},{"$f":"'SA21'!L32","v":10000000}]
["Non-cash transfers and grants",null,{"$f":"'SA21'!C63","v":0},{"$f":"'SA21'!D63","v":0},{"$f":"'SA21'!E63","v":0},{"$f":"'SA21'!F63","v":0},{"$f":"'SA21'!G63","v":0},{"$f":"'SA21'!H63","v":0},{"$f":"'SA21'!I63","v":0},{"$f":"'SA21'!J63","v":0},{"$f":"'SA21'!K63","v":0},{"$f":"'SA21'!L63","v":0}]
["Total transfers and grants",1,{"$f":"SUM(C91:C92)","v":169687378},{"$f":"SUM(D91:D92)","v":57873697},7300000,20357689,19654217,19654217,19654217,15000000,10000000,10000000]
[]
[{"$f":"'A4-FinPerf RE'!A31","v":"Contracted services"}]
["Outsourced Services",null,null,null,null,31693030,37599550,37599550,37599550,38922181.434782609,42798456.340869568,46842077.609001741]
["Consultants and Professional Services",null,37101241.899999999,41939300.199999996,37052367.189999998,37729274,12822990,12822990,12822990,7157601,15216602,16054396]
["Contractors",null,null,null,null,null,20695659,20695659,20695659,18746612,31929976,33606631]
[]
[]
[]
[]
[]
[]
[]
[]
[]
[]
[]
[]
[]
[]
[]
[]
[]
[]
[]
[]
[]
[]
[]
[]
[]
[]
[]
[]
["Total contracted services",null,{"$f":"SUM(C96:C98)","v":37101241.899999999},{"$f":"SUM(D96:D98)","v":41939300.199999996},37052367.189999998,69422304,71118199,71118199,71118199,64826394.434782609,89945034.340869576,96503104.609001741]
[]
["Other Expenditure By Type"]
["Collection costs",null,943604,501358,802159,26208909,0,0]
["Contributions to 'other' provisions"]
[]
["Audit fees",null,3577555.22,null,null,6050000,7779584,7779584,7779584]
[]
[]
["Other Expenditure",null,238768197.78,{"$f":"281270356.01-13500000+28794881.04","v":296565237.05000001},{"$f":"236835895.19+7299791.17-15525798.99+141660722.48+8225798.99","v":378496408.83999997},182464146,220660827,220660827,220660827,193328184.19192269,210158202.23630938,213248075.93421713]
[]
[]
[]
[]
[]
[]
[]
[]
[]
[]
[]
[]
[]
[]
[]
[]
[]
[]
[]
[]
["Total 'Other' Expenditure",1,{"$f":"+C130+C131+C133+C136","v":243289357},{"$f":"+D130+D131+D133+D136","v":297066595.05000001},379298567.83999997,214723055,228440411,228440411,228440411,193328184.19192269,210158202.23630938,213248075.93421713]
[]
["Repairs and Maintenance \nby Expenditure Item",8]
["Employee related costs"]
["Other materials"]
["Contracted Services",null,20715203,16524490.93,16074491.189999999,20616561,18757814,18757814,18757814,16837144,26619135,28332095]
["Other Expenditure"]
["Total Repairs and Maintenance Expenditure",9,{"$f":"SUM(C160:C163)","v":20715203},{"$f":"SUM(D160:D163)","v":16524490.93},16074491.189999999,20616561,18757814,18757814,18757814,16837144,26619135,28332095]
[]
["check",null,{"$f":"C164-SA34c!C167","v":0},{"$f":"D164-SA34c!D167","v":0},{"$f":"E164-SA34c!E167","v":0},{"$f":"F164-SA34c!F167","v":0},{"$f":"G164-SA34c!G167","v":-1},{"$f":"H164-SA34c!H167","v":-1},null,{"$f":"J164-SA34c!I167","v":0},{"$f":"K164-SA34c!J167","v":0},{"$f":"L164-SA34c!K167","v":0}]
[]
[]
[{"$f":"head27a","v":"References"}]
["1. Must reconcile with 'Budgeted Financial Performance (Revenue and Expenditure)"]
["2. Must reconcile to supporting documentation on staff salaries"]
[]
["4. Expenditure to meet any 'unfunded obligations'"]
["5 This sub-total must agree with the total on SA22, but excluding councillor and board member items"]
["6. Include a note for each revenue item that is affected by 'revenue foregone'"]
["7. Special consideration may have to be given to including 'goodwill arising' or 'joint venture' budgets where circumstances require this (include separately under relevant notes)"]
["8. Repairs and Maintenance is not a GRAP item. However to facilitate transparency, municipalities must provide a breakdown of the amounts included in the relevant GRAP items that will be spent on Repairs and Maintenance."]
["9. Must reconcile with Repairs and Maintenance by Asset Class (Total Repairs and Maintenance) on Table SA34c."]
["10. Only applicable to municipalities that have adopted the 'revaluation method' in GRAP 17. The aim is to prevent overstating 'depreciation and asset impairment'"]

{"sheet":"SA2","index":21,"n_rows":44,"n_cols":18,"rows_kept":44,"cut":false,"hidden":false,"merged":[[1,6,2,6],[1,7,2,7],[1,2,2,2],[1,3,2,3],[1,4,2,4],[1,5,2,5],[1,16,2,16],[1,17,2,17],[1,8,2,8],[1,9,2,9],[1,10,2,10],[1,11,2,11],[1,12,2,12],[1,13,2,13],[1,14,2,14],[1,15,2,15]]}
[{"$f":"muni&\" - \"&TableA2","v":"DC12 Amathole - Supporting Table SA2 Matrix Financial Performance Budget (revenue source/expenditure type and dept.)"}]
[{"$f":"desc","v":"Description"},{"$f":"head27","v":"Ref"},{"$f":"'A3-FinPerf V'!A5","v":"Vote 1 - Legislative & Executive Support Services"},{"$f":"'A3-FinPerf V'!A6","v":"Vote 2 - Strategic Management"},{"$f":"'A3-FinPerf V'!A7","v":"Vote 3 - Corporate Services"},{"$f":"'A3-FinPerf V'!A8","v":"Vote 4 - Budget & Treasury"},{"$f":"'A3-FinPerf V'!A9","v":"Vote 5 - Engineering Department"},{"$f":"'A3-FinPerf V'!A10","v":"Vote 6 - Health & Protection Department"},{"$f":"'A3-FinPerf V'!A11","v":"Vote 7 - Water & Sanitation Management"},{"$f":"'A3-FinPerf V'!A12","v":"Vote 8 - Water Services"},{"$f":"'A3-FinPerf V'!A13","v":"Vote 9 - Sanitation Services"},{"$f":"'A3-FinPerf V'!A14","v":"Vote 10 - Land Human Settlement & Economic Development"},{"$f":"'A3-FinPerf V'!A15","v":"Vote 11 - Municipal Management"},{"$f":"'A3-FinPerf V'!A16","v":"Vote 12 - [NAME OF VOTE 12]"},{"$f":"'A3-FinPerf V'!A17","v":"Vote 13 - [NAME OF VOTE 13]"},{"$f":"'A3-FinPerf V'!A18","v":"Vote 14 - [NAME OF VOTE 14]"},{"$f":"'A3-FinPerf V'!A19","v":"Vote 15 - [NAME OF VOTE 15]"},"Total"]
["R thousand",1,"R'000","R'000","R'000","R'000","R'000","R'000",null,null,null,null,null,null,null,null,"R'000","R'000"]
[{"$f":"'A4-FinPerf RE'!A4","v":"Revenue By Source"}]
[{"$f":"'A4-FinPerf RE'!A5","v":"Property rates"},null,null,null,null,null,null,null,null,null,null,null,null,null,null,null,null,{"$f":"SUM(C5:Q5)","v":0}]
[{"$f":"'A4-FinPerf RE'!A6","v":"Service charges - electricity revenue"},null,null,null,null,null,null,null,null,null,null,null,null,null,null,null,null,{"$f":"SUM(C6:Q6)","v":0}]
[{"$f":"'A4-FinPerf RE'!A7","v":"Service charges - water revenue"},null,null,null,null,null,null,null,null,383511942,null,null,null,null,null,null,null,383511942]
[{"$f":"'A4-FinPerf RE'!A8","v":"Service charges - sanitation revenue"},null,null,null,null,null,null,null,null,null,140540930,null,null,null,null,null,null,140540930]
[{"$f":"'A4-FinPerf RE'!A9","v":"Service charges - refuse revenue"},null,null,null,null,null,7409367,null,null,null,null,null,null,null,null,null,null,7409367]
[]
[{"$f":"'A4-FinPerf RE'!A11","v":"Rental of facilities and equipment"},null,null,null,318452,null,null,null,null,null,null,null,null,null,null,null,null,318452]
[{"$f":"'A4-FinPerf RE'!A12","v":"Interest earned - external investments"},null,null,null,null,17911009,null,null,null,null,null,null,null,null,null,null,null,17911009]
[{"$f":"'A4-FinPerf RE'!A13","v":"Interest earned - outstanding debtors"},null,null,null,null,93056091,null,null,null,null,null,null,null,null,null,null,null,93056091]
[{"$f":"'A4-FinPerf RE'!A14","v":"Dividends received"},null,null,null,null,null,null,null,null,null,null,null,null,null,null,null,null,0]
[{"$f":"'A4-FinPerf RE'!A15","v":"Fines, penalties and forfeits"},null,null,null,null,null,null,null,null,null,null,null,null,null,null,null,null,0]
[{"$f":"'A4-FinPerf RE'!A16","v":"Licences and permits"},null,null,null,null,null,null,null,null,null,null,null,null,null,null,null,null,0]
[{"$f":"'A4-FinPerf RE'!A17","v":"Agency services"},null,null,null,null,null,null,null,null,null,null,null,null,null,null,null,null,0]
[{"$f":"'A4-FinPerf RE'!A19","v":"Other revenue"},null,null,null,null,52174,{"$f":"64436227-2863637","v":61572590},7737991,null,null,null,null,null,null,null,null,null,69362755]
[{"$f":"'A4-FinPerf RE'!A18","v":"Transfers and subsidies"},null,null,27586480,88064533,114476804,520699946,80637407,null,79046463,null,24305369,16976301,null,null,null,null,951793303]
[{"$f":"'A4-FinPerf RE'!A20","v":"Gains"},null,null,null,null,null,null,null,null,null,null,null,null,null,null,null,null,0]
[{"$f":"'A4-FinPerf RE'!A21","v":"Total Revenue (excluding capital transfers and contributions)"},null,{"$f":"SUM(C5:C9)+SUM(C11:C20)","v":0},{"$f":"SUM(D5:D9)+SUM(D11:D20)","v":27586480},88382985,225496078,589681903,88375398,0,462558405,140540930,24305369,16976301,0,0,0,0,{"$f":"SUM(R5:R9)+SUM(R11:R20)","v":1663903849}]
[]
[{"$f":"'A4-FinPerf RE'!A23","v":"Expenditure By Type"}]
[{"$f":"'A4-FinPerf RE'!A24","v":"Employee related costs"},null,null,44509911.64850001,124426863.13412502,112045683.89900002,38545603.000500016,106365592.40672898,47867686.618687831,162988332.71020898,77392025.858736545,38890321.657375,33838264.134257041,null,null,null,null,{"$f":"SUM(C24:Q24)","v":786870285.06811941}]
[{"$f":"'A4-FinPerf RE'!A25","v":"Remuneration of councillors"},null,null,null,14941985.685000001,null,null,null,null,null,null,null,null,null,null,null,null,{"$f":"SUM(C25:Q25)","v":14941985.685000001}]
[{"$f":"'A4-FinPerf RE'!A26","v":"Debt impairment"},null,null,null,null,null,null,null,null,135936153,85372988,null,null,null,null,null,null,221309141]
[{"$f":"'A4-FinPerf RE'!A27","v":"Depreciation & asset impairment"},null,null,18578865,3633005,890795,52886974,3181765,12116740,70939991,7902610,186618,null,null,null,null,null,170317363]
[{"$f":"'A4-FinPerf RE'!A28","v":"Finance charges"},null,null,6688,26471655.899999995,61179,null,null,null,null,null,null,1600000,null,null,null,null,28139522.899999995]
[{"$f":"'A4-FinPerf RE'!A29","v":"Bulk purchases"},null,null,null,null,null,null,null,null,120000000,null,null,null,null,null,null,null,120000000]
[{"$f":"'A4-FinPerf RE'!A30","v":"Other materials"},null,null,null,null,null,35082018,484000,null,7999999.7799999993,967424,null,null,null,null,null,null,44533441.780000001]
[{"$f":"'A4-FinPerf RE'!A31","v":"Contracted services"},null,null,155992,2548706,4615586,8423579.4347826093,6359042,310869,27120910,9354936,909454,5027320,null,null,null,null,64826394.434782609]
[{"$f":"'A4-FinPerf RE'!A32","v":"Transfers and subsidies"},null,null,null,null,null,null,null,null,null,null,15000000,null,null,null,null,null,15000000]
[{"$f":"'A4-FinPerf RE'!A33","v":"Other expenditure"},null,null,28215861.108735971,37354036.900647424,25771718.719095565,26707675.393786512,11909143.146641044,2460300.9081662777,46718797,6974733.2403164171,4396433.4894950595,2819484.6099942545,null,null,null,null,193328184.51687858]
[{"$f":"'A4-FinPerf RE'!A34","v":"Losses"},null,null,null,null,null,null,null,null,null,null,null,null,null,null,null,null,0]
["Total Expenditure",null,{"$f":"SUM(C24:C34)","v":0},91467317.757235974,209376252.61977246,143384962.61809558,161645849.82906917,128299542.55337003,62755596.526854105,571704183.49020898,187964717.09905297,59382827.146870062,43285068.744251296,0,0,0,0,1659266318.3847806]
[]
[{"$f":"'A4-FinPerf RE'!A37","v":"Surplus/(Deficit)"},null,{"$f":"C21-C35","v":0},-63880837.757235974,-120993267.61977246,82111115.381904423,428036053.17093086,-39924144.553370029,{"$f":"I21-I35","v":-62755596.526854105},-109145778.49020898,-47423787.099052966,-35077458.146870062,-26308767.744251296,0,0,0,0,{"$f":"R21-R35","v":4637530.6152193546}]
[{"$f":"'A4-FinPerf RE'!A38","v":"Transfers and subsidies - capital (monetary allocations) (National / Provincial and District)"},null,null,null,null,null,{"$f":"499020296+2863636.32","v":501883932.31999999},null,null,null,null,null,null,null,null,null,null,{"$f":"SUM(C38:Q38)","v":501883932.31999999}]
[{"$f":"'A4-FinPerf RE'!A39","v":"Transfers and subsidies - capital (monetary allocations) (National / Provincial Departmental Agencies, Households, Non-profit Institutions, Private Enterprises, Public Corporatons, Higher Educational Institutions)"},null,null,null,null,null,null,null,null,null,null,null,null,null,null,null,null,{"$f":"SUM(C39:Q39)","v":0}]
[{"$f":"'A4-FinPerf RE'!A40","v":"Transfers and subsidies - capital (in-kind - all) "},null,null,null,null,null,null,null,null,null,null,null,null,null,null,null,null,{"$f":"SUM(C40:Q40)","v":0}]
[{"$f":"'A4-FinPerf RE'!A41","v":"Surplus/(Deficit) after capital transfers & contributions"},null,{"$f":"SUM(C37:C40)","v":0},-63880837.757235974,-120993267.61977246,82111115.381904423,929919985.4909308,-39924144.553370029,-62755596.526854105,-109145778.49020898,-47423787.099052966,-35077458.146870062,-26308767.744251296,0,0,0,{"$f":"SUM(Q37:Q40)","v":0},{"$f":"SUM(R37:R40)","v":506521462.93521935}]
[{"$f":"head27a","v":"References"}]
["1. Departmental columns to be based on municipal organisation structure"]
["check balance",null,null,null,null,null,null,null,null,null,null,null,null,null,null,null,null,{"$f":"'A4-FinPerf RE'!J41-'SA2'!R41","v":1.0049564242362976}]

{"sheet":"SA3","index":22,"n_rows":84,"n_cols":12,"rows_kept":84,"cut":false,"hidden":false,"merged":[[1,0,2,0],[1,1,2,1],[1,9,1,11],[1,5,1,8]]}
[{"$f":"muni&\" - \"&TableA3","v":"DC12 Amathole - Supporting Table SA3 Supportinging detail to 'Budgeted Financial Position'"}]
[{"$f":"desc","v":"Description"},{"$f":"head27","v":"Ref"},{"$f":"head1b","v":"2016/17"},{"$f":"head1A","v":"2017/18"},{"$f":"Head1","v":"2018/19"},{"$f":"Head2","v":"Current Year 2019/20"},null,null,null,{"$f":"Head3","v":"2020/21 Medium Term Revenue & Expenditure Framework"}]
[null,null,{"$f":"Head5","v":"Audited Outcome"},{"$f":"Head5","v":"Audited Outcome"},{"$f":"Head5","v":"Audited Outcome"},{"$f":"Head6","v":"Original Budget"},{"$f":"Head7","v":"Adjusted Budget"},{"$f":"Head8","v":"Full Year Forecast"},{"$f":"Head5b","v":"Pre-audit outcome"},{"$f":"Head9","v":"Budget Year 2020/21"},{"$f":"Head10","v":"Budget Year +1 2021/22"},{"$f":"Head11","v":"Budget Year +2 2022/23"}]
["R thousand"]
["ASSETS"]
[]
[]
[]
[]
[]
[{"$f":"'A6-FinPos'!A8","v":"Consumer debtors"}]
[{"$f":"A11","v":"Consumer debtors"},null,739685237,933344280,{"$f":"1275087168.04+33337139.81","v":1308424307.8499999},1474247856.95,1735822945.8499999,1735822945.8499999,1735822945.8499999,1949804222.3499999,2176624375.3499999,2417053736.9075999]
["Less: Provision for debt impairment",null,-619167226.09000003,-762491335,-994057651.67000008,-895227939.22246063,-1164570934.8373818,-1164570934.8373818,-1164570934.8373818,{"$f":"J20","v":-1365880075.8373818},{"$f":"K20","v":-1579467764.8373818},{"$f":"L20","v":-1807130715.8373818}]
[{"$f":"\"Total \"&A11","v":"Total Consumer debtors"},2,{"$f":"SUM(C12:C13)","v":120518010.90999997},{"$f":"SUM(D12:D13)","v":170852945},314366656.17999983,{"$f":"SUM(F12:F13)","v":579019917.72753942},571252011.01261806,571252011.01261806,571252011.01261806,583924146.51261806,597156610.51261806,609923021.07021809]
[]
["Debt impairment provision"]
["Balance at the beginning of the year",null,{"$f":"-529682710","v":-529682710},null,null,-762491333.77999997,-994057650.71000004,-994057650.71000004,-994057650.71000004,{"$f":"I20","v":-1164570934.8373818},{"$f":"J20","v":-1365880075.8373818},{"$f":"K20","v":-1579467764.8373818}]
["Contributions to the provision",null,-128945383,null,null,-159782210,-208910234,-208910234,-208910234,{"$f":"-[3]A4!J28","v":-221309141},{"$f":"-[3]A4!K28","v":-234587689},{"$f":"-[3]A4!L28","v":-248662951}]
["Bad debts written off",null,{"$f":"37394765.54--2066103","v":39460868.539999999},null,null,27045604.5575394,38396949.872618198,38396949.872618198,38396949.872618198,20000000,21000000,21000000]
["Balance at end of year",null,{"$f":"SUM(C17:C19)","v":-619167224.46000004},{"$f":"SUM(D17:D19)","v":0},0,-895227939.22246063,-1164570934.8373818,-1164570934.8373818,-1164570934.8373818,-1365880075.8373818,-1579467764.8373818,-1807130715.8373818]
[]
[{"$f":"'A6-FinPos'!A19&\" (PPE)\"","v":"Property, plant and equipment (PPE)"}]
["PPE at cost/valuation (excl. finance leases)",null,5508172504.3500004,5352201892,5680997080,7367016933.8562002,6240866778.186676,6240866778.186676,6240866778.186676,{"$f":"I23+'A9-Asset'!I127+'A9-Asset'!I126+'A9-Asset'!I121+'A9-Asset'!I111","v":6792350635.8104725},{"$f":"J23+'A9-Asset'!J127+'A9-Asset'!J126+'A9-Asset'!J121+'A9-Asset'!J111","v":7466255305.8104725},{"$f":"K23+'A9-Asset'!K127+'A9-Asset'!K126+'A9-Asset'!K121+'A9-Asset'!K111","v":8143281135.8104725}]
["Leases recognised as PPE",3,7274722,null,null,null,0,0,0]
["Less: Accumulated depreciation",null,836399763.21000004,923998381,1039615533,1037109782.760028,1186870539.71,1186870539.71,1186870539.71,{"$f":"I25+SA34d!I6+SA34d!I118+SA34d!I149+SA34d!I152+SA34d!I155+SA34d!I158","v":1341294693.71},{"$f":"J25+SA34d!J6+SA34d!J118+SA34d!J149+SA34d!J152+SA34d!J155+SA34d!J158","v":1511161271.71},{"$f":"K25+SA34d!K6+SA34d!K118+SA34d!K149+SA34d!K152+SA34d!K155+SA34d!K158","v":1698014525.71}]
[{"$f":"\"Total \"&A22","v":"Total Property, plant and equipment (PPE)"},2,{"$f":"SUM(C23:C24)-C25","v":4679047463.1400003},{"$f":"SUM(D23:D24)-D25","v":4428203511},4641381547,6329907151.0961723,5053996238.476676,5053996238.476676,5053996238.476676,5451055942.1004725,5955094034.1004725,6445266610.1004725]
[null,null,null,null,null,null,null,null,null,{"$f":"SUM('A9-Asset'!I144,'A9-Asset'!I147,'A9-Asset'!I154,'A9-Asset'!I159:I163)","v":5451055941.9504728},{"$f":"SUM('A9-Asset'!J144,'A9-Asset'!J147,'A9-Asset'!J154,'A9-Asset'!J159:J163)","v":5955094033.9504728},{"$f":"SUM('A9-Asset'!K144,'A9-Asset'!K147,'A9-Asset'!K154,'A9-Asset'!K159:K163)","v":6445266609.9504728}]
["LIABILITIES"]
[{"$f":"'A6-FinPos'!A28&\" - \"&'A6-FinPos'!A30","v":"Current liabilities - Borrowing"}]
["Short term loans (other than bank overdraft)",null,148421]
["Current portion of long-term liabilities",null,null,144261,4159.74]
[{"$f":"\"Total \"&A29","v":"Total Current liabilities - Borrowing"},null,{"$f":"SUM(C30:C31)","v":148421},{"$f":"SUM(D30:D31)","v":144261},4159.74,0,0,0,0,0,0,0]
[]
[{"$f":"'A6-FinPos'!A32","v":"Trade and other payables"}]
["Trade Payables",5,134617854.34999999,398037300.79999995,477141258.22999996,634167493.75050282,341007493.75050282,341007493.75050282,341007493.75050282,{"$f":"I35+12000000","v":353007493.75050282},{"$f":"J35-30000000","v":323007493.75050282},{"$f":"K35-15000000","v":308007493.75050282}]
[" Other creditors",null,251330779.05999997,9491054,9721025,null,46580000,46580000,46580000,{"$f":"I36","v":46580000},{"$f":"J36","v":46580000},{"$f":"K36","v":46580000}]
["Unspent conditional transfers",null,50801686.770000003,67213572,111276824.47]
["VAT",null,25217013,73492673,78850647]
[{"$f":"\"Total \"&A34","v":"Total Trade and other payables"},2,{"$f":"SUM(C35:C38)","v":461967333.17999995},548234599.79999995,676989754.69999993,634167493.75050282,387587493.75050282,387587493.75050282,387587493.75050282,399587493.75050282,369587493.75050282,{"$f":"SUM(L35:L38)","v":354587493.75050282}]
[]
[{"$f":"'A6-FinPos'!A36&\" - \"&'A6-FinPos'!A37","v":"Non current liabilities - Borrowing"}]
["Borrowing",4]
["Finance leases (including PPP asset element)",null,1961483.9730209787,973462,2542682,327921.15638610558,2530490.5699999994,2530490.5699999994,2530490.5699999994,{"$f":"'SA17'!I34","v":2644362.6456499998},{"$f":"'SA17'!J34","v":2644362.6456499998},{"$f":"'SA17'!K34","v":2644362.6456499998}]
[{"$f":"\"Total \"&A41","v":"Total Non current liabilities - Borrowing"},null,{"$f":"SUM(C42:C43)","v":1961483.9730209787},{"$f":"SUM(D42:D43)","v":973462},2542682,327921.15638610558,2530490.5699999994,2530490.5699999994,2530490.5699999994,2644362.6456499998,2644362.6456499998,2644362.6456499998]
[]
[{"$f":"'A6-FinPos'!A38&\" - non-current\"","v":"Provisions - non-current"}]
["Retirement benefits",null,263544392.16,211029035,130179042,378913730.19,130179042,130179042,130179042,{"$f":"I47+M50","v":130179042},{"$f":"J47+N50","v":130179042},{"$f":"K47+O50","v":130179042}]
[]
["Refuse landfill site rehabilitation"]
["Other",null,null,28441762,39383821,null,{"$f":"89211+41416519.02432","v":41505730.024319999},{"$f":"89211+41416519.02432","v":41505730.024319999},{"$f":"89211+41416519.02432","v":41505730.024319999},{"$f":"I50","v":41505730.024319999},{"$f":"J50","v":41505730.024319999},{"$f":"K50","v":41505730.024319999}]
[{"$f":"\"Total \"&A46","v":"Total Provisions - non-current"},null,{"$f":"+C47+C49+C50","v":263544392.16},239470797,169562863,378913730.19,171684772.02432001,171684772.02432001,{"$f":"+I47+I49+I50","v":171684772.02432001},{"$f":"+J47+J49+J50","v":171684772.02432001},171684772.02432001,171684772.02432001]
[]
["CHANGES IN NET ASSETS"]
[{"$f":"'A6-FinPos'!A45","v":"Accumulated Surplus/(Deficit)"}]
[{"$f":"A54&\" - opening balance\"","v":"Accumulated Surplus/(Deficit) - opening balance"},null,4349348091,null,null,5767142197.3623962,4380310533.3200006,4380310533.3200006,4380310533.3200006,{"$f":"I63","v":5211350605.5431499},{"$f":"J63","v":5629664944.794651},{"$f":"K63","v":6255560970.6954374}]
["GRAP adjustments",null,null,null,null,null,408341480.41447097,408341480.41447097,408341480.41447097]
["Restated balance",null,{"$f":"SUM(C55:C56)","v":4349348091},{"$f":"SUM(D55:D56)","v":0},{"$f":"SUM(E55:E56)","v":0},{"$f":"SUM(F55:F56)","v":5767142197.3623962},4788652013.7344713,4788652013.7344713,4788652013.7344713,5211350605.5431499,5629664944.794651,6255560970.6954374]
[{"$f":"'A4-FinPerf RE'!A37","v":"Surplus/(Deficit)"},null,{"$f":"'A4-FinPerf RE'!C45","v":59353147.280000031},{"$f":"'A4-FinPerf RE'!D45","v":157105909.70000029},{"$f":"'A4-FinPerf RE'!E45","v":301844825.05000019},{"$f":"'A4-FinPerf RE'!F45","v":592000083.03867841},{"$f":"'A4-FinPerf RE'!G45","v":422698591.80867839},{"$f":"'A4-FinPerf RE'!H45","v":422698591.80867839},{"$f":"'A4-FinPerf RE'!I45","v":422698591.80867839},{"$f":"'A4-FinPerf RE'!J45","v":506521463.94017577},{"$f":"'A4-FinPerf RE'!K45","v":615562234.23440838},{"$f":"'A4-FinPerf RE'!L45","v":618674425.99595261}]
[]
["Transfers to/from Reserves"]
["Depreciation offsets"]
["Other adjustments",null,null,null,null,null,null,null,null,-88207124.688674897,10333791.666378021,-88517446.045635223]
["Accumulated Surplus/(Deficit)",1,{"$f":"SUM(C57:C62)","v":4408701238.2799997},{"$f":"SUM(D57:D62)","v":157105909.70000029},{"$f":"SUM(E57:E62)","v":301844825.05000019},6359142280.4010744,5211350605.5431499,5211350605.5431499,5211350605.5431499,5629664944.794651,6255560970.6954374,6785717950.6457548]
["Reserves"]
["Housing Development Fund"]
["Capital replacement"]
["Self-insurance"]
["Other reserves"]
["Revaluation"]
["Total Reserves",2,{"$f":"SUM(C65:C69)","v":0},0,0,0,0,0,0,0,0,0]
[{"$f":"'A6-FinPos'!A48","v":"TOTAL COMMUNITY WEALTH/EQUITY"},2,{"$f":"C63+C70","v":4408701238.2799997},157105909.70000029,301844825.05000019,6359142280.4010744,5211350605.5431499,5211350605.5431499,5211350605.5431499,5629664944.794651,6255560970.6954374,6785717950.6457548]
[]
[]
[]
[]
[]
[{"$f":"head27a","v":"References"}]
[{"$f":"\"1. Must reconcile with \"&'Template names'!F103","v":"1. Must reconcile with Table A4 Budgeted Financial Performance (revenue and expenditure)"}]
[{"$f":"\"2. Must reconcile with \"&'Template names'!F105","v":"2. Must reconcile with Table A6 Budgeted Financial Position"}]
["3. Leases treated as assets to be depreciated as the same as purchased/constructed assets.  Includes PPP asset element accounted for as finance leases"]
["4. Borrowing must reconcile to Table A17"]
["5. Trade Payable should only include Trade Payables from Exchance Transactions (\"True Creditors\")"]
["check",null,{"$f":"C71-'A6-FinPos'!C48","v":-31852376.136980057},{"$f":"D71-'A6-FinPos'!D48","v":-3928021507.04},{"$f":"E71-'A6-FinPos'!E48","v":-4085127136.8900003},{"$f":"F71-'A6-FinPos'!F48","v":0.99920654296875},{"$f":"G71-'A6-FinPos'!G48","v":0},{"$f":"H71-'A6-FinPos'!H48","v":0},{"$f":"I71-'A6-FinPos'!I48","v":0},{"$f":"J71-'A6-FinPos'!J48","v":0},{"$f":"K71-'A6-FinPos'!K48","v":0},{"$f":"L71-'A6-FinPos'!L48","v":0}]
[null,null,{"$f":"TREND(D84:H84)","v":0},{"$f":"TREND(E84:H84)","v":0},{"$f":"E74","v":0},{"$f":"H74","v":0},{"$f":"J74","v":0},{"$f":"K74","v":0},{"$f":"L74","v":0}]

{"sheet":"SA4","index":23,"n_rows":31,"n_cols":13,"rows_kept":31,"cut":false,"hidden":false,"merged":[[1,7,1,9],[1,10,1,12],[1,3,2,3]]}
[{"$f":"muni&\" - \"&TableA4","v":"DC12 Amathole - Supporting Table SA4 Reconciliation of IDP strategic objectives and budget (revenue)"}]
["Strategic Objective","Goal","Goal\nCode",{"$f":"head27","v":"Ref"},{"$f":"head1b","v":"2016/17"},{"$f":"head1A","v":"2017/18"},{"$f":"Head1","v":"2018/19"},{"$f":"Head2","v":"Current Year 2019/20"},null,null,{"$f":"Head3","v":"2020/21 Medium Term Revenue & Expenditure Framework"}]
["R thousand",null,null,null,{"$f":"Head5","v":"Audited Outcome"},{"$f":"Head5","v":"Audited Outcome"},{"$f":"Head5","v":"Audited Outcome"},{"$f":"Head6","v":"Original Budget"},{"$f":"Head7","v":"Adjusted Budget"},{"$f":"Head8","v":"Full Year Forecast"},{"$f":"Head9","v":"Budget Year 2020/21"},{"$f":"Head10","v":"Budget Year +1 2021/22"},{"$f":"Head11","v":"Budget Year +2 2022/23"}]
["Ensure Sound Management Of Finances/Assets","Budget Compliance",null,null,19666593.719999999,6804280.0895709693,{"$f":"437.16+1971030.38+118027.18","v":2089494.7199999997},182495414,197577728,197577728,225496078,240822736,255782026]
["Ensure Streamlined And Efficient Scm",12]
["Technical Support To Council In Line With Adm Rules",0.7,null,null,249668.95,229053.21669312502,249668.95,84012571,82472971,82472971,88382985,95153575,101548310]
["Create Safe/Healthy Work Environment Within Adm",10,null,null,null,null,null,null,2942363,2942363]
["Ensure Eligable Residents Have Access To Safe/Legal Waste Services","Adopt Iwmp",null,null,909497.88,891161.43335401872,909497.88,5965034,5967812,5967812,7409367,7853929,8325165]
["Integrated Public Transport System",15,null,null,null,null,600,3113001,3113001,3113001,2964000,3127000,3308000]
["Provide Adequate Potable Water",3,null,null,683646759.56999993,{"$f":"483178472.561493+60128010.6300004","v":543306483.19149339},{"$f":"415773096.26","v":415773096.25999999},451359559,471807316,471807316,462558405,492535771,503557764]
["Provide Adequate Sanitation To All",504477,null,null,null,267650195.0457364,267873663.31,157738861,157812324,157812324,140540930,148973389,157911795]
["Provide Integrated Municipal Health Services",36,null,null,null,null,{"$f":"4139537.73+1994.58","v":4141532.31},74930686,74930686,74930686,80637407,86807823,92631168]
["Contribute To Disaster Risk Reduction","Reports"]
["Enhance Provision/Standardization Of Fire Services",35,null,null,4473842.74,1215350.9603334144,4473842.74,6229598,6232499,6232499,7737991,8202270,8694406]
["Provide Comprehensive Food Control Program",0.5,null,null,4141532.31]
["Comprehensive Management Of Heritage Resources",6,null,null,null,null,null,2446000,13254809,13254809,3085000,0,0]
["Facilitate Development Of Sustainable/Viable Settlements",3,null,null,null,null,null,19718601,45888083,45888083,21220369,22844164,24376623]
["Quality Assurance On Internal Controls/Governance","Adopt Audit Report",null,null,329026934.00999999,137012684.61102495,{"$f":"329026934.01+117848731-15287351.0599999","v":431588313.95000011},15774886,15774886,15774886,16976301,18275336,19501305]
["Effective/Efficient Advice To Sec 79 Committees",12,null,null,2227.7199999999998,null,2227.7199999999998]
["Sound Intergoverment Relations System",40]
["Ensure Strategic Development Planning In Line With Legislation",11,null,null,null,null,null,25634181,25643835,25643835,27586480,29697412,31689608]
["Sound It Governance",14]
["Building Lm Capacity To Perform Functions/Exercise Powers",7,null,null,10174.4,12102.679348361477,10174.4]
[" Ensure Viable And Sustainable Water Assets",115,null,null,{"$f":"473173629.13+412562.120000124-1030785.26999998","v":472555405.98000014},{"$f":"735824965.182446+17422414.9999993","v":753247380.18244529},{"$f":"4815032.13+836420553+11462599.9999995","v":852698185.12999952},1066306058,{"$f":"1152321367-886.956521987915","v":1152320480.043478},{"$f":"1152321367-886.956521987915","v":1152320480.043478},1081192468,1202442596,1240936629]
["Allocations To Other Priorities"]
["Allocations to other priorities",null,null,2]
[{"$f":"'A4-FinPerf RE'!A21","v":"Total Revenue (excluding capital transfers and contributions)"},null,null,1,{"$f":"SUM(E4:E26)","v":1514682637.28},1710368691.4099998,1979810297.3699999,2095724450,2255738793.043478,2255738793.043478,2165787781,2356736001,2448262799]
[{"$f":"head27a","v":"References"}]
[{"$f":"\"1. Total revenue must reconcile to \"&'Template names'!F103","v":"1. Total revenue must reconcile to Table A4 Budgeted Financial Performance (revenue and expenditure)"}]
["2. Balance of allocations not directly linked to an IDP strategic objective"]
["check op revenue balance",null,null,null,{"$f":"E27-'A4-FinPerf RE'!C59","v":0},{"$f":"F27-'A4-FinPerf RE'!D59","v":0},{"$f":"G27-'A4-FinPerf RE'!E59","v":0},{"$f":"H27-'A4-FinPerf RE'!F59","v":-4.3478250503540039E-2},{"$f":"I27-'A4-FinPerf RE'!G59","v":0},{"$f":"J27-'A4-FinPerf RE'!H59","v":0},{"$f":"K27-'A4-FinPerf RE'!J59","v":-1},{"$f":"L27-'A4-FinPerf RE'!K59","v":0},{"$f":"M27-'A4-FinPerf RE'!L59","v":0}]

{"sheet":"SA5","index":24,"n_rows":30,"n_cols":13,"rows_kept":30,"cut":false,"hidden":false,"merged":[[1,7,1,9],[1,10,1,12],[1,3,2,3]]}
[{"$f":"muni&\" - \"&TableA5","v":"DC12 Amathole - Supporting Table SA5 Reconciliation of IDP strategic objectives and budget (operating expenditure)"}]
["Strategic Objective","Goal","Goal\nCode",{"$f":"head27","v":"Ref"},{"$f":"head1b","v":"2016/17"},{"$f":"head1A","v":"2017/18"},{"$f":"Head1","v":"2018/19"},{"$f":"Head2","v":"Current Year 2019/20"},null,null,{"$f":"Head3","v":"2020/21 Medium Term Revenue & Expenditure Framework"}]
["R thousand",null,null,null,{"$f":"Head5","v":"Audited Outcome"},{"$f":"Head5","v":"Audited Outcome"},{"$f":"Head5","v":"Audited Outcome"},{"$f":"Head6","v":"Original Budget"},{"$f":"Head7","v":"Adjusted Budget"},{"$f":"Head8","v":"Full Year Forecast"},{"$f":"Head9","v":"Budget Year 2020/21"},{"$f":"Head10","v":"Budget Year +1 2021/22"},{"$f":"Head11","v":"Budget Year +2 2022/23"}]
["Ensure Sound Management Of Finances/Assets","Budget Compliance",null,null,105431262.10000001,140914880,100105119.78999999,126897154,128501448,128501448,126978865.60484323,135381262.24842504,141466672.56372157]
["Ensure Streamlined And Efficient Scm",12,null,null,12290853.000000002,null,12290853.000000002,15025657,14997338,14997338,16406097.013252417,16892896.948643751,17377580.335562967]
["Technical Support To Council In Line With Adm Rules",0.7,null,null,122444274.70999998,57995713,122444274.70999998,83028151,116685555,116685555,96008719.038027868,107199084.59554376,110921394.51232225]
["Create Safe/Healthy Work Environment Within Adm",10,null,null,22651905.470000003,null,22651905.470000003,98272873,87426408,87426408,53369443.230523683,56397916.92904719,59250617.435510777]
["Ensure Eligable Residents Have Access To Safe/Legal Waste Services","Adopt Iwmp",null,null,1700617.4500000002,null,1700617.4500000002,8252418,6403033,6403033,6952774.7149671884,7564548.514044567,8239046.6988342414]
["Integrated Public Transport System",15,null,null,10033356.980000002,null,10033356.980000002,12005381,10795410,10795410,11896949.467348238,12724719.995434375,13194347.466413984]
["Provide Adequate Potable Water",3,null,null,{"$f":"341424729.179228","v":341424729.17922801},{"$f":"157715337.4+356998717.22","v":514714054.62},{"$f":"799355796.97-12089040.5400002","v":787266756.42999983},542829457,572915657,572915657,640504573.83655,691983823.76464951,736675972.62349486]
["Provide Adequate Sanitation To All",504477,null,null,109526540.79077154,78857668.700000003,null,162287121,184040744,184040744,187964717.09905285,204245154.20727202,213389622.71094897]
["Provide Integrated Municipal Health Services",36,null,null,7310658.2600000007,null,7310658.2600000007,16399831,13810020,13810020,19146991.71354394,19588899.417496875,19997401.69109055]
["Contribute To Disaster Risk Reduction","Reports",null,null,10203676.040000001,null,10203676.040000001,9720515.0047999993,8760743,8760743,12527449.939300286,13505418.424909376,14058290.165782109]
["Enhance Provision/Standardization Of Fire Services",35,null,null,34790813.760000005,89687414,34790813.760000005,60785985,59884521,59884521,64071200.691333264,71118973.62701562,73684412.650442585]
["Provide Comprehensive Food Control Program",0.5,null,null,24298356.780000005,null,24298356.780000005,29086829,25053906,25053906,30859852.309007969,33083276.860581253,34381623.751564533]
["Comprehensive Management Of Heritage Resources",6,null,null,46571934.079999998,53992902,46571934.079999998,56379664,61888352,61888352,57298941.006595477,51551167.292246871,52886252.218021803]
["Facilitate Development Of Sustainable/Viable Settlements",3,null,null,3182385.0399999996,null,3182385.0399999996,1525576,27824615,27824615,2083886.1402745799,2165422.8654375002,2239407.1655109376]
["Quality Assurance On Internal Controls/Governance","Adopt Audit Report",null,null,56086511.750000007,43650859,77629138.790000021,32892020,34879266,34879266,32428299.816350516,39429182.307809375,40607321.467613988]
["Effective/Efficient Advice To Sec 79 Committees",12,null,null,50287148.060000002,null,14837208.98,35925220,46892153,46892153,37929205.962831065,38621136.567606241,39329325.016741723]
["Sound Intergoverment Relations System",40,null,null,6275642.9499999993,74122344,41725582.030000016,22502701,22992664,22992664,23762932.288574398,24250980.917856243,24760753.513560474]
["Ensure Strategic Development Planning In Line With Legislation",11,null,null,21542627.040000003,null,7299791.1699996004,37969680,37649783,37649783,41483418.105533659,41658837.713884376,42603514.922075234]
["Sound It Governance",14,null,null,25881515.149999999,null,25881515.149999999,52387688,49785701,49785701,52701358.842017733,55308685.313540623,58786278.88833227]
["Building Lm Capacity To Perform Functions/Exercise Powers",7,null,null,6809142.419999999,null,6809142.419999999,6299517,5752108,5752108,8139309.7375853527,8340940.4305593744,8553278.3240108602]
[" Ensure Viable And Sustainable Water Assets",115,null,null,{"$f":"448637026.99-12051487.9999995","v":436585538.99000049},{"$f":"454466322.92+44373697.47","v":498840020.38999999},319495759.99000013,93250928,316100776,316100776,136751331.50231206,110161437.82358749,117185258.8824897]
["Allocations to other priorities"]
[{"$f":"'A4-FinPerf RE'!A35","v":"Total Expenditure"},null,null,1,{"$f":"SUM(E4:E25)","v":1455329490},{"$f":"SUM(F4:F25)","v":1552775855.71},1676528846.3199997,1503724366.0048001,1833040201,1833040201,1659266318.0598254,1741173766.7655911,1829588373.0040467]
[{"$f":"head27a","v":"References"}]
[{"$f":"\"1. Total expenditure must reconcile to \"&'Template names'!F103","v":"1. Total expenditure must reconcile to Table A4 Budgeted Financial Performance (revenue and expenditure)"}]
["2. Balance of allocations not directly linked to an IDP strategic objective"]
["check op expenditure balance",null,null,null,{"$f":"E26-'A4-FinPerf RE'!C35","v":0},{"$f":"F26-'A4-FinPerf RE'!D35","v":0},{"$f":"G26-'A4-FinPerf RE'!E35","v":0},{"$f":"H26-'A4-FinPerf RE'!F35","v":-0.9999997615814209},{"$f":"I26-'A4-FinPerf RE'!G35","v":-0.23479986190795898},{"$f":"J26-'A4-FinPerf RE'!H35","v":-0.23479986190795898},{"$f":"K26-'A4-FinPerf RE'!J35","v":0},{"$f":"L26-'A4-FinPerf RE'!K35","v":0},{"$f":"M26-'A4-FinPerf RE'!L35","v":0}]

{"sheet":"SA6","index":25,"n_rows":32,"n_cols":13,"rows_kept":32,"cut":false,"hidden":false,"merged":[[1,7,1,9],[1,10,1,12],[1,3,2,3]]}
[{"$f":"muni&\" - \"&TableA6","v":"DC12 Amathole - Supporting Table SA6 Reconciliation of IDP strategic objectives and budget (capital expenditure)"}]
["Strategic Objective","Goal","Goal Code",{"$f":"head27","v":"Ref"},{"$f":"head1b","v":"2016/17"},{"$f":"head1A","v":"2017/18"},{"$f":"Head1","v":"2018/19"},{"$f":"Head2","v":"Current Year 2019/20"},null,null,{"$f":"Head3","v":"2020/21 Medium Term Revenue & Expenditure Framework"}]
["R thousand",null,null,null,{"$f":"Head5","v":"Audited Outcome"},{"$f":"Head5","v":"Audited Outcome"},{"$f":"Head5","v":"Audited Outcome"},{"$f":"Head6","v":"Original Budget"},{"$f":"Head7","v":"Adjusted Budget"},{"$f":"Head8","v":"Full Year Forecast"},{"$f":"Head9","v":"Budget Year 2020/21"},{"$f":"Head10","v":"Budget Year +1 2021/22"},{"$f":"Head11","v":"Budget Year +2 2022/23"}]
["Ensure Sound Management Of Finances/Assets","Budget Compliance","A",null,null,null,null,null,103369,103369,50000,50000,50000]
["Ensure Streamlined And Efficient Scm","12","B"]
["Technical Support To Council In Line With Adm Rules","70%","C"]
["Create Safe/Healthy Work Environment Within Adm","10","D",null,null,null,null,null,null,null,null,0,0]
["Ensure Eligable Residents Have Access To Safe/Legal Waste Services","Adopt Iwmp","E"]
["Integrated Public Transport System","15","F"]
["Provide Adequate Potable Water","3","G"]
["Provide Adequate Sanitation To All","504477","H"]
["Provide Integrated Municipal Health Services","36","I",null,null,null,null,null,null,null,null,0,0]
["Contribute To Disaster Risk Reduction","Reports","J",null,null,null,null,null,null,null,null,0,0]
["Enhance Provision/Standardization Of Fire Services","35","K",null,null,null,null,null,null,null,null,0,0]
["Provide Comprehensive Food Control Program","50%","L",null,null,null,null,1500000,null,null,null,0,0]
["Comprehensive Management Of Heritage Resources","6","M",null,null,null,145271]
["Facilitate Development Of Sustainable/Viable Settlements","3","N"]
["Quality Assurance On Internal Controls/Governance","Adopt Audit Report","O"]
["Effective/Efficient Advice To Sec 79 Committees","12","P"]
["Sound Intergoverment Relations System","40"]
["Ensure Strategic Development Planning In Line With Legislation","11",null,null,null,null,null,46462720,26611707,26611707,15000000,15000000,15000000]
["Sound It Governance","14",null,null,null,799883,200229.41,1000000,400000,400000]
["Building Lm Capacity To Perform Functions/Exercise Powers","7"]
[" Ensure Viable And Sustainable Water Assets","115",null,null,99254444,{"$f":"445717969.16-73488498.16","v":372229471},{"$f":"321541192.52+13617978+115286.42","v":335274456.94},610693000,{"$f":"560267618.855208+100000","v":560367618.85520804},{"$f":"560267618.855208+100000","v":560367618.85520804},{"$f":"551343857.623796+90000","v":551433857.62379599},{"$f":"673833750+20920","v":673854670},{"$f":"676953950+21880","v":676975830}]
[]
["Allocations to other priorities",null,null,3]
["Total Capital Expenditure",null,null,1,{"$f":"SUM(E4:E26)","v":99254444},373029354,335619957.35000002,659655720,587482694.85520804,587482694.85520804,566483857.62379599,688904670,692025830]
[{"$f":"head27a","v":"References"}]
["1. Total capital expenditure must reconcile to Budgeted Capital Expenditure"]
["2. Goal code must be used on Table SA36"]
["3. Balance of allocations not directly linked to an IDP strategic objective"]
["check capital balance",null,null,null,{"$f":"E27-'A5-Capex'!C40","v":0},{"$f":"F27-'A5-Capex'!D40","v":0},{"$f":"G27-'A5-Capex'!E40","v":0},{"$f":"H27-'A5-Capex'!F40","v":0},{"$f":"I27-'A5-Capex'!G40","v":-0.39736700057983398},{"$f":"J27-'A5-Capex'!H40","v":-0.39736700057983398},{"$f":"K27-'A5-Capex'!J40","v":0},{"$f":"L27-'A5-Capex'!K40","v":0},{"$f":"M27-'A5-Capex'!L40","v":0}]

{"sheet":"SA7","index":26,"n_rows":89,"n_cols":11,"rows_kept":89,"cut":false,"hidden":false,"merged":[[1,1,2,1],[1,0,2,0],[1,5,1,7],[1,8,1,10],[87,0,87,10],[67,0,67,10],[72,0,73,0],[72,1,73,1],[72,5,72,7],[72,8,72,10]]}
[{"$f":"muni&\" - \"&TableA7","v":"DC12 Amathole - Supporting Table SA7 Measureable performance objectives"}]
["Description","Unit of measurement",{"$f":"head1b","v":"2016/17"},{"$f":"head1A","v":"2017/18"},{"$f":"Head1","v":"2018/19"},{"$f":"Head2","v":"Current Year 2019/20"},null,null,{"$f":"Head3","v":"2020/21 Medium Term Revenue & Expenditure Framework"}]
[null,null,{"$f":"Head5","v":"Audited Outcome"},{"$f":"Head5","v":"Audited Outcome"},{"$f":"Head5","v":"Audited Outcome"},{"$f":"Head6","v":"Original Budget"},{"$f":"Head7","v":"Adjusted Budget"},{"$f":"Head8","v":"Full Year Forecast"},{"$f":"Head9","v":"Budget Year 2020/21"},{"$f":"Head10","v":"Budget Year +1 2021/22"},{"$f":"Head11","v":"Budget Year +2 2022/23"}]
["Vote 1 - vote name"]
["Function 1 - (name)"]
["Sub-function 1 - (name)"]
["Insert measure/s description"]
[]
["Sub-function 2 - (name)"]
["Insert measure/s description"]
[]
["Sub-function 3 - (name)"]
["Insert measure/s description"]
[]
["Function 2 - (name)"]
["Sub-function 1 - (name)"]
["Insert measure/s description"]
[]
["Sub-function 2 - (name)"]
["Insert measure/s description"]
[]
["Sub-function 3 - (name)"]
["Insert measure/s description"]
[]
["Vote 2 - vote name"]
["Function 1 - (name)"]
["Sub-function 1 - (name)"]
["Insert measure/s description"]
[]
["Sub-function 2 - (name)"]
["Insert measure/s description"]
[]
["Sub-function 3 - (name)"]
["Insert measure/s description"]
[]
["Function 2 - (name)"]
["Sub-function 1 - (name)"]
["Insert measure/s description"]
[]
["Sub-function 2 - (name)"]
["Insert measure/s description"]
[]
["Sub-function 3 - (name)"]
["Insert measure/s description"]
[]
["Vote 3 - vote name"]
["Function 1 - (name)"]
["Sub-function 1 - (name)"]
["Insert measure/s description"]
[]
["Sub-function 2 - (name)"]
["Insert measure/s description"]
[]
["Sub-function 3 - (name)"]
["Insert measure/s description"]
[]
["Function 2 - (name)"]
["Sub-function 1 - (name)"]
["Insert measure/s description"]
[]
["Sub-function 2 - (name)"]
["Insert measure/s description"]
[]
["Sub-function 3 - (name)"]
["Insert measure/s description"]
[]
["And so on for the rest of the Votes"]
["1. Include a measurable performance objective for each revenue source (within a relevant function) and each vote (MFMA s17(3)(b))"]
["2. Include all Basic Services performance targets from 'Basic Service Delivery' to ensure Table SA7 represents all strategic responsibilities"]
["3. Only include prior year comparative information for individual measures where relevant activity occurred in that year/s"]
[]
[{"$f":"muni&\" - \"&\"Entities measureable performance objectives\"","v":"DC12 Amathole - Entities measureable performance objectives"}]
[{"$f":"A2","v":"Description"},"Unit of measurement",{"$f":"head1b","v":"2016/17"},{"$f":"head1A","v":"2017/18"},{"$f":"Head1","v":"2018/19"},{"$f":"Head2","v":"Current Year 2019/20"},null,null,{"$f":"Head3","v":"2020/21 Medium Term Revenue & Expenditure Framework"}]
[null,null,{"$f":"Head5","v":"Audited Outcome"},{"$f":"Head5","v":"Audited Outcome"},{"$f":"Head5","v":"Audited Outcome"},{"$f":"Head6","v":"Original Budget"},{"$f":"Head7","v":"Adjusted Budget"},{"$f":"Head8","v":"Full Year Forecast"},{"$f":"Head9","v":"Budget Year 2020/21"},{"$f":"Head10","v":"Budget Year +1 2021/22"},{"$f":"Head11","v":"Budget Year +2 2022/23"}]
["Entity 1 - (name of entity)"]
["Insert measure/s description"]
[]
[]
["Entity 2 - (name of entity)"]
[{"$f":"$A$10","v":"Insert measure/s description"}]
[]
[]
["Entity 3 - (name of entity)"]
[{"$f":"$A$10","v":"Insert measure/s description"}]
[]
[]
["And so on for the rest of the Entities"]
["1. Include a measurable performance objective as agreed with the parent municipality (MFMA s87(5)(d))"]
["2. Only include prior year comparative information for individual measures where relevant activity occurred in that year/s"]

{"sheet":"SA8","index":27,"n_rows":49,"n_cols":12,"rows_kept":49,"cut":false,"hidden":false,"merged":[[28,0,30,0],[1,0,2,0],[1,9,1,11],[1,1,2,1],[1,5,1,8],[25,0,27,0]]}
[{"$f":"muni&\" - \"&TableA8","v":"DC12 Amathole - Supporting Table SA8 Performance indicators and benchmarks"}]
["Description of financial indicator","Basis of calculation",{"$f":"head1b","v":"2016/17"},{"$f":"head1A","v":"2017/18"},{"$f":"Head1","v":"2018/19"},{"$f":"Head2","v":"Current Year 2019/20"},null,null,null,{"$f":"Head3","v":"2020/21 Medium Term Revenue & Expenditure Framework"}]
[null,null,{"$f":"Head5","v":"Audited Outcome"},{"$f":"Head5","v":"Audited Outcome"},{"$f":"Head5","v":"Audited Outcome"},{"$f":"Head6","v":"Original Budget"},{"$f":"Head7","v":"Adjusted Budget"},{"$f":"Head8","v":"Full Year Forecast"},{"$f":"Head5b","v":"Pre-audit outcome"},{"$f":"Head9","v":"Budget Year 2020/21"},{"$f":"Head10","v":"Budget Year +1 2021/22"},{"$f":"Head11","v":"Budget Year +2 2022/23"}]
["Borrowing Management"]
[]
["Credit Rating",null,"A3.za","N/A","N/A","N/A","N/A","N/A","N/A"]
["Capital Charges to Operating Expenditure","Interest & Principal Paid /Operating Expenditure",{"$f":"IF(ISERROR(('A4-FinPerf RE'!C28-'A7-CFlow'!C35)/'A4-FinPerf RE'!C35),0,(('A4-FinPerf RE'!C28-'A7-CFlow'!C35)/'A4-FinPerf RE'!C35))","v":0.10809869885890927},{"$f":"IF(ISERROR(('A4-FinPerf RE'!D28-'A7-CFlow'!D35)/'A4-FinPerf RE'!D35),0,(('A4-FinPerf RE'!D28-'A7-CFlow'!D35)/'A4-FinPerf RE'!D35))","v":1.8198774437459854E-2},{"$f":"IF(ISERROR(('A4-FinPerf RE'!E28-'A7-CFlow'!E35)/'A4-FinPerf RE'!E35),0,(('A4-FinPerf RE'!E28-'A7-CFlow'!E35)/'A4-FinPerf RE'!E35))","v":1.559587947883679E-2},{"$f":"IF(ISERROR(('A4-FinPerf RE'!F28-'A7-CFlow'!F35)/'A4-FinPerf RE'!F35),0,(('A4-FinPerf RE'!F28-'A7-CFlow'!F35)/'A4-FinPerf RE'!F35))","v":1.7526248545466229E-2},{"$f":"IF(ISERROR(('A4-FinPerf RE'!G28-'A7-CFlow'!G35)/'A4-FinPerf RE'!G35),0,(('A4-FinPerf RE'!G28-'A7-CFlow'!G35)/'A4-FinPerf RE'!G35))","v":7.4663332483273269E-3},{"$f":"IF(ISERROR(('A4-FinPerf RE'!H28-'A7-CFlow'!H35)/'A4-FinPerf RE'!H35),0,(('A4-FinPerf RE'!H28-'A7-CFlow'!H35)/'A4-FinPerf RE'!H35))","v":7.4663332483273269E-3},{"$f":"IF(ISERROR(('A4-FinPerf RE'!I28-'A7-CFlow'!I35)/'A4-FinPerf RE'!I35),0,(('A4-FinPerf RE'!I28-'A7-CFlow'!I35)/'A4-FinPerf RE'!I35))","v":7.4663332483273269E-3},{"$f":"IF(ISERROR(('A4-FinPerf RE'!J28-'A7-CFlow'!J35)/'A4-FinPerf RE'!J35),0,(('A4-FinPerf RE'!J28-'A7-CFlow'!J35)/'A4-FinPerf RE'!J35))","v":1.6959015315216829E-2},{"$f":"IF(ISERROR(('A4-FinPerf RE'!K28-'A7-CFlow'!K35)/'A4-FinPerf RE'!K35),0,(('A4-FinPerf RE'!K28-'A7-CFlow'!K35)/'A4-FinPerf RE'!K35))","v":1.7424380704550563E-2},{"$f":"IF(ISERROR(('A4-FinPerf RE'!L28-'A7-CFlow'!L35)/'A4-FinPerf RE'!L35),0,(('A4-FinPerf RE'!L28-'A7-CFlow'!L35)/'A4-FinPerf RE'!L35))","v":1.7731549697247734E-2}]
["Capital Charges to Own Revenue","Finance charges & Repayment of borrowing /Own Revenue",{"$f":"IF(ISERROR(('A4-FinPerf RE'!C28-'A7-CFlow'!C35)/('A4-FinPerf RE'!C21-'A4-FinPerf RE'!C18)),0,(('A4-FinPerf RE'!C28-'A7-CFlow'!C35)/('A4-FinPerf RE'!C21-'A4-FinPerf RE'!C18)))","v":0.44980090955472102},{"$f":"IF(ISERROR(('A4-FinPerf RE'!D28-'A7-CFlow'!D35)/('A4-FinPerf RE'!D21-'A4-FinPerf RE'!D18)),0,(('A4-FinPerf RE'!D28-'A7-CFlow'!D35)/('A4-FinPerf RE'!D21-'A4-FinPerf RE'!D18)))","v":7.8838328638149519E-2},{"$f":"IF(ISERROR(('A4-FinPerf RE'!E28-'A7-CFlow'!E35)/('A4-FinPerf RE'!E21-'A4-FinPerf RE'!E18)),0,(('A4-FinPerf RE'!E28-'A7-CFlow'!E35)/('A4-FinPerf RE'!E21-'A4-FinPerf RE'!E18)))","v":4.5801320947672725E-2},{"$f":"IF(ISERROR(('A4-FinPerf RE'!F28-'A7-CFlow'!F35)/('A4-FinPerf RE'!F21-'A4-FinPerf RE'!F18)),0,(('A4-FinPerf RE'!F28-'A7-CFlow'!F35)/('A4-FinPerf RE'!F21-'A4-FinPerf RE'!F18)))","v":3.8006304216794934E-2},{"$f":"IF(ISERROR(('A4-FinPerf RE'!G28-'A7-CFlow'!G35)/('A4-FinPerf RE'!G21-'A4-FinPerf RE'!G18)),0,(('A4-FinPerf RE'!G28-'A7-CFlow'!G35)/('A4-FinPerf RE'!G21-'A4-FinPerf RE'!G18)))","v":1.8621047093051662E-2},{"$f":"IF(ISERROR(('A4-FinPerf RE'!H28-'A7-CFlow'!H35)/('A4-FinPerf RE'!H21-'A4-FinPerf RE'!H18)),0,(('A4-FinPerf RE'!H28-'A7-CFlow'!H35)/('A4-FinPerf RE'!H21-'A4-FinPerf RE'!H18)))","v":1.8621047093051662E-2},{"$f":"IF(ISERROR(('A4-FinPerf RE'!I28-'A7-CFlow'!I35)/('A4-FinPerf RE'!I21-'A4-FinPerf RE'!I18)),0,(('A4-FinPerf RE'!I28-'A7-CFlow'!I35)/('A4-FinPerf RE'!I21-'A4-FinPerf RE'!I18)))","v":1.8621047093051662E-2},{"$f":"IF(ISERROR(('A4-FinPerf RE'!J28-'A7-CFlow'!J35)/('A4-FinPerf RE'!J21-'A4-FinPerf RE'!J18)),0,(('A4-FinPerf RE'!J28-'A7-CFlow'!J35)/('A4-FinPerf RE'!J21-'A4-FinPerf RE'!J18)))","v":3.9357397188703805E-2},{"$f":"IF(ISERROR(('A4-FinPerf RE'!K28-'A7-CFlow'!K35)/('A4-FinPerf RE'!K21-'A4-FinPerf RE'!K18)),0,(('A4-FinPerf RE'!K28-'A7-CFlow'!K35)/('A4-FinPerf RE'!K21-'A4-FinPerf RE'!K18)))","v":3.9680729179750601E-2},{"$f":"IF(ISERROR(('A4-FinPerf RE'!L28-'A7-CFlow'!L35)/('A4-FinPerf RE'!L21-'A4-FinPerf RE'!L18)),0,(('A4-FinPerf RE'!L28-'A7-CFlow'!L35)/('A4-FinPerf RE'!L21-'A4-FinPerf RE'!L18)))","v":4.1216311692120824E-2}]
["Borrowed funding of 'own' capital expenditure","Borrowing/Capital expenditure excl. transfers and grants and contributions",{"$f":"IF(ISERROR(C49/C48),0,(C49/C48))","v":0},{"$f":"IF(ISERROR(D49/D48),0,(D49/D48))","v":0},{"$f":"IF(ISERROR(E49/E48),0,(E49/E48))","v":0},0,0,0,0,0,0,0]
["Safety of Capital"]
["Gearing","Long Term Borrowing/ Funds & Reserves",{"$f":"IF(ISERROR(('A6-FinPos'!C37/'A6-FinPos'!C46)),0,(('A6-FinPos'!C37/'A6-FinPos'!C46)))","v":0},{"$f":"IF(ISERROR(('A6-FinPos'!D37/'A6-FinPos'!D46)),0,(('A6-FinPos'!D37/'A6-FinPos'!D46)))","v":0},{"$f":"IF(ISERROR(('A6-FinPos'!E37/'A6-FinPos'!E46)),0,(('A6-FinPos'!E37/'A6-FinPos'!E46)))","v":0},{"$f":"IF(ISERROR(('A6-FinPos'!F37/'A6-FinPos'!F46)),0,(('A6-FinPos'!F37/'A6-FinPos'!F46)))","v":0},{"$f":"IF(ISERROR(('A6-FinPos'!G37/'A6-FinPos'!G46)),0,(('A6-FinPos'!G37/'A6-FinPos'!G46)))","v":0},{"$f":"IF(ISERROR(('A6-FinPos'!H37/'A6-FinPos'!H46)),0,(('A6-FinPos'!H37/'A6-FinPos'!H46)))","v":0},{"$f":"IF(ISERROR(('A6-FinPos'!I37/'A6-FinPos'!I46)),0,(('A6-FinPos'!I37/'A6-FinPos'!I46)))","v":0},{"$f":"IF(ISERROR(('A6-FinPos'!J37/'A6-FinPos'!J46)),0,(('A6-FinPos'!J37/'A6-FinPos'!J46)))","v":0},{"$f":"IF(ISERROR(('A6-FinPos'!K37/'A6-FinPos'!K46)),0,(('A6-FinPos'!K37/'A6-FinPos'!K46)))","v":0},{"$f":"IF(ISERROR(('A6-FinPos'!L37/'A6-FinPos'!L46)),0,(('A6-FinPos'!L37/'A6-FinPos'!L46)))","v":0}]
["Liquidity"]
["Current Ratio","Current assets/current liabilities",{"$f":"IF(ISERROR('A6-FinPos'!C12/'A6-FinPos'!C34),0,('A6-FinPos'!C12/'A6-FinPos'!C34))","v":0.63071884036934256},{"$f":"IF(ISERROR('A6-FinPos'!D12/'A6-FinPos'!D34),0,('A6-FinPos'!D12/'A6-FinPos'!D34))","v":0.55423615086095501},{"$f":"IF(ISERROR('A6-FinPos'!E12/'A6-FinPos'!E34),0,('A6-FinPos'!E12/'A6-FinPos'!E34))","v":0.67370985022829954},{"$f":"IF(ISERROR('A6-FinPos'!F12/'A6-FinPos'!F34),0,('A6-FinPos'!F12/'A6-FinPos'!F34))","v":1.1371019601530992},{"$f":"IF(ISERROR('A6-FinPos'!G12/'A6-FinPos'!G34),0,('A6-FinPos'!G12/'A6-FinPos'!G34))","v":1.245452023528226},{"$f":"IF(ISERROR('A6-FinPos'!H12/'A6-FinPos'!H34),0,('A6-FinPos'!H12/'A6-FinPos'!H34))","v":1.245452023528226},{"$f":"IF(ISERROR('A6-FinPos'!I12/'A6-FinPos'!I34),0,('A6-FinPos'!I12/'A6-FinPos'!I34))","v":1.245452023528226},{"$f":"IF(ISERROR('A6-FinPos'!J12/'A6-FinPos'!J34),0,('A6-FinPos'!J12/'A6-FinPos'!J34))","v":1.2787050203652135},{"$f":"IF(ISERROR('A6-FinPos'!K12/'A6-FinPos'!K34),0,('A6-FinPos'!K12/'A6-FinPos'!K34))","v":1.5221761720496281},{"$f":"IF(ISERROR('A6-FinPos'!L12/'A6-FinPos'!L34),0,('A6-FinPos'!L12/'A6-FinPos'!L34))","v":1.6202157880190149}]
["Current Ratio adjusted for aged debtors","Current assets less debtors > 90 days/current liabilities",{"$f":"IF(ISERROR(('A6-FinPos'!C12-'SA8'!C45)/'A6-FinPos'!C34),0,(('A6-FinPos'!C12-'SA8'!C45)/'A6-FinPos'!C34))","v":0.63071884036934256},{"$f":"IF(ISERROR(('A6-FinPos'!D12-'SA8'!D45)/'A6-FinPos'!D34),0,(('A6-FinPos'!D12-'SA8'!D45)/'A6-FinPos'!D34))","v":0.55423615086095501},{"$f":"IF(ISERROR(('A6-FinPos'!E12-'SA8'!E45)/'A6-FinPos'!E34),0,(('A6-FinPos'!E12-'SA8'!E45)/'A6-FinPos'!E34))","v":0.67370985022829954},{"$f":"IF(ISERROR(('A6-FinPos'!F12-'SA8'!F45)/'A6-FinPos'!F34),0,(('A6-FinPos'!F12-'SA8'!F45)/'A6-FinPos'!F34))","v":1.1371019601530992},{"$f":"IF(ISERROR(('A6-FinPos'!G12-'SA8'!G45)/'A6-FinPos'!G34),0,(('A6-FinPos'!G12-'SA8'!G45)/'A6-FinPos'!G34))","v":1.245452023528226},{"$f":"IF(ISERROR(('A6-FinPos'!H12-'SA8'!H45)/'A6-FinPos'!H34),0,(('A6-FinPos'!H12-'SA8'!H45)/'A6-FinPos'!H34))","v":1.245452023528226},{"$f":"IF(ISERROR(('A6-FinPos'!I12-'SA8'!I45)/'A6-FinPos'!I34),0,(('A6-FinPos'!I12-'SA8'!I45)/'A6-FinPos'!I34))","v":1.245452023528226},{"$f":"IF(ISERROR(('A6-FinPos'!J12-'SA8'!J45)/'A6-FinPos'!J34),0,(('A6-FinPos'!J12-'SA8'!J45)/'A6-FinPos'!J34))","v":1.2787050203652135},{"$f":"IF(ISERROR(('A6-FinPos'!K12-'SA8'!K45)/'A6-FinPos'!K34),0,(('A6-FinPos'!K12-'SA8'!K45)/'A6-FinPos'!K34))","v":1.5221761720496281},{"$f":"IF(ISERROR(('A6-FinPos'!L12-'SA8'!L45)/'A6-FinPos'!L34),0,(('A6-FinPos'!L12-'SA8'!L45)/'A6-FinPos'!L34))","v":1.6202157880190149}]
["Liquidity Ratio","Monetary Assets/Current Liabilities",{"$f":"IF(ISERROR(('A6-FinPos'!C6+'A6-FinPos'!C7)/'A6-FinPos'!C34),0,(('A6-FinPos'!C6+'A6-FinPos'!C7)/'A6-FinPos'!C34))","v":0.34987855716829963},{"$f":"IF(ISERROR(('A6-FinPos'!D6+'A6-FinPos'!D7)/'A6-FinPos'!D34),0,(('A6-FinPos'!D6+'A6-FinPos'!D7)/'A6-FinPos'!D34))","v":0.28489265093806315},{"$f":"IF(ISERROR(('A6-FinPos'!E6+'A6-FinPos'!E7)/'A6-FinPos'!E34),0,(('A6-FinPos'!E6+'A6-FinPos'!E7)/'A6-FinPos'!E34))","v":0.2477219325527136},{"$f":"IF(ISERROR(('A6-FinPos'!F6+'A6-FinPos'!F7)/'A6-FinPos'!F34),0,(('A6-FinPos'!F6+'A6-FinPos'!F7)/'A6-FinPos'!F34))","v":0.30031264146136216},{"$f":"IF(ISERROR(('A6-FinPos'!G6+'A6-FinPos'!G7)/'A6-FinPos'!G34),0,(('A6-FinPos'!G6+'A6-FinPos'!G7)/'A6-FinPos'!G34))","v":0.1695110361509197},{"$f":"IF(ISERROR(('A6-FinPos'!H6+'A6-FinPos'!H7)/'A6-FinPos'!H34),0,(('A6-FinPos'!H6+'A6-FinPos'!H7)/'A6-FinPos'!H34))","v":0.1695110361509197},{"$f":"IF(ISERROR(('A6-FinPos'!I6+'A6-FinPos'!I7)/'A6-FinPos'!I34),0,(('A6-FinPos'!I6+'A6-FinPos'!I7)/'A6-FinPos'!I34))","v":0.1695110361509197},{"$f":"IF(ISERROR(('A6-FinPos'!J6+'A6-FinPos'!J7)/'A6-FinPos'!J34),0,(('A6-FinPos'!J6+'A6-FinPos'!J7)/'A6-FinPos'!J34))","v":0.19700637197608931},{"$f":"IF(ISERROR(('A6-FinPos'!K6+'A6-FinPos'!K7)/'A6-FinPos'!K34),0,(('A6-FinPos'!K6+'A6-FinPos'!K7)/'A6-FinPos'!K34))","v":0.35397707737762935},{"$f":"IF(ISERROR(('A6-FinPos'!L6+'A6-FinPos'!L7)/'A6-FinPos'!L34),0,(('A6-FinPos'!L6+'A6-FinPos'!L7)/'A6-FinPos'!L34))","v":0.39165635001282362}]
["Revenue Management"]
["Annual Debtors Collection Rate (Payment Level %)","Last 12 Mths Receipts/Last 12 Mths Billing",null,{"$f":"IF(ISERROR(('A7-CFlow'!C6+'A7-CFlow'!C7+'A7-CFlow'!C22+'A7-CFlow'!C23)/SUM('A4-FinPerf RE'!C5:C10)),0,('A7-CFlow'!C6+'A7-CFlow'!C7+'A7-CFlow'!C22+'A7-CFlow'!C23)/(SUM('A4-FinPerf RE'!C5:C10)))","v":0.3470967084075815},{"$f":"IF(ISERROR(('A7-CFlow'!D6+'A7-CFlow'!D7+'A7-CFlow'!D22+'A7-CFlow'!D23)/SUM('A4-FinPerf RE'!D5:D10)),0,('A7-CFlow'!D6+'A7-CFlow'!D7+'A7-CFlow'!D22+'A7-CFlow'!D23)/(SUM('A4-FinPerf RE'!D5:D10)))","v":0.18874574836954583},{"$f":"IF(ISERROR(('A7-CFlow'!E6+'A7-CFlow'!E7+'A7-CFlow'!E22+'A7-CFlow'!E23)/SUM('A4-FinPerf RE'!E5:E10)),0,('A7-CFlow'!E6+'A7-CFlow'!E7+'A7-CFlow'!E22+'A7-CFlow'!E23)/(SUM('A4-FinPerf RE'!E5:E10)))","v":0.32472466882402912},{"$f":"IF(ISERROR(('A7-CFlow'!F6+'A7-CFlow'!F7+'A7-CFlow'!F22+'A7-CFlow'!F23)/SUM('A4-FinPerf RE'!F5:F10)),0,('A7-CFlow'!F6+'A7-CFlow'!F7+'A7-CFlow'!F22+'A7-CFlow'!F23)/(SUM('A4-FinPerf RE'!F5:F10)))","v":0.70460130641731733},{"$f":"IF(ISERROR(('A7-CFlow'!G6+'A7-CFlow'!G7+'A7-CFlow'!G22+'A7-CFlow'!G23)/SUM('A4-FinPerf RE'!G5:G10)),0,('A7-CFlow'!G6+'A7-CFlow'!G7+'A7-CFlow'!G22+'A7-CFlow'!G23)/(SUM('A4-FinPerf RE'!G5:G10)))","v":0.505550589398859},{"$f":"IF(ISERROR(('A7-CFlow'!H6+'A7-CFlow'!H7+'A7-CFlow'!H22+'A7-CFlow'!H23)/SUM('A4-FinPerf RE'!H5:H10)),0,('A7-CFlow'!H6+'A7-CFlow'!H7+'A7-CFlow'!H22+'A7-CFlow'!H23)/(SUM('A4-FinPerf RE'!H5:H10)))","v":0.505550589398859},{"$f":"IF(ISERROR(('A7-CFlow'!I6+'A7-CFlow'!I7+'A7-CFlow'!I22+'A7-CFlow'!I23)/SUM('A4-FinPerf RE'!I5:I10)),0,('A7-CFlow'!I6+'A7-CFlow'!I7+'A7-CFlow'!I22+'A7-CFlow'!I23)/(SUM('A4-FinPerf RE'!I5:I10)))","v":0.505550589398859},{"$f":"IF(ISERROR(('A7-CFlow'!J6+'A7-CFlow'!J7+'A7-CFlow'!J22+'A7-CFlow'!J23)/SUM('A4-FinPerf RE'!J5:J10)),0,('A7-CFlow'!J6+'A7-CFlow'!J7+'A7-CFlow'!J22+'A7-CFlow'!J23)/(SUM('A4-FinPerf RE'!J5:J10)))","v":0.5},{"$f":"IF(ISERROR(('A7-CFlow'!K6+'A7-CFlow'!K7+'A7-CFlow'!K22+'A7-CFlow'!K23)/SUM('A4-FinPerf RE'!K5:K10)),0,('A7-CFlow'!K6+'A7-CFlow'!K7+'A7-CFlow'!K22+'A7-CFlow'!K23)/(SUM('A4-FinPerf RE'!K5:K10)))","v":0.5}]
["Current Debtors Collection Rate (Cash receipts % of Ratepayer & Other revenue)",null,{"$f":"IF(ISERROR(('A7-CFlow'!C6+'A7-CFlow'!C7)/SUM('A4-FinPerf RE'!C5:C10)),0,(('A7-CFlow'!C6+'A7-CFlow'!C7)/SUM('A4-FinPerf RE'!C5:C10)))","v":0.3470967084075815},{"$f":"IF(ISERROR(('A7-CFlow'!D6+'A7-CFlow'!D7)/SUM('A4-FinPerf RE'!D5:D10)),0,(('A7-CFlow'!D6+'A7-CFlow'!D7)/SUM('A4-FinPerf RE'!D5:D10)))","v":0.18874535429341951},{"$f":"IF(ISERROR(('A7-CFlow'!E6+'A7-CFlow'!E7)/SUM('A4-FinPerf RE'!E5:E10)),0,(('A7-CFlow'!E6+'A7-CFlow'!E7)/SUM('A4-FinPerf RE'!E5:E10)))","v":0.32472466882402912},{"$f":"IF(ISERROR(('A7-CFlow'!F6+'A7-CFlow'!F7)/SUM('A4-FinPerf RE'!F5:F10)),0,(('A7-CFlow'!F6+'A7-CFlow'!F7)/SUM('A4-FinPerf RE'!F5:F10)))","v":0.70460130641731733},{"$f":"IF(ISERROR(('A7-CFlow'!G6+'A7-CFlow'!G7)/SUM('A4-FinPerf RE'!G5:G10)),0,(('A7-CFlow'!G6+'A7-CFlow'!G7)/SUM('A4-FinPerf RE'!G5:G10)))","v":0.505550589398859},{"$f":"IF(ISERROR(('A7-CFlow'!H6+'A7-CFlow'!H7)/SUM('A4-FinPerf RE'!H5:H10)),0,(('A7-CFlow'!H6+'A7-CFlow'!H7)/SUM('A4-FinPerf RE'!H5:H10)))","v":0.505550589398859},{"$f":"IF(ISERROR(('A7-CFlow'!I6+'A7-CFlow'!I7)/SUM('A4-FinPerf RE'!I5:I10)),0,(('A7-CFlow'!I6+'A7-CFlow'!I7)/SUM('A4-FinPerf RE'!I5:I10)))","v":0.505550589398859},{"$f":"IF(ISERROR(('A7-CFlow'!J6+'A7-CFlow'!J7)/SUM('A4-FinPerf RE'!J5:J10)),0,(('A7-CFlow'!J6+'A7-CFlow'!J7)/SUM('A4-FinPerf RE'!J5:J10)))","v":0.5},{"$f":"IF(ISERROR(('A7-CFlow'!K6+'A7-CFlow'!K7)/SUM('A4-FinPerf RE'!K5:K10)),0,(('A7-CFlow'!K6+'A7-CFlow'!K7)/SUM('A4-FinPerf RE'!K5:K10)))","v":0.5},{"$f":"IF(ISERROR(('A7-CFlow'!L6+'A7-CFlow'!L7)/SUM('A4-FinPerf RE'!L5:L10)),0,(('A7-CFlow'!L6+'A7-CFlow'!L7)/SUM('A4-FinPerf RE'!L5:L10)))","v":0.50000000076268369}]
["Outstanding Debtors to Revenue","Total Outstanding Debtors to Annual Revenue",{"$f":"IF(ISERROR(('A6-FinPos'!C8+'A6-FinPos'!C9+'A6-FinPos'!C10+'A6-FinPos'!C15)/'A4-FinPerf RE'!C21),0,(('A6-FinPos'!C8+'A6-FinPos'!C9+'A6-FinPos'!C10+'A6-FinPos'!C15)/'A4-FinPerf RE'!C21))","v":0.11641555736756248},{"$f":"IF(ISERROR(('A6-FinPos'!D8+'A6-FinPos'!D9+'A6-FinPos'!D10+'A6-FinPos'!D15)/'A4-FinPerf RE'!D21),0,(('A6-FinPos'!D8+'A6-FinPos'!D9+'A6-FinPos'!D10+'A6-FinPos'!D15)/'A4-FinPerf RE'!D21))","v":0.15764662745497429},{"$f":"IF(ISERROR(('A6-FinPos'!E8+'A6-FinPos'!E9+'A6-FinPos'!E10+'A6-FinPos'!E15)/'A4-FinPerf RE'!E21),0,(('A6-FinPos'!E8+'A6-FinPos'!E9+'A6-FinPos'!E10+'A6-FinPos'!E15)/'A4-FinPerf RE'!E21))","v":0.23631090891541806},{"$f":"IF(ISERROR(('A6-FinPos'!F8+'A6-FinPos'!F9+'A6-FinPos'!F10+'A6-FinPos'!F15)/'A4-FinPerf RE'!F21),0,(('A6-FinPos'!F8+'A6-FinPos'!F9+'A6-FinPos'!F10+'A6-FinPos'!F15)/'A4-FinPerf RE'!F21))","v":0.37946805277319662},{"$f":"IF(ISERROR(('A6-FinPos'!G8+'A6-FinPos'!G9+'A6-FinPos'!G10+'A6-FinPos'!G15)/'A4-FinPerf RE'!G21),0,(('A6-FinPos'!G8+'A6-FinPos'!G9+'A6-FinPos'!G10+'A6-FinPos'!G15)/'A4-FinPerf RE'!G21))","v":0.31255254180533276},{"$f":"IF(ISERROR(('A6-FinPos'!H8+'A6-FinPos'!H9+'A6-FinPos'!H10+'A6-FinPos'!H15)/'A4-FinPerf RE'!H21),0,(('A6-FinPos'!H8+'A6-FinPos'!H9+'A6-FinPos'!H10+'A6-FinPos'!H15)/'A4-FinPerf RE'!H21))","v":0.31255254180533276},{"$f":"IF(ISERROR(('A6-FinPos'!I8+'A6-FinPos'!I9+'A6-FinPos'!I10+'A6-FinPos'!I15)/'A4-FinPerf RE'!I21),0,(('A6-FinPos'!I8+'A6-FinPos'!I9+'A6-FinPos'!I10+'A6-FinPos'!I15)/'A4-FinPerf RE'!I21))","v":0.31255254180533276},{"$f":"IF(ISERROR(('A6-FinPos'!J8+'A6-FinPos'!J9+'A6-FinPos'!J10+'A6-FinPos'!J15)/'A4-FinPerf RE'!J21),0,(('A6-FinPos'!J8+'A6-FinPos'!J9+'A6-FinPos'!J10+'A6-FinPos'!J15)/'A4-FinPerf RE'!J21))","v":0.3548119520546637},{"$f":"IF(ISERROR(('A6-FinPos'!K8+'A6-FinPos'!K9+'A6-FinPos'!K10+'A6-FinPos'!K15)/'A4-FinPerf RE'!K21),0,(('A6-FinPos'!K8+'A6-FinPos'!K9+'A6-FinPos'!K10+'A6-FinPos'!K15)/'A4-FinPerf RE'!K21))","v":0.34602964883084525},{"$f":"IF(ISERROR(('A6-FinPos'!L8+'A6-FinPos'!L9+'A6-FinPos'!L10+'A6-FinPos'!L15)/'A4-FinPerf RE'!L21),0,(('A6-FinPos'!L8+'A6-FinPos'!L9+'A6-FinPos'!L10+'A6-FinPos'!L15)/'A4-FinPerf RE'!L21))","v":0.3365807748069059}]
["Longstanding Debtors Recovered","Debtors > 12 Mths Recovered/Total Debtors > 12 Months Old"]
["Creditors Management"]
["Creditors System Efficiency","% of Creditors Paid Within Terms (within`MFMA' s 65(e))",0.99,0.95,0.77,0.85,0.8,0.8,null,0.85,0.9,1]
["Creditors to Cash and Investments",null,{"$f":"IF(ISERROR('SA3'!C35/'A7-CFlow'!C40),0,('SA3'!C35/'A7-CFlow'!C40))","v":0.80341408294776862},{"$f":"IF(ISERROR('SA3'!D35/'A7-CFlow'!D40),0,('SA3'!D35/'A7-CFlow'!D40))","v":2.0953815079088622},{"$f":"IF(ISERROR('SA3'!E35/'A7-CFlow'!E40),0,('SA3'!E35/'A7-CFlow'!E40))","v":2.3821466740302153},{"$f":"IF(ISERROR('SA3'!F35/'A7-CFlow'!F40),0,('SA3'!F35/'A7-CFlow'!F40))","v":2.9627753403515809},{"$f":"IF(ISERROR('SA3'!G35/'A7-CFlow'!G40),0,('SA3'!G35/'A7-CFlow'!G40))","v":3.5804044876549028},{"$f":"IF(ISERROR('SA3'!H35/'A7-CFlow'!H40),0,('SA3'!H35/'A7-CFlow'!H40))","v":3.5804044876549028},{"$f":"IF(ISERROR('SA3'!I35/'A7-CFlow'!I40),0,('SA3'!I35/'A7-CFlow'!I40))","v":3.5804044876549028},{"$f":"IF(ISERROR('SA3'!J35/'A7-CFlow'!J40),0,('SA3'!J35/'A7-CFlow'!J40))","v":3.1178545353401406},{"$f":"IF(ISERROR('SA3'!K35/'A7-CFlow'!K40),0,('SA3'!K35/'A7-CFlow'!K40))","v":1.6747494233665192},{"$f":"IF(ISERROR('SA3'!L35/'A7-CFlow'!L40),0,('SA3'!L35/'A7-CFlow'!L40))","v":1.483746714575358}]
[]
["Other Indicators"]
["Electricity Distribution Losses (2)","Total Volume Losses (kW)"]
[null,"Total Cost of Losses (Rand '000)"]
[null,"% Volume (units purchased and generated less units sold)/units purchased and generated"]
["Water Distribution Losses (2)","Total Volume Losses (kℓ)",2537759.7200000002,3596997,2217397.3762727305,900000,1172000,1172000,null,900000,850000,800000]
[null,"Total Cost of Losses (Rand '000)",58254650,49293247,17104821.610826101,4363560,9036120,9036120,null,{"$f":"J29*7.71","v":6939000},{"$f":"K29*7.71","v":6553500},{"$f":"L29*7.71","v":6168000}]
[null,"% Volume (units purchased and generated less units sold)/units purchased and generated",0.37,0.15,9.4500000000000001E-2,0.05,0.05,0.05,null,0.05,0.05,0.05]
["Employee costs","Employee costs/(Total Revenue - capital revenue)",{"$f":"IF(ISERROR('A4-FinPerf RE'!C24/'A4-FinPerf RE'!C21),0,('A4-FinPerf RE'!C24/'A4-FinPerf RE'!C21))","v":0.57666044921116355},{"$f":"IF(ISERROR('A4-FinPerf RE'!D24/'A4-FinPerf RE'!D21),0,('A4-FinPerf RE'!D24/'A4-FinPerf RE'!D21))","v":0.66695379326886839},{"$f":"IF(ISERROR('A4-FinPerf RE'!E24/'A4-FinPerf RE'!E21),0,('A4-FinPerf RE'!E24/'A4-FinPerf RE'!E21))","v":0.53603456531699945},{"$f":"IF(ISERROR('A4-FinPerf RE'!F24/'A4-FinPerf RE'!F21),0,('A4-FinPerf RE'!F24/'A4-FinPerf RE'!F21))","v":0.47488617771568103},{"$f":"IF(ISERROR('A4-FinPerf RE'!G24/'A4-FinPerf RE'!G21),0,('A4-FinPerf RE'!G24/'A4-FinPerf RE'!G21))","v":0.41525473512617023},{"$f":"IF(ISERROR('A4-FinPerf RE'!H24/'A4-FinPerf RE'!H21),0,('A4-FinPerf RE'!H24/'A4-FinPerf RE'!H21))","v":0.41525473512617023},{"$f":"IF(ISERROR('A4-FinPerf RE'!I24/'A4-FinPerf RE'!I21),0,('A4-FinPerf RE'!I24/'A4-FinPerf RE'!I21))","v":0.41525473512617023},{"$f":"IF(ISERROR('A4-FinPerf RE'!J24/'A4-FinPerf RE'!J21),0,('A4-FinPerf RE'!J24/'A4-FinPerf RE'!J21))","v":0.46993986916382319},{"$f":"IF(ISERROR('A4-FinPerf RE'!K24/'A4-FinPerf RE'!K21),0,('A4-FinPerf RE'!K24/'A4-FinPerf RE'!K21))","v":0.46780385869222374},{"$f":"IF(ISERROR('A4-FinPerf RE'!L24/'A4-FinPerf RE'!L21),0,('A4-FinPerf RE'!L24/'A4-FinPerf RE'!L21))","v":0.46191361494815092}]
["Remuneration","Total remuneration/(Total Revenue - capital revenue)",{"$f":"IF(ISERROR('SA22'!C102/'A4-FinPerf RE'!C21),0,('SA22'!C102/'A4-FinPerf RE'!C21))","v":0.60216652312938157},{"$f":"IF(ISERROR('SA22'!D102/'A4-FinPerf RE'!D21),0,('SA22'!D102/'A4-FinPerf RE'!D21))","v":0.68261470392708512},{"$f":"IF(ISERROR('SA22'!E102/'A4-FinPerf RE'!E21),0,('SA22'!E102/'A4-FinPerf RE'!E21))","v":0.55293481585544457},{"$f":"IF(ISERROR('SA22'!F102/'A4-FinPerf RE'!F21),0,('SA22'!F102/'A4-FinPerf RE'!F21))","v":0.48524804918030362},{"$f":"IF(ISERROR('SA22'!G102/'A4-FinPerf RE'!G21),0,('SA22'!G102/'A4-FinPerf RE'!G21))","v":0.42442467935062728},{"$f":"IF(ISERROR('SA22'!H102/'A4-FinPerf RE'!H21),0,('SA22'!H102/'A4-FinPerf RE'!H21))","v":0.42442467935062728},null,{"$f":"IF(ISERROR('SA22'!I102/'A4-FinPerf RE'!J21),0,('SA22'!I102/'A4-FinPerf RE'!J21))","v":0.47885585288434834},{"$f":"IF(ISERROR('SA22'!J102/'A4-FinPerf RE'!K21),0,('SA22'!J102/'A4-FinPerf RE'!K21))","v":0.47630437093519684},{"$f":"IF(ISERROR('SA22'!K102/'A4-FinPerf RE'!L21),0,('SA22'!K102/'A4-FinPerf RE'!L21))","v":0.47000669302619857}]
["Repairs & Maintenance","R&M/(Total Revenue excluding capital revenue)",{"$f":"IF(ISERROR('A9-Asset'!C169/'A4-FinPerf RE'!C21),0,('A9-Asset'!C169/'A4-FinPerf RE'!C21))","v":1.8991246418217176E-2},{"$f":"IF(ISERROR('A9-Asset'!D169/'A4-FinPerf RE'!D21),0,('A9-Asset'!D169/'A4-FinPerf RE'!D21))","v":1.4697031671292354E-2},{"$f":"IF(ISERROR('A9-Asset'!E169/'A4-FinPerf RE'!E21),0,('A9-Asset'!E169/'A4-FinPerf RE'!E21))","v":1.1821454247503064E-2},{"$f":"IF(ISERROR('A9-Asset'!F169/'A4-FinPerf RE'!F21),0,('A9-Asset'!F169/'A4-FinPerf RE'!F21))","v":1.3277988332995438E-2},{"$f":"IF(ISERROR('A9-Asset'!G169/'A4-FinPerf RE'!G21),0,('A9-Asset'!G169/'A4-FinPerf RE'!G21))","v":1.0083467670011299E-2},{"$f":"IF(ISERROR('A9-Asset'!H169/'A4-FinPerf RE'!H21),0,('A9-Asset'!H169/'A4-FinPerf RE'!H21))","v":1.0083467670011299E-2},null,{"$f":"IF(ISERROR('A9-Asset'!I169/'A4-FinPerf RE'!J21),0,('A9-Asset'!I169/'A4-FinPerf RE'!J21))","v":1.0055590354091808E-2},{"$f":"IF(ISERROR('A9-Asset'!J169/'A4-FinPerf RE'!K21),0,('A9-Asset'!J169/'A4-FinPerf RE'!K21))","v":1.5156848708039308E-2},{"$f":"IF(ISERROR('A9-Asset'!K169/'A4-FinPerf RE'!L21),0,('A9-Asset'!K169/'A4-FinPerf RE'!L21))","v":1.535897732599977E-2}]
["Finance charges & Depreciation","FC&D/(Total Revenue - capital revenue)",{"$f":"IF(ISERROR(('A4-FinPerf RE'!C28+'A4-FinPerf RE'!C27)/'A4-FinPerf RE'!C21),0,(('A4-FinPerf RE'!C28+'A4-FinPerf RE'!C27)/'A4-FinPerf RE'!C21))","v":0.1246117457361849},{"$f":"IF(ISERROR(('A4-FinPerf RE'!D28+'A4-FinPerf RE'!D27)/'A4-FinPerf RE'!D21),0,(('A4-FinPerf RE'!D28+'A4-FinPerf RE'!D27)/'A4-FinPerf RE'!D21))","v":0.11995298857805543},{"$f":"IF(ISERROR(('A4-FinPerf RE'!E28+'A4-FinPerf RE'!E27)/'A4-FinPerf RE'!E21),0,(('A4-FinPerf RE'!E28+'A4-FinPerf RE'!E27)/'A4-FinPerf RE'!E21))","v":0.11449806506315754},{"$f":"IF(ISERROR(('A4-FinPerf RE'!F28+'A4-FinPerf RE'!F27)/'A4-FinPerf RE'!F21),0,(('A4-FinPerf RE'!F28+'A4-FinPerf RE'!F27)/'A4-FinPerf RE'!F21))","v":0.12167377691217793},{"$f":"IF(ISERROR(('A4-FinPerf RE'!G28+'A4-FinPerf RE'!G27)/'A4-FinPerf RE'!G21),0,(('A4-FinPerf RE'!G28+'A4-FinPerf RE'!G27)/'A4-FinPerf RE'!G21))","v":9.4746581404858601E-2},{"$f":"IF(ISERROR(('A4-FinPerf RE'!H28+'A4-FinPerf RE'!H27)/'A4-FinPerf RE'!H21),0,(('A4-FinPerf RE'!H28+'A4-FinPerf RE'!H27)/'A4-FinPerf RE'!H21))","v":9.4746581404858601E-2},{"$f":"IF(ISERROR(('A4-FinPerf RE'!I28+'A4-FinPerf RE'!I27)/'A4-FinPerf RE'!I21),0,(('A4-FinPerf RE'!I28+'A4-FinPerf RE'!I27)/'A4-FinPerf RE'!I21))","v":9.4746581404858601E-2},{"$f":"IF(ISERROR(('A4-FinPerf RE'!J28+'A4-FinPerf RE'!J27)/'A4-FinPerf RE'!J21),0,(('A4-FinPerf RE'!J28+'A4-FinPerf RE'!J27)/'A4-FinPerf RE'!J21))","v":0.11852373226475575},{"$f":"IF(ISERROR(('A4-FinPerf RE'!K28+'A4-FinPerf RE'!K27)/'A4-FinPerf RE'!K21),0,(('A4-FinPerf RE'!K28+'A4-FinPerf RE'!K27)/'A4-FinPerf RE'!K21))","v":0.12395082776347259},{"$f":"IF(ISERROR(('A4-FinPerf RE'!L28+'A4-FinPerf RE'!L27)/'A4-FinPerf RE'!L21),0,(('A4-FinPerf RE'!L28+'A4-FinPerf RE'!L27)/'A4-FinPerf RE'!L21))","v":0.12930591081664505}]
["IDP regulation financial viability indicators"]
["i. Debt coverage","(Total Operating Revenue - Operating Grants)/Debt service payments due within financial year)",{"$f":"IF(ISERROR(('A4-FinPerf RE'!C21-'A4-FinPerf RE'!C18)/('A7-CFlow'!D11-'A7-CFlow'!D35)),0,(('A4-FinPerf RE'!C21-'A4-FinPerf RE'!C18)/('A7-CFlow'!D11-'A7-CFlow'!D35)))","v":18.468024736558732},{"$f":"IF(ISERROR(('A4-FinPerf RE'!D21-'A4-FinPerf RE'!D18)/('A7-CFlow'!E11-'A7-CFlow'!E35)),0,(('A4-FinPerf RE'!D21-'A4-FinPerf RE'!D18)/('A7-CFlow'!E11-'A7-CFlow'!E35)))","v":18.39876284331886},{"$f":"IF(ISERROR(('A4-FinPerf RE'!E21-'A4-FinPerf RE'!E18)/('A7-CFlow'!F11-'A7-CFlow'!F35)),0,(('A4-FinPerf RE'!E21-'A4-FinPerf RE'!E18)/('A7-CFlow'!F11-'A7-CFlow'!F35)))","v":7.5114568893838172},{"$f":"IF(ISERROR(('A4-FinPerf RE'!F21-'A4-FinPerf RE'!F18)/('A7-CFlow'!G11-'A7-CFlow'!G35)),0,(('A4-FinPerf RE'!F21-'A4-FinPerf RE'!F18)/('A7-CFlow'!G11-'A7-CFlow'!G35)))","v":14.289656908696818},{"$f":"F37","v":14.289656908696818},{"$f":"G37","v":14.289656908696818},{"$f":"IF(ISERROR(('A4-FinPerf RE'!I21-'A4-FinPerf RE'!I18)/('A7-CFlow'!J11-'A7-CFlow'!J35)),0,(('A4-FinPerf RE'!I21-'A4-FinPerf RE'!I18)/('A7-CFlow'!J11-'A7-CFlow'!J35)))","v":8.8498151318349425},{"$f":"IF(ISERROR(('A4-FinPerf RE'!J21-'A4-FinPerf RE'!J18)/('A7-CFlow'!K11-'A7-CFlow'!K35)),0,(('A4-FinPerf RE'!J21-'A4-FinPerf RE'!J18)/('A7-CFlow'!K11-'A7-CFlow'!K35)))","v":6.6513857917533272},{"$f":"IF(ISERROR(('A4-FinPerf RE'!K21-'A4-FinPerf RE'!K18)/('A7-CFlow'!L11-'A7-CFlow'!L35)),0,(('A4-FinPerf RE'!K21-'A4-FinPerf RE'!K18)/('A7-CFlow'!L11-'A7-CFlow'!L35)))","v":6.1601065442283076},{"$f":"IF(ISERROR(('A4-FinPerf RE'!L21-'A4-FinPerf RE'!L18)/('A7-CFlow'!L11-'A7-CFlow'!L35)),0,(('A4-FinPerf RE'!L21-'A4-FinPerf RE'!L18)/('A7-CFlow'!L11-'A7-CFlow'!L35)))","v":6.3416075307080586}]
["ii.O/S Service Debtors to Revenue","Total outstanding service debtors/annual revenue received for services",{"$f":"IF(ISERROR(('A6-FinPos'!C8+'A6-FinPos'!C9+'A6-FinPos'!C10)/SUM('A4-FinPerf RE'!C5:C11)),0,(('A6-FinPos'!C8+'A6-FinPos'!C9+'A6-FinPos'!C10)/SUM('A4-FinPerf RE'!C5:C11)))","v":0.56395968003670238},{"$f":"IF(ISERROR(('A6-FinPos'!D8+'A6-FinPos'!D9+'A6-FinPos'!D10)/SUM('A4-FinPerf RE'!D5:D11)),0,(('A6-FinPos'!D8+'A6-FinPos'!D9+'A6-FinPos'!D10)/SUM('A4-FinPerf RE'!D5:D11)))","v":0.66912730794058783},{"$f":"IF(ISERROR(('A6-FinPos'!E8+'A6-FinPos'!E9+'A6-FinPos'!E10)/SUM('A4-FinPerf RE'!E5:E11)),0,(('A6-FinPos'!E8+'A6-FinPos'!E9+'A6-FinPos'!E10)/SUM('A4-FinPerf RE'!E5:E11)))","v":0.87678964901025358},{"$f":"IF(ISERROR(('A6-FinPos'!F8+'A6-FinPos'!F9+'A6-FinPos'!F10)/SUM('A4-FinPerf RE'!F5:F11)),0,(('A6-FinPos'!F8+'A6-FinPos'!F9+'A6-FinPos'!F10)/SUM('A4-FinPerf RE'!F5:F11)))","v":1.0817558397748932},{"$f":"IF(ISERROR(('A6-FinPos'!G8+'A6-FinPos'!G9+'A6-FinPos'!G10)/SUM('A4-FinPerf RE'!G5:G11)),0,(('A6-FinPos'!G8+'A6-FinPos'!G9+'A6-FinPos'!G10)/SUM('A4-FinPerf RE'!G5:G11)))","v":1.0313997507616626},{"$f":"IF(ISERROR(('A6-FinPos'!H8+'A6-FinPos'!H9+'A6-FinPos'!H10)/SUM('A4-FinPerf RE'!H5:H11)),0,(('A6-FinPos'!H8+'A6-FinPos'!H9+'A6-FinPos'!H10)/SUM('A4-FinPerf RE'!H5:H11)))","v":1.0313997507616626},{"$f":"IF(ISERROR(('A6-FinPos'!I8+'A6-FinPos'!I9+'A6-FinPos'!I10)/SUM('A4-FinPerf RE'!I5:I11)),0,(('A6-FinPos'!I8+'A6-FinPos'!I9+'A6-FinPos'!I10)/SUM('A4-FinPerf RE'!I5:I11)))","v":1.0313997507616626},{"$f":"IF(ISERROR(('A6-FinPos'!J8+'A6-FinPos'!J9+'A6-FinPos'!J10)/SUM('A4-FinPerf RE'!J5:J11)),0,(('A6-FinPos'!J8+'A6-FinPos'!J9+'A6-FinPos'!J10)/SUM('A4-FinPerf RE'!J5:J11)))","v":1.1139713749264695},{"$f":"IF(ISERROR(('A6-FinPos'!K8+'A6-FinPos'!K9+'A6-FinPos'!K10)/SUM('A4-FinPerf RE'!K5:K11)),0,(('A6-FinPos'!K8+'A6-FinPos'!K9+'A6-FinPos'!K10)/SUM('A4-FinPerf RE'!K5:K11)))","v":1.0721895530683816},{"$f":"IF(ISERROR(('A6-FinPos'!L8+'A6-FinPos'!L9+'A6-FinPos'!L10)/SUM('A4-FinPerf RE'!L5:L11)),0,(('A6-FinPos'!L8+'A6-FinPos'!L9+'A6-FinPos'!L10)/SUM('A4-FinPerf RE'!L5:L11)))","v":1.0667145938139893}]
["iii. Cost coverage","(Available cash + Investments)/monthly fixed operational expenditure",{"$f":"IF(ISERROR('A7-CFlow'!C40/'SA8'!C46),0,('A7-CFlow'!C40/'SA8'!C46))","v":1.7372857887855531},{"$f":"IF(ISERROR('A7-CFlow'!D40/'SA8'!D46),0,('A7-CFlow'!D40/'SA8'!D46))","v":1.6464199938502664},{"$f":"IF(ISERROR('A7-CFlow'!E40/'SA8'!E46),0,('A7-CFlow'!E40/'SA8'!E46))","v":1.6354757564292275},{"$f":"IF(ISERROR('A7-CFlow'!F40/'SA8'!F46),0,('A7-CFlow'!F40/'SA8'!F46))","v":1.9785203172546355},{"$f":"IF(ISERROR('A7-CFlow'!G40/'SA8'!G46),0,('A7-CFlow'!G40/'SA8'!G46))","v":0.72438940704607491},{"$f":"IF(ISERROR('A7-CFlow'!H40/'SA8'!H46),0,('A7-CFlow'!H40/'SA8'!H46))","v":0.72438940704607491},{"$f":"IF(ISERROR('A7-CFlow'!I40/'SA8'!I46),0,('A7-CFlow'!I40/'SA8'!I46))","v":0.72438940704607491},{"$f":"IF(ISERROR('A7-CFlow'!J40/'SA8'!J46),0,('A7-CFlow'!J40/'SA8'!J46))","v":0.94260957170720971},{"$f":"IF(ISERROR('A7-CFlow'!K40/'SA8'!K46),0,('A7-CFlow'!K40/'SA8'!K46))","v":1.533420161371805},{"$f":"IF(ISERROR('A7-CFlow'!L40/'SA8'!L46),0,('A7-CFlow'!L40/'SA8'!L46))","v":1.5787463294438771}]
[{"$f":"head27a","v":"References"}]
["1. Consumer debtors > 12 months old are excluded from current assets"]
["2. Only include if services provided by the municipality"]
[]
["Calculation data"]
["Debtors > 90 days"]
["Monthly fixed operational expenditure",null,{"$f":"(('A4-FinPerf RE'!C24+'A4-FinPerf RE'!C25+'A4-FinPerf RE'!C26+'A4-FinPerf RE'!C28+'A4-FinPerf RE'!C29+'A4-FinPerf RE'!C31+'SA1'!C91+'A7-CFlow'!C35)+(('A4-FinPerf RE'!C30+'A4-FinPerf RE'!C33)*'SA8'!C47))/12","v":96447718.090833306},{"$f":"(('A4-FinPerf RE'!D24+'A4-FinPerf RE'!D25+'A4-FinPerf RE'!D26+'A4-FinPerf RE'!D28+'A4-FinPerf RE'!D29+'A4-FinPerf RE'!D31+'SA1'!D91+'A7-CFlow'!D35)+(('A4-FinPerf RE'!D30+'A4-FinPerf RE'!D33)*'SA8'!D47))/12","v":115377210.35916664},{"$f":"(('A4-FinPerf RE'!E24+'A4-FinPerf RE'!E25+'A4-FinPerf RE'!E26+'A4-FinPerf RE'!E28+'A4-FinPerf RE'!E29+'A4-FinPerf RE'!E31+'SA1'!E91+'A7-CFlow'!E35)+(('A4-FinPerf RE'!E30+'A4-FinPerf RE'!E33)*'SA8'!E47))/12","v":122471309.73516667},{"$f":"(('A4-FinPerf RE'!F24+'A4-FinPerf RE'!F25+'A4-FinPerf RE'!F26+'A4-FinPerf RE'!F28+'A4-FinPerf RE'!F29+'A4-FinPerf RE'!F31+'SA1'!F91+'A7-CFlow'!F35)+(('A4-FinPerf RE'!F30+'A4-FinPerf RE'!F33)*'SA8'!F47))/12","v":108184425.08373332},{"$f":"(('A4-FinPerf RE'!G24+'A4-FinPerf RE'!G25+'A4-FinPerf RE'!G26+'A4-FinPerf RE'!G28+'A4-FinPerf RE'!G29+'A4-FinPerf RE'!G31+'SA1'!G91+'A7-CFlow'!G35)+(('A4-FinPerf RE'!G30+'A4-FinPerf RE'!G33)*'SA8'!G47))/12","v":131480013.25289999},{"$f":"(('A4-FinPerf RE'!H24+'A4-FinPerf RE'!H25+'A4-FinPerf RE'!H26+'A4-FinPerf RE'!H28+'A4-FinPerf RE'!H29+'A4-FinPerf RE'!H31+'SA1'!H91+'A7-CFlow'!H35)+(('A4-FinPerf RE'!H30+'A4-FinPerf RE'!H33)*'SA8'!H47))/12","v":131480013.25289999},{"$f":"(('A4-FinPerf RE'!I24+'A4-FinPerf RE'!I25+'A4-FinPerf RE'!I26+'A4-FinPerf RE'!I28+'A4-FinPerf RE'!I29+'A4-FinPerf RE'!I31+'SA1'!I91+'A7-CFlow'!I35)+(('A4-FinPerf RE'!I30+'A4-FinPerf RE'!I33)*'SA8'!I47))/12","v":131480013.25289999},{"$f":"(('A4-FinPerf RE'!J24+'A4-FinPerf RE'!J25+'A4-FinPerf RE'!J26+'A4-FinPerf RE'!J28+'A4-FinPerf RE'!J29+'A4-FinPerf RE'!J31+'SA1'!J91+'A7-CFlow'!J35)+(('A4-FinPerf RE'!J30+'A4-FinPerf RE'!J33)*'SA8'!J47))/12","v":120114719.15545332},{"$f":"(('A4-FinPerf RE'!K24+'A4-FinPerf RE'!K25+'A4-FinPerf RE'!K26+'A4-FinPerf RE'!K28+'A4-FinPerf RE'!K29+'A4-FinPerf RE'!K31+'SA1'!K91+'A7-CFlow'!K35)+(('A4-FinPerf RE'!K30+'A4-FinPerf RE'!K33)*'SA8'!K47))/12","v":125777104.32652748},{"$f":"(('A4-FinPerf RE'!L24+'A4-FinPerf RE'!L25+'A4-FinPerf RE'!L26+'A4-FinPerf RE'!L28+'A4-FinPerf RE'!L29+'A4-FinPerf RE'!L31+'SA1'!L91+'A7-CFlow'!L35)+(('A4-FinPerf RE'!L30+'A4-FinPerf RE'!L33)*'SA8'!L47))/12","v":131488920.15143366}]
["Fixed operational expenditure % assumption",null,0.8,{"$f":"$C$47","v":0.8},{"$f":"$C$47","v":0.8},0.8,0.8,0.8,0.8,0.8,0.8,0.8]
["Own capex",null,{"$f":"'A5-Capex'!C40-'A5-Capex'!C70-'A5-Capex'!C71","v":0},{"$f":"'A5-Capex'!D40-'A5-Capex'!D70-'A5-Capex'!D71","v":799884},{"$f":"'A5-Capex'!E40-'A5-Capex'!E70-'A5-Capex'!E71","v":460786.88999998569},{"$f":"'A5-Capex'!F40-'A5-Capex'!F70-'A5-Capex'!F71","v":48962720},{"$f":"'A5-Capex'!G40-'A5-Capex'!G70-'A5-Capex'!G71","v":27011707.25257504},{"$f":"'A5-Capex'!H40-'A5-Capex'!H70-'A5-Capex'!H71","v":27011707.25257504},{"$f":"'A5-Capex'!I40-'A5-Capex'!I70-'A5-Capex'!I71","v":27011707.25257504},{"$f":"'A5-Capex'!J40-'A5-Capex'!J70-'A5-Capex'!J71","v":15000000},{"$f":"'A5-Capex'!K40-'A5-Capex'!K70-'A5-Capex'!K71","v":15000000},{"$f":"'A5-Capex'!L40-'A5-Capex'!L70-'A5-Capex'!L71","v":15000000}]
["Borrowing",null,{"$f":"'A7-CFlow'!C31+'A7-CFlow'!C32","v":0},{"$f":"'A7-CFlow'!D31+'A7-CFlow'!D32","v":0},{"$f":"'A7-CFlow'!E31+'A7-CFlow'!E32","v":0},{"$f":"'A7-CFlow'!F31+'A7-CFlow'!F32","v":0},{"$f":"'A7-CFlow'!G31+'A7-CFlow'!G32","v":0},{"$f":"'A7-CFlow'!H31+'A7-CFlow'!H32","v":0},{"$f":"'A7-CFlow'!I31+'A7-CFlow'!I32","v":0},{"$f":"'A7-CFlow'!J31+'A7-CFlow'!J32","v":0},{"$f":"'A7-CFlow'!K31+'A7-CFlow'!K32","v":0},{"$f":"'A7-CFlow'!L31+'A7-CFlow'!L32","v":0}]

{"sheet":"SA9","index":28,"n_rows":310,"n_cols":13,"rows_kept":310,"cut":false,"hidden":false,"merged":[[108,10,108,12],[1,5,2,5],[62,7,62,9],[62,10,62,12],[108,0,109,0],[108,7,108,9],[1,0,2,0],[62,0,63,0],[1,3,2,3],[1,4,2,4],[1,10,1,12],[1,1,2,1],[1,2,2,2],[246,7,246,9],[246,10,246,12],[246,0,247,0],[154,0,155,0],[154,7,154,9],[200,7,200,9],[200,10,200,12],[154,10,154,12],[200,0,201,0]]}
[{"$f":"muni&\" - \"&TableA9","v":"DC12 Amathole - Supporting Table SA9 Social, economic and demographic statistics and assumptions"}]
["Description of economic indicator","Ref.","Basis of calculation",{"$f":"Head44","v":"2001 Census"},"2007 Survey",{"$f":"Head45","v":"2011 Census"},{"$f":"head1b","v":"2016/17"},{"$f":"head1A","v":"2017/18"},{"$f":"Head1","v":"2018/19"},{"$f":"Head2","v":"Current Year 2019/20"},{"$f":"Head3","v":"2020/21 Medium Term Revenue & Expenditure Framework"}]
[null,null,null,null,null,null,{"$f":"Head5A","v":"Outcome"},"Outcome","Outcome",{"$f":"Head6","v":"Original Budget"},"Outcome","Outcome","Outcome"]
["Demographics"]
["Population",null,null,null,884000,862000,866000,870000,875000]
["Females aged 5 - 14",null,null,null,null,null,88800]
["Males aged 5 - 14",null,null,null,null,null,94138]
["Females aged 15 - 34",null,null,null,null,null,141928]
["Males aged 15 - 34",null,null,null,null,null,153889]
["Unemployment"]
[]
["Monthly household income (no. of households)","1, 12"]
["No income"]
["R1 - R1 600",null,null,null,null,null,24]
["R1 601 - R3 200"]
["R3 201 - R6 400",null,null,null,null,null,459]
["R6 401 - R12 800",null,null,null,null,null,5010]
["R12 801 - R25 600",null,null,null,null,null,{"$f":"29300+9900","v":39200}]
["R25 601 - R51 200",null,null,null,null,null,{"$f":"32000+29100","v":61100}]
["R52 201 - R102 400",null,null,null,null,null,{"$f":"31400+26700","v":58100}]
["R102 401 - R204 800",null,null,null,null,null,{"$f":"21100+16100","v":37200}]
["R204 801 - R409 600",null,null,null,null,null,14300]
["R409 601 - R819 200",null,null,null,null,null,6840]
[" > R819 200",null,null,null,null,null,{"$f":"3840+1020+115","v":4975}]
[]
[]
["Poverty profiles (no. of households)"]
["< R2 060 per household per month",13]
["Insert description",2]
[]
["Household/demographics (000)"]
["Number of people in municipal area"]
["Number of poor people in municipal area",null,null,null,63000,52000,68200]
["Number of households in municipal area",null,null,null,219000,226000,228000,229000]
["Number of poor households in municipal area"]
["Definition of poor household (R per month)"]
[]
["Housing statistics",3]
["Formal"]
["Informal"]
["Total number of households",null,null,{"$f":"SUM(D39:D40)","v":0},{"$f":"SUM(E39:E40)","v":0},0,0,0,0,0,0,0,0]
["Dwellings provided by municipality",4]
["Dwellings provided by province/s"]
["Dwellings provided by private sector",5]
["Total new housing dwellings",null,null,{"$f":"SUM(D42:D44)","v":0},{"$f":"SUM(E42:E44)","v":0},0,0,0,0,0,0,0,0]
[]
["Economic",6]
["Inflation/inflation outlook (CPIX)",null,null,null,null,null,null,null,null,null,"4.5%","4.6%","4.6%"]
["Interest rate - borrowing"]
["Interest rate - investment",null,null,null,null,null,null,null,null,null,"4.5%","4.6%","4.6%"]
["Remuneration increases",null,null,null,null,null,null,null,null,null,"2.5%","2.5%","2.5%"]
["Consumption growth (electricity)"]
["Consumption growth (water)",null,null,null,null,null,null,null,null,null,0.06,0.06,0.06]
[]
["Collection rates",7]
["Property tax/service charges",null,null,null,null,null,null,null,null,null,0.5,0.5,0.5]
["Rental of facilities & equipment"]
["Interest - external investments"]
["Interest - debtors"]
["Revenue from agency services"]
[]
["Detail on the provision of municipal services for A10"]
["Total municipal services",null,null,null,{"$f":"head1b","v":"2016/17"},{"$f":"head1A","v":"2017/18"},{"$f":"Head1","v":"2018/19"},{"$f":"Head2","v":"Current Year 2019/20"},null,null,{"$f":"Head3","v":"2020/21 Medium Term Revenue & Expenditure Framework"}]
[null,"Ref.",null,null,{"$f":"Head5A","v":"Outcome"},{"$f":"Head5A","v":"Outcome"},{"$f":"Head5A","v":"Outcome"},{"$f":"Head6","v":"Original Budget"},{"$f":"Head7","v":"Adjusted Budget"},{"$f":"Head8","v":"Full Year Forecast"},{"$f":"Head9","v":"Budget Year 2020/21"},{"$f":"Head10","v":"Budget Year +1 2021/22"},{"$f":"Head11","v":"Budget Year +2 2022/23"}]
[null,null,"Household service targets (000)"]
[null,null,"Water:"]
[null,null,"Piped water inside dwelling",null,{"$f":"E113+E159+E205","v":31902},{"$f":"F113+F159+F205","v":31902},0,0,0,0,0,0,0]
[null,null,"Piped water inside yard (but not in dwelling)",null,{"$f":"E114+E160+E206","v":0},0,0,0,0,0,0,0,0]
[null,8,"Using public tap (at least min.service level)",null,194934,196391,0,204694,204694,204694,211113,217532,230583.92]
[null,10,"Other water supply (at least min.service level)",null,0,0,0,0,0,0,0,0,0]
[null,null,"Minimum Service Level and Above sub-total",null,{"$f":"SUM(E67:E70)","v":226836},{"$f":"SUM(F67:F70)","v":228293},0,204694,204694,204694,211113,217532,230583.92]
[null,9,"Using public tap (< min.service level)",null,{"$f":"E118+E164+E210","v":0},0,0,0,0,0,0,0,0]
[null,10,"Other water supply (< min.service level)",null,13164,11707,0,0,0,0,0,0,0]
[null,null,"No water supply",null,0,0,0,0,0,0,0,0,0]
[null,null,"Below Minimum Service Level sub-total",null,{"$f":"SUM(E72:E74)","v":13164},{"$f":"SUM(F72:F74)","v":11707},0,0,0,0,0,0,0]
[null,null,"Total number of households",null,{"$f":"E71+E75","v":240000},{"$f":"F71+F75","v":240000},0,204694,204694,204694,211113,217532,230583.92]
[null,null,"Sanitation/sewerage:"]
[null,null,"Flush toilet (connected to sewerage)",null,{"$f":"E124+E170+E216","v":23882},23882,0,24682,24682,24682,24682,24682,25792.69]
[null,null,"Flush toilet (with septic tank)",null,{"$f":"E125+E171+E217","v":0},0,0,0,0,0,0,0,0]
[null,null,"Chemical toilet",null,{"$f":"E126+E172+E218","v":0},0,0,0,0,0,0,0,0]
[null,null,"Pit toilet (ventilated)",null,{"$f":"E127+E173+E219","v":131964},153880,0,0,0,0,0,0,0]
[null,null,"Other toilet provisions (> min.service level)",null,{"$f":"E128+E174+E220","v":155846},177762,0,192762,192762,192762,202762,212762,222336.28999999998]
[null,null,"Minimum Service Level and Above sub-total",null,{"$f":"SUM(E78:E82)","v":311692},{"$f":"SUM(F78:F82)","v":355524},0,217444,217444,217444,227444,237444,248128.97999999998]
[null,null,"Bucket toilet",null,{"$f":"E130+E176+E222","v":624},624,0,0,0,0,0,0,0]
[null,null,"Other toilet provisions (< min.service level)",null,{"$f":"E131+E177+E223","v":0},0,0,0,0,0,0,0,0]
[null,null,"No toilet provisions",null,{"$f":"E132+E178+E224","v":84154},56492,0,41492,41492,41492,31492,21492,15000000]
[null,null,"Below Minimum Service Level sub-total",null,{"$f":"SUM(E84:E86)","v":84778},{"$f":"SUM(F84:F86)","v":57116},0,41492,41492,41492,31492,21492,15000000]
[null,null,"Total number of households",null,{"$f":"E83+E87","v":396470},{"$f":"F83+F87","v":412640},0,258936,258936,258936,258936,258936,15248128.98]
[null,null,"Energy:"]
[null,null,"Electricity (at least min.service level)",null,{"$f":"E136+E182+E228","v":0},0,0,0,0,0,0,0,0]
[null,null,"Electricity - prepaid (min.service level)",null,{"$f":"E137+E183+E229","v":0},0,0,0,0,0,0,0,0]
[null,null,"Minimum Service Level and Above sub-total",null,{"$f":"SUM(E90:E91)","v":0},{"$f":"SUM(F90:F91)","v":0},0,0,0,0,0,0,0]
[null,null,"Electricity (< min.service level)",null,{"$f":"E139+E185+E231","v":0},0,0,0,0,0,0,0,0]
[null,null,"Electricity - prepaid (< min. service level)",null,{"$f":"E140+E186+E232","v":0},0,0,0,0,0,0,0,0]
[null,null,"Other energy sources",null,{"$f":"E141+E187+E233","v":0},0,0,0,0,0,0,0,0]
[null,null,"Below Minimum Service Level sub-total",null,{"$f":"SUM(E93:E95)","v":0},{"$f":"SUM(F93:F95)","v":0},0,0,0,0,0,0,0]
[null,null,"Total number of households",null,{"$f":"E92+E96","v":0},{"$f":"F92+F96","v":0},0,0,0,0,0,0,0]
[null,null,"Refuse:"]
[null,null,"Removed at least once a week",null,{"$f":"E145+E191+E237","v":0},0,0,0,0,0,0,0,0]
[null,null,"Minimum Service Level and Above sub-total",null,{"$f":"SUM(E99)","v":0},{"$f":"SUM(F99)","v":0},0,0,0,0,0,0,0]
[null,null,"Removed less frequently than once a week",null,{"$f":"E147+E193+E239","v":0},0,0,0,0,0,0,0,0]
[null,null,"Using communal refuse dump",null,{"$f":"E148+E194+E240","v":0},0,0,0,0,0,0,0,0]
[null,null,"Using own refuse dump",null,{"$f":"E149+E195+E241","v":0},0,0,0,0,0,0,0,0]
[null,null,"Other rubbish disposal",null,{"$f":"E150+E196+E242","v":0},0,0,0,0,0,0,0,0]
[null,null,"No rubbish disposal",null,{"$f":"E151+E197+E243","v":0},0,0,0,0,0,0,0,0]
[null,null,"Below Minimum Service Level sub-total",null,{"$f":"SUM(E101:E105)","v":0},0,0,0,0,0,0,0,0]
[null,null,"Total number of households",null,{"$f":"E100+E106","v":0},{"$f":"F100+F106","v":0},0,0,0,0,0,0,0]
[]
["Municipal in-house services",null,null,null,{"$f":"head1b","v":"2016/17"},{"$f":"head1A","v":"2017/18"},{"$f":"Head1","v":"2018/19"},{"$f":"Head2","v":"Current Year 2019/20"},null,null,{"$f":"Head3","v":"2020/21 Medium Term Revenue & Expenditure Framework"}]
[null,"Ref.",null,null,{"$f":"Head5A","v":"Outcome"},{"$f":"Head5A","v":"Outcome"},{"$f":"Head5A","v":"Outcome"},{"$f":"Head6","v":"Original Budget"},{"$f":"Head7","v":"Adjusted Budget"},{"$f":"Head8","v":"Full Year Forecast"},{"$f":"Head9","v":"Budget Year 2020/21"},{"$f":"Head10","v":"Budget Year +1 2021/22"},{"$f":"Head11","v":"Budget Year +2 2022/23"}]
[null,null,"Household service targets (000)"]
[null,null,"Water:"]
[null,null,"Piped water inside dwelling",null,31902,31902]
[null,null,"Piped water inside yard (but not in dwelling)"]
[null,8,"Using public tap (at least min.service level)",null,194934,196391,null,204694,204694,204694,211113,217532,{"$f":"L115*1.06","v":230583.92}]
[null,10,"Other water supply (at least min.service level)"]
[null,null,"Minimum Service Level and Above sub-total",null,{"$f":"SUM(E113:E116)","v":226836},{"$f":"SUM(F113:F116)","v":228293},0,204694,204694,204694,211113,217532,230583.92]
[null,9,"Using public tap (< min.service level)"]
[null,10,"Other water supply (< min.service level)",null,13164,11707]
[null,null,"No water supply"]
[null,null,"Below Minimum Service Level sub-total",null,{"$f":"SUM(E118:E120)","v":13164},{"$f":"SUM(F118:F120)","v":11707},0,0,0,0,0,0,0]
[null,null,"Total number of households",null,{"$f":"E117+E121","v":240000},{"$f":"F117+F121","v":240000},0,204694,204694,204694,211113,217532,230583.92]
[null,null,"Sanitation/sewerage:"]
[null,null,"Flush toilet (connected to sewerage)",null,23882,23882,null,24682,24682,24682,24682,24682,{"$f":"L124*1.045","v":25792.69}]
[null,null,"Flush toilet (with septic tank)"]
[null,null,"Chemical toilet"]
[null,null,"Pit toilet (ventilated)",null,131964,153880]
[null,null,"Other toilet provisions (> min.service level)",null,155846,177762,null,192762,192762,192762,202762,212762,{"$f":"L128*1.045","v":222336.28999999998}]
[null,null,"Minimum Service Level and Above sub-total",null,{"$f":"SUM(E124:E128)","v":311692},{"$f":"SUM(F124:F128)","v":355524},0,217444,217444,217444,227444,237444,248128.97999999998]
[null,null,"Bucket toilet",null,624,624]
[null,null,"Other toilet provisions (< min.service level)"]
[null,null,"No toilet provisions",null,84154,56492,null,41492,41492,41492,31492,21492,15000000]
[null,null,"Below Minimum Service Level sub-total",null,{"$f":"SUM(E130:E132)","v":84778},{"$f":"SUM(F130:F132)","v":57116},0,41492,41492,41492,31492,21492,15000000]
[null,null,"Total number of households",null,{"$f":"E129+E133","v":396470},{"$f":"F129+F133","v":412640},0,258936,258936,258936,258936,258936,15248128.98]
[null,null,"Energy:"]
[null,null,"Electricity (at least min.service level)"]
[null,null,"Electricity - prepaid (min.service level)"]
[null,null,"Minimum Service Level and Above sub-total",null,{"$f":"SUM(E136:E137)","v":0},{"$f":"SUM(F136:F137)","v":0},0,0,0,0,0,0,0]
[null,null,"Electricity (< min.service level)"]
[null,null,"Electricity - prepaid (< min. service level)"]
[null,null,"Other energy sources"]
[null,null,"Below Minimum Service Level sub-total",null,{"$f":"SUM(E139:E141)","v":0},{"$f":"SUM(F139:F141)","v":0},0,0,0,0,0,0,0]
[null,null,"Total number of households",null,{"$f":"E138+E142","v":0},{"$f":"F138+F142","v":0},0,0,0,0,0,0,0]
[null,null,"Refuse:"]
[null,null,"Removed at least once a week"]
[null,null,"Minimum Service Level and Above sub-total",null,{"$f":"SUM(E145)","v":0},{"$f":"SUM(F145)","v":0},0,0,0,0,0,0,0]
[null,null,"Removed less frequently than once a week"]
[null,null,"Using communal refuse dump"]
[null,null,"Using own refuse dump"]
[null,null,"Other rubbish disposal"]
[null,null,"No rubbish disposal"]
[null,null,"Below Minimum Service Level sub-total",null,{"$f":"SUM(E147:E151)","v":0},0,0,0,0,0,0,0,0]
[null,null,"Total number of households",null,{"$f":"E146+E152","v":0},{"$f":"F146+F152","v":0},0,0,0,0,0,0,0]
[]
["Municipal entity services",null,null,null,{"$f":"head1b","v":"2016/17"},{"$f":"head1A","v":"2017/18"},{"$f":"Head1","v":"2018/19"},{"$f":"Head2","v":"Current Year 2019/20"},null,null,{"$f":"Head3","v":"2020/21 Medium Term Revenue & Expenditure Framework"}]
[null,"Ref.",null,null,{"$f":"Head5A","v":"Outcome"},{"$f":"Head5A","v":"Outcome"},{"$f":"Head5A","v":"Outcome"},{"$f":"Head6","v":"Original Budget"},{"$f":"Head7","v":"Adjusted Budget"},{"$f":"Head8","v":"Full Year Forecast"},{"$f":"Head9","v":"Budget Year 2020/21"},{"$f":"Head10","v":"Budget Year +1 2021/22"},{"$f":"Head11","v":"Budget Year +2 2022/23"}]
[null,null,"Household service targets (000)"]
["Name of municipal entity",null,"Water:"]
[null,null,"Piped water inside dwelling"]
[null,null,"Piped water inside yard (but not in dwelling)"]
[null,8,"Using public tap (at least min.service level)"]
[null,10,"Other water supply (at least min.service level)"]
[null,null,"Minimum Service Level and Above sub-total",null,{"$f":"SUM(E159:E162)","v":0},{"$f":"SUM(F159:F162)","v":0},0,0,0,0,0,0,0]
[null,9,"Using public tap (< min.service level)"]
[null,10,"Other water supply (< min.service level)"]
[null,null,"No water supply"]
[null,null,"Below Minimum Service Level sub-total",null,{"$f":"SUM(E164:E166)","v":0},{"$f":"SUM(F164:F166)","v":0},0,0,0,0,0,0,0]
[null,null,"Total number of households",null,{"$f":"E163+E167","v":0},{"$f":"F163+F167","v":0},0,0,0,0,0,0,0]
["Name of municipal entity",null,"Sanitation/sewerage:"]
[null,null,"Flush toilet (connected to sewerage)"]
[null,null,"Flush toilet (with septic tank)"]
[null,null,"Chemical toilet"]
[null,null,"Pit toilet (ventilated)"]
[null,null,"Other toilet provisions (> min.service level)"]
[null,null,"Minimum Service Level and Above sub-total",null,{"$f":"SUM(E170:E174)","v":0},{"$f":"SUM(F170:F174)","v":0},0,0,0,0,0,0,0]
[null,null,"Bucket toilet"]
[null,null,"Other toilet provisions (< min.service level)"]
[null,null,"No toilet provisions"]
[null,null,"Below Minimum Service Level sub-total",null,{"$f":"SUM(E176:E178)","v":0},{"$f":"SUM(F176:F178)","v":0},0,0,0,0,0,0,0]
[null,null,"Total number of households",null,{"$f":"E175+E179","v":0},{"$f":"F175+F179","v":0},0,0,0,0,0,0,0]
["Name of municipal entity",null,"Energy:"]
[null,null,"Electricity (at least min.service level)"]
[null,null,"Electricity - prepaid (min.service level)"]
[null,null,"Minimum Service Level and Above sub-total",null,{"$f":"SUM(E182:E183)","v":0},{"$f":"SUM(F182:F183)","v":0},0,0,0,0,0,0,0]
[null,null,"Electricity (< min.service level)"]
[null,null,"Electricity - prepaid (< min. service level)"]
[null,null,"Other energy sources"]
[null,null,"Below Minimum Service Level sub-total",null,{"$f":"SUM(E185:E187)","v":0},{"$f":"SUM(F185:F187)","v":0},0,0,0,0,0,0,0]
[null,null,"Total number of households",null,{"$f":"E184+E188","v":0},{"$f":"F184+F188","v":0},0,0,0,0,0,0,0]
["Name of municipal entity",null,"Refuse:"]
[null,null,"Removed at least once a week"]
[null,null,"Minimum Service Level and Above sub-total",null,{"$f":"SUM(E191)","v":0},{"$f":"SUM(F191)","v":0},0,0,0,0,0,0,0]
[null,null,"Removed less frequently than once a week"]
[null,null,"Using communal refuse dump"]
[null,null,"Using own refuse dump"]
[null,null,"Other rubbish disposal"]
[null,null,"No rubbish disposal"]
[null,null,"Below Minimum Service Level sub-total",null,{"$f":"SUM(E193:E197)","v":0},0,0,0,0,0,0,0,0]
[null,null,"Total number of households",null,{"$f":"E192+E198","v":0},{"$f":"F192+F198","v":0},0,0,0,0,0,0,0]
[]
["Services provided by 'external mechanisms'",null,null,null,{"$f":"head1b","v":"2016/17"},{"$f":"head1A","v":"2017/18"},{"$f":"Head1","v":"2018/19"},{"$f":"Head2","v":"Current Year 2019/20"},null,null,{"$f":"Head3","v":"2020/21 Medium Term Revenue & Expenditure Framework"}]
[null,"Ref.",null,null,{"$f":"Head5A","v":"Outcome"},{"$f":"Head5A","v":"Outcome"},{"$f":"Head5A","v":"Outcome"},{"$f":"Head6","v":"Original Budget"},{"$f":"Head7","v":"Adjusted Budget"},{"$f":"Head8","v":"Full Year Forecast"},{"$f":"Head9","v":"Budget Year 2020/21"},{"$f":"Head10","v":"Budget Year +1 2021/22"},{"$f":"Head11","v":"Budget Year +2 2022/23"}]
["Names of service providers",null,"Household service targets (000)"]
[null,null,"Water:"]
[null,null,"Piped water inside dwelling"]
[null,null,"Piped water inside yard (but not in dwelling)"]
[null,8,"Using public tap (at least min.service level)"]
[null,10,"Other water supply (at least min.service level)"]
[null,null,"Minimum Service Level and Above sub-total",null,{"$f":"SUM(E205:E208)","v":0},{"$f":"SUM(F205:F208)","v":0},0,0,0,0,0,0,0]
[null,9,"Using public tap (< min.service level)"]
[null,10,"Other water supply (< min.service level)"]
[null,null,"No water supply"]
[null,null,"Below Minimum Service Level sub-total",null,{"$f":"SUM(E210:E212)","v":0},{"$f":"SUM(F210:F212)","v":0},0,0,0,0,0,0,0]
[null,null,"Total number of households",null,{"$f":"E209+E213","v":0},{"$f":"F209+F213","v":0},0,0,0,0,0,0,0]
["Names of service providers",null,"Sanitation/sewerage:"]
[null,null,"Flush toilet (connected to sewerage)"]
[null,null,"Flush toilet (with septic tank)"]
[null,null,"Chemical toilet"]
[null,null,"Pit toilet (ventilated)"]
[null,null,"Other toilet provisions (> min.service level)"]
[null,null,"Minimum Service Level and Above sub-total",null,{"$f":"SUM(E216:E220)","v":0},{"$f":"SUM(F216:F220)","v":0},0,0,0,0,0,0,0]
[null,null,"Bucket toilet"]
[null,null,"Other toilet provisions (< min.service level)"]
[null,null,"No toilet provisions"]
[null,null,"Below Minimum Service Level sub-total",null,{"$f":"SUM(E222:E224)","v":0},{"$f":"SUM(F222:F224)","v":0},0,0,0,0,0,0,0]
[null,null,"Total number of households",null,{"$f":"E221+E225","v":0},{"$f":"F221+F225","v":0},0,0,0,0,0,0,0]
["Names of service providers",null,"Energy:"]
[null,null,"Electricity (at least min.service level)"]
[null,null,"Electricity - prepaid (min.service level)"]
[null,null,"Minimum Service Level and Above sub-total",null,{"$f":"SUM(E228:E229)","v":0},{"$f":"SUM(F228:F229)","v":0},0,0,0,0,0,0,0]
[null,null,"Electricity (< min.service level)"]
[null,null,"Electricity - prepaid (< min. service level)"]
[null,null,"Other energy sources"]
[null,null,"Below Minimum Service Level sub-total",null,{"$f":"SUM(E231:E233)","v":0},{"$f":"SUM(F231:F233)","v":0},0,0,0,0,0,0,0]
[null,null,"Total number of households",null,{"$f":"E230+E234","v":0},{"$f":"F230+F234","v":0},0,0,0,0,0,0,0]
["Names of service providers",null,"Refuse:"]
[null,null,"Removed at least once a week"]
[null,null,"Minimum Service Level and Above sub-total",null,{"$f":"SUM(E237)","v":0},{"$f":"SUM(F237)","v":0},0,0,0,0,0,0,0]
[null,null,"Removed less frequently than once a week"]
[null,null,"Using communal refuse dump"]
[null,null,"Using own refuse dump"]
[null,null,"Other rubbish disposal"]
[null,null,"No rubbish disposal"]
[null,null,"Below Minimum Service Level sub-total",null,{"$f":"SUM(E239:E243)","v":0},0,0,0,0,0,0,0,0]
[null,null,"Total number of households",null,{"$f":"E238+E244","v":0},{"$f":"F238+F244","v":0},0,0,0,0,0,0,0]
[]
["Detail of Free Basic Services (FBS) provided",null,null,null,{"$f":"head1b","v":"2016/17"},{"$f":"head1A","v":"2017/18"},{"$f":"Head1","v":"2018/19"},{"$f":"Head2","v":"Current Year 2019/20"},null,null,{"$f":"Head3","v":"2020/21 Medium Term Revenue & Expenditure Framework"}]
[null,null,null,null,{"$f":"Head5A","v":"Outcome"},{"$f":"Head5A","v":"Outcome"},{"$f":"Head5A","v":"Outcome"},{"$f":"Head6","v":"Original Budget"},{"$f":"Head7","v":"Adjusted Budget"},{"$f":"Head8","v":"Full Year Forecast"},{"$f":"Head9","v":"Budget Year 2020/21"},{"$f":"Head10","v":"Budget Year +1 2021/22"},{"$f":"Head11","v":"Budget Year +2 2022/23"}]
["Electricity","Ref.","Location of households for each type of FBS"]
["List type of FBS service",null,"Formal settlements -  (50 kwh per indigent household per month Rands)"]
[null,null,"Number of HH receiving this type of FBS"]
[null,null,"Informal settlements (Rands)"]
[null,null,"Number of HH receiving this type of FBS"]
[null,null,"Informal settlements targeted for upgrading (Rands)"]
[null,null,"Number of HH receiving this type of FBS"]
[null,null,"Living in informal backyard rental agreement (Rands)"]
[null,null,"Number of HH receiving this type of FBS"]
[null,null,"Other (Rands)"]
[null,null,"Number of HH receiving this type of FBS"]
[null,null,"Total cost of FBS - Electricity for informal settlements",null,{"$f":"E252+E254+E256+E258","v":0},{"$f":"F252+F254+F256+F258","v":0},0,0,0,0,0,0,0]
["Water","Ref.","Location of households for each type of FBS"]
["List type of FBS service",null,"Formal settlements -  (6 kilolitre per indigent household per month Rands)",null,16391630,17422415,11462600,50000000,29752000,29752000,35000000,35600000,56420000]
[null,null,"Number of HH receiving this type of FBS",null,206836,209067,null,null,null,null,{"$f":"7963+21179","v":29142},{"$f":"8440.78+22449.74","v":30890.520000000004},{"$f":"8947.2268+23796.7244","v":32743.9512}]
[null,null,"Informal settlements (Rands)"]
[null,null,"Number of HH receiving this type of FBS"]
[null,null,"Informal settlements targeted for upgrading (Rands)"]
[null,null,"Number of HH receiving this type of FBS"]
[null,null,"Living in informal backyard rental agreement (Rands)"]
[null,null,"Number of HH receiving this type of FBS"]
[null,null,"Other (Rands)"]
[null,null,"Number of HH receiving this type of FBS"]
[null,null,"Total cost of FBS - Water  for informal settlements",null,{"$f":"E264+E266+E268+E270","v":0},{"$f":"F264+F266+F268+F270","v":0},0,0,0,0,0,0,0]
["Sanitation","Ref.","Location of households for each type of FBS"]
["List type of FBS service",null,"Formal settlements -  (free sanitation service to indigent households)"]
[null,null,"Number of HH receiving this type of FBS"]
[null,null,"Informal settlements (Rands)"]
[null,null,"Number of HH receiving this type of FBS"]
[null,null,"Informal settlements targeted for upgrading (Rands)"]
[null,null,"Number of HH receiving this type of FBS"]
[null,null,"Living in informal backyard rental agreement (Rands)"]
[null,null,"Number of HH receiving this type of FBS"]
[null,null,"Other (Rands)"]
[null,null,"Number of HH receiving this type of FBS"]
[null,null,"Total cost of FBS - Sanitation for informal settlements",null,{"$f":"E276+E278+E280+E282","v":0},{"$f":"F276+F278+F280+F282","v":0},0,0,0,0,0,0,0]
["Refuse Removal","Ref.","Location of households for each type of FBS"]
["List type of FBS service",null,"Formal settlements -  (removed once a week to indigent households)"]
[null,null,"Number of HH receiving this type of FBS"]
[null,null,"Informal settlements (Rands)"]
[null,null,"Number of HH receiving this type of FBS"]
[null,null,"Informal settlements targeted for upgrading (Rands)"]
[null,null,"Number of HH receiving this type of FBS"]
[null,null,"Living in informal backyard rental agreement (Rands)"]
[null,null,"Number of HH receiving this type of FBS"]
[null,null,"Other (Rands)"]
[null,null,"Number of HH receiving this type of FBS"]
[null,null,"Total cost of FBS - Refuse Removal for informal settlements",null,{"$f":"E288+E290+E292+E294","v":0},{"$f":"F288+F290+F292+F294","v":0},0,0,0,0,0,0,0]
[{"$f":"head27a","v":"References"}]
["1. Monthly household income threshold. Should include all sources of income."]
["2. Show the poverty analysis the municipality uses to determine its indigents policy and the provision of services"]
["3. Include total of all housing units within the municipality"]
["4. Number of subsidised dwellings to be constructed by the municipality under agency agreement with province"]
["5. Provide estimate based on building approval information. Include any non-subsidised dwellings constructed by the municipality"]
["6. Insert actual or estimated % increases assumed as a basis for budget calculations"]
["7. Insert actual or estimated % collection rate assumed as a basis for budget calculations for each revenue group"]
["8. Stand distance <= 200m from dwelling"]
["9. Stand distance > 200m from dwelling"]
["10. Borehole, spring, rain-water tank etc."]
["11. Must agree to total number of households in municipal area"]
["12. Household income categories assume an average 4 person household. Stats SA - Census 2011 Questionnaire"]
["13. Based on National poverty line of R515 per capita per month (2008 prices), assuming an average household size of 4 persons"]

{"sheet":"SA10","index":29,"n_rows":141,"n_cols":13,"rows_kept":141,"cut":false,"hidden":false,"merged":[[1,0,2,0],[1,10,1,12],[1,1,2,1],[1,2,2,2],[1,6,1,9]]}
[{"$f":"muni &\" \" & TableA10","v":"DC12 Amathole Supporting Table SA10 Funding measurement"}]
[{"$f":"desc","v":"Description"},"MFMA section",{"$f":"head27","v":"Ref"},{"$f":"head1b","v":"2016/17"},{"$f":"head1A","v":"2017/18"},{"$f":"Head1","v":"2018/19"},{"$f":"Head2","v":"Current Year 2019/20"},null,null,null,{"$f":"Head3","v":"2020/21 Medium Term Revenue & Expenditure Framework"}]
[null,null,null,{"$f":"Head5","v":"Audited Outcome"},{"$f":"Head5","v":"Audited Outcome"},{"$f":"Head5","v":"Audited Outcome"},{"$f":"Head6","v":"Original Budget"},{"$f":"Head7","v":"Adjusted Budget"},{"$f":"Head8","v":"Full Year Forecast"},{"$f":"Head5b","v":"Pre-audit outcome"},{"$f":"Head9","v":"Budget Year 2020/21"},{"$f":"Head10","v":"Budget Year +1 2021/22"},{"$f":"Head11","v":"Budget Year +2 2022/23"}]
["Funding measures"]
[{"$f":"LEFT('A7-CFlow'!A40,37)&\" - R'000\"","v":"Cash/cash equivalents at the year end - R'000"},"18(1)b",1,{"$f":"'A7-CFlow'!C40","v":167557250},{"$f":"'A7-CFlow'!D40","v":189959345.97000003},{"$f":"'A7-CFlow'!E40","v":200298857.92999992},{"$f":"'A7-CFlow'!F40","v":214045083.03867841},{"$f":"'A7-CFlow'!G40","v":95242728.8386783},{"$f":"'A7-CFlow'!H40","v":95242728.8386783},{"$f":"'A7-CFlow'!I40","v":95242728.8386783},{"$f":"'A7-CFlow'!J40","v":113221283.97885364},{"$f":"'A7-CFlow'!K40","v":192869147.61326212},{"$f":"'A7-CFlow'!L40","v":207587650.05161494}]
["Cash + investments at the yr end less applications - R'000","18(1)b",2,{"$f":"'A8-ResRecon'!C8-'A8-ResRecon'!C18","v":-213637070.33999994},{"$f":"'A8-ResRecon'!D8-'A8-ResRecon'!D18","v":-248954580.69999999},{"$f":"'A8-ResRecon'!E8-'A8-ResRecon'!E18","v":-305081121.98999995},{"$f":"'A8-ResRecon'!F8-'A8-ResRecon'!F18","v":-55402410.711824417},{"$f":"'A8-ResRecon'!G8-'A8-ResRecon'!G18","v":2665363.8581755906},{"$f":"'A8-ResRecon'!H8-'A8-ResRecon'!H18","v":2665363.8581755906},{"$f":"'A8-ResRecon'!I8-'A8-ResRecon'!I18","v":2665363.8581755906},{"$f":"'A8-ResRecon'!J8-'A8-ResRecon'!J18","v":4079918.998350814},{"$f":"'A8-ResRecon'!K8-'A8-ResRecon'!K18","v":122646782.6327593},{"$f":"'A8-ResRecon'!L8-'A8-ResRecon'!L18","v":156827285.07111213}]
["Cash year end/monthly employee/supplier payments","18(1)b",3,{"$f":"IF(ISERROR('SA8'!C39),0,('SA8'!C39))","v":1.7372857887855531},{"$f":"IF(ISERROR('SA8'!D39),0,('SA8'!D39))","v":1.6464199938502664},{"$f":"IF(ISERROR('SA8'!E39),0,('SA8'!E39))","v":1.6354757564292275},{"$f":"IF(ISERROR('SA8'!F39),0,('SA8'!F39))","v":1.9785203172546355},{"$f":"IF(ISERROR('SA8'!G39),0,('SA8'!G39))","v":0.72438940704607491},{"$f":"IF(ISERROR('SA8'!H39),0,('SA8'!H39))","v":0.72438940704607491},{"$f":"IF(ISERROR('SA8'!I39),0,('SA8'!I39))","v":0.72438940704607491},{"$f":"IF(ISERROR('SA8'!J39),0,('SA8'!J39))","v":0.94260957170720971},{"$f":"IF(ISERROR('SA8'!K39),0,('SA8'!K39))","v":1.533420161371805},{"$f":"IF(ISERROR('SA8'!L39),0,('SA8'!L39))","v":1.5787463294438771}]
["Surplus/(Deficit) excluding depreciation offsets: R'000","18(1)",4,{"$f":"'A4-FinPerf RE'!C41+'SA3'!C61","v":59353147.280000031},{"$f":"'A4-FinPerf RE'!D41+'SA3'!D61","v":157592835.70000029},{"$f":"'A4-FinPerf RE'!E41+'SA3'!E61","v":303281451.05000019},{"$f":"'A4-FinPerf RE'!F41+'SA3'!F61","v":592000083.03867841},{"$f":"'A4-FinPerf RE'!G41+'SA3'!G61","v":422698591.80867839},{"$f":"'A4-FinPerf RE'!H41+'SA3'!H61","v":422698591.80867839},{"$f":"'A4-FinPerf RE'!I41+'SA3'!I61","v":422698591.80867839},{"$f":"'A4-FinPerf RE'!J41+'SA3'!J61","v":506521463.94017577},{"$f":"'A4-FinPerf RE'!K41+'SA3'!K61","v":615562234.23440838},{"$f":"'A4-FinPerf RE'!L41+'SA3'!L61","v":618674425.99595261}]
["Service charge rev % change - macro CPIX target exclusive","18(1)a,(2)",5,"N.A.",{"$f":"IF(ISERROR(E36-E61),0,(E36-E61))","v":0.12141140778889908},{"$f":"IF(ISERROR(F36-F61),0,(F36-F61))","v":0.33016182804020328},0.42491809331066094,-2.2057568349192092E-2,-0.06,-0.06,{"$f":"IF(ISERROR(K36-K61),0,(K36-K61))","v":-0.11337211616487669},2.8224030795159227E-3,-3.3077810569218602E-2]
["Cash receipts % of Ratepayer & Other revenue","18(1)a,(2)",6,{"$f":"IF(ISERROR(D53/D54),0,(D53/D54))","v":0.43750229259416362},{"$f":"IF(ISERROR(E53/E54),0,(E53/E54))","v":0.19156085742891157},0.28212869341475705,0.66483881506946474,0.50371376146400837,0.50371376146400837,0.50371376146400837,0.48528738300554664,0.48909217472137595,0.48590958317744404]
["Debt impairment expense as a % of total billable revenue","18(1)a,(2)",7,{"$f":"IF(ISERROR('A4-FinPerf RE'!C26/'SA10'!D43),0,('A4-FinPerf RE'!C26/'SA10'!D43))","v":0.58137313772911225},{"$f":"IF(ISERROR('A4-FinPerf RE'!D26/'SA10'!E43),0,('A4-FinPerf RE'!D26/'SA10'!E43))","v":0.61926756139583694},{"$f":"IF(ISERROR('A4-FinPerf RE'!E26/'SA10'!F43),0,('A4-FinPerf RE'!E26/'SA10'!F43))","v":0.67746706440780768},{"$f":"IF(ISERROR('A4-FinPerf RE'!F26/'SA10'!G43),0,('A4-FinPerf RE'!F26/'SA10'!G43))","v":0.29539869358268267},{"$f":"IF(ISERROR('A4-FinPerf RE'!G26/'SA10'!H43),0,('A4-FinPerf RE'!G26/'SA10'!H43))","v":0.37210593736307995},{"$f":"IF(ISERROR('A4-FinPerf RE'!H26/'SA10'!I43),0,('A4-FinPerf RE'!H26/'SA10'!I43))","v":0.37210593736307995},{"$f":"IF(ISERROR('A4-FinPerf RE'!I26/'SA10'!J43),0,('A4-FinPerf RE'!I26/'SA10'!J43))","v":0.37210593736307995},{"$f":"IF(ISERROR('A4-FinPerf RE'!J26/'SA10'!K43),0,('A4-FinPerf RE'!J26/'SA10'!K43))","v":0.41641555083276577},{"$f":"IF(ISERROR('A4-FinPerf RE'!K26/'SA10'!L43),0,('A4-FinPerf RE'!K26/'SA10'!L43))","v":0.41530972788891374},{"$f":"IF(ISERROR('A4-FinPerf RE'!L26/'SA10'!M43),0,('A4-FinPerf RE'!L26/'SA10'!M43))","v":0.42868711696133188}]
["Capital payments % of capital expenditure","18(1)c;19",8,{"$f":"IF(ISERROR(-'A7-CFlow'!C26/'A5-Capex'!C40),0,(-'A7-CFlow'!C26/'A5-Capex'!C40))","v":2.8319037684599793},{"$f":"IF(ISERROR(-'A7-CFlow'!D26/'A5-Capex'!D40),0,(-'A7-CFlow'!D26/'A5-Capex'!D40))","v":0.99045384774196621},{"$f":"IF(ISERROR(-'A7-CFlow'!E26/'A5-Capex'!E40),0,(-'A7-CFlow'!E26/'A5-Capex'!E40))","v":0.98658691996285131},{"$f":"IF(ISERROR(-'A7-CFlow'!F26/'A5-Capex'!F40),0,(-'A7-CFlow'!F26/'A5-Capex'!F40))","v":0.89743796203267967},{"$f":"IF(ISERROR(-'A7-CFlow'!G26/'A5-Capex'!G40),0,(-'A7-CFlow'!G26/'A5-Capex'!G40))","v":0.71950966116247872},{"$f":"IF(ISERROR(-'A7-CFlow'!H26/'A5-Capex'!H40),0,(-'A7-CFlow'!H26/'A5-Capex'!H40))","v":0.71950966116247872},{"$f":"IF(ISERROR(-'A7-CFlow'!I26/'A5-Capex'!I40),0,(-'A7-CFlow'!I26/'A5-Capex'!I40))","v":0.71950966116247872},{"$f":"IF(ISERROR(-'A7-CFlow'!J26/'A5-Capex'!J40),0,(-'A7-CFlow'!J26/'A5-Capex'!J40))","v":0.89414986531952079},{"$f":"IF(ISERROR(-'A7-CFlow'!K26/'A5-Capex'!K40),0,(-'A7-CFlow'!K26/'A5-Capex'!K40))","v":0.89353761384721053},{"$f":"IF(ISERROR(-'A7-CFlow'!L26/'A5-Capex'!L40),0,(-'A7-CFlow'!L26/'A5-Capex'!L40))","v":0.89400481771034468}]
["Borrowing receipts % of capital expenditure (excl. transfers)","18(1)c",9,{"$f":"IF(ISERROR('A7-CFlow'!C32/'SA10'!D52),0,('A7-CFlow'!C32/'SA10'!D52))","v":0},{"$f":"IF(ISERROR('A7-CFlow'!D32/'SA10'!E52),0,('A7-CFlow'!D32/'SA10'!E52))","v":0},{"$f":"IF(ISERROR('A7-CFlow'!E32/'SA10'!F52),0,('A7-CFlow'!E32/'SA10'!F52))","v":0},{"$f":"IF(ISERROR('A7-CFlow'!F32/'SA10'!G52),0,('A7-CFlow'!F32/'SA10'!G52))","v":0},{"$f":"IF(ISERROR('A7-CFlow'!G32/'SA10'!H52),0,('A7-CFlow'!G32/'SA10'!H52))","v":0},{"$f":"IF(ISERROR('A7-CFlow'!H32/'SA10'!I52),0,('A7-CFlow'!H32/'SA10'!I52))","v":0},{"$f":"IF(ISERROR('A7-CFlow'!I32/'SA10'!J52),0,('A7-CFlow'!I32/'SA10'!J52))","v":0},{"$f":"IF(ISERROR('A7-CFlow'!J32/'SA10'!K52),0,('A7-CFlow'!J32/'SA10'!K52))","v":0},{"$f":"IF(ISERROR('A7-CFlow'!K32/'SA10'!L52),0,('A7-CFlow'!K32/'SA10'!L52))","v":0},{"$f":"IF(ISERROR('A7-CFlow'!L32/'SA10'!M52),0,('A7-CFlow'!L32/'SA10'!M52))","v":0}]
["Grants % of Govt. legislated/gazetted allocations","18(1)a",10,null,null,null,null,null,null,null,{"$f":"IF(ISERROR(K56/K68),0,(K56/K68))","v":0.95744188221225868},{"$f":"IF(ISERROR(L56/L68),0,(L56/L68))","v":0.95569235229537985},{"$f":"IF(ISERROR(M56/M68),0,(M56/M68))","v":0.95743647496929407}]
["Current consumer debtors % change - incr(decr)","18(1)a",11,"N.A.",{"$f":"IF(ISERROR(ROUND((SUM('A6-FinPos'!D8:D10)-SUM('A6-FinPos'!C8:C10))/SUM('A6-FinPos'!C8:C10),3)),0,(ROUND((SUM('A6-FinPos'!D8:D10)-SUM('A6-FinPos'!C8:C10))/SUM('A6-FinPos'!C8:C10),3)))","v":0.40100000000000002},{"$f":"IF(ISERROR(ROUND((SUM('A6-FinPos'!E8:E10)-SUM('A6-FinPos'!D8:D10))/SUM('A6-FinPos'!D8:D10),3)),0,(ROUND((SUM('A6-FinPos'!E8:E10)-SUM('A6-FinPos'!D8:D10))/SUM('A6-FinPos'!D8:D10),3)))","v":0.82099999999999995},{"$f":"IF(ISERROR(ROUND((SUM('A6-FinPos'!F8:F10)-SUM('A6-FinPos'!E8:E10))/SUM('A6-FinPos'!E8:E10),3)),0,(ROUND((SUM('A6-FinPos'!F8:F10)-SUM('A6-FinPos'!E8:E10))/SUM('A6-FinPos'!E8:E10),3)))","v":0.83799999999999997},{"$f":"IF(ISERROR(ROUND((SUM('A6-FinPos'!G8:G10)-SUM('A6-FinPos'!F8:F10))/SUM('A6-FinPos'!F8:F10),3)),0,(ROUND((SUM('A6-FinPos'!G8:G10)-SUM('A6-FinPos'!F8:F10))/SUM('A6-FinPos'!F8:F10),3)))","v":-1.2999999999999999E-2},{"$f":"IF(ISERROR(ROUND((SUM('A6-FinPos'!H8:H10)-SUM('A6-FinPos'!G8:G10))/SUM('A6-FinPos'!G8:G10),3)),0,(ROUND((SUM('A6-FinPos'!H8:H10)-SUM('A6-FinPos'!G8:G10))/SUM('A6-FinPos'!G8:G10),3)))","v":0},{"$f":"IF(ISERROR(ROUND((SUM('A6-FinPos'!I8:I10)-SUM('A6-FinPos'!H8:H10))/SUM('A6-FinPos'!H8:H10),3)),0,(ROUND((SUM('A6-FinPos'!I8:I10)-SUM('A6-FinPos'!H8:H10))/SUM('A6-FinPos'!H8:H10),3)))","v":0},{"$f":"IF(ISERROR(ROUND((SUM('A6-FinPos'!J8:J10)-SUM('A6-FinPos'!G8:G10))/SUM('A6-FinPos'!G8:G10),3)),0,(ROUND((SUM('A6-FinPos'!J8:J10)-SUM('A6-FinPos'!G8:G10))/SUM('A6-FinPos'!G8:G10),3)))","v":2.1999999999999999E-2},{"$f":"IF(ISERROR(ROUND((SUM('A6-FinPos'!K8:K10)-SUM('A6-FinPos'!J8:J10))/SUM('A6-FinPos'!J8:J10),3)),0,(ROUND((SUM('A6-FinPos'!K8:K10)-SUM('A6-FinPos'!J8:J10))/SUM('A6-FinPos'!J8:J10),3)))","v":2.3E-2},{"$f":"IF(ISERROR(ROUND((SUM('A6-FinPos'!L8:L10)-SUM('A6-FinPos'!K8:K10))/SUM('A6-FinPos'!K8:K10),3)),0,(ROUND((SUM('A6-FinPos'!L8:L10)-SUM('A6-FinPos'!K8:K10))/SUM('A6-FinPos'!K8:K10),3)))","v":2.1999999999999999E-2}]
["Long term receivables % change - incr(decr)","18(1)a",12,"N.A.",{"$f":"IF(ISERROR(ROUND(('A6-FinPos'!D15-'A6-FinPos'!C15)/'A6-FinPos'!C15,3)),0,(ROUND(('A6-FinPos'!D15-'A6-FinPos'!C15)/'A6-FinPos'!C15,3)))","v":0},{"$f":"IF(ISERROR(ROUND(('A6-FinPos'!E15-'A6-FinPos'!D15)/'A6-FinPos'!D15,3)),0,(ROUND(('A6-FinPos'!E15-'A6-FinPos'!D15)/'A6-FinPos'!D15,3)))","v":0},{"$f":"IF(ISERROR(ROUND(('A6-FinPos'!F15-'A6-FinPos'!E15)/'A6-FinPos'!E15,3)),0,(ROUND(('A6-FinPos'!F15-'A6-FinPos'!E15)/'A6-FinPos'!E15,3)))","v":0},{"$f":"IF(ISERROR(ROUND(('A6-FinPos'!G15-'A6-FinPos'!F15)/'A6-FinPos'!F15,3)),0,(ROUND(('A6-FinPos'!G15-'A6-FinPos'!F15)/'A6-FinPos'!F15,3)))","v":0},{"$f":"IF(ISERROR(ROUND(('A6-FinPos'!H15-'A6-FinPos'!G15)/'A6-FinPos'!G15,3)),0,(ROUND(('A6-FinPos'!H15-'A6-FinPos'!G15)/'A6-FinPos'!G15,3)))","v":0},{"$f":"IF(ISERROR(ROUND(('A6-FinPos'!I15-'A6-FinPos'!H15)/'A6-FinPos'!H15,3)),0,(ROUND(('A6-FinPos'!I15-'A6-FinPos'!H15)/'A6-FinPos'!H15,3)))","v":0},{"$f":"IF(ISERROR(ROUND(('A6-FinPos'!J15-'A6-FinPos'!G15)/'A6-FinPos'!G15,3)),0,(ROUND(('A6-FinPos'!J15-'A6-FinPos'!G15)/'A6-FinPos'!G15,3)))","v":0},{"$f":"IF(ISERROR(ROUND(('A6-FinPos'!K15-'A6-FinPos'!J15)/'A6-FinPos'!J15,3)),0,(ROUND(('A6-FinPos'!K15-'A6-FinPos'!J15)/'A6-FinPos'!J15,3)))","v":0},{"$f":"IF(ISERROR(ROUND(('A6-FinPos'!L15-'A6-FinPos'!K15)/'A6-FinPos'!K15,3)),0,(ROUND(('A6-FinPos'!L15-'A6-FinPos'!K15)/'A6-FinPos'!K15,3)))","v":0}]
["R&M % of Property Plant & Equipment","20(1)(vi)",13,{"$f":"IF(ISERROR('A9-Asset'!C169/'A6-FinPos'!C19),0,('A9-Asset'!C169/'A6-FinPos'!C19))","v":4.4272265163342681E-3},{"$f":"IF(ISERROR('A9-Asset'!D169/'A6-FinPos'!D19),0,('A9-Asset'!D169/'A6-FinPos'!D19))","v":3.7316466799576591E-3},{"$f":"IF(ISERROR('A9-Asset'!E169/'A6-FinPos'!E19),0,('A9-Asset'!E169/'A6-FinPos'!E19))","v":3.4632988103272602E-3},{"$f":"IF(ISERROR('A9-Asset'!F169/'A6-FinPos'!F19),0,('A9-Asset'!F169/'A6-FinPos'!F19))","v":3.2570084375455268E-3},{"$f":"IF(ISERROR('A9-Asset'!G169/'A6-FinPos'!G19),0,('A9-Asset'!G169/'A6-FinPos'!G19))","v":3.7114817888455314E-3},{"$f":"IF(ISERROR('A9-Asset'!H169/'A6-FinPos'!H19),0,('A9-Asset'!H169/'A6-FinPos'!H19))","v":3.7114817888455314E-3},{"$f":"IF(ISERROR('A9-Asset'!I169/'A6-FinPos'!I19),0,('A9-Asset'!I169/'A6-FinPos'!I19))","v":3.3314516286768905E-3},{"$f":"IF(ISERROR('A9-Asset'!I169/'A6-FinPos'!J19),0,('A9-Asset'!I169/'A6-FinPos'!J19))","v":3.0887857653341365E-3},{"$f":"IF(ISERROR('A9-Asset'!J169/'A6-FinPos'!K19),0,('A9-Asset'!J169/'A6-FinPos'!K19))","v":4.469977274510136E-3},{"$f":"IF(ISERROR('A9-Asset'!K169/'A6-FinPos'!L19),0,('A9-Asset'!K169/'A6-FinPos'!L19))","v":4.3957987642590851E-3}]
["Asset renewal % of capital budget",{"$f":"B17","v":"20(1)(vi)"},14,{"$f":"IF(ISERROR(D58/D57),0,(D58/D57))","v":0},1.9312260342921968E-3,9.4009853434003478E-4,4.8510153144734345E-3,6.6617417527803273E-3,6.6617417527803273E-3,0,4.0477764178812464E-2,1.4362404096261305E-2,{"$f":"IF(ISERROR(M58/M57),0,((M58/M57)))","v":1.3831680242340088E-2}]
[]
[{"$f":"head27a","v":"References"}]
["1. Positive cash balances indicative of minimum compliance - subject to 2"]
["2. Deduct cash and investment applications (defined) from cash balances"]
["3. Indicative of sufficient liquidity to meet average monthly operating payments"]
["4. Indicative of funded operational requirements"]
["5. Indicative of adherence to macro-economic targets (prior to 2003/04 revenue not available for high capacity municipalities and later for other capacity classifications)"]
["6. Realistic average cash collection forecasts as % of annual billed revenue"]
["7. Realistic average increase in debt impairment (doubtful debt) provision"]
["8. Indicative of planned capital expenditure level & cash payment timing"]
["9. Indicative of compliance with borrowing 'only' for the capital budget - should not exceed 100% unless refinancing"]
["10. Substantiation of National/Province allocations included in budget"]
["11. Indicative of realistic current arrear debtor collection targets (prior to 2003/04 revenue not available for high capacity municipalities and later for other capacity classifications)"]
["12. Indicative of realistic long term arrear debtor collection targets (prior to 2003/04 revenue not available for high capacity municipalities and later for other capacity classifications)"]
["13. Indicative of a credible allowance for repairs & maintenance of assets - functioning assets revenue protection"]
["14. Indicative of a credible allowance for asset renewal (requires analysis of asset renewal projects as % of total capital projects - detailed capital plan) - functioning assets revenue protection"]
["Supporting indicators"]
["% incr total service charges (incl prop rates)","18(1)a",null,null,{"$f":"IF(ISERROR((E44/D44)-1),0,((E44/D44)-1))","v":0.18141140778889908},{"$f":"IF(ISERROR((F44/E44)-1),0,((F44/E44)-1))","v":0.39016182804020327},{"$f":"IF(ISERROR((G44/F44)-1),0,((G44/F44)-1))","v":0.48491809331066094},{"$f":"IF(ISERROR((H44/G44)-1),0,((H44/G44)-1))","v":3.7942431650807906E-2},{"$f":"IF(ISERROR((I44/H44)-1),0,((I44/H44)-1))","v":0},{"$f":"IF(ISERROR((J44/I44)-1),0,((J44/I44)-1))","v":0},{"$f":"IF(ISERROR((K44/H44)-1),0,((K44/H44)-1))","v":-5.3372116164876693E-2},{"$f":"IF(ISERROR((L44/K44)-1),0,((L44/K44)-1))","v":6.2822403079515921E-2},{"$f":"IF(ISERROR((M44/L44)-1),0,((M44/L44)-1))","v":2.6922189430781396E-2}]
["% incr Property Tax","18(1)a",null,null,0,{"$f":"IF(ISERROR((F45/E45)-1),0,((F45/E45)-1))","v":0},0,0,0,0,{"$f":"IF(ISERROR((K45/H45)-1),0,((K45/H45)-1))","v":0},0,0]
[{"$f":"\"% incr \"&'A4-FinPerf RE'!A6","v":"% incr Service charges - electricity revenue"},"18(1)a",null,null,0,0,0,0,0,0,0,0,{"$f":"IF(ISERROR((M46/L46)-1),0,((M46/L46)-1))","v":0}]
[{"$f":"\"% incr \"&'A4-FinPerf RE'!A7","v":"% incr Service charges - water revenue"},"18(1)a",null,null,0.13676741426621719,0.48429866720849479,0.48154623117546813,5.4207246123818331E-2,0,0,-3.5545870753721842E-2,6.3911214530054883E-2,1.4208416897320442E-2]
[{"$f":"\"% incr \"&'A4-FinPerf RE'!A8","v":"% incr Service charges - sanitation revenue"},"18(1)a",null,null,0.29213071058530882,0.21203876700738578,0.51552800491883333,4.6572543718315096E-4,0,0,-0.10944261868927296,6.0000022769167716E-2,6.000001785553799E-2]
[{"$f":"\"% incr \"&'A4-FinPerf RE'!A9","v":"% incr Service charges - refuse revenue"},"18(1)a",null,null,4.150130602978841E-2,0.20631819163831056,6.814476383012491E-2,4.6571402610617874E-4,0,0,0.24155502887825553,5.9999997300714147E-2,6.0000033104450123E-2]
[{"$f":"\"% incr in \"&'A4-FinPerf RE'!A10","v":"% incr in "},"18(1)a",null,null,0,0,0,0,{"$f":"IF(ISERROR((I50/H50)-1),0,((I50/H50)-1))","v":0},0,0,{"$f":"IF(ISERROR((L50/K50)-1),0,((L50/K50)-1))","v":0},0]
["Total billable revenue","18(1)a",null,{"$f":"SUM(D45:D50)","v":221794532},{"$f":"SUM(E45:E50)","v":262030590.29000002},364264924.39999998,540903577,561426774,561426774,561426774,531462239,564849974,580056972]
["Service charges",null,null,{"$f":"SUM(D45:D50)","v":221794532},{"$f":"SUM(E45:E50)","v":262030590.29000002},364264924.39999998,540903577,561426774,561426774,{"$f":"SUM(J45:J50)","v":561426774},531462239,564849974,580056972]
["Property rates",null,null,{"$f":"'A4-FinPerf RE'!C5","v":0},{"$f":"'A4-FinPerf RE'!D5","v":0},{"$f":"'A4-FinPerf RE'!E5","v":0},{"$f":"'A4-FinPerf RE'!F5","v":0},{"$f":"'A4-FinPerf RE'!G5","v":0},{"$f":"'A4-FinPerf RE'!H5","v":0},{"$f":"'A4-FinPerf RE'!I5","v":0},{"$f":"'A4-FinPerf RE'!J5","v":0},{"$f":"'A4-FinPerf RE'!K5","v":0},{"$f":"'A4-FinPerf RE'!L5","v":0}]
["Service charges - electricity revenue",null,null,{"$f":"'A4-FinPerf RE'!C6","v":0},{"$f":"'A4-FinPerf RE'!D6","v":0},{"$f":"'A4-FinPerf RE'!E6","v":0},{"$f":"'A4-FinPerf RE'!F6","v":0},{"$f":"'A4-FinPerf RE'!G6","v":0},{"$f":"'A4-FinPerf RE'!H6","v":0},{"$f":"'A4-FinPerf RE'!I6","v":0},{"$f":"'A4-FinPerf RE'!J6","v":0},{"$f":"'A4-FinPerf RE'!K6","v":0},{"$f":"'A4-FinPerf RE'!L6","v":0}]
["Service charges - water revenue",null,null,{"$f":"'A4-FinPerf RE'!C7","v":150890951.25999999},{"$f":"'A4-FinPerf RE'!D7","v":171527916.5},{"$f":"'A4-FinPerf RE'!E7","v":254598657.84999999},{"$f":"'A4-FinPerf RE'!F7","v":377199682},{"$f":"'A4-FinPerf RE'!G7","v":397646638},{"$f":"'A4-FinPerf RE'!H7","v":397646638},{"$f":"'A4-FinPerf RE'!I7","v":397646638},{"$f":"'A4-FinPerf RE'!J7","v":383511942},{"$f":"'A4-FinPerf RE'!K7","v":408022656},{"$f":"'A4-FinPerf RE'!L7","v":413820012}]
["Service charges - sanitation revenue",null,null,{"$f":"'A4-FinPerf RE'!C8","v":66458689.780000001},{"$f":"'A4-FinPerf RE'!D8","v":85873314.049999997},{"$f":"'A4-FinPerf RE'!E8","v":104081785.68000001},{"$f":"'A4-FinPerf RE'!F8","v":157738861},{"$f":"'A4-FinPerf RE'!G8","v":157812324},{"$f":"'A4-FinPerf RE'!H8","v":157812324},{"$f":"'A4-FinPerf RE'!I8","v":157812324},{"$f":"'A4-FinPerf RE'!J8","v":140540930},{"$f":"'A4-FinPerf RE'!K8","v":148973389},{"$f":"'A4-FinPerf RE'!L8","v":157911795}]
["Service charges - refuse removal",null,null,{"$f":"'A4-FinPerf RE'!C9","v":4444890.96},{"$f":"'A4-FinPerf RE'!D9","v":4629359.74},{"$f":"'A4-FinPerf RE'!E9","v":5584480.8700000001},{"$f":"'A4-FinPerf RE'!F9","v":5965034},{"$f":"'A4-FinPerf RE'!G9","v":5967812},{"$f":"'A4-FinPerf RE'!H9","v":5967812},{"$f":"'A4-FinPerf RE'!I9","v":5967812},{"$f":"'A4-FinPerf RE'!J9","v":7409367},{"$f":"'A4-FinPerf RE'!K9","v":7853929},{"$f":"'A4-FinPerf RE'!L9","v":8325165}]
["Service charges - other",null,null,{"$f":"'A4-FinPerf RE'!C10","v":0},{"$f":"'A4-FinPerf RE'!D10","v":0},{"$f":"'A4-FinPerf RE'!E10","v":0},{"$f":"'A4-FinPerf RE'!F10","v":0},{"$f":"'A4-FinPerf RE'!G10","v":0},{"$f":"'A4-FinPerf RE'!H10","v":0},{"$f":"'A4-FinPerf RE'!I10","v":0},{"$f":"'A4-FinPerf RE'!J10","v":0},{"$f":"'A4-FinPerf RE'!K10","v":0},{"$f":"'A4-FinPerf RE'!L10","v":0}]
[{"$f":"'A4-FinPerf RE'!A11","v":"Rental of facilities and equipment"},null,null,{"$f":"'A4-FinPerf RE'!C11","v":335592.82},{"$f":"'A4-FinPerf RE'!D11","v":308025.87},{"$f":"'A4-FinPerf RE'!E11","v":267582.40000000002},{"$f":"'A4-FinPerf RE'!F11","v":2180377},{"$f":"'A4-FinPerf RE'!G11","v":640777},{"$f":"'A4-FinPerf RE'!H11","v":640777},{"$f":"'A4-FinPerf RE'!I11","v":640777},{"$f":"'A4-FinPerf RE'!J11","v":318452},{"$f":"'A4-FinPerf RE'!K11","v":350297},{"$f":"'A4-FinPerf RE'!L11","v":385327}]
["Capital expenditure excluding capital grant funding",null,null,{"$f":"'A5-Capex'!C40-'A5-Capex'!C70","v":0},{"$f":"'A5-Capex'!D40-'A5-Capex'!D70","v":799884},{"$f":"'A5-Capex'!E40-'A5-Capex'!E70","v":460786.88999998569},{"$f":"'A5-Capex'!F40-'A5-Capex'!F70","v":48962720},{"$f":"'A5-Capex'!G40-'A5-Capex'!G70","v":27011707.25257504},{"$f":"'A5-Capex'!H40-'A5-Capex'!H70","v":27011707.25257504},{"$f":"'A5-Capex'!I40-'A5-Capex'!I70","v":27011707.25257504},{"$f":"'A5-Capex'!J40-'A5-Capex'!J70","v":15000000},{"$f":"'A5-Capex'!K40-'A5-Capex'!K70","v":15000000},{"$f":"'A5-Capex'!L40-'A5-Capex'!L70","v":15000000}]
["Cash receipts from ratepayers","18(1)a",null,{"$f":"'A7-CFlow'!C6+'A7-CFlow'!C7+'A7-CFlow'!C8","v":138517460},{"$f":"'A7-CFlow'!D6+'A7-CFlow'!D7+'A7-CFlow'!D8","v":52907143.349999905},{"$f":"'A7-CFlow'!E6+'A7-CFlow'!E7+'A7-CFlow'!E8","v":122361323.94},{"$f":"'A7-CFlow'!F6+'A7-CFlow'!F7+'A7-CFlow'!F8","v":457645195.04347825},{"$f":"'A7-CFlow'!G6+'A7-CFlow'!G7+'A7-CFlow'!G8","v":360066712.54347825},{"$f":"'A7-CFlow'!H6+'A7-CFlow'!H7+'A7-CFlow'!H8","v":360066712.54347825},{"$f":"'A7-CFlow'!I6+'A7-CFlow'!I7+'A7-CFlow'!I8","v":360066712.54347825},{"$f":"'A7-CFlow'!J6+'A7-CFlow'!J7+'A7-CFlow'!J8","v":338275963.5},{"$f":"'A7-CFlow'!K6+'A7-CFlow'!K7+'A7-CFlow'!K8","v":364793076},{"$f":"'A7-CFlow'!L6+'A7-CFlow'!L7+'A7-CFlow'!L8","v":372956318.44239998}]
["Ratepayer & Other revenue","18(1)a",null,{"$f":"SUM('A4-FinPerf RE'!C5:C11)+'A4-FinPerf RE'!C13+SUM('A4-FinPerf RE'!C15:C17)+'A4-FinPerf RE'!C19","v":316609678.03999996},{"$f":"SUM('A4-FinPerf RE'!D5:D11)+'A4-FinPerf RE'!D13+SUM('A4-FinPerf RE'!D15:D17)+'A4-FinPerf RE'!D19","v":276189739.70000005},{"$f":"SUM('A4-FinPerf RE'!E5:E11)+'A4-FinPerf RE'!E13+SUM('A4-FinPerf RE'!E15:E17)+'A4-FinPerf RE'!E19","v":433707477.45999998},{"$f":"SUM('A4-FinPerf RE'!F5:F11)+'A4-FinPerf RE'!F13+SUM('A4-FinPerf RE'!F15:F17)+'A4-FinPerf RE'!F19","v":688355109.04347825},{"$f":"SUM('A4-FinPerf RE'!G5:G11)+'A4-FinPerf RE'!G13+SUM('A4-FinPerf RE'!G15:G17)+'A4-FinPerf RE'!G19","v":714824053.04347825},{"$f":"SUM('A4-FinPerf RE'!H5:H11)+'A4-FinPerf RE'!H13+SUM('A4-FinPerf RE'!H15:H17)+'A4-FinPerf RE'!H19","v":714824053.04347825},{"$f":"SUM('A4-FinPerf RE'!I5:I11)+'A4-FinPerf RE'!I13+SUM('A4-FinPerf RE'!I15:I17)+'A4-FinPerf RE'!I19","v":714824053.04347825},{"$f":"SUM('A4-FinPerf RE'!J5:J11)+'A4-FinPerf RE'!J13+SUM('A4-FinPerf RE'!J15:J17)+'A4-FinPerf RE'!J19","v":697063174},{"$f":"SUM('A4-FinPerf RE'!K5:K11)+'A4-FinPerf RE'!K13+SUM('A4-FinPerf RE'!K15:K17)+'A4-FinPerf RE'!K19","v":745857519},{"$f":"SUM('A4-FinPerf RE'!L5:L11)+'A4-FinPerf RE'!L13+SUM('A4-FinPerf RE'!L15:L17)+'A4-FinPerf RE'!L19","v":767542628}]
["Change in consumer debtors (current and non-current)",null,null,{"$f":"D87","v":46564943.136230275},{"$f":"(SUM('A6-FinPos'!D8:D10)+'A6-FinPos'!D15)-(SUM('A6-FinPos'!C8:C10)+'A6-FinPos'!C15)","v":50265394.440000042},{"$f":"(SUM('A6-FinPos'!E8:E10)+'A6-FinPos'!E15)-(SUM('A6-FinPos'!D8:D10)+'A6-FinPos'!D15)","v":144080396.68999982},{"$f":"(SUM('A6-FinPos'!F8:F10)+'A6-FinPos'!F15)-(SUM('A6-FinPos'!E8:E10)+'A6-FinPos'!E15)","v":267866013.4775396},{"$f":"(SUM('A6-FinPos'!G8:G10)+'A6-FinPos'!G15)-(SUM('A6-FinPos'!E8:E10)+'A6-FinPos'!E15)","v":260098106.76261824},{"$f":"(SUM('A6-FinPos'!H8:H10)+'A6-FinPos'!H15)-(SUM('A6-FinPos'!E8:E10)+'A6-FinPos'!E15)","v":260098106.76261824},{"$f":"(SUM('A6-FinPos'!I8:I10)+'A6-FinPos'!I15)-(SUM('A6-FinPos'!E8:E10)+'A6-FinPos'!E15)","v":260098106.76261824},{"$f":"(SUM('A6-FinPos'!J8:J10)+'A6-FinPos'!J15)-(SUM('A6-FinPos'!F8:F10)+'A6-FinPos'!F15)","v":4904228.7850786448},{"$f":"(SUM('A6-FinPos'!K8:K10)+'A6-FinPos'!K15)-(SUM('A6-FinPos'!J8:J10)+'A6-FinPos'!J15)","v":13613358.445000052},{"$f":"(SUM('A6-FinPos'!L8:L10)+'A6-FinPos'!L15)-(SUM('A6-FinPos'!K8:K10)+'A6-FinPos'!K15)","v":13164445.252624989}]
["Operating and Capital Grant Revenue","18(1)a",null,{"$f":"'A4-FinPerf RE'!C18+'A4-FinPerf RE'!C38","v":1164929622.25},{"$f":"'A4-FinPerf RE'!D18+'A4-FinPerf RE'!D38","v":1351931139.04},{"$f":"'A4-FinPerf RE'!E18+'A4-FinPerf RE'!E38","v":1408932836},{"$f":"'A4-FinPerf RE'!F18+'A4-FinPerf RE'!F38","v":1402296148},{"$f":"'A4-FinPerf RE'!G18+'A4-FinPerf RE'!G38","v":1520759233},{"$f":"'A4-FinPerf RE'!H18+'A4-FinPerf RE'!H38","v":1520759233},{"$f":"'A4-FinPerf RE'!I18+'A4-FinPerf RE'!I38","v":1520759233},{"$f":"'A4-FinPerf RE'!J18+'A4-FinPerf RE'!J38","v":1450813599},{"$f":"'A4-FinPerf RE'!K18+'A4-FinPerf RE'!K38","v":1592161478},{"$f":"'A4-FinPerf RE'!L18+'A4-FinPerf RE'!L38","v":1661160901}]
["Capital expenditure - total",{"$f":"B17","v":"20(1)(vi)"},null,{"$f":"'A5-Capex'!C40","v":99254444},{"$f":"'A5-Capex'!D40","v":373029354},{"$f":"'A5-Capex'!E40","v":335619957.34999996},{"$f":"'A5-Capex'!F40","v":659655720},{"$f":"'A5-Capex'!G40","v":587482695.25257504},{"$f":"'A5-Capex'!H40","v":587482695.25257504},{"$f":"'A5-Capex'!I40","v":587482695.25257504},{"$f":"'A5-Capex'!J40","v":566483857.62379622},{"$f":"'A5-Capex'!K40","v":688904670},{"$f":"'A5-Capex'!L40","v":692025830}]
["Capital expenditure - renewal",{"$f":"B18","v":"20(1)(vi)"},null,{"$f":"'A9-Asset'!C37","v":0},{"$f":"'A9-Asset'!D37","v":720404},{"$f":"'A9-Asset'!E37","v":315515.82999999996},{"$f":"'A9-Asset'!F37","v":3200000},{"$f":"'A9-Asset'!G37","v":3913658},{"$f":"'A9-Asset'!H37","v":3913658},null,{"$f":"'A9-Asset'!I37","v":22930000},{"$f":"'A9-Asset'!J37","v":9894327.2543415427},{"$f":"'A9-Asset'!K37","v":9571880}]
[]
["Supporting benchmarks"]
["Growth guideline maximum",null,null,0.06,0.06,0.06,0.06,0.06,0.06,0.06,0.06,0.06,0.06]
["CPI guideline",null,null,4.2999999999999997E-2,3.9E-2,4.5999999999999999E-2,0.05,0.05,0.05,0.05,5.3999999999999999E-2,5.6000000000000001E-2,5.3999999999999999E-2]
["DoRA operating grants total MFY",null,null,null,null,null,null,null,null,null,924788900,992143250,1058055050]
["DoRA capital grants total MFY",null,null,null,null,null,null,null,null,null,590513100,673833750,676953950]
["Provincial operating grants"]
["Provincial capital grants"]
["District Municipality grants"]
["Total gazetted/advised national, provincial and district grants",null,null,null,null,null,null,null,null,null,{"$f":"SUM(K63:K67)","v":1515302000},{"$f":"SUM(L63:L67)","v":1665977000},{"$f":"SUM(M63:M67)","v":1735009000}]
["Average annual collection rate (arrears inclusive)"]
[]
["DoRA operating"]
["Equitable Share Formula",null,null,null,null,null,null,null,null,null,492210000,526250000,558783000]
["RSC Levies Replacement",null,null,null,null,null,null,null,null,null,404259000,438275000,470031000]
["Local Government Financial Management Grant",null,null,null,null,null,null,null,null,null,1000000,1250000,1250000]
["Rural Roads Assets Management Sytstems Grant",null,null,null,null,null,null,null,null,null,2964000,3127000,3308000]
["Expanded Public Works Programme Incentive Grant for Municipalities",null,null,null,null,null,null,null,null,null,3085000,0,0]
[]
[]
[null,null,null,null,null,null,null,null,null,null,{"$f":"SUM(K72:K78)","v":903518000},{"$f":"SUM(L72:L78)","v":968902000},{"$f":"SUM(M72:M78)","v":1033372000}]
["DoRA capital"]
["Municipal Infrastructure Grant",null,null,null,null,null,null,null,null,null,425418000,464825000,493661000]
["Water Services Infrastructure Grant",null,null,null,null,null,null,null,null,null,80000000,85000000,80000000]
["Water Services Infrastructure Grant (Drought)",null,null,null,null,null,null,null,null,null,20000000,0,0]
["Regional Bulk Infrastructure Grant*",null,null,null,null,null,null,null,null,null,86366000,147250000,127976000]
[null,null,null,null,null,null,null,null,null,null,{"$f":"SUM(K81:K84)","v":611784000},{"$f":"SUM(L81:L84)","v":697075000},{"$f":"SUM(M81:M84)","v":701637000}]
["Trend"]
[{"$f":"A55","v":"Change in consumer debtors (current and non-current)"},null,null,{"$f":"TREND(E87:G87)","v":46564943.136230275},{"$f":"E55","v":50265394.440000042},{"$f":"F55","v":144080396.68999982},{"$f":"J55","v":260098106.76261824},{"$f":"K55","v":4904228.7850786448},13613358.445000052,13164445.252624989,0,0,0]
[]
["Total Operating Revenue",null,null,{"$f":"'A1-Sum'!B10","v":1090776378.96},{"$f":"'A1-Sum'!C10","v":1124342064.4100001},{"$f":"'A1-Sum'!D10","v":1359772736.3699999},{"$f":"'A1-Sum'!E10","v":1552687085.0434783},{"$f":"'A1-Sum'!F10","v":1860254390.0434783},{"$f":"'A1-Sum'!G10","v":1860254390.0434783},{"$f":"'A1-Sum'!H10","v":1860254390.0434783},{"$f":"'A1-Sum'!I10","v":1674406316},{"$f":"'A1-Sum'!J10","v":1756244686},{"$f":"'A1-Sum'!K10","v":1844660253}]
["Total Operating Expenditure",null,null,{"$f":"'A1-Sum'!B18","v":1455329490},{"$f":"'A1-Sum'!C18","v":1552775855.7099996},{"$f":"'A1-Sum'!D18","v":1676528846.3199997},{"$f":"'A1-Sum'!E18","v":1503724367.0047998},{"$f":"'A1-Sum'!F18","v":1833040201.2347999},{"$f":"'A1-Sum'!G18","v":1833040201.2347999},{"$f":"'A1-Sum'!H18","v":1833040201.2347999},{"$f":"'A1-Sum'!I18","v":1659266318.0598245},{"$f":"'A1-Sum'!J18","v":1741173766.7655916},{"$f":"'A1-Sum'!K18","v":1829588373.0040474}]
["Operating Performance Surplus/(Deficit)",null,null,{"$f":"D89-D90","v":-364553111.03999996},{"$f":"E89-E90","v":-428433791.29999948},-316756109.94999981,48962718.038678408,27214188.808678389,27214188.808678389,27214188.808678389,{"$f":"K89-K90","v":15139997.940175533},15070919.234408379,15071879.995952606]
["Cash and Cash Equivalents (30 June 2012)",null,null,null,null,null,null,null,null,null,{"$f":"'A7-CFlow'!J40","v":113221283.97885364}]
["Revenue"]
["% Increase in Total Operating Revenue",null,null,null,{"$f":"IF(ISERROR(('A1-Sum'!C10-'A1-Sum'!B10)/'A1-Sum'!B10),0,(('A1-Sum'!C10-'A1-Sum'!B10)/'A1-Sum'!B10))","v":3.0772288525355882E-2},{"$f":"IF(ISERROR(('A1-Sum'!D10-'A1-Sum'!C10)/'A1-Sum'!C10),0,(('A1-Sum'!D10-'A1-Sum'!C10)/'A1-Sum'!C10))","v":0.20939416874307051},{"$f":"IF(ISERROR(('A1-Sum'!E10-'A1-Sum'!D10)/'A1-Sum'!D10),0,(('A1-Sum'!E10-'A1-Sum'!D10)/'A1-Sum'!D10))","v":0.14187249347892908},{"$f":"IF(ISERROR(('A1-Sum'!F10-'A1-Sum'!E10)/'A1-Sum'!E10),0,(('A1-Sum'!F10-'A1-Sum'!E10)/'A1-Sum'!E10))","v":0.19808711488792188},{"$f":"IF(ISERROR(('A1-Sum'!G10-'A1-Sum'!F10)/'A1-Sum'!F10),0,(('A1-Sum'!G10-'A1-Sum'!F10)/'A1-Sum'!F10))","v":0},{"$f":"IF(ISERROR(('A1-Sum'!H10-'A1-Sum'!G10)/'A1-Sum'!G10),0,(('A1-Sum'!H10-'A1-Sum'!G10)/'A1-Sum'!G10))","v":0},{"$f":"IF(ISERROR(('A1-Sum'!I10-'A1-Sum'!F10)/'A1-Sum'!F10),0,(('A1-Sum'!I10-'A1-Sum'!F10)/'A1-Sum'!F10))","v":-9.9904655534308176E-2},{"$f":"IF(ISERROR(('A1-Sum'!J10-'A1-Sum'!I10)/'A1-Sum'!I10),0,(('A1-Sum'!J10-'A1-Sum'!I10)/'A1-Sum'!I10))","v":4.8876051898504663E-2},{"$f":"IF(ISERROR(('A1-Sum'!K10-'A1-Sum'!J10)/'A1-Sum'!J10),0,(('A1-Sum'!K10-'A1-Sum'!J10)/'A1-Sum'!J10))","v":5.0343535672910215E-2}]
["% Increase in Property Rates Revenue",null,null,null,{"$f":"IF(ISERROR(('A4-FinPerf RE'!D5-'A4-FinPerf RE'!C5)/'A4-FinPerf RE'!C5),0,(('A4-FinPerf RE'!D5-'A4-FinPerf RE'!C5)/'A4-FinPerf RE'!C5))","v":0},{"$f":"IF(ISERROR(('A4-FinPerf RE'!E5-'A4-FinPerf RE'!D5)/'A4-FinPerf RE'!D5),0,(('A4-FinPerf RE'!E5-'A4-FinPerf RE'!D5)/'A4-FinPerf RE'!D5))","v":0},{"$f":"IF(ISERROR(('A4-FinPerf RE'!F5-'A4-FinPerf RE'!E5)/'A4-FinPerf RE'!E5),0,(('A4-FinPerf RE'!F5-'A4-FinPerf RE'!E5)/'A4-FinPerf RE'!E5))","v":0},{"$f":"IF(ISERROR(('A4-FinPerf RE'!G5-'A4-FinPerf RE'!F5)/'A4-FinPerf RE'!F5),0,(('A4-FinPerf RE'!G5-'A4-FinPerf RE'!F5)/'A4-FinPerf RE'!F5))","v":0},{"$f":"IF(ISERROR(('A4-FinPerf RE'!H5-'A4-FinPerf RE'!G5)/'A4-FinPerf RE'!G5),0,(('A4-FinPerf RE'!H5-'A4-FinPerf RE'!G5)/'A4-FinPerf RE'!G5))","v":0},{"$f":"IF(ISERROR(('A4-FinPerf RE'!I5-'A4-FinPerf RE'!H5)/'A4-FinPerf RE'!H5),0,(('A4-FinPerf RE'!I5-'A4-FinPerf RE'!H5)/'A4-FinPerf RE'!H5))","v":0},{"$f":"IF(ISERROR(('A4-FinPerf RE'!J5-'A4-FinPerf RE'!G5)/'A4-FinPerf RE'!G5),0,(('A4-FinPerf RE'!J5-'A4-FinPerf RE'!G5)/'A4-FinPerf RE'!G5))","v":0},{"$f":"IF(ISERROR(('A4-FinPerf RE'!K5-'A4-FinPerf RE'!J5)/'A4-FinPerf RE'!J5),0,(('A4-FinPerf RE'!K5-'A4-FinPerf RE'!J5)/'A4-FinPerf RE'!J5))","v":0},{"$f":"IF(ISERROR(('A4-FinPerf RE'!L5-'A4-FinPerf RE'!K5)/'A4-FinPerf RE'!K5),0,(('A4-FinPerf RE'!L5-'A4-FinPerf RE'!K5)/'A4-FinPerf RE'!K5))","v":0}]
["% Increase in Electricity Revenue",null,null,null,{"$f":"IF(ISERROR(('A4-FinPerf RE'!D6-'A4-FinPerf RE'!C6)/'A4-FinPerf RE'!C6),0,(('A4-FinPerf RE'!D6-'A4-FinPerf RE'!C6)/'A4-FinPerf RE'!C6))","v":0},{"$f":"IF(ISERROR(('A4-FinPerf RE'!E6-'A4-FinPerf RE'!D6)/'A4-FinPerf RE'!D6),0,(('A4-FinPerf RE'!E6-'A4-FinPerf RE'!D6)/'A4-FinPerf RE'!D6))","v":0},{"$f":"IF(ISERROR(('A4-FinPerf RE'!F6-'A4-FinPerf RE'!E6)/'A4-FinPerf RE'!E6),0,(('A4-FinPerf RE'!F6-'A4-FinPerf RE'!E6)/'A4-FinPerf RE'!E6))","v":0},{"$f":"IF(ISERROR(('A4-FinPerf RE'!G6-'A4-FinPerf RE'!F6)/'A4-FinPerf RE'!F6),0,(('A4-FinPerf RE'!G6-'A4-FinPerf RE'!F6)/'A4-FinPerf RE'!F6))","v":0},{"$f":"IF(ISERROR(('A4-FinPerf RE'!H6-'A4-FinPerf RE'!G6)/'A4-FinPerf RE'!G6),0,(('A4-FinPerf RE'!H6-'A4-FinPerf RE'!G6)/'A4-FinPerf RE'!G6))","v":0},{"$f":"IF(ISERROR(('A4-FinPerf RE'!I6-'A4-FinPerf RE'!H6)/'A4-FinPerf RE'!H6),0,(('A4-FinPerf RE'!I6-'A4-FinPerf RE'!H6)/'A4-FinPerf RE'!H6))","v":0},{"$f":"IF(ISERROR(('A4-FinPerf RE'!J6-'A4-FinPerf RE'!G6)/'A4-FinPerf RE'!G6),0,(('A4-FinPerf RE'!J6-'A4-FinPerf RE'!G6)/'A4-FinPerf RE'!G6))","v":0},{"$f":"IF(ISERROR(('A4-FinPerf RE'!K6-'A4-FinPerf RE'!J6)/'A4-FinPerf RE'!J6),0,(('A4-FinPerf RE'!K6-'A4-FinPerf RE'!J6)/'A4-FinPerf RE'!J6))","v":0},{"$f":"IF(ISERROR(('A4-FinPerf RE'!L6-'A4-FinPerf RE'!K6)/'A4-FinPerf RE'!K6),0,(('A4-FinPerf RE'!L6-'A4-FinPerf RE'!K6)/'A4-FinPerf RE'!K6))","v":0}]
["% Increase in Property Rates & Services Charges",null,null,null,{"$f":"IF(ISERROR((('A1-Sum'!C5+'A1-Sum'!C6)-('A1-Sum'!B5+'A1-Sum'!B6))/('A1-Sum'!B5+'A1-Sum'!B6)),0,((('A1-Sum'!C5+'A1-Sum'!C6)-('A1-Sum'!B5+'A1-Sum'!B6))/('A1-Sum'!B5+'A1-Sum'!B6)))","v":0.18141140778889905},{"$f":"IF(ISERROR((('A1-Sum'!D5+'A1-Sum'!D6)-('A1-Sum'!C5+'A1-Sum'!C6))/('A1-Sum'!C5+'A1-Sum'!C6)),0,((('A1-Sum'!D5+'A1-Sum'!D6)-('A1-Sum'!C5+'A1-Sum'!C6))/('A1-Sum'!C5+'A1-Sum'!C6)))","v":0.39016182804020333},{"$f":"IF(ISERROR((('A1-Sum'!E5+'A1-Sum'!E6)-('A1-Sum'!D5+'A1-Sum'!D6))/('A1-Sum'!D5+'A1-Sum'!D6)),0,((('A1-Sum'!E5+'A1-Sum'!E6)-('A1-Sum'!D5+'A1-Sum'!D6))/('A1-Sum'!D5+'A1-Sum'!D6)))","v":0.48491809331066088},{"$f":"IF(ISERROR((('A1-Sum'!F5+'A1-Sum'!F6)-('A1-Sum'!E5+'A1-Sum'!E6))/('A1-Sum'!E5+'A1-Sum'!E6)),0,((('A1-Sum'!F5+'A1-Sum'!F6)-('A1-Sum'!E5+'A1-Sum'!E6))/('A1-Sum'!E5+'A1-Sum'!E6)))","v":3.7942431650807885E-2},{"$f":"IF(ISERROR((('A1-Sum'!G5+'A1-Sum'!G6)-('A1-Sum'!F5+'A1-Sum'!F6))/('A1-Sum'!F5+'A1-Sum'!F6)),0,((('A1-Sum'!G5+'A1-Sum'!G6)-('A1-Sum'!F5+'A1-Sum'!F6))/('A1-Sum'!F5+'A1-Sum'!F6)))","v":0},{"$f":"IF(ISERROR((('A1-Sum'!H5+'A1-Sum'!H6)-('A1-Sum'!G5+'A1-Sum'!G6))/('A1-Sum'!G5+'A1-Sum'!G6)),0,((('A1-Sum'!H5+'A1-Sum'!H6)-('A1-Sum'!G5+'A1-Sum'!G6))/('A1-Sum'!G5+'A1-Sum'!G6)))","v":0},{"$f":"IF(ISERROR((('A1-Sum'!I5+'A1-Sum'!I6)-('A1-Sum'!F5+'A1-Sum'!F6))/('A1-Sum'!F5+'A1-Sum'!F6)),0,((('A1-Sum'!I5+'A1-Sum'!I6)-('A1-Sum'!F5+'A1-Sum'!F6))/('A1-Sum'!F5+'A1-Sum'!F6)))","v":-5.3372116164876741E-2},{"$f":"IF(ISERROR((('A1-Sum'!J5+'A1-Sum'!J6)-('A1-Sum'!I5+'A1-Sum'!I6))/('A1-Sum'!I5+'A1-Sum'!I6)),0,((('A1-Sum'!J5+'A1-Sum'!J6)-('A1-Sum'!I5+'A1-Sum'!I6))/('A1-Sum'!I5+'A1-Sum'!I6)))","v":6.2822403079515865E-2},{"$f":"IF(ISERROR((('A1-Sum'!K5+'A1-Sum'!K6)-('A1-Sum'!J5+'A1-Sum'!J6))/('A1-Sum'!J5+'A1-Sum'!J6)),0,((('A1-Sum'!K5+'A1-Sum'!K6)-('A1-Sum'!J5+'A1-Sum'!J6))/('A1-Sum'!J5+'A1-Sum'!J6)))","v":2.6922189430781489E-2}]
["Expenditure"]
["% Increase in Total Operating Expenditure",null,null,null,{"$f":"IF(ISERROR(('A1-Sum'!C18-'A1-Sum'!B18)/'A1-Sum'!B18),0,(('A1-Sum'!C18-'A1-Sum'!B18)/'A1-Sum'!B18))","v":6.6958284278290522E-2},{"$f":"IF(ISERROR(('A1-Sum'!D18-'A1-Sum'!C18)/'A1-Sum'!C18),0,(('A1-Sum'!D18-'A1-Sum'!C18)/'A1-Sum'!C18))","v":7.9697910136176511E-2},{"$f":"IF(ISERROR(('A1-Sum'!E18-'A1-Sum'!D18)/'A1-Sum'!D18),0,(('A1-Sum'!E18-'A1-Sum'!D18)/'A1-Sum'!D18))","v":-0.10307277425885496},{"$f":"IF(ISERROR(('A1-Sum'!F18-'A1-Sum'!E18)/'A1-Sum'!E18),0,(('A1-Sum'!F18-'A1-Sum'!E18)/'A1-Sum'!E18))","v":0.21900013157727122},{"$f":"IF(ISERROR(('A1-Sum'!G18-'A1-Sum'!F18)/'A1-Sum'!F18),0,(('A1-Sum'!G18-'A1-Sum'!F18)/'A1-Sum'!F18))","v":0},{"$f":"IF(ISERROR(('A1-Sum'!H18-'A1-Sum'!G18)/'A1-Sum'!G18),0,(('A1-Sum'!H18-'A1-Sum'!G18)/'A1-Sum'!G18))","v":0},{"$f":"IF(ISERROR(('A1-Sum'!I18-'A1-Sum'!F18)/'A1-Sum'!F18),0,(('A1-Sum'!I18-'A1-Sum'!F18)/'A1-Sum'!F18))","v":-9.4800912199260678E-2},{"$f":"IF(ISERROR(('A1-Sum'!J18-'A1-Sum'!I18)/'A1-Sum'!I18),0,(('A1-Sum'!J18-'A1-Sum'!I18)/'A1-Sum'!I18))","v":4.9363654173093387E-2},{"$f":"IF(ISERROR(('A1-Sum'!K18-'A1-Sum'!J18)/'A1-Sum'!J18),0,(('A1-Sum'!K18-'A1-Sum'!J18)/'A1-Sum'!J18))","v":5.0778737841137449E-2}]
["% Increase in Employee Costs",null,null,null,{"$f":"IF(ISERROR(('A1-Sum'!C11-'A1-Sum'!B11)/'A1-Sum'!B11),0,(('A1-Sum'!C11-'A1-Sum'!B11)/'A1-Sum'!B11))","v":0.19217034698468741},{"$f":"IF(ISERROR(('A1-Sum'!D11-'A1-Sum'!C11)/'A1-Sum'!C11),0,(('A1-Sum'!D11-'A1-Sum'!C11)/'A1-Sum'!C11))","v":-2.8003012979691499E-2},{"$f":"IF(ISERROR(('A1-Sum'!E11-'A1-Sum'!D11)/'A1-Sum'!D11),0,(('A1-Sum'!E11-'A1-Sum'!D11)/'A1-Sum'!D11))","v":1.1612867812361653E-2},{"$f":"IF(ISERROR(('A1-Sum'!F11-'A1-Sum'!E11)/'A1-Sum'!E11),0,(('A1-Sum'!F11-'A1-Sum'!E11)/'A1-Sum'!E11))","v":4.7643353074652721E-2},{"$f":"IF(ISERROR(('A1-Sum'!G11-'A1-Sum'!F11)/'A1-Sum'!F11),0,(('A1-Sum'!G11-'A1-Sum'!F11)/'A1-Sum'!F11))","v":0},{"$f":"IF(ISERROR(('A1-Sum'!H11-'A1-Sum'!G11)/'A1-Sum'!G11),0,(('A1-Sum'!H11-'A1-Sum'!G11)/'A1-Sum'!G11))","v":0},{"$f":"IF(ISERROR(('A1-Sum'!I11-'A1-Sum'!F11)/'A1-Sum'!F11),0,(('A1-Sum'!I11-'A1-Sum'!F11)/'A1-Sum'!F11))","v":1.8629416193539236E-2},{"$f":"IF(ISERROR(('A1-Sum'!J11-'A1-Sum'!I11)/'A1-Sum'!I11),0,(('A1-Sum'!J11-'A1-Sum'!I11)/'A1-Sum'!I11))","v":4.410861168482047E-2},{"$f":"IF(ISERROR(('A1-Sum'!K11-'A1-Sum'!J11)/'A1-Sum'!J11),0,(('A1-Sum'!K11-'A1-Sum'!J11)/'A1-Sum'!J11))","v":3.7118378750476515E-2}]
["% Increase in Electricity Bulk Purchases",null,null,null,{"$f":"IF(ISERROR(('SA1'!D86-'SA1'!C86)/'SA1'!C86),0,(('SA1'!D86-'SA1'!C86)/'SA1'!C86))","v":0},{"$f":"IF(ISERROR(('SA1'!E86-'SA1'!D86)/'SA1'!D86),0,(('SA1'!E86-'SA1'!D86)/'SA1'!D86))","v":0},{"$f":"IF(ISERROR(('SA1'!F86-'SA1'!E86)/'SA1'!E86),0,(('SA1'!F86-'SA1'!E86)/'SA1'!E86))","v":0},{"$f":"IF(ISERROR(('SA1'!G86-'SA1'!F86)/'SA1'!F86),0,(('SA1'!G86-'SA1'!F86)/'SA1'!F86))","v":0},{"$f":"IF(ISERROR(('SA1'!H86-'SA1'!G86)/'SA1'!G86),0,(('SA1'!H86-'SA1'!G86)/'SA1'!G86))","v":0},{"$f":"IF(ISERROR(('SA1'!I86-'SA1'!H86)/'SA1'!H86),0,(('SA1'!I86-'SA1'!H86)/'SA1'!H86))","v":0},{"$f":"IF(ISERROR(('SA1'!J86-'SA1'!G86)/'SA1'!G86),0,(('SA1'!J86-'SA1'!G86)/'SA1'!G86))","v":0},{"$f":"IF(ISERROR(('SA1'!K86-'SA1'!J86)/'SA1'!J86),0,(('SA1'!K86-'SA1'!J86)/'SA1'!J86))","v":0},{"$f":"IF(ISERROR(('SA1'!L86-'SA1'!K86)/'SA1'!K86),0,(('SA1'!L86-'SA1'!K86)/'SA1'!K86))","v":0}]
["Average Cost Per Budgeted Employee Position (Remuneration)",null,null,null,null,{"$f":"IF(ISERROR('A1-Sum'!D11/('SA24'!D36+'SA24'!E36-'SA24'!C5)),0,('A1-Sum'!D11/('SA24'!D36+'SA24'!E36-'SA24'!C5)))","v":11388831.057343747},{"$f":"IF(ISERROR('A1-Sum'!E11/('SA24'!F36-'SA24'!F5)),0,('A1-Sum'!E11/('SA24'!F36-'SA24'!F5)))","v":530467.36331280577},null,null,null,{"$f":"IF(ISERROR('A1-Sum'!I11/('SA24'!I36-'SA24'!I5)),0,('A1-Sum'!I11/('SA24'!I36-'SA24'!I5)))","v":456421.27904183249}]
["Average Cost Per Councillor (Remuneration)",null,null,null,null,{"$f":"IF(ISERROR('A1-Sum'!D12/'SA24'!C5),0,('A1-Sum'!D12/'SA24'!C5))","v":0},{"$f":"IF(ISERROR('A1-Sum'!E12/'SA24'!F5),0,('A1-Sum'!E12/'SA24'!F5))","v":292522.59999999998},null,null,null,{"$f":"IF(ISERROR('A1-Sum'!I12/'SA24'!I5),0,('A1-Sum'!I12/'SA24'!I5))","v":276703.43861111114}]
["R&M % of PPE",null,null,{"$f":"'A9-Asset'!C205","v":4.0000000000000001E-3},{"$f":"'A9-Asset'!D205","v":4.0000000000000001E-3},{"$f":"'A9-Asset'!E205","v":3.0000000000000001E-3},{"$f":"'A9-Asset'!F205","v":3.0000000000000001E-3},{"$f":"'A9-Asset'!G205","v":4.0000000000000001E-3},{"$f":"'A9-Asset'!H205","v":4.0000000000000001E-3},null,{"$f":"'A9-Asset'!I205","v":3.0000000000000001E-3},{"$f":"'A9-Asset'!J205","v":4.0000000000000001E-3},{"$f":"'A9-Asset'!K205","v":4.0000000000000001E-3}]
["Asset Renewal and R&M as a % of PPE",null,null,{"$f":"'A9-Asset'!C206","v":0},{"$f":"'A9-Asset'!D206","v":0},{"$f":"'A9-Asset'!E206","v":0},{"$f":"'A9-Asset'!F206","v":0.02},{"$f":"'A9-Asset'!G206","v":0.04},{"$f":"'A9-Asset'!H206","v":0.04},null,{"$f":"'A9-Asset'!I206","v":0.03},{"$f":"'A9-Asset'!J206","v":0.02},{"$f":"'A9-Asset'!K206","v":0.03}]
["Debt Impairment % of Total Billable Revenue",null,null,{"$f":"'SA10'!D11","v":0.58137313772911225},{"$f":"'SA10'!E11","v":0.61926756139583694},{"$f":"'SA10'!F11","v":0.67746706440780768},{"$f":"'SA10'!G11","v":0.29539869358268267},{"$f":"'SA10'!H11","v":0.37210593736307995},{"$f":"'SA10'!I11","v":0.37210593736307995},{"$f":"'SA10'!J11","v":0.37210593736307995},{"$f":"'SA10'!K11","v":0.41641555083276577},{"$f":"'SA10'!L11","v":0.41530972788891374},{"$f":"'SA10'!M11","v":0.42868711696133188}]
["Capital Revenue"]
["Internally Funded & Other (R'000)",null,null,{"$f":"'A1-Sum'!B29+'A1-Sum'!B31","v":0},{"$f":"'A1-Sum'!C29+'A1-Sum'!C31","v":799884},{"$f":"'A1-Sum'!D29+'A1-Sum'!D31","v":460786.83},{"$f":"'A1-Sum'!E29+'A1-Sum'!E31","v":48962720},{"$f":"'A1-Sum'!F29+'A1-Sum'!F31","v":27011707},{"$f":"'A1-Sum'!G29+'A1-Sum'!G31","v":27011707},{"$f":"'A1-Sum'!H29+'A1-Sum'!H31","v":27011707},{"$f":"'A1-Sum'!I29+'A1-Sum'!I31","v":15000000},{"$f":"'A1-Sum'!J29+'A1-Sum'!J31","v":15000000},{"$f":"'A1-Sum'!K29+'A1-Sum'!K31","v":15000000}]
["Borrowing (R'000)",null,null,{"$f":"'A1-Sum'!B30","v":0},{"$f":"'A1-Sum'!C30","v":0},{"$f":"'A1-Sum'!D30","v":0},{"$f":"'A1-Sum'!E30","v":0},{"$f":"'A1-Sum'!F30","v":0},{"$f":"'A1-Sum'!G30","v":0},{"$f":"'A1-Sum'!H30","v":0},{"$f":"'A1-Sum'!I30","v":0},{"$f":"'A1-Sum'!J30","v":0},{"$f":"'A1-Sum'!K30","v":0}]
["Grant Funding and Other (R'000)",null,null,{"$f":"'A1-Sum'!B28","v":99254444},{"$f":"'A1-Sum'!C28","v":372229470},{"$f":"'A1-Sum'!D28","v":335159170.45999998},{"$f":"'A1-Sum'!E28","v":610693000},{"$f":"'A1-Sum'!F28","v":560470988},{"$f":"'A1-Sum'!G28","v":560470988},{"$f":"'A1-Sum'!H28","v":560470988},{"$f":"'A1-Sum'!I28","v":551483857.62379622},{"$f":"'A1-Sum'!J28","v":673904670},{"$f":"'A1-Sum'!K28","v":677025830}]
["Internally Generated funds % of Non Grant Funding",null,null,{"$f":"IF(ISERROR(('A1-Sum'!B29+'A1-Sum'!B31)/('A1-Sum'!B32-'A1-Sum'!B28)),0,(('A1-Sum'!B29+'A1-Sum'!B31)/('A1-Sum'!B32-'A1-Sum'!B28)))","v":0},{"$f":"IF(ISERROR(('A1-Sum'!C29+'A1-Sum'!C31)/('A1-Sum'!C32-'A1-Sum'!C28)),0,(('A1-Sum'!C29+'A1-Sum'!C31)/('A1-Sum'!C32-'A1-Sum'!C28)))","v":1},{"$f":"IF(ISERROR(('A1-Sum'!D29+'A1-Sum'!D31)/('A1-Sum'!D32-'A1-Sum'!D28)),0,(('A1-Sum'!D29+'A1-Sum'!D31)/('A1-Sum'!D32-'A1-Sum'!D28)))","v":1.0000000000000362},{"$f":"IF(ISERROR(('A1-Sum'!E29+'A1-Sum'!E31)/('A1-Sum'!E32-'A1-Sum'!E28)),0,(('A1-Sum'!E29+'A1-Sum'!E31)/('A1-Sum'!E32-'A1-Sum'!E28)))","v":1},{"$f":"IF(ISERROR(('A1-Sum'!F29+'A1-Sum'!F31)/('A1-Sum'!F32-'A1-Sum'!F28)),0,(('A1-Sum'!F29+'A1-Sum'!F31)/('A1-Sum'!F32-'A1-Sum'!F28)))","v":1},{"$f":"IF(ISERROR(('A1-Sum'!G29+'A1-Sum'!G31)/('A1-Sum'!G32-'A1-Sum'!G28)),0,(('A1-Sum'!G29+'A1-Sum'!G31)/('A1-Sum'!G32-'A1-Sum'!G28)))","v":1},{"$f":"IF(ISERROR(('A1-Sum'!H29+'A1-Sum'!H31)/('A1-Sum'!H32-'A1-Sum'!H28)),0,(('A1-Sum'!H29+'A1-Sum'!H31)/('A1-Sum'!H32-'A1-Sum'!H28)))","v":1},{"$f":"IF(ISERROR(('A1-Sum'!I29+'A1-Sum'!I31)/('A1-Sum'!I32-'A1-Sum'!I28)),0,(('A1-Sum'!I29+'A1-Sum'!I31)/('A1-Sum'!I32-'A1-Sum'!I28)))","v":1},{"$f":"IF(ISERROR(('A1-Sum'!J29+'A1-Sum'!J31)/('A1-Sum'!J32-'A1-Sum'!J28)),0,(('A1-Sum'!J29+'A1-Sum'!J31)/('A1-Sum'!J32-'A1-Sum'!J28)))","v":1},{"$f":"IF(ISERROR(('A1-Sum'!K29+'A1-Sum'!K31)/('A1-Sum'!K32-'A1-Sum'!K28)),0,(('A1-Sum'!K29+'A1-Sum'!K31)/('A1-Sum'!K32-'A1-Sum'!K28)))","v":1}]
["Borrowing % of Non Grant Funding",null,null,{"$f":"IF(ISERROR('A1-Sum'!B30/('A1-Sum'!B32-'A1-Sum'!B28)),0,('A1-Sum'!B30/('A1-Sum'!B32-'A1-Sum'!B28)))","v":0},{"$f":"IF(ISERROR('A1-Sum'!C30/('A1-Sum'!C32-'A1-Sum'!C28)),0,('A1-Sum'!C30/('A1-Sum'!C32-'A1-Sum'!C28)))","v":0},{"$f":"IF(ISERROR('A1-Sum'!D30/('A1-Sum'!D32-'A1-Sum'!D28)),0,('A1-Sum'!D30/('A1-Sum'!D32-'A1-Sum'!D28)))","v":0},{"$f":"IF(ISERROR('A1-Sum'!E30/('A1-Sum'!E32-'A1-Sum'!E28)),0,('A1-Sum'!E30/('A1-Sum'!E32-'A1-Sum'!E28)))","v":0},{"$f":"IF(ISERROR('A1-Sum'!F30/('A1-Sum'!F32-'A1-Sum'!F28)),0,('A1-Sum'!F30/('A1-Sum'!F32-'A1-Sum'!F28)))","v":0},{"$f":"IF(ISERROR('A1-Sum'!G30/('A1-Sum'!G32-'A1-Sum'!G28)),0,('A1-Sum'!G30/('A1-Sum'!G32-'A1-Sum'!G28)))","v":0},{"$f":"IF(ISERROR('A1-Sum'!H30/('A1-Sum'!H32-'A1-Sum'!H28)),0,('A1-Sum'!H30/('A1-Sum'!H32-'A1-Sum'!H28)))","v":0},{"$f":"IF(ISERROR('A1-Sum'!I30/('A1-Sum'!I32-'A1-Sum'!I28)),0,('A1-Sum'!I30/('A1-Sum'!I32-'A1-Sum'!I28)))","v":0},{"$f":"IF(ISERROR('A1-Sum'!J30/('A1-Sum'!J32-'A1-Sum'!J28)),0,('A1-Sum'!J30/('A1-Sum'!J32-'A1-Sum'!J28)))","v":0},{"$f":"IF(ISERROR('A1-Sum'!K30/('A1-Sum'!K32-'A1-Sum'!K28)),0,('A1-Sum'!K30/('A1-Sum'!K32-'A1-Sum'!K28)))","v":0}]
["Grant Funding % of Total Funding",null,null,{"$f":"IF(ISERROR('A1-Sum'!B28/'A1-Sum'!B32),0,('A1-Sum'!B28/'A1-Sum'!B32))","v":1},{"$f":"IF(ISERROR('A1-Sum'!C28/'A1-Sum'!C32),0,('A1-Sum'!C28/'A1-Sum'!C32))","v":0.99785570762348097},{"$f":"IF(ISERROR('A1-Sum'!D28/'A1-Sum'!D32),0,('A1-Sum'!D28/'A1-Sum'!D32))","v":0.99862705771813853},{"$f":"IF(ISERROR('A1-Sum'!E28/'A1-Sum'!E32),0,('A1-Sum'!E28/'A1-Sum'!E32))","v":0.92577534232553915},{"$f":"IF(ISERROR('A1-Sum'!F28/'A1-Sum'!F32),0,('A1-Sum'!F28/'A1-Sum'!F32))","v":0.9540212720648733},{"$f":"IF(ISERROR('A1-Sum'!G28/'A1-Sum'!G32),0,('A1-Sum'!G28/'A1-Sum'!G32))","v":0.9540212720648733},{"$f":"IF(ISERROR('A1-Sum'!H28/'A1-Sum'!H32),0,('A1-Sum'!H28/'A1-Sum'!H32))","v":0.9540212720648733},{"$f":"IF(ISERROR('A1-Sum'!I28/'A1-Sum'!I32),0,('A1-Sum'!I28/'A1-Sum'!I32))","v":0.97352086948616712},{"$f":"IF(ISERROR('A1-Sum'!J28/'A1-Sum'!J32),0,('A1-Sum'!J28/'A1-Sum'!J32))","v":0.97822630524481713},{"$f":"IF(ISERROR('A1-Sum'!K28/'A1-Sum'!K32),0,('A1-Sum'!K28/'A1-Sum'!K32))","v":0.97832450849414099}]
["Capital Expenditure"]
["Total Capital Programme (R'000)",null,null,{"$f":"'A1-Sum'!B27","v":99254444},{"$f":"'A1-Sum'!C27","v":373029354},{"$f":"'A1-Sum'!D27","v":335619957.29000002},{"$f":"'A1-Sum'!E27","v":659655720},{"$f":"'A1-Sum'!F27","v":587482695.25257504},{"$f":"'A1-Sum'!G27","v":587482695.25257504},{"$f":"'A1-Sum'!H27","v":587482695.25257504},{"$f":"'A1-Sum'!I27","v":566483857.62379622},{"$f":"'A1-Sum'!J27","v":688904670},{"$f":"'A1-Sum'!K27","v":692025830}]
["Asset Renewal",null,null,{"$f":"'A1-Sum'!B55","v":0},{"$f":"'A1-Sum'!C55","v":2872742},{"$f":"'A1-Sum'!D55","v":972852.71},{"$f":"'A1-Sum'!E55","v":125487896.50797798},{"$f":"'A1-Sum'!F55","v":197203924.92601252},{"$f":"'A1-Sum'!G55","v":197203924.92601252},{"$f":"'A1-Sum'!H55","v":197203924.92601252},{"$f":"'A1-Sum'!I55","v":158400921.46000001},{"$f":"'A1-Sum'!J55","v":124992941.53936985},{"$f":"'A1-Sum'!K55","v":159617596.92439258}]
["Asset Renewal % of Total Capital Expenditure",null,null,{"$f":"IF(ISERROR('A1-Sum'!B55/'A1-Sum'!B32),0,('A1-Sum'!B55/'A1-Sum'!B32))","v":0},{"$f":"IF(ISERROR('A1-Sum'!C55/'A1-Sum'!C32),0,('A1-Sum'!C55/'A1-Sum'!C32))","v":7.7011151245754243E-3},{"$f":"IF(ISERROR('A1-Sum'!D55/'A1-Sum'!D32),0,('A1-Sum'!D55/'A1-Sum'!D32))","v":2.8986736005075669E-3},{"$f":"IF(ISERROR('A1-Sum'!E55/'A1-Sum'!E32),0,('A1-Sum'!E55/'A1-Sum'!E32))","v":0.19023240866914332},{"$f":"IF(ISERROR('A1-Sum'!F55/'A1-Sum'!F32),0,('A1-Sum'!F55/'A1-Sum'!F32))","v":0.335676142641125},{"$f":"IF(ISERROR('A1-Sum'!G55/'A1-Sum'!G32),0,('A1-Sum'!G55/'A1-Sum'!G32))","v":0.335676142641125},{"$f":"IF(ISERROR('A1-Sum'!H55/'A1-Sum'!H32),0,('A1-Sum'!H55/'A1-Sum'!H32))","v":0.335676142641125},{"$f":"IF(ISERROR('A1-Sum'!I55/'A1-Sum'!I32),0,('A1-Sum'!I55/'A1-Sum'!I32))","v":0.27962124485671502},{"$f":"IF(ISERROR('A1-Sum'!J55/'A1-Sum'!J32),0,('A1-Sum'!J55/'A1-Sum'!J32))","v":0.18143721037537727},{"$f":"IF(ISERROR('A1-Sum'!K55/'A1-Sum'!K32),0,('A1-Sum'!K55/'A1-Sum'!K32))","v":0.2306526577546861}]
["Cash"]
["Cash Receipts % of Rate Payer & Other",null,null,{"$f":"'SA10'!D10","v":0.43750229259416362},{"$f":"'SA10'!E10","v":0.19156085742891157},{"$f":"'SA10'!F10","v":0.28212869341475705},{"$f":"'SA10'!G10","v":0.66483881506946474},{"$f":"'SA10'!H10","v":0.50371376146400837},{"$f":"'SA10'!I10","v":0.50371376146400837},{"$f":"'SA10'!J10","v":0.50371376146400837},{"$f":"'SA10'!K10","v":0.48528738300554664},{"$f":"'SA10'!L10","v":0.48909217472137595},{"$f":"'SA10'!M10","v":0.48590958317744404}]
["Cash Coverage Ratio",null,null,{"$f":"'SA10'!D7","v":1.7372857887855531},{"$f":"'SA10'!E7","v":1.6464199938502664},{"$f":"'SA10'!F7","v":1.6354757564292275},{"$f":"'SA10'!G7","v":1.9785203172546355},{"$f":"'SA10'!H7","v":0.72438940704607491},{"$f":"'SA10'!I7","v":0.72438940704607491},{"$f":"'SA10'!J7","v":0.72438940704607491},{"$f":"'SA10'!K7","v":0.94260957170720971},{"$f":"'SA10'!L7","v":1.533420161371805},{"$f":"'SA10'!M7","v":1.5787463294438771}]
["Borrowing"]
[]
["Credit Rating (2009/10)",null,null,null,null,null,null,null,null,null,{"$f":"'SA8'!F6","v":"N/A"}]
["Capital Charges to Operating",null,null,{"$f":"'SA8'!C7","v":0.10809869885890927},{"$f":"'SA8'!D7","v":1.8198774437459854E-2},{"$f":"'SA8'!E7","v":1.559587947883679E-2},{"$f":"'SA8'!F7","v":1.7526248545466229E-2},{"$f":"'SA8'!G7","v":7.4663332483273269E-3},{"$f":"'SA8'!H7","v":7.4663332483273269E-3},{"$f":"'SA8'!I7","v":7.4663332483273269E-3},{"$f":"'SA8'!J7","v":1.6959015315216829E-2},{"$f":"'SA8'!K7","v":1.7424380704550563E-2},{"$f":"'SA8'!L7","v":1.7731549697247734E-2}]
["Borrowing Receipts % of Capital Expenditure",null,null,{"$f":"'SA10'!D13","v":0},{"$f":"'SA10'!E13","v":0},{"$f":"'SA10'!F13","v":0},{"$f":"'SA10'!G13","v":0},{"$f":"'SA10'!H13","v":0},{"$f":"'SA10'!I13","v":0},{"$f":"'SA10'!J13","v":0},{"$f":"'SA10'!K13","v":0},{"$f":"'SA10'!L13","v":0},{"$f":"'SA10'!M13","v":0}]
["Reserves"]
["Surplus/(Deficit)",null,null,{"$f":"'A8-ResRecon'!C19","v":-213637070.33999994},{"$f":"'A8-ResRecon'!D19","v":-248954580.69999999},{"$f":"'A8-ResRecon'!E19","v":-305081121.98999995},{"$f":"'A8-ResRecon'!F19","v":-55402410.711824417},{"$f":"'A8-ResRecon'!G19","v":2665363.8581755906},{"$f":"'A8-ResRecon'!H19","v":2665363.8581755906},{"$f":"'A8-ResRecon'!I19","v":2665363.8581755906},{"$f":"'A8-ResRecon'!J19","v":4079918.998350814},{"$f":"'A8-ResRecon'!K19","v":122646782.6327593},{"$f":"'A8-ResRecon'!L19","v":156827285.07111213}]
["Free Services"]
["Free Basic Services as a % of Equitable Share",null,null,{"$f":"IF(ISERROR('A10-SerDel'!C60/'SA18'!C8),0,('A10-SerDel'!C60/'SA18'!C8))","v":3.9426653002204028E-2},{"$f":"IF(ISERROR('A10-SerDel'!D60/'SA18'!D8),0,('A10-SerDel'!D60/'SA18'!D8))","v":4.0737452093890465E-2},{"$f":"IF(ISERROR('A10-SerDel'!E60/'SA18'!E8),0,('A10-SerDel'!E60/'SA18'!E8))","v":1.7958249803068066E-2},{"$f":"IF(ISERROR('A10-SerDel'!F60/'SA18'!F8),0,('A10-SerDel'!F60/'SA18'!F8))","v":0.10827619959201527},{"$f":"IF(ISERROR('A10-SerDel'!G60/'SA18'!G8),0,('A10-SerDel'!G60/'SA18'!G8))","v":6.4428669805232777E-2},{"$f":"IF(ISERROR('A10-SerDel'!H60/'SA18'!H8),0,('A10-SerDel'!H60/'SA18'!H8))","v":6.4428669805232777E-2},null,{"$f":"IF(ISERROR('A10-SerDel'!I60/'SA18'!I8),0,('A10-SerDel'!I60/'SA18'!I8))","v":7.110786046606124E-2},{"$f":"IF(ISERROR('A10-SerDel'!J60/'SA18'!J8),0,('A10-SerDel'!J60/'SA18'!J8))","v":6.7648456057007131E-2},{"$f":"IF(ISERROR('A10-SerDel'!K60/'SA18'!K8),0,('A10-SerDel'!K60/'SA18'!K8))","v":0.10096942820379289}]
["Free Services as a % of Operating Revenue \n(excl operational transfers)",null,null,{"$f":"IF(ISERROR('A10-SerDel'!C79/('A1-Sum'!B10-'A1-Sum'!B8)),0,('A10-SerDel'!C79/('A1-Sum'!B10-'A1-Sum'!B8)))","v":0},{"$f":"IF(ISERROR('A10-SerDel'!D79/('A1-Sum'!C10-'A1-Sum'!C8)),0,('A10-SerDel'!D79/('A1-Sum'!C10-'A1-Sum'!C8)))","v":0},{"$f":"IF(ISERROR('A10-SerDel'!E79/('A1-Sum'!D10-'A1-Sum'!D8)),0,('A10-SerDel'!E79/('A1-Sum'!D10-'A1-Sum'!D8)))","v":0},{"$f":"IF(ISERROR('A10-SerDel'!F79/('A1-Sum'!E10-'A1-Sum'!E8)),0,('A10-SerDel'!F79/('A1-Sum'!E10-'A1-Sum'!E8)))","v":0},{"$f":"IF(ISERROR('A10-SerDel'!G79/('A1-Sum'!F10-'A1-Sum'!F8)),0,('A10-SerDel'!G79/('A1-Sum'!F10-'A1-Sum'!F8)))","v":0},{"$f":"IF(ISERROR('A10-SerDel'!H79/('A1-Sum'!G10-'A1-Sum'!G8)),0,('A10-SerDel'!H79/('A1-Sum'!G10-'A1-Sum'!G8)))","v":0},null,{"$f":"IF(ISERROR('A10-SerDel'!I79/('A1-Sum'!I10-'A1-Sum'!I8)),0,('A10-SerDel'!I79/('A1-Sum'!I10-'A1-Sum'!I8)))","v":0},{"$f":"IF(ISERROR('A10-SerDel'!J79/('A1-Sum'!J10-'A1-Sum'!J8)),0,('A10-SerDel'!J79/('A1-Sum'!J10-'A1-Sum'!J8)))","v":0},{"$f":"IF(ISERROR('A10-SerDel'!K79/('A1-Sum'!K10-'A1-Sum'!K8)),0,('A10-SerDel'!K79/('A1-Sum'!K10-'A1-Sum'!K8)))","v":0}]
[]
["High Level Outcome of Funding Compliance"]
["Total Operating Revenue",null,null,{"$f":"D89","v":1090776378.96},{"$f":"E89","v":1124342064.4100001},1359772736.3699999,1552687085.0434783,1860254390.0434783,1860254390.0434783,{"$f":"J89","v":1860254390.0434783},1674406316,1756244686,1844660253]
["Total Operating Expenditure",null,null,{"$f":"D90","v":1455329490},1552775855.7099996,1676528846.3199997,1503724367.0047998,1833040201.2347999,1833040201.2347999,1833040201.2347999,1659266318.0598245,1741173766.7655916,1829588373.0040474]
["Surplus/(Deficit) Budgeted Operating Statement",null,null,-364553111.03999996,-428433791.29999948,-316756109.94999981,48962718.038678408,27214188.808678389,27214188.808678389,27214188.808678389,15139997.940175533,15070919.234408379,15071879.995952606]
["Surplus/(Deficit) Considering Reserves and Cash Backing",null,null,{"$f":"'A8-ResRecon'!C19","v":-213637070.33999994},{"$f":"'A8-ResRecon'!D19","v":-248954580.69999999},{"$f":"'A8-ResRecon'!E19","v":-305081121.98999995},{"$f":"'A8-ResRecon'!F19","v":-55402410.711824417},{"$f":"'A8-ResRecon'!G19","v":2665363.8581755906},{"$f":"'A8-ResRecon'!H19","v":2665363.8581755906},{"$f":"'A8-ResRecon'!I19","v":2665363.8581755906},{"$f":"'A8-ResRecon'!J19","v":4079918.998350814},{"$f":"'A8-ResRecon'!K19","v":122646782.6327593},{"$f":"'A8-ResRecon'!L19","v":156827285.07111213}]
["MTREF Funded (1) / Unfunded (0)",null,15,{"$f":"IF(D136>=0,1,0)","v":0},{"$f":"IF(E136>=0,1,0)","v":0},0,0,1,1,1,1,1,1]
["MTREF Funded ü / Unfunded û",null,15,{"$f":"IF(D137=1,\"ü\",\"û\")","v":"û"},{"$f":"IF(E137=1,\"ü\",\"û\")","v":"û"},"û","û","ü","ü","ü","ü","ü","ü"]
[]
[{"$f":"head27a","v":"References"}]
["15. Subject to figures provided in Schedule."]

{"sheet":"SA11","index":30,"n_rows":73,"n_cols":11,"rows_kept":73,"cut":false,"hidden":false,"merged":[[1,5,1,7],[1,8,1,10],[1,1,3,1],[1,0,2,0]]}
[{"$f":"muni&\" - \"&TableA11","v":"DC12 Amathole - Supporting Table SA11 Property rates summary"}]
[{"$f":"desc","v":"Description"},{"$f":"head27","v":"Ref"},{"$f":"head1b","v":"2016/17"},{"$f":"head1A","v":"2017/18"},{"$f":"Head1","v":"2018/19"},{"$f":"Head2","v":"Current Year 2019/20"},null,null,{"$f":"Head3","v":"2020/21 Medium Term Revenue & Expenditure Framework"}]
[null,null,{"$f":"Head5","v":"Audited Outcome"},{"$f":"Head5","v":"Audited Outcome"},{"$f":"Head5","v":"Audited Outcome"},{"$f":"Head6","v":"Original Budget"},{"$f":"Head7","v":"Adjusted Budget"},{"$f":"Head8","v":"Full Year Forecast"},{"$f":"Head9","v":"Budget Year 2020/21"},{"$f":"Head10","v":"Budget Year +1 2021/22"},{"$f":"Head11","v":"Budget Year +2 2022/23"}]
[]
["Valuation:",1]
["Date of valuation:"]
["Financial year valuation used"]
["Municipal by-laws s6 in place? (Y/N)","2"]
["Municipal/assistant valuer appointed? (Y/N)"]
["Municipal partnership s38 used? (Y/N)"]
["No. of assistant valuers (FTE)",3]
["No. of data collectors (FTE)",3]
["No. of internal valuers (FTE)",3]
["No. of external valuers (FTE)",3]
["No. of additional valuers (FTE)",4]
["Valuation appeal board established? (Y/N)"]
["Implementation time of new valuation roll (mths)"]
["No. of properties",5]
["No. of sectional title values",5]
["No. of unreasonably difficult properties s7(2)"]
["No. of supplementary valuations"]
["No. of valuation roll amendments"]
["No. of objections by rate payers"]
["No. of appeals by rate payers"]
["No. of successful objections",8]
["No. of successful objections > 10%",8]
["Supplementary valuation"]
["Public service infrastructure value (Rm)",5]
["Municipality owned property value (Rm)"]
["Valuation reductions:"]
["Valuation reductions-public infrastructure (Rm)"]
["Valuation reductions-nature reserves/park (Rm)"]
["Valuation reductions-mineral rights (Rm)"]
["Valuation reductions-R15,000 threshold (Rm)"]
["Valuation reductions-public worship (Rm)"]
["Valuation reductions-other (Rm)"]
["Total valuation reductions:",null,{"$f":"SUM(C31:C36)","v":0},{"$f":"SUM(D31:D36)","v":0},0,0,0,0,0,0,0]
["Total value used for rating (Rm)",5]
["Total land value (Rm)",5]
["Total value of improvements (Rm)",5]
["Total market value (Rm)",5]
[]
["Rating:"]
["Residential rate used to determine rate for other categories? (Y/N)"]
["Differential rates used? (Y/N)",5]
["Limit on annual rate increase (s20)? (Y/N)"]
["Special rating area used? (Y/N)"]
["Phasing-in properties s21 (number)"]
["Rates policy accompanying budget? (Y/N)"]
["Fixed amount minimum value (R'000)"]
["Non-residential prescribed ratio s19? (%)"]
[]
["Rate revenue:"]
["Rate revenue budget (R '000)",6]
["Rate revenue expected to collect (R'000)",6]
["Expected cash collection rate (%)"]
["Special rating areas (R'000)",7]
["Rebates, exemptions - indigent (R'000)"]
["Rebates, exemptions - pensioners (R'000)"]
["Rebates, exemptions - bona fide farm. (R'000)"]
["Rebates, exemptions - other (R'000)"]
["Phase-in reductions/discounts (R'000)"]
["Total rebates,exemptns,reductns,discs (R'000)",null,{"$f":"SUM(C58:C62)","v":0},{"$f":"SUM(D58:D62)","v":0},0,0,0,0,0,0,0]
[]
[{"$f":"head27a","v":"References"}]
["1. All numbers to be expressed as whole numbers except FTEs and Rates in the Rand"]
["2. To give effect to rates policy"]
["3. Full Time Equivalent (FTE)  should be expressed to one decimal place and takes into account full time and part time staff"]
["4. Required to implement new system (FTE)"]
["5. Provide relevant information for historical comparisons. Must reconcile to the total of Table SA12"]
[{"$f":"\"6. Current and budget year must reconcile to \"&'Template names'!F103","v":"6. Current and budget year must reconcile to Table A4 Budgeted Financial Performance (revenue and expenditure)"}]
["7. Included in rate revenue budget"]
["8. In favour of the rate-payer"]

{"sheet":"SA12a","index":31,"n_rows":56,"n_cols":19,"rows_kept":56,"cut":false,"hidden":false,"merged":[]}
[{"$f":"muni&\" - \"&TableA12a","v":"DC12 Amathole - Supporting Table SA12a Property rates by category (current year)"}]
[{"$f":"desc","v":"Description"},{"$f":"head27","v":"Ref"},"Resi.","Indust.","Bus. & Comm.","Farm props.","State-owned ","Muni props.","Public service infra.","Private owned towns","Formal & Informal Settle.","Comm. Land","State trust land","Section 8(2)(n) (note 1)","Protect. Areas","National Monum/ts","Public benefit organs.","Mining Props."]
[{"$f":"Head2","v":"Current Year 2019/20"}]
["Valuation:"]
["No. of properties"]
["No. of sectional title property values"]
["No. of unreasonably difficult properties s7(2)"]
["No. of supplementary valuations"]
["Supplementary valuation (Rm)"]
["No. of valuation roll amendments"]
["No. of objections by rate-payers"]
["No. of appeals by rate-payers"]
["No. of appeals by rate-payers finalised"]
["No. of successful objections",5]
["No. of successful objections > 10%",5]
["Estimated no. of properties not valued"]
["Years since last valuation (select)"]
["Frequency of valuation (select)"]
["Method of valuation used (select)"]
["Base of valuation (select)"]
["Phasing-in properties s21 (number)"]
["Combination of rating types used? (Y/N)"]
["Flat rate used? (Y/N)"]
["Is balance rated by uniform rate/variable rate?"]
["Valuation reductions:"]
["Valuation reductions-public infrastructure (Rm)"]
["Valuation reductions-nature reserves/park (Rm)"]
["Valuation reductions-mineral rights (Rm)"]
["Valuation reductions-R15,000 threshold (Rm)"]
["Valuation reductions-public worship (Rm)"]
["Valuation reductions-other (Rm)",2]
["Total valuation reductions:"]
["Total value used for rating (Rm)",6]
["Total land value (Rm)",6]
["Total value of improvements (Rm)",6]
["Total market value (Rm)",6]
["Rating:"]
["Average rate",3]
["Rate revenue budget (R '000)",null,null,null,null,null,null,null,null,null,null,null,null,null,null,null,null,null,{"$f":"SUM(C39:R39)","v":0}]
["Rate revenue expected to collect (R'000)",null,null,null,null,null,null,null,null,null,null,null,null,null,null,null,null,null,{"$f":"SUM(C40:R40)","v":0}]
["Expected cash collection rate (%)",4]
["Special rating areas (R'000)"]
["Rebates, exemptions - indigent (R'000)"]
["Rebates, exemptions - pensioners (R'000)"]
["Rebates, exemptions - bona fide farm. (R'000)"]
["Rebates, exemptions - other (R'000)"]
["Phase-in reductions/discounts (R'000)"]
["Total rebates,exemptns,reductns,discs (R'000)"]
[]
[{"$f":"head27a","v":"References"}]
["1. Land & Assistance Act, Restitution of Land Rights, Communual Property Associations"]
["2. Include value of additional reductions is 'free' value greater than MPRA minimum."]
["3. Average rate - cents in  the Rand. Eg 10.26 cents in the Rand is 0.1026, expressed to 6 decimal places maximum"]
["4. Include arrears collections"]
["5. In favour of the rate-payer"]
["6. Provide relevant information for historical comparisons."]

{"sheet":"SA12b","index":32,"n_rows":56,"n_cols":19,"rows_kept":56,"cut":false,"hidden":false,"merged":[]}
[{"$f":"muni&\" - \"&TableA12b","v":"DC12 Amathole - Supporting Table SA12b Property rates by category (budget year)"}]
[{"$f":"desc","v":"Description"},{"$f":"head27","v":"Ref"},"Resi.","Indust.","Bus. & Comm.","Farm props.","State-owned ","Muni props.","Public service infra.","Private owned towns","Formal & Informal Settle.","Comm. Land","State trust land","Section 8(2)(n) (note 1)","Protect. Areas","National Monum/ts","Public benefit organs.","Mining Props."]
[{"$f":"Head9","v":"Budget Year 2020/21"}]
["Valuation:"]
["No. of properties"]
["No. of sectional title property values"]
["No. of unreasonably difficult properties s7(2)"]
["No. of supplementary valuations"]
["Supplementary valuation (Rm)"]
["No. of valuation roll amendments"]
["No. of objections by rate-payers"]
["No. of appeals by rate-payers"]
["No. of appeals by rate-payers finalised"]
["No. of successful objections",5]
["No. of successful objections > 10%",5]
["Estimated no. of properties not valued"]
["Years since last valuation (select)"]
["Frequency of valuation (select)"]
["Method of valuation used (select)"]
["Base of valuation (select)"]
["Phasing-in properties s21 (number)"]
["Combination of rating types used? (Y/N)"]
["Flat rate used? (Y/N)"]
["Is balance rated by uniform rate/variable rate?"]
["Valuation reductions:"]
["Valuation reductions-public infrastructure (Rm)"]
["Valuation reductions-nature reserves/park (Rm)"]
["Valuation reductions-mineral rights (Rm)"]
["Valuation reductions-R15,000 threshold (Rm)"]
["Valuation reductions-public worship (Rm)"]
["Valuation reductions-other (Rm)",2]
["Total valuation reductions:"]
["Total value used for rating (Rm)",6]
["Total land value (Rm)",6]
["Total value of improvements (Rm)",6]
["Total market value (Rm)",6]
["Rating:"]
["Average rate",3]
["Rate revenue budget (R '000)",null,null,null,null,null,null,null,null,null,null,null,null,null,null,null,null,null,{"$f":"SUM(C39:R39)","v":0}]
["Rate revenue expected to collect (R'000)",null,null,null,null,null,null,null,null,null,null,null,null,null,null,null,null,null,{"$f":"SUM(C40:R40)","v":0}]
["Expected cash collection rate (%)",4]
["Special rating areas (R'000)"]
["Rebates, exemptions - indigent (R'000)"]
["Rebates, exemptions - pensioners (R'000)"]
["Rebates, exemptions - bona fide farm. (R'000)"]
["Rebates, exemptions - other (R'000)"]
["Phase-in reductions/discounts (R'000)"]
["Total rebates,exemptns,reductns,discs (R'000)"]
[]
[{"$f":"head27a","v":"References"}]
["1. Land & Assistance Act, Restitution of Land Rights, Communual Property Associations"]
["2. Include value of additional reductions is 'free' value greater than MPRA minimum."]
["3. Average rate - cents in  the Rand. Eg 10.26 cents in the Rand is 0.1026, expressed to 6 decimal places maximum"]
["4. Include arrears collections"]
["5. In favour of the rate-payer"]
["6. Provide relevant information for historical comparisons."]

{"sheet":"SA13a","index":33,"n_rows":91,"n_cols":19,"rows_kept":91,"cut":false,"hidden":false,"merged":[[94,6,95,6],[94,0,95,0],[94,1,95,1],[94,2,95,2],[94,3,95,3],[94,4,95,4],[94,5,95,5],[1,6,2,6],[1,0,2,0],[1,1,2,1],[1,2,2,2],[1,3,2,3],[1,4,2,4],[1,5,2,5]]}
[{"$f":"muni&\" - \"&TableA13a","v":"DC12 Amathole - Supporting Table SA13a Service Tariffs by category"}]
[{"$f":"desc","v":"Description"},{"$f":"head27","v":"Ref"},"Provide description of tariff structure where appropriate",{"$f":"head1b","v":"2016/17"},{"$f":"head1A","v":"2017/18"},{"$f":"Head1","v":"2018/19"},{"$f":"Head2","v":"Current Year 2019/20"},{"$f":"Head3","v":"2020/21 Medium Term Revenue & Expenditure Framework"}]
[null,null,null,null,null,null,null,{"$f":"Head9","v":"Budget Year 2020/21"},{"$f":"Head10","v":"Budget Year +1 2021/22"},{"$f":"Head11","v":"Budget Year +2 2022/23"}]
["Property rates (rate in the Rand)",1]
["Residential properties"]
["Residential properties - vacant land"]
["Formal/informal settlements"]
["Small holdings"]
["Farm properties - used"]
["Farm properties - not used"]
["Industrial properties"]
["Business and commercial properties"]
["Communal land - residential"]
["Communal land - small holdings"]
["Communal land - farm property"]
["Communal land - business and commercial"]
["Communal land - other"]
["State-owned properties"]
["Municipal properties"]
["Public service infrastructure"]
["Privately owned towns serviced by the owner"]
["State trust land"]
["Restitution and redistribution properties"]
["Protected areas"]
["National monuments properties"]
[]
["Exemptions, reductions and rebates (Rands)"]
["Residential properties"]
["R15 000 threshhold rebate",null,null,15000,15000,15000,15000,15000,15000,15000]
["General residential rebate"]
["Indigent rebate or exemption"]
["Pensioners/social grants rebate or exemption "]
["Temporary relief rebate or exemption"]
[" Bona fide farmers rebate or exemption"]
["Other rebates or exemptions",2]
[]
["Water tariffs"]
["Domestic"]
["Basic charge/fixed fee (Rands/month)",null,"Water availability fee",45.59,48.37321012128001,55.484072009108175,58.81,62.341903309433953,{"$f":"H39*1.06","v":66.082417507999992},70.047362558479989,null,null,null,null,null,null,null,null,{"$f":"SUM(C39:R39)","v":406.72896550630219}]
["Service point - vacant land (Rands/month)",null,"availability fee vacant plot",45.59,48.371626599999999,55.4822557102,58.81,62.339862515980727,66.080254266939576,70.045069522955956,null,null,null,null,null,null,null,null,{"$f":"SUM(C40:R40)","v":406.71906861607624}]
["Water usage - flat rate tariff (c/kl)",null,"Flat rate",85.47,85.559039999999996,98.136218880000001,110.27,116.88180686558211,123.89471527751704,131.32839819416807]
["Water usage - life line tariff",null,"(describe structure)"]
["Water usage - Block 1 (c/kl)",null,"0-6 kl",1424,1511,1733,1837,1947,{"$f":"H43*1.06","v":2063.8200000000002},2187.6492000000003]
["Water usage - Block 2 (c/kl)",null,"7-15 kl",1898,2014,2310,2448,2596,2751.76,2916.8656000000005]
["Water usage - Block 3 (c/kl)",null,"16-25 kl",2373,2518,2888,3061,3246,3440.76,3647.2056000000002]
["Water usage - Block 4 (c/kl)",null,"26-40 kl",2848,3023,3467,3675,3896,4129.76,4377.5456000000004]
["Water usage - Block 5 (c/kl)",2,"41-500 kl",3086,3274,3755,3980,4220,4473.2,4741.5919999999996]
["Water usage - Block 6 (c/kl)",null,">501",null,null,null,4287,4544,4816.6400000000003,5105.6384000000007]
[]
["Waste water tariffs"]
["Domestic"]
["Basic charge/fixed fee (Rands/month)",null,"Basic Charge",173.26,173.42579302624,198.91938460109728,211,223.50582053779291,{"$f":"H52*1.06","v":236.91616977006049},{"$f":"I52*1.06","v":251.13113995626412}]
["Service point - vacant land (Rands/month)",null,"Availability Fee Vacant Erven",87.05,87.13,99.94,105.93,112.29034046983988,{"$f":"H53*1.06","v":119.02776089803028},{"$f":"I53*1.06","v":126.16942655191211}]
["Waste water - flat rate tariff (c/kl)"]
["Volumetric charge - Block 1 (c/kl)"]
["Volumetric charge - Block 2 (c/kl)"]
["Volumetric charge - Block 3 (c/kl)"]
["Volumetric charge - Block 4 (c/kl)"]
["Other",2]
[]
["Electricity tariffs"]
["Domestic"]
["Basic charge/fixed fee (Rands/month)"]
["Service point - vacant land (Rands/month)"]
["FBE",null,"(how is this targeted?)"]
["Life-line tariff - meter",null,"(describe structure)"]
["Life-line tariff - prepaid",null,"(describe structure)"]
["Flat rate tariff - meter (c/kwh)"]
["Flat rate tariff - prepaid(c/kwh)"]
["Meter - IBT Block 1 (c/kwh)",null,"(fill in thresholds)"]
["Meter - IBT Block 2 (c/kwh)",null,"(fill in thresholds)"]
["Meter - IBT Block 3 (c/kwh)",null,"(fill in thresholds)"]
["Meter - IBT Block 4 (c/kwh)",null,"(fill in thresholds)"]
["Meter - IBT Block 5 (c/kwh)",null,"(fill in thresholds)"]
["Prepaid - IBT Block 1 (c/kwh)",null,"(fill in thresholds)"]
["Prepaid - IBT Block 2 (c/kwh)",null,"(fill in thresholds)"]
["Prepaid - IBT Block 3 (c/kwh)",null,"(fill in thresholds)"]
["Prepaid - IBT Block 4 (c/kwh)",null,"(fill in thresholds)"]
["Prepaid - IBT Block 5 (c/kwh)",null,"(fill in thresholds)"]
["Other",2]
[]
["Waste management tariffs"]
["Domestic"]
["Street cleaning charge"]
["Basic charge/fixed fee"]
["80l bin - once a week"]
["250l bin - once a week"]
[]
[{"$f":"head27a","v":"References"}]
["1. If properties are not rated or zero rated this must be indicated as such"]
["2.Please provide detailed descriptions on Sheet SA13b"]

{"sheet":"SA13b","index":34,"n_rows":50,"n_cols":19,"rows_kept":50,"cut":false,"hidden":false,"merged":[[94,0,95,0],[1,0,2,0],[1,1,2,1],[1,2,2,2],[1,3,2,3],[94,1,95,1],[94,2,95,2],[94,3,95,3],[94,5,95,5],[94,6,95,6],[1,6,2,6],[1,5,2,5],[1,4,2,4],[94,4,95,4]]}
[{"$f":"muni&\" - \"&TableA13b","v":"DC12 Amathole - Supporting Table SA13b Service Tariffs by category - explanatory"}]
[{"$f":"desc","v":"Description"},{"$f":"head27","v":"Ref"},"Provide description of tariff structure where appropriate",{"$f":"head1b","v":"2016/17"},{"$f":"head1A","v":"2017/18"},{"$f":"Head1","v":"2018/19"},{"$f":"Head2","v":"Current Year 2019/20"},{"$f":"Head3","v":"2020/21 Medium Term Revenue & Expenditure Framework"}]
[null,null,null,null,null,null,null,{"$f":"Head9","v":"Budget Year 2020/21"},{"$f":"Head10","v":"Budget Year +1 2021/22"},{"$f":"Head11","v":"Budget Year +2 2022/23"}]
["Exemptions, reductions and rebates (Rands)"]
["[Insert lines as applicable]"]
[]
[]
[]
[]
[]
[]
[]
[]
["Water tariffs"]
["Basic Charge",null,"Water availability fee",45.59,48.37321012128001,55.484072009108175,58.813116329654669,62.341903309433953,66.082417507999992,70.047362558479989]
["Flat Rate",null,"Flat rate",45.59,48.371626599999999,55.4822557102,58.811191052812006,62.339862515980727,66.080254266939576,70.045069522955956]
["Vacant Plot",null,"Vacant plot availability fee ",85.47,85.559039999999996,98.136218880000001,104.02439201280001,116.88180686558211,123.89471527751704,131.32839819416807]
[null,null,null,null,null,null,0]
["Water Usage #1",null,"0-6 kl",14.24,15.11,17.33117,18.371040199999999,1947,2063.8200000000002,2187.6492000000003]
["Water Usage #2",null,"7-15 kl",18.98,20.14,23.100580000000001,24.486614800000002,2596,2751.76,2916.8656000000005]
["Water Usage #3",null,"16-25 kl",23.73,25.18,28.881460000000001,30.614347600000002,3246,3440.76,3647.2056000000002]
["Water Usage #4",null,"26-40 kl",28.48,30.23,34.673810000000003,36.754238600000008,3896,4129.76,4377.5456000000004]
["Water Usage #5",null,"41-500 kl",30.86,32.74,37.552780000000006,39.805946800000008,4220,4473.2,4741.5919999999996]
["Water Usage #6",null,">501 kl",33.229999999999997,35.223799999999997,40.44,42.866399999999999,4544,4816.6400000000003,5105.6384000000007]
[]
["Waste water tariffs"]
["Availability Fee Vacant Erven",null,"Availability Fee Vacant Erven",173.26,173.42579302624,198.91938460109728,211,223.50582053779291,236.91616977006049,251.13113995626412]
["Residential Domestic User",null,"Residential Domestic User",87.05,99.94,105.93,112,112.29034046983988,119.02776089803028,126.16942655191211]
["Indigent",null,"Indigent",163.45503584000002,173.42579302624,198.91938460109728,211,223.50582053779291,{"$f":"H29*1.06","v":236.91616977006049},251.13113995626412]
["Commercial and Business",null,"Commercial and Business",463.1384817600001,491.38992914736008,563.62424873202201,597.44170365594334,633.28820587529992,671.28549822781792,711.56262812148702]
["Industrial and Agriculture",null,"Industrial and Agriculture",2299.3754896,2439.6373944655998,2798.264091452043,2966.1599369391656,3144.1295331555157,3332.7773051448467,3532.7439434535377]
["Instituitions",null,"Instituitions",1920.6800422400004,2037.8415248166402,2337.4042289646864,2477.2199999999998,2626.3073916647218,2783.8858351646054,2950.9189852744817]
[]
[]
[]
[]
["Electricity tariffs"]
["[Insert blocks as applicable]",null,"(fill in thresholds)"]
[null,null,"(fill in thresholds)",null,null,null,null,null,null,null,null,null,null,null,null,null,null,null,{"$f":"SUM(C39:R39)","v":0}]
[null,null,"(fill in thresholds)",null,null,null,null,null,null,null,null,null,null,null,null,null,null,null,{"$f":"SUM(C40:R40)","v":0}]
[null,null,"(fill in thresholds)"]
[null,null,"(fill in thresholds)"]
[null,null,"(fill in thresholds)"]
[null,null,"(fill in thresholds)"]
[null,null,"(fill in thresholds)"]
[null,null,"(fill in thresholds)"]
[null,null,"(fill in thresholds)"]
[null,null,"(fill in thresholds)"]
[null,null,"(fill in thresholds)"]
[null,null,"(fill in thresholds)"]

{"sheet":"SA14","index":35,"n_rows":54,"n_cols":12,"rows_kept":54,"cut":false,"hidden":false,"merged":[[1,1,3,1],[1,5,1,7],[1,0,2,0]]}
[{"$f":"muni&\" - \"&TableA14","v":"DC12 Amathole - Supporting Table SA14 Household bills"}]
[{"$f":"desc","v":"Description"},{"$f":"head27","v":"Ref"},{"$f":"head1b","v":"2016/17"},{"$f":"head1A","v":"2017/18"},{"$f":"Head1","v":"2018/19"},{"$f":"Head2","v":"Current Year 2019/20"},null,null,{"$f":"Head3","v":"2020/21 Medium Term Revenue & Expenditure Framework"}]
[null,null,{"$f":"Head5","v":"Audited Outcome"},{"$f":"Head5","v":"Audited Outcome"},{"$f":"Head5","v":"Audited Outcome"},{"$f":"Head6","v":"Original Budget"},{"$f":"Head7","v":"Adjusted Budget"},{"$f":"Head8","v":"Full Year Forecast"},{"$f":"Head9","v":"Budget Year 2020/21"},{"$f":"Head9","v":"Budget Year 2020/21"},{"$f":"Head10","v":"Budget Year +1 2021/22"},{"$f":"Head11","v":"Budget Year +2 2022/23"}]
["Rand/cent",null,null,null,null,null,null,null,"% incr."]
["Monthly Account for Household - 'Middle Income Range'",1]
["Rates and services charges:"]
["Property rates"]
["Electricity: Basic levy"]
["Electricity: Consumption"]
["Water: Basic levy",null,46,48,55.055999999999997,58.359360000000002,58.359360000000002,58.359360000000002,0.06,62.341903309433953,{"$f":"J10*1.06","v":66.082417507999992},70.047362558479989]
["Water: Consumption",null,161.36000000000001,171.22,196.38934,208.17270040000002,208.17270040000002,208.17270040000002,0.06,1168.6664005969121,1238.7863846327268,1313.1135677106904]
["Sanitation",null,163,173,198.43100000000001,210.33686000000003,210.33686000000003,210.33686000000003,0.06,223.50582053779291,236.91616977006049,251.13113995626412]
["Refuse removal"]
["Other",null,18.91,20.07,23.020289999999999,24.4015074,24.4015074,24.4015074,null,25.861792699942821,{"$f":"J14*1.06","v":27.413500261939394},{"$f":"K14*1.06","v":29.05831027765576}]
["sub-total",null,{"$f":"SUM(C7:C14)","v":389.27000000000004},{"$f":"SUM(D7:D14)","v":412.29},{"$f":"SUM(E7:E14)","v":472.89663000000002},{"$f":"SUM(F7:F14)","v":501.27042780000011},{"$f":"SUM(G7:G14)","v":501.27042780000011},501.27042780000011,{"$f":"IF(ISERROR(ROUND((J15-F15)/F15,3)),0,(ROUND((J15-F15)/F15,3)))","v":1.9530000000000001},1480.3759171440818,1569.1984721727265,1663.3503805030903]
["VAT on Services"]
["Total large household bill:",null,{"$f":"SUM(C15:C16)","v":389.27000000000004},{"$f":"SUM(D15:D16)","v":412.29},{"$f":"SUM(E15:E16)","v":472.89663000000002},{"$f":"SUM(F15:F16)","v":501.27042780000011},{"$f":"SUM(G15:G16)","v":501.27042780000011},501.27042780000011,{"$f":"IF(ISERROR(ROUND((J17-F17)/F17,3)),0,(ROUND((J17-F17)/F17,3)))","v":1.9530000000000001},1480.3759171440818,1569.1984721727265,1663.3503805030903]
["% increase/-decrease",null,null,{"$f":"IF(ISERROR((D17/C17)-1),0,((D17/C17)-1))","v":5.9136332108818968E-2},{"$f":"IF(ISERROR((E17/D17)-1),0,((E17/D17)-1))","v":0.14700000000000002},{"$f":"IF(ISERROR((F17/E17)-1),0,((F17/E17)-1))","v":6.0000000000000275E-2},{"$f":"IF(ISERROR((G17/F17)-1),0,((G17/F17)-1))","v":0},{"$f":"IF(ISERROR((H17/G17)-1),0,((H17/G17)-1))","v":0},null,{"$f":"IF(ISERROR((J17/H17)-1),0,((J17/H17)-1))","v":1.95324805742327},{"$f":"IF(ISERROR((K17/J17)-1),0,((K17/J17)-1))","v":5.9999999999999831E-2},{"$f":"IF(ISERROR((L17/K17)-1),0,((L17/K17)-1))","v":6.0000000000000053E-2}]
[]
["Monthly Account for Household - 'Affordable Range' ",2]
[{"$f":"A6","v":"Rates and services charges:"}]
[{"$f":"A7","v":"Property rates"}]
["Electricity: Basic levy"]
["Electricity: Consumption"]
["Water: Basic levy",null,46,48,55.055999999999997,58.359360000000002,58.359360000000002,58.359360000000002,0.06,62.341903309433953,66.082417507999992,70.047362558479989]
["Water: Consumption",null,161.36000000000001,171.22,196.38934,208.17270040000002,208.17270040000002,208.17270040000002,0.06,811.43817460620335,{"$f":"J26*1.06","v":860.12446508257563},{"$f":"K26*1.06","v":911.73193298753017}]
["Sanitation",null,163,173,198.43100000000001,210.33686000000003,210.33686000000003,210.33686000000003,0.06,223.50582053779291,236.91616977006049,251.13113995626412]
["Refuse removal"]
["Other",null,18.91,20.07,23.020289999999999,24.4015074,24.4015074,24.4015074,0.06,25.861792699942821,27.413500261939394,29.05831027765576]
["sub-total",null,{"$f":"SUM(C22:C29)","v":389.27000000000004},412.29,472.89663000000002,501.27042780000011,501.27042780000011,501.27042780000011,{"$f":"IF(ISERROR(ROUND((J30-F30)/F30,3)),0,(ROUND((J30-F30)/F30,3)))","v":1.2410000000000001},{"$f":"SUM(J22:J29)","v":1123.147691153373},{"$f":"SUM(K22:K29)","v":1190.5365526225753},{"$f":"SUM(L22:L29)","v":1261.96874577993}]
["VAT on Services"]
["Total small household bill:",null,{"$f":"SUM(C30:C31)","v":389.27000000000004},412.29,472.89663000000002,501.27042780000011,501.27042780000011,501.27042780000011,{"$f":"IF(ISERROR(ROUND((J32-F32)/F32,3)),0,(ROUND((J32-F32)/F32,3)))","v":1.2410000000000001},{"$f":"SUM(J30:J31)","v":1123.147691153373},{"$f":"SUM(K30:K31)","v":1190.5365526225753},{"$f":"SUM(L30:L31)","v":1261.96874577993}]
["% increase/-decrease",null,null,{"$f":"IF(ISERROR((D32/C32)-1),0,((D32/C32)-1))","v":5.9136332108818968E-2},{"$f":"IF(ISERROR((E32/D32)-1),0,((E32/D32)-1))","v":0.14700000000000002},{"$f":"IF(ISERROR((F32/E32)-1),0,((F32/E32)-1))","v":6.0000000000000275E-2},{"$f":"IF(ISERROR((G32/F32)-1),0,((G32/F32)-1))","v":0},{"$f":"IF(ISERROR((H32/G32)-1),0,((H32/G32)-1))","v":0},null,{"$f":"IF(ISERROR((J32/H32)-1),0,((J32/H32)-1))","v":1.2406023353156854},{"$f":"IF(ISERROR((K32/J32)-1),0,((K32/J32)-1))","v":5.9999999999999831E-2},{"$f":"IF(ISERROR((L32/K32)-1),0,((L32/K32)-1))","v":6.0000000000000275E-2}]
[null,null,null,null,{"$f":"IF(ISERROR((E33/D33)-1),0,((E33/D33)-1))","v":1.4857814943527416},{"$f":"IF(ISERROR((F33/E33)-1),0,((F33/E33)-1))","v":-0.59183673469387577},{"$f":"IF(ISERROR((G33/F33)-1),0,((G33/F33)-1))","v":-1},{"$f":"IF(ISERROR((H33/G33)-1),0,((H33/G33)-1))","v":0}]
["Monthly Account for Household - 'Indigent' Household receiving free basic services",3]
[{"$f":"A6","v":"Rates and services charges:"}]
[{"$f":"A7","v":"Property rates"},null,null,null,null,null,null,null,{"$f":"IF(J37>0,ROUND((J37-F37)/F37,3),\"\")","v":""}]
["Electricity: Basic levy",null,null,null,null,null,null,null,{"$f":"IF(J38>0,ROUND((J38-F38)/F38,3),\"\")","v":""}]
["Electricity: Consumption",null,null,null,null,null,null,null,""]
["Water: Basic levy",null,46,48,55.055999999999997,58.359360000000002,58.359360000000002,58.359360000000002,6.8000000000000005E-2,62.341903309433953,66.082417507999992,70.047362558479989]
["Water: Consumption",null,161.36000000000001,171.22,196.38934,208.17270040000002,208.17270040000002,208.17270040000002,0.746,363.43310194705532,{"$f":"J41*1.06","v":385.23908806387868},{"$f":"K41*1.06","v":408.35343334771142}]
["Sanitation",null,163,173,198.43100000000001,210.33686000000003,210.33686000000003,210.33686000000003,6.3E-2,223.50582053779291,{"$f":"J42*1.06","v":236.91616977006049},236.91616977006049]
["Refuse removal",null,null,null,null,null,null,null,""]
["Other",null,18.91,20.07,23.020289999999999,24.4015074,24.4015074,24.4015074,""]
["sub-total",null,{"$f":"SUM(C37:C44)","v":389.27000000000004},{"$f":"SUM(D37:D44)","v":412.29},{"$f":"SUM(E37:E44)","v":472.89663000000002},{"$f":"SUM(F37:F44)","v":501.27042780000011},{"$f":"SUM(G37:G44)","v":501.27042780000011},501.27042780000011,{"$f":"IF(ISERROR(ROUND((J45-F45)/F45,3)),0,(ROUND((J45-F45)/F45,3)))","v":0.29499999999999998},649.28082579428224,688.23767534193917,715.31696567625193]
["VAT on Services",null,null,null,null,null,null,null,{"$f":"IF(J46>0,I13ROUND((J46-F46)/F46,3),\"\")","v":""}]
["Total small household bill:",null,{"$f":"SUM(C45:C46)","v":389.27000000000004},{"$f":"SUM(D45:D46)","v":412.29},{"$f":"SUM(E45:E46)","v":472.89663000000002},{"$f":"SUM(F45:F46)","v":501.27042780000011},{"$f":"SUM(G45:G46)","v":501.27042780000011},501.27042780000011,{"$f":"IF(ISERROR(ROUND((J47-F47)/F47,3)),0,(ROUND((J47-F47)/F47,3)))","v":0.29499999999999998},649.28082579428224,688.23767534193917,715.31696567625193]
[{"$f":"A18","v":"% increase/-decrease"},null,null,{"$f":"IF(ISERROR((D47/C47)-1),0,((D47/C47)-1))","v":5.9136332108818968E-2},{"$f":"IF(ISERROR((E47/D47)-1),0,((E47/D47)-1))","v":0.14700000000000002},{"$f":"IF(ISERROR((F47/E47)-1),0,((F47/E47)-1))","v":6.0000000000000275E-2},{"$f":"IF(ISERROR((G47/F47)-1),0,((G47/F47)-1))","v":0},{"$f":"IF(ISERROR((H47/G47)-1),0,((H47/G47)-1))","v":0},null,{"$f":"IF(ISERROR((J47/H47)-1),0,((J47/H47)-1))","v":0.29527055614247444},{"$f":"IF(ISERROR((K47/J47)-1),0,((K47/J47)-1))","v":6.0000000000000053E-2},{"$f":"IF(ISERROR((L47/K47)-1),0,((L47/K47)-1))","v":3.9345841276211546E-2}]
[]
[{"$f":"head27a","v":"References"}]
["1. Use as basis property value of R700 000, 1 000 kWh electricity and 30kl water"]
["2. Use as basis property value  of R500 000 and R700 000, 500 kWh electricity and 25kl water"]
["3. Use as basis property value of R 300 000, 350kWh electricity and 20kl water (50 kWh electricity and 6 kl water free)"]
["4. Note this is for a SINGLE household."]

{"sheet":"SA15","index":36,"n_rows":36,"n_cols":11,"rows_kept":36,"cut":false,"hidden":false,"merged":[[1,5,1,7],[1,8,1,10],[1,1,3,1],[1,0,2,0]]}
[{"$f":"muni&\" - \"&TableA15","v":"DC12 Amathole - Supporting Table SA15 Investment particulars by type"}]
["Investment type",{"$f":"head27","v":"Ref"},{"$f":"head1b","v":"2016/17"},{"$f":"head1A","v":"2017/18"},{"$f":"Head1","v":"2018/19"},{"$f":"Head2","v":"Current Year 2019/20"},null,null,{"$f":"Head3","v":"2020/21 Medium Term Revenue & Expenditure Framework"}]
[null,null,{"$f":"Head5","v":"Audited Outcome"},{"$f":"Head5","v":"Audited Outcome"},{"$f":"Head5","v":"Audited Outcome"},{"$f":"Head6","v":"Original Budget"},{"$f":"Head7","v":"Adjusted Budget"},{"$f":"Head8","v":"Full Year Forecast"},{"$f":"Head9","v":"Budget Year 2020/21"},{"$f":"Head10","v":"Budget Year +1 2021/22"},{"$f":"Head11","v":"Budget Year +2 2022/23"}]
["R thousand"]
["Parent municipality"]
["Securities - National Government"]
["Listed Corporate Bonds"]
["Deposits - Bank",null,28030533,27171137,27330712,29000000,2137128.77,2137128.77,2137128.77,2137128.77,2137128.77]
["Deposits - Public Investment Commissioners"]
["Deposits - Corporation for Public Deposits"]
["Bankers Acceptance Certificates"]
["Negotiable Certificates of Deposit - Banks"]
["Guaranteed Endowment Policies (sinking)"]
["Repurchase Agreements - Banks"]
["Municipal Bonds"]
[]
["Municipality sub-total",1,{"$f":"SUM(C6:C15)","v":28030533},27171137,27330712,29000000,2137128.77,2137128.77,2137128.77,2137128.77,2137128.77]
[]
["Entities"]
[{"$f":"A6","v":"Securities - National Government"}]
[{"$f":"A7","v":"Listed Corporate Bonds"}]
["Deposits - Bank"]
["Deposits - Public Investment Commissioners"]
["Deposits - Corporation for Public Deposits"]
["Bankers Acceptance Certificates"]
["Negotiable Certificates of Deposit - Banks"]
["Guaranteed Endowment Policies (sinking)"]
["Repurchase Agreements - Banks"]
[]
["Entities sub-total",null,{"$f":"SUM(C20:C29)","v":0},0,0,0,0,0,0,0,0]
[]
["Consolidated total:",null,{"$f":"C17+C30","v":28030533},27171137,27330712,29000000,2137128.77,2137128.77,2137128.77,2137128.77,2137128.77]
[]
[{"$f":"head27a","v":"References"}]
["1. Total investments must reconcile to Budgeted Financial Position ('current' call investment deposits plus 'non-current' investments)"]
["check investment balance",null,{"$f":"C17-'A6-FinPos'!C7-'A6-FinPos'!C16","v":28030533},{"$f":"D17-'A6-FinPos'!D7-'A6-FinPos'!D16","v":-8760682.9899999946},{"$f":"E17-'A6-FinPos'!E7-'A6-FinPos'!E16","v":-9772701.4899999946},{"$f":"F17-'A6-FinPos'!F7-'A6-FinPos'!F16","v":27000000},{"$f":"G17-'A6-FinPos'!G7-'A6-FinPos'!G16","v":0},{"$f":"H17-'A6-FinPos'!H7-'A6-FinPos'!H16","v":0},{"$f":"I17-'A6-FinPos'!J7-'A6-FinPos'!J16","v":0},{"$f":"J17-'A6-FinPos'!K7-'A6-FinPos'!K16","v":0},{"$f":"K17-'A6-FinPos'!L7-'A6-FinPos'!L16","v":0}]

{"sheet":"SA16","index":37,"n_rows":32,"n_cols":15,"rows_kept":32,"cut":false,"hidden":false,"merged":[[1,3,2,3],[1,9,2,9],[2,10,2,14]]}
[{"$f":"muni&\" - \"&TableA16","v":"DC12 Amathole - Supporting Table SA16 Investment particulars by maturity"}]
["Investments by Maturity",{"$f":"head27","v":"Ref"},"Period of Investment","Type of Investment","Capital Guarantee\n(Yes/ No)","Variable or Fixed interest rate","Interest Rate ᶟ","Commission Paid (Rands)","Commission Recipient","Expiry date of investment","Opening balance","Interest to be realised","Partial / Premature Withdrawal (4)","Investment Top Up","Closing Balance"]
["Name of institution & investment ID",1,"Yrs/Months"]
["Parent municipality"]
["Investec",null,12,"Call Account","No","Variable",8.5999999999999993E-2,null,null,"30/06/2021",2137128.77,null,null,null,{"$f":"SUM(K5:N5)","v":2137128.77}]
[null,null,null,null,null,null,null,null,null,null,null,null,null,null,{"$f":"SUM(K6:N6)","v":0}]
[null,null,null,null,null,null,null,null,null,null,null,null,null,null,0]
[null,null,null,null,null,null,null,null,null,null,null,null,null,null,0]
[null,null,null,null,null,null,null,null,null,null,null,null,null,null,0]
[null,null,null,null,null,null,null,null,null,null,null,null,null,null,0]
[null,null,null,null,null,null,null,null,null,null,null,null,null,null,0]
["Municipality sub-total",null,null,null,null,null,null,null,null,null,{"$f":"SUM(K5:K11)","v":2137128.77},null,{"$f":"SUM(M5:M11)","v":0},{"$f":"SUM(N5:N11)","v":0},{"$f":"SUM(O5:O11)","v":2137128.77}]
[]
["Entities"]
[null,null,null,null,null,null,null,null,null,null,null,null,null,null,{"$f":"SUM(K15:N15)","v":0}]
[null,null,null,null,null,null,null,null,null,null,null,null,null,null,{"$f":"SUM(K16:N16)","v":0}]
[null,null,null,null,null,null,null,null,null,null,null,null,null,null,0]
[null,null,null,null,null,null,null,null,null,null,null,null,null,null,0]
[null,null,null,null,null,null,null,null,null,null,null,null,null,null,0]
[null,null,null,null,null,null,null,null,null,null,null,null,null,null,0]
[null,null,null,null,null,null,null,null,null,null,null,null,null,null,0]
["Entities sub-total",null,null,null,null,null,null,null,null,null,{"$f":"SUM(K15:K21)","v":0},null,{"$f":"SUM(M15:M21)","v":0},{"$f":"SUM(N15:N21)","v":0},{"$f":"SUM(O15:O21)","v":0}]
[]
["TOTAL INVESTMENTS AND INTEREST",1,null,null,null,null,null,null,null,null,{"$f":"K12+K22","v":2137128.77},null,{"$f":"M12+M22","v":0},{"$f":"N12+N22","v":0},{"$f":"O12+O22","v":2137128.77}]
[]
[{"$f":"head27a","v":"References"}]
["1. Total investments must reconcile to all items in Table SA15 for the Current Year (30 June)"]
["2. List investments in expiry date order"]
["3. If 'variable' is selected in column F, input interest rate range"]
["4. Withdrawals to be entered as negative"]
["check"]
[null,null,null,null,null,null,null,null,null,null,null,null,"`"]

{"sheet":"SA17","index":38,"n_rows":71,"n_cols":45,"rows_kept":71,"cut":false,"hidden":false,"merged":[[1,5,1,7],[1,8,1,10]]}
[{"$f":"muni&\" - \"&TableA17","v":"DC12 Amathole - Supporting Table SA17 Borrowing"}]
["Borrowing - Categorised by type",{"$f":"head27","v":"Ref"},{"$f":"head1b","v":"2016/17"},{"$f":"head1A","v":"2017/18"},{"$f":"Head1","v":"2018/19"},{"$f":"Head2","v":"Current Year 2019/20"},null,null,{"$f":"Head3","v":"2020/21 Medium Term Revenue & Expenditure Framework"}]
["R thousand",null,{"$f":"Head5","v":"Audited Outcome"},{"$f":"Head5","v":"Audited Outcome"},{"$f":"Head5","v":"Audited Outcome"},{"$f":"Head6","v":"Original Budget"},{"$f":"Head7","v":"Adjusted Budget"},{"$f":"Head8","v":"Full Year Forecast"},{"$f":"Head9","v":"Budget Year 2020/21"},{"$f":"Head10","v":"Budget Year +1 2021/22"},{"$f":"Head11","v":"Budget Year +2 2022/23"}]
["Parent municipality"]
["Annuity and Bullet Loans"]
["Long-Term Loans (non-annuity)"]
["Local registered stock"]
["Instalment Credit"]
["Financial Leases",null,1301522,969301,2542682,327921.15638610558,2530490.5699999994,2530490.5699999994,{"$f":"2530490.57*1.045","v":2644362.6456499998},{"$f":"2530490.57*1.045","v":2644362.6456499998},{"$f":"2530490.57*1.045","v":2644362.6456499998}]
["PPP liabilities"]
["Finance Granted By Cap Equipment Supplier"]
["Marketable Bonds"]
["Non-Marketable Bonds"]
["Bankers Acceptances"]
["Financial derivatives"]
["Other Securities"]
["Municipality sub-total",1,{"$f":"SUM(C5:C16)","v":1301522},{"$f":"SUM(D5:D16)","v":969301},2542682,327921.15638610558,2530490.5699999994,2530490.5699999994,2644362.6456499998,2644362.6456499998,2644362.6456499998]
[]
["Entities"]
[{"$f":"A5","v":"Annuity and Bullet Loans"}]
["Long-Term Loans (non-annuity)"]
["Local registered stock"]
["Instalment Credit"]
["Financial Leases"]
["PPP liabilities"]
["Finance Granted By Cap Equipment Supplier"]
["Marketable Bonds"]
["Non-Marketable Bonds"]
["Bankers Acceptances"]
["Financial derivatives"]
["Other Securities"]
["Entities sub-total",1,{"$f":"SUM(C20:C31)","v":0},{"$f":"SUM(D20:D31)","v":0},0,0,0,0,0,0,0]
[]
["Total Borrowing",1,{"$f":"C17+C32","v":1301522},{"$f":"D17+D32","v":969301},2542682,327921.15638610558,2530490.5699999994,2530490.5699999994,2644362.6456499998,2644362.6456499998,2644362.6456499998]
[]
["Unspent Borrowing - Categorised by type"]
["Parent municipality"]
["Long-Term Loans (annuity/reducing balance)"]
["Long-Term Loans (non-annuity)"]
["Local registered stock"]
["Instalment Credit",null,null,null,null,null,null,null,null,null,null,null,null,null,null,null,null,null,null,null,null,null,null,null,null,null,null,null,null,null,null,null,null,null,null,null,null,null,null,null,null,null,439005000,null,539442200]
["Financial Leases"]
["PPP liabilities",null,null,null,null,null,null,null,null,null,null,null,null,null,null,null,null,null,null,null,null,null,0,null,0,null,null,0,null,0,null,null,0,null,0,null,null,0,null,0,null,null,1834701353,null,1241876995]
["Finance Granted By Cap Equipment Supplier",null,null,null,null,null,null,null,null,null,null,null,null,null,null,null,null,null,null,null,null,null,null,null,null,null,null,null,null,null,null,null,null,null,null,null,null,null,null,null,null,null,839041298,null,440387617]
["Marketable Bonds",null,null,null,null,null,null,null,null,null,null,null,null,null,null,null,null,null,null,null,null,null,null,null,null,null,null,null,null,null,null,null,null,null,null,null,null,null,null,null,null,null,976543638,null,782372961]
["Non-Marketable Bonds",null,null,null,null,null,null,null,null,null,null,null,null,null,null,null,null,null,null,null,null,null,null,null,null,null,null,null,null,null,null,null,null,null,null,null,null,null,null,null,null,null,19116417,null,19116417]
["Bankers Acceptances",null,null,null,null,null,null,null,null,null,null,null,null,null,null,null,null,null,null,null,null,null,null,null,null,null,null,null,null,null,null,null,null,null,null,null,null,null,null,null,null,null,2273706353,null,1781319195]
["Financial derivatives",null,null,null,null,null,null,null,null,null,null,null,null,null,null,null,null,null,null,null,null,null,null,null,null,null,null,null,null,null,null,null,null,null,null,null,null,null,null,null,null,null,180259232,null,140396729]
["Other Securities",null,null,null,null,null,null,null,null,null,null,null,null,null,null,null,null,null,null,null,null,null,null,null,null,null,null,null,null,null,null,null,null,null,null,null,null,null,null,null,null,null,125005000,null,100442200]
["Municipality sub-total",1,{"$f":"SUM(C38:C49)","v":0},{"$f":"SUM(D38:D49)","v":0},0,0,0,0,0,0,0,null,null,null,null,null,null,null,null,null,null,null,null,null,null,null,null,null,null,null,null,null,null,null,null,null,null,null,null,null,null,null,40341797,null,38954529]
[null,null,null,null,null,null,null,null,null,null,null,null,null,null,null,null,null,null,null,null,null,null,null,null,null,null,null,null,null,null,null,null,null,null,null,null,null,null,null,null,null,null,14912435,null,1000000]
["Entities"]
[{"$f":"A38","v":"Long-Term Loans (annuity/reducing balance)"}]
["Long-Term Loans (non-annuity)"]
["Local registered stock"]
["Instalment Credit"]
["Financial Leases"]
["PPP liabilities"]
["Finance Granted By Cap Equipment Supplier"]
["Marketable Bonds"]
["Non-Marketable Bonds"]
["Bankers Acceptances"]
["Financial derivatives"]
["Other Securities"]
["Entities sub-total",1,{"$f":"SUM(C53:C64)","v":0},{"$f":"SUM(D53:D64)","v":0},0,0,0,0,0,0,0]
[]
["Total Unspent Borrowing",1,{"$f":"C50+C65","v":0},{"$f":"D50+D65","v":0},0,0,0,0,0,0,0]
[]
[{"$f":"head27a","v":"References"}]
["1. Total borrowing must reconcile to Budgeted Financial Position (Borrowing - non-current)"]
["check borrowing balance",null,{"$f":"C34-'A6-FinPos'!C37","v":-659961.97302097874},{"$f":"D34-'A6-FinPos'!D37","v":-4161},{"$f":"E34-'A6-FinPos'!E37","v":0},{"$f":"F34-'A6-FinPos'!F37","v":0},{"$f":"G34-'A6-FinPos'!G37","v":0},{"$f":"H34-'A6-FinPos'!H37","v":0},{"$f":"I34-'A6-FinPos'!J37","v":0},{"$f":"J34-'A6-FinPos'!K37","v":0},{"$f":"K34-'A6-FinPos'!L37","v":0}]

{"sheet":"SA18","index":39,"n_rows":57,"n_cols":11,"rows_kept":57,"cut":false,"hidden":false,"merged":[[1,5,1,7],[1,8,1,10]]}
[{"$f":"muni&\" - \"& TableA18","v":"DC12 Amathole - Supporting Table SA18 Transfers and grant receipts"}]
[{"$f":"desc","v":"Description"},{"$f":"head27","v":"Ref"},{"$f":"head1b","v":"2016/17"},{"$f":"head1A","v":"2017/18"},{"$f":"Head1","v":"2018/19"},{"$f":"Head2","v":"Current Year 2019/20"},null,null,{"$f":"Head3","v":"2020/21 Medium Term Revenue & Expenditure Framework"}]
["R thousand",null,{"$f":"Head5","v":"Audited Outcome"},{"$f":"Head5","v":"Audited Outcome"},{"$f":"Head5","v":"Audited Outcome"},{"$f":"Head6","v":"Original Budget"},{"$f":"Head7","v":"Adjusted Budget"},{"$f":"Head8","v":"Full Year Forecast"},{"$f":"Head9","v":"Budget Year 2020/21"},{"$f":"Head10","v":"Budget Year +1 2021/22"},{"$f":"Head11","v":"Budget Year +2 2022/23"}]
["RECEIPTS:","1, 2"]
[]
["Operating Transfers and Grants"]
["National Government:",null,{"$f":"SUM(C8:C15)","v":739438447},{"$f":"SUM(D8:D15)","v":771124955},{"$f":"SUM(E8:E14)","v":788693000},{"$f":"SUM(F8:F13)","v":859717000.00400007},859717000.00400007,859717000.00400007,924788900,992143250,1058055050]
["Local Government Equitable Share",{"$f":"IF(A8=\"  Levy replacement\",3,\"\")","v":""},415749975,427675618,638291600,461782000,461782000,461782000,492210000,526250000,558783000]
["RSC Levy Replacement ","",315022025,329456382,144016400,371903000,371903000,371903000,404259000,438275000,470031000]
["Finance Management ","",1250000,1250000,1000000,1000000,1000000,1000000,1000000,1250000,1250000]
["EPWP Incentive","",2297000,1527000,2446000,2446000,2446000,2446000,3085000,0,0]
["Rural Roads Asset Management Grant",null,2866448,2933000,2939000,3113000,3113000,3113000,2964000,3127000,3308000]
["MIG - PMU Operating Cost",null,null,null,null,19473000.00400006,19473000.00400006,19473000.00400006,21270900,23241250,24683050]
["Municipal Systems Improvement",null,4026,0]
["Neighbourhood Development Partnership",null,2248973,8282955,8296159]
["Provincial Government:",null,{"$f":"SUM(C17:C21)","v":0},{"$f":"SUM(D17:D21)","v":0},0,0,39930319,39930319,0,0,0]
["LG SETA",{"$f":"IF(A17=\"  Housing\",4,\"\")","v":""},null,null,null,null,2942363,2942363]
["Human Settlement",{"$f":"IF(A18=\"  Housing\",4,\"\")","v":""},null,null,null,null,26169482,26169482]
["Vuna Award",{"$f":"IF(A19=\"  Housing\",4,\"\")","v":""},null,null,null,null,9289,9289]
["Public Awareness",{"$f":"IF(A20=\"  Housing\",4,\"\")","v":""},null,null,null,null,366,366]
[" Department of Economic development",null,null,null,null,null,10808819,10808819]
["District Municipality:",null,{"$f":"SUM(C23:C24)","v":0},{"$f":"SUM(D23:D24)","v":0},0,0,0,0,0,0,0]
["  [insert description]"]
[]
["Other grant providers:",null,{"$f":"SUM(C26:C27)","v":0},{"$f":"SUM(D26:D27)","v":0},0,0,0,0,0,0,0]
["  [insert description]"]
[]
["Total Operating Transfers and Grants",5,{"$f":"C7+C16+C22+C25","v":739438447},771124955,788693000,859717000.00400007,899647319.00400007,899647319.00400007,924788900,992143250,1058055050]
[]
["Capital Transfers and Grants"]
[{"$f":"A7","v":"National Government:"},null,{"$f":"SUM(C32:C37)","v":589073550},{"$f":"SUM(D32:D37)","v":587773352},595857639,610692999.99600005,668058420.14600003,{"$f":"SUM(H32:H37)","v":668058420.14600003},{"$f":"SUM(I32:I37)","v":590513100},673833750,676953950]
[" Municipal Infrastructure Grant (MIG)",null,447736000,436439000,399232000,408998999.99600005,408998999.99600005,408998999.99600005,404147100,441583750,468977950]
["Regional Bulk Infrastructure",null,22117845,59954352,96625639,99694000,99694000,99694000,86366000,147250000,127976000]
["Water Services Infrastructure Grant",null,119190000,90000000,100000000,102000000,102000000,102000000,80000000,85000000,80000000]
["Water Services Infrastructure Grant - Drought",null,null,null,null,null,57365420.149999999,57365420.149999999,20000000,0,0]
["WSOG - Refurbishment",null,29705]
["Disaster Relief Grant",null,0,1380000]
[{"$f":"A16","v":"Provincial Government:"},null,{"$f":"SUM(C39)","v":0},{"$f":"SUM(D39)","v":0},0,0,{"$f":"SUM(G39:G42)","v":28649889},{"$f":"SUM(H39:H42)","v":28649889},0,0,0]
["Human Settlement",null,null,null,null,null,3378284,3378284]
["ECDOT: Butterworth Interchange",null,null,null,null,null,1506965,1506965]
["Department of Water and Sanitation",null,null,null,null,null,1764640,1764640]
["Drought Relief Grant",null,null,null,null,null,22000000,22000000]
[{"$f":"A22","v":"District Municipality:"},null,{"$f":"SUM(C44:C45)","v":0},0,0,0,0,0,0,0,0]
[{"$f":"A23","v":"  [insert description]"}]
[]
[{"$f":"A25","v":"Other grant providers:"},null,{"$f":"SUM(C47:C48)","v":0},{"$f":"SUM(D47:D48)","v":0},0,0,0,0,0,0,0]
[{"$f":"LEFT(A26,22)","v":"  [insert description]"}]
[]
["Total Capital Transfers and Grants",5,{"$f":"C31+C38+C43+C46","v":589073550},587773352,595857639,610692999.99600005,696708309.14600003,696708309.14600003,590513100,673833750,676953950]
["TOTAL RECEIPTS OF TRANSFERS & GRANTS",null,{"$f":"C28+C49","v":1328511997},1358898307,1384550639,1470410000,1596355628.1500001,1596355628.1500001,1515302000,1665977000,1735009000]
[{"$f":"head27a","v":"References"}]
["1. Each transfer/grant is listed by name as gazetted together with the name of the transferring department or municipality, donor or other organisation"]
["2. Amounts actually RECEIVED; not revenue recognised (objective is to confirm grants transferred)"]
["3. Replacement of RSC levies"]
["4. Housing subsidies for housing where ownership transferred to organisations or persons outside the control of the municipality"]
["5. Total transfers and grants must reconcile to Budgeted Cash Flows"]
["6. Motor vehicle licensing refunds to be included under 'agency' services (Not Grant Receipts)"]

{"sheet":"SA19","index":40,"n_rows":54,"n_cols":11,"rows_kept":54,"cut":false,"hidden":false,"merged":[[1,5,1,7],[1,8,1,10]]}
[{"$f":"muni&\" - \"& TableA19","v":"DC12 Amathole - Supporting Table SA19 Expenditure on transfers and grant programme"}]
[{"$f":"desc","v":"Description"},{"$f":"head27","v":"Ref"},{"$f":"head1b","v":"2016/17"},{"$f":"head1A","v":"2017/18"},{"$f":"Head1","v":"2018/19"},{"$f":"Head2","v":"Current Year 2019/20"},null,null,{"$f":"Head3","v":"2020/21 Medium Term Revenue & Expenditure Framework"}]
["R thousand",null,{"$f":"Head5","v":"Audited Outcome"},{"$f":"Head5","v":"Audited Outcome"},{"$f":"Head5","v":"Audited Outcome"},{"$f":"Head6","v":"Original Budget"},{"$f":"Head7","v":"Adjusted Budget"},{"$f":"Head8","v":"Full Year Forecast"},{"$f":"Head9","v":"Budget Year 2020/21"},{"$f":"Head10","v":"Budget Year +1 2021/22"},{"$f":"Head11","v":"Budget Year +2 2022/23"}]
["EXPENDITURE:",1]
[]
["Operating expenditure of Transfers and Grants"]
[{"$f":"'SA18'!A7","v":"National Government:"},null,{"$f":"SUM(C8:C15)","v":736307047},{"$f":"SUM(D8:D15)","v":768383154.99000001},793675166.39100003,859717000.00400007,859717000.00400007,859717000.00400007,924788900,992143250,1058055050]
[{"$f":"IF('SA18'!A8=\"\",\"\",'SA18'!A8)","v":"Local Government Equitable Share"},null,415749975,427675618,638291600,461782000,461782000,461782000,492210000,526250000,558783000]
[{"$f":"IF('SA18'!A9=\"\",\"\",'SA18'!A9)","v":"RSC Levy Replacement "},null,315022025,329456382,144016400,371903000,371903000,371903000,404259000,438275000,470031000]
[{"$f":"IF('SA18'!A10=\"\",\"\",'SA18'!A10)","v":"Finance Management "},null,961089,1249999.83,954904.96100000001,1000000,1000000,1000000,1000000,1250000,1250000]
[{"$f":"IF('SA18'!A11=\"\",\"\",'SA18'!A11)","v":"EPWP Incentive"},null,1964597,1529913.16,2433056.69,2446000,2446000,2446000,3085000,0,0]
[{"$f":"IF('SA18'!A12=\"\",\"\",'SA18'!A12)","v":"Rural Roads Asset Management Grant"},null,2365851,388241,1488650.74,3113000,3113000,3113000,2964000,3127000,3308000]
[{"$f":"IF('SA18'!A13=\"\",\"\",'SA18'!A13)","v":"MIG - PMU Operating Cost"},null,null,null,null,19473000.00400006,19473000.00400006,19473000.00400006,21270900,23241250,24683050]
[{"$f":"IF('SA18'!A14=\"\",\"\",'SA18'!A14)","v":"Municipal Systems Improvement"},null,4026,0]
["Neighbourhood Development Partnership",null,239484,8083001,6490554]
[{"$f":"'SA18'!A16","v":"Provincial Government:"},null,{"$f":"SUM(C17:C22)","v":0},{"$f":"SUM(D17:D22)","v":0},0,0,39930319,39930319,0,0,0]
[{"$f":"IF('SA18'!A17=\"\",\"\",'SA18'!A17)","v":"LG SETA"},null,null,null,null,null,2942363,2942363]
[{"$f":"IF('SA18'!A18=\"\",\"\",'SA18'!A18)","v":"Human Settlement"},null,null,null,null,null,26169482,26169482]
[{"$f":"IF('SA18'!A19=\"\",\"\",'SA18'!A19)","v":"Vuna Award"},null,null,null,null,null,9289,9289]
[{"$f":"IF('SA18'!A20=\"\",\"\",'SA18'!A20)","v":"Public Awareness"},null,null,null,null,null,366,366]
[{"$f":"IF('SA18'!A21=\"\",\"\",'SA18'!A21)","v":" Department of Economic development"},null,null,null,null,null,10808819,10808819]
[]
[{"$f":"'SA18'!A22","v":"District Municipality:"},null,{"$f":"SUM(C24:C25)","v":0},{"$f":"SUM(D24:D25)","v":0},0,0,0,0,0,0,0]
[{"$f":"'SA18'!A23","v":"  [insert description]"}]
[]
[{"$f":"'SA18'!A25","v":"Other grant providers:"},null,{"$f":"SUM(C27:C28)","v":0},{"$f":"SUM(D27:D28)","v":0},0,0,0,0,0,0,0]
[{"$f":"'SA18'!A26","v":"  [insert description]"}]
[]
["Total operating expenditure of Transfers and Grants:",null,{"$f":"C7+C16+C23+C26","v":736307047},768383154.99000001,793675166.39100003,859717000.00400007,899647319.00400007,899647319.00400007,924788900,992143250,1058055050]
[]
["Capital expenditure of Transfers and Grants"]
[{"$f":"'SA18'!A31","v":"National Government:"},null,{"$f":"SUM(C33:C38)","v":582641630},{"$f":"SUM(D33:D38)","v":578757031.31000006},606406682.85350001,610692999.99600005,610692999.99600005,610692999.99600005,590513100,673833750,676953950]
[{"$f":"IF('SA18'!A32=\"\",\"\",'SA18'!A32)","v":" Municipal Infrastructure Grant (MIG)"},null,444751586,433414512.85000002,405019620.80000001,408998999.99600005,408998999.99600005,408998999.99600005,404147100,441583750,468977950]
[{"$f":"IF('SA18'!A33=\"\",\"\",'SA18'!A33)","v":"Regional Bulk Infrastructure"},null,22626565,59850032,96625407.799999997,99694000,99694000,99694000,86366000,147250000,127976000]
[{"$f":"IF('SA18'!A34=\"\",\"\",'SA18'!A34)","v":"Water Services Infrastructure Grant"},null,115263479,84679079.459999993,104761654.2535,102000000,102000000,102000000,80000000,85000000,80000000]
[{"$f":"IF('SA18'!A35=\"\",\"\",'SA18'!A35)","v":"Water Services Infrastructure Grant - Drought"},null,null,null,null,null,null,null,20000000,0,0]
["Disaster Relief Grant",null,null,813407,0]
[]
[{"$f":"'SA18'!A38","v":"Provincial Government:"},null,{"$f":"SUM(C40)","v":0},{"$f":"SUM(D40)","v":0},0,0,3378284,3378284,0,0,0]
[{"$f":"'SA18'!A39","v":"Human Settlement"},null,null,null,null,null,3378284,3378284]
[{"$f":"'SA18'!A40","v":"ECDOT: Butterworth Interchange"},null,null,null,null,null,1506965,1506965]
[{"$f":"'SA18'!A41","v":"Department of Water and Sanitation"},null,null,null,null,null,1764640,1764640]
[{"$f":"'SA18'!A42","v":"Drought Relief Grant"},null,null,null,null,null,22000000,22000000]
[{"$f":"'SA18'!A43","v":"District Municipality:"},null,{"$f":"SUM(C45:C46)","v":0},{"$f":"SUM(D45:D46)","v":0},0,0,0,0,0,0,0]
[{"$f":"'SA18'!A44","v":"  [insert description]"}]
[]
[{"$f":"'SA18'!A46","v":"Other grant providers:"},null,{"$f":"SUM(C48:C49)","v":0},{"$f":"SUM(D48:D49)","v":0},0,0,0,0,0,0,0]
[{"$f":"'SA18'!A47","v":"  [insert description]"}]
[]
["Total capital expenditure of Transfers and Grants",null,{"$f":"C32+C39+C44+C47","v":582641630},{"$f":"D32+D39+D44+D47","v":578757031.31000006},606406682.85350001,610692999.99600005,614071283.99600005,614071283.99600005,590513100,673833750,676953950]
[]
["TOTAL EXPENDITURE OF TRANSFERS AND GRANTS",null,{"$f":"C29+C50","v":1318948677},1347140186.3000002,1400081849.2445002,1470410000,1513718603,1513718603,1515302000,1665977000,1735009000]
[{"$f":"head27a","v":"References"}]
["1. Expenditure must be separately listed for each transfer or grant received or recognised"]

{"sheet":"SA20","index":41,"n_rows":60,"n_cols":11,"rows_kept":60,"cut":false,"hidden":false,"merged":[[56,0,56,10],[1,5,1,7],[1,8,1,10],[54,0,54,10],[55,0,55,10]]}
[{"$f":"muni&\" - \"& TableA20","v":"DC12 Amathole - Supporting Table SA20 Reconciliation of transfers, grant receipts and unspent funds"}]
[{"$f":"desc","v":"Description"},{"$f":"head27","v":"Ref"},{"$f":"head1b","v":"2016/17"},{"$f":"head1A","v":"2017/18"},{"$f":"Head1","v":"2018/19"},{"$f":"Head2","v":"Current Year 2019/20"},null,null,{"$f":"Head3","v":"2020/21 Medium Term Revenue & Expenditure Framework"}]
["R thousand",null,{"$f":"Head5","v":"Audited Outcome"},{"$f":"Head5","v":"Audited Outcome"},{"$f":"Head5","v":"Audited Outcome"},{"$f":"Head6","v":"Original Budget"},{"$f":"Head7","v":"Adjusted Budget"},{"$f":"Head8","v":"Full Year Forecast"},{"$f":"Head9","v":"Budget Year 2020/21"},{"$f":"Head10","v":"Budget Year +1 2021/22"},{"$f":"Head11","v":"Budget Year +2 2022/23"}]
["Operating transfers and grants:","1,3"]
[{"$f":"'SA18'!A7","v":"National Government:"}]
["Balance unspent at beginning of the year",null,1327879,1131575.92,{"$f":"D9","v":2457910.0129999998}]
["Current year receipts",null,749600766,770842000,796989159,859717000.00400007,859717000.00400007,859717000.00400007,924788900,992143250,1058055050]
["Conditions met - transferred to revenue",null,{"$f":"C6+C7-C9","v":748875732},{"$f":"D6+D7-D9","v":769515665.90699995},795831044.25400007,859717000.00400007,859717000.00400007,859717000.00400007,924788900,992143250,1058055050]
["Conditions still to be met - transferred to liabilities",null,2052913,2457910.0129999998,3616024.7589999996]
["Provincial Government:"]
["Balance unspent at beginning of the year",null,38705668,40289255,null,null,38548689,38548689]
[{"$f":"A7","v":"Current year receipts"},null,null,3378284,0,null,1381630,1381630]
[{"$f":"A8","v":"Conditions met - transferred to revenue"},null,{"$f":"C11+C12-C14","v":205469},0,0,0,39930319,39930319,0,0,0]
[{"$f":"A9","v":"Conditions still to be met - transferred to liabilities"},null,38500199,43667539]
["District Municipality:"]
[{"$f":"A11","v":"Balance unspent at beginning of the year"}]
[{"$f":"A12","v":"Current year receipts"}]
[{"$f":"A13","v":"Conditions met - transferred to revenue"},null,{"$f":"C16+C17-C19","v":0},0,0,0,0,0,0,0,0]
[{"$f":"A14","v":"Conditions still to be met - transferred to liabilities"}]
["Other grant providers:"]
[{"$f":"A11","v":"Balance unspent at beginning of the year"},null,836279,2572878.23]
[{"$f":"A12","v":"Current year receipts"},null,2093490,1390577.47]
[{"$f":"A13","v":"Conditions met - transferred to revenue"},null,{"$f":"C21+C22-C24","v":352580},2081173.35,0,0,0,0,0,0,0]
[{"$f":"A14","v":"Conditions still to be met - transferred to liabilities"},null,2577189,1882282.35]
["Total operating transfers and grants revenue",null,{"$f":"C8+C13+C18+C23","v":749433781},771596839.25699997,795831044.25400007,859717000.00400007,899647319.00400007,899647319.00400007,924788900,992143250,1058055050]
["Total operating transfers and grants - CTBM",2,43130301,48007731.362999998,3616024.7589999996,0,0,0,0,0,0]
[]
["Capital transfers and grants:","1,3"]
[{"$f":"A5","v":"National Government:"}]
["Balance unspent at beginning of the year",null,1645005,6807977.4299999997,{"$f":"D33","v":15824298.190199999},null,64015309.149999999,64015309.149999999]
["Current year receipts",null,591737225,587773351.59000003,613129262.70350003,610692999.99600005,632692999.99600005,632692999.99600005,590513100,673833750,676953950]
["Conditions met - transferred to revenue",null,{"$f":"C30+C31-C33","v":585110873},578757030.82980001,566312887.07720006,610692999.99600005,696708309.14600003,696708309.14600003,590513100,673833750,676953950]
["Conditions still to be met - transferred to liabilities",null,8271357,15824298.190199999,62640673.816499986]
["Provincial Government:"]
["Balance unspent at beginning of the year"]
[{"$f":"A31","v":"Current year receipts"}]
[{"$f":"A32","v":"Conditions met - transferred to revenue"},null,{"$f":"C35+C36-C38","v":0},0,0,0,0,0,0,0,0]
[{"$f":"A33","v":"Conditions still to be met - transferred to liabilities"}]
["District Municipality:"]
[{"$f":"A35","v":"Balance unspent at beginning of the year"}]
[{"$f":"A36","v":"Current year receipts"}]
[{"$f":"A37","v":"Conditions met - transferred to revenue"},null,{"$f":"C40+C41-C43","v":0},0,0,0,0,0,0,0,0]
[{"$f":"A38","v":"Conditions still to be met - transferred to liabilities"}]
["Other grant providers:"]
[{"$f":"A35","v":"Balance unspent at beginning of the year"}]
[{"$f":"A36","v":"Current year receipts"}]
[{"$f":"A37","v":"Conditions met - transferred to revenue"},null,{"$f":"C45+C46-C48","v":0},0,0,0,0,0,0,0,0]
[{"$f":"A38","v":"Conditions still to be met - transferred to liabilities"}]
["Total capital transfers and grants revenue",null,{"$f":"C32+C37+C42+C47","v":585110873},578757030.82980001,566312887.07720006,610692999.99600005,696708309.14600003,696708309.14600003,590513100,673833750,676953950]
["Total capital transfers and grants - CTBM",2,8271357,15824298.190199999,62640673.816499986,0,0,0,0,0,0]
[]
["TOTAL TRANSFERS AND GRANTS REVENUE",null,{"$f":"C25+C49","v":1334544654},1350353870.0868001,1362143931.3312001,1470410000,1596355628.1500001,1596355628.1500001,1515302000,1665977000,1735009000]
["TOTAL TRANSFERS AND GRANTS - CTBM",null,{"$f":"C26+C50","v":51401658},{"$f":"D26+D50","v":63832029.553199999},66256698.575499982,0,0,0,0,0,0]
[{"$f":"head27a","v":"References"}]
["1. Total capital transfers and grants revenue must reconcile to Budgeted Financial Performance and Financial Position; total recurrent grants revenue must reconcile to Budgeted Financial Performance"]
["2. CTBM = conditions to be met"]
["3. National Treasury database will require this reconciliation for each transfer/grant"]
[]
["Check opex",null,{"$f":"C25-'A4-FinPerf RE'!C18","v":8410417.0699999332},{"$f":"D25-'A4-FinPerf RE'!D18","v":5692327.2170000076},{"$f":"E25-'A4-FinPerf RE'!E18","v":6935769.2540000677},{"$f":"F25-'A4-FinPerf RE'!F18","v":458217.00400006771},{"$f":"G25-'A4-FinPerf RE'!G18","v":-225627510.99599993},{"$f":"H25-'A4-FinPerf RE'!H18","v":-225627510.99599993},{"$f":"I25-'A4-FinPerf RE'!J18","v":-34643233},{"$f":"J25-'A4-FinPerf RE'!K18","v":473087},{"$f":"K25-'A4-FinPerf RE'!L18","v":496695}]
["Check capex",null,{"$f":"C49-'A5-Capex'!C70","v":485856429},{"$f":"D49-'A5-Capex'!D70","v":206527560.82980001},{"$f":"E49-'A5-Capex'!E70","v":231153716.61720008},{"$f":"F49-'A5-Capex'!F70","v":-3.9999485015869141E-3},{"$f":"G49-'A5-Capex'!G70","v":136237321.14600003},{"$f":"H49-'A5-Capex'!H70","v":136237321.14600003},{"$f":"I49-'A5-Capex'!J70","v":39029242.376203775},{"$f":"J49-'A5-Capex'!K70","v":-70920},{"$f":"K49-'A5-Capex'!L70","v":-71880}]

{"sheet":"SA21","index":42,"n_rows":71,"n_cols":12,"rows_kept":71,"cut":false,"hidden":false,"merged":[[1,9,1,11],[1,5,1,8]]}
[{"$f":"muni&\" - \"& TableA21","v":"DC12 Amathole - Supporting Table SA21 Transfers and grants made by the municipality"}]
[{"$f":"desc","v":"Description"},{"$f":"head27","v":"Ref"},{"$f":"head1b","v":"2016/17"},{"$f":"head1A","v":"2017/18"},{"$f":"Head1","v":"2018/19"},{"$f":"Head2","v":"Current Year 2019/20"},null,null,null,{"$f":"Head3","v":"2020/21 Medium Term Revenue & Expenditure Framework"}]
["R thousand",null,{"$f":"Head5","v":"Audited Outcome"},{"$f":"Head5","v":"Audited Outcome"},{"$f":"Head5","v":"Audited Outcome"},{"$f":"Head6","v":"Original Budget"},{"$f":"Head7","v":"Adjusted Budget"},{"$f":"Head8","v":"Full Year Forecast"},{"$f":"Head5b","v":"Pre-audit outcome"},{"$f":"Head9","v":"Budget Year 2020/21"},{"$f":"Head10","v":"Budget Year +1 2021/22"},{"$f":"Head11","v":"Budget Year +2 2022/23"}]
[]
["Cash Transfers to other municipalities"]
["Insert description",1]
[]
[]
["Total Cash Transfers To Municipalities:",null,{"$f":"SUM(C6:C8)","v":0},{"$f":"SUM(D6:D8)","v":0},0,0,0,0,0,0,0,0]
[]
["Cash Transfers to Entities/Other External Mechanisms"]
["ASPIRE operational transfer",2,null,null,7300000,16331141,16331141,16331141,16331141,15000000,10000000,10000000]
["mSCOA Project ASPIRE",null,null,null,null,4026548,3323076,3323076,3323076]
[null,null,169687378,{"$f":"13500000+44373697","v":57873697}]
["Total Cash Transfers To Entities/Ems'",null,{"$f":"SUM(C12:C14)","v":169687378},{"$f":"SUM(D12:D14)","v":57873697},7300000,20357689,19654217,19654217,19654217,15000000,10000000,10000000]
[]
["Cash Transfers to other Organs of State"]
[{"$f":"$A$6","v":"Insert description"},3]
[]
[]
["Total Cash Transfers To Other Organs Of State:",null,{"$f":"SUM(C18:C20)","v":0},{"$f":"SUM(D18:D20)","v":0},0,0,0,0,0,0,{"$f":"SUM(K18:K20)","v":0},0]
[]
["Cash Transfers to Organisations"]
[{"$f":"$A$6","v":"Insert description"}]
[]
["Total Cash Transfers To Organisations",null,{"$f":"SUM(C24:C25)","v":0},0,0,0,0,0,0,0,0,0]
[]
["Cash Transfers to Groups of Individuals"]
[{"$f":"$A$6","v":"Insert description"}]
[]
["Total Cash Transfers To Groups Of Individuals:",null,{"$f":"SUM(C29:C30)","v":0},0,0,0,0,0,0,0,0,0]
["TOTAL CASH TRANSFERS AND GRANTS",6,{"$f":"C9+C15+C21+C26+C31","v":169687378},57873697,7300000,20357689,19654217,19654217,19654217,15000000,10000000,10000000]
[]
["Non-Cash Transfers to other municipalities"]
["Insert description",1]
[]
[]
["Total Non-Cash Transfers To Municipalities:",null,{"$f":"SUM(C35:C37)","v":0},{"$f":"SUM(D35:D37)","v":0},0,0,0,0,0,0,0,0]
[]
["Non-Cash Transfers to Entities/Other External Mechanisms"]
[{"$f":"$A$6","v":"Insert description"},2]
[]
[]
["Total Non-Cash Transfers To Entities/Ems'",null,{"$f":"SUM(C41:C43)","v":0},{"$f":"SUM(D41:D43)","v":0},0,0,0,0,0,0,0,0]
[]
["Non-Cash Transfers to other Organs of State"]
[{"$f":"$A$6","v":"Insert description"},3]
[]
[]
["Total Non-Cash Transfers To Other Organs Of State:",null,{"$f":"SUM(C47:C49)","v":0},{"$f":"SUM(D47:D49)","v":0},0,0,0,0,0,0,{"$f":"SUM(K47:K49)","v":0},{"$f":"SUM(L47:L49)","v":0}]
[]
["Non-Cash Grants to Organisations"]
[{"$f":"$A$6","v":"Insert description"},4]
[]
[]
["Total Non-Cash Grants To Organisations",null,{"$f":"SUM(C53:C55)","v":0},{"$f":"SUM(D53:D55)","v":0},0,0,0,0,0,0,{"$f":"SUM(K53:K55)","v":0},{"$f":"SUM(L53:L55)","v":0}]
[]
["Groups of Individuals"]
[{"$f":"$A$6","v":"Insert description"},5]
[]
[]
["Total Non-Cash Grants To Groups Of Individuals:",null,{"$f":"SUM(C59:C61)","v":0},0,0,0,0,0,0,0,0,0]
["TOTAL NON-CASH TRANSFERS AND GRANTS",null,{"$f":"C38+C44+C50+C56+C62","v":0},0,0,0,0,0,0,0,0,0]
["TOTAL TRANSFERS AND GRANTS",6,{"$f":"C32+C63","v":169687378},{"$f":"D32+D63","v":57873697},7300000,20357689,19654217,19654217,19654217,15000000,10000000,10000000]
[{"$f":"head27a","v":"References"}]
["1. Insert description listed by municipal name and demarcation code of recipient"]
["2. Insert description of each entity or external mechanism (an external mechanism may be provided with resources to ensure a minimum level of service)"]
["3. Insert description of each Organ of State (e.g. transfer to electricity provider to compensate for FBS provided)"]
["4. Insert description of each other organisation (e.g. charity)"]
["5 Insert description of each other organisation (e.g. the aged, child-headed households)"]
["6. All descriptions should separate transfers for 'capital purposes' and 'operating purposes'"]

{"sheet":"SA22","index":43,"n_rows":120,"n_cols":11,"rows_kept":120,"cut":false,"hidden":false,"merged":[[1,5,1,7],[1,8,1,10]]}
[{"$f":"muni&\" - \"&TableA22","v":"DC12 Amathole - Supporting Table SA22 Summary councillor and staff benefits"}]
["Summary of Employee and Councillor remuneration",{"$f":"head27","v":"Ref"},{"$f":"head1b","v":"2016/17"},{"$f":"head1A","v":"2017/18"},{"$f":"Head1","v":"2018/19"},{"$f":"Head2","v":"Current Year 2019/20"},null,null,{"$f":"Head3","v":"2020/21 Medium Term Revenue & Expenditure Framework"}]
["R thousand",null,{"$f":"Head5","v":"Audited Outcome"},{"$f":"Head5","v":"Audited Outcome"},{"$f":"Head5","v":"Audited Outcome"},{"$f":"Head6","v":"Original Budget"},{"$f":"Head7","v":"Adjusted Budget"},{"$f":"Head8","v":"Full Year Forecast"},{"$f":"Head9","v":"Budget Year 2020/21"},{"$f":"Head10","v":"Budget Year +1 2021/22"},{"$f":"Head11","v":"Budget Year +2 2022/23"}]
[null,1,"A","B","C","D","E","F","G","H","I"]
["Councillors (Political Office Bearers plus Other)"]
["Basic Salaries and Wages",null,12666568.52,12777529.82,13173685.210000001,13865173,14775224,14775224,12983082.749999996,12983082.749999996,12983082.749999996]
["Pension and UIF Contributions",null,null,null,null,0,0,0]
["Medical Aid Contributions",null,null,null,null,0,0,0]
["Motor Vehicle Allowance",null,null,null,null,299363,313652,313652,281091.83999999997,281091.83999999997,281091.83999999997]
["Cellphone Allowance",null,1761777.1100000003,1867270.21,2068734.1400000001,1413468,1584970,1584970,1474861.335,1474861.335,1474861.335]
["Housing Allowances",null,null,null,null,195539,204873,204873,183604.56,183604.56,183604.56]
["Other benefits and allowances",null,null,null,null,315201,179710,179710,19345.199999999997,19345.199999999997,19345.199999999997]
["Sub Total - Councillors",null,{"$f":"SUM(C6:C12)","v":14428345.629999999},14644800.030000001,15242419.350000001,16088744,17058429,17058429,14941985.684999997,14941985.684999997,14941985.684999997]
["% increase",4,null,{"$f":"IF(ISERROR((D13/C13)-1),0,((D13/C13)-1))","v":1.5002024871787256E-2},{"$f":"IF(ISERROR((E13/D13)-1),0,((E13/D13)-1))","v":4.0807612174681207E-2},5.5524299034588553E-2,6.0271019291499695E-2,0,-0.12407023618646262,0,0]
[]
["Senior Managers of the Municipality",2]
["Basic Salaries and Wages",null,8864124,{"$f":"2301682.29+1061983.68+154440+970097.35+1058330.24+760770.81+1278364.18+1151314.47+710886","v":9447869.0199999996},{"$f":"2436615.7+1084912.48+902424.2+1557548.7+996450.98+1278363.28+895463.49+1066326.5","v":10218105.33},9503509,11207372,11207372,9508164.2400000002,9508164.2400000002,9508164.2400000002]
["Pension and UIF Contributions",null,1287079,{"$f":"49936.76+20738.05+206027.49+165374.32+251065.59+1338.48+9989+129149.28","v":833618.97},{"$f":"1782.32+197064.7+147726.42+1782.32+231758.26+251062.02+1038.16+193717.96","v":1025932.16},1023354,981354,981354,828359.76,828359.76,828359.76]
["Medical Aid Contributions",null,null,null,null,56692,59792,59792,61994.43,71293.594500000007,81987.633675000005]
["Overtime",null,null,null,null,0,0,0]
["Performance Bonus",null,782123,null,null,0,0,0]
["Motor Vehicle Allowance",3,1763248,{"$f":"135000+60000+182000+147720+275814.96+15321+260004.96+120000","v":1195860.92},{"$f":"168000+205000+240000+180000+275812.48+151669.24+180000","v":1400481.72},1283815,791002,791002,1209259.3500000001,1209259.3500000001,1209259.3500000001]
["Cellphone Allowance",3,422204,{"$f":"13000+4786+57432+43074","v":118292},{"$f":"13200+57432+33502","v":104134},70632,19086,19086,20379,20379,20379]
["Housing Allowances",3,250527,{"$f":"39999+138000+70486.5+70486.5+120000","v":438972},{"$f":"349349.48+244289.89+382784.44+278158.3+23411+359281.5","v":1637274.61},1648863,1138322,1138322,1649138.7150000001,1649138.7150000001,1649138.7150000001]
["Other benefits and allowances",3,23772,{"$f":"1784.64+18354.9","v":20139.54},{"$f":"27867.16+143253.9","v":171121.06},28604,476914,476914,27868.32,27868.32,27868.32]
["Payments in lieu of leave",null,null,null,{"$f":"207775.47+16730.22","v":224505.69}]
["Long service awards",null,null,null,null,null,null,null,635860.64999999991,635860.64999999991,635860.64999999991]
["Post-retirement benefit obligations",6]
["Sub Total - Senior Managers of Municipality",null,{"$f":"SUM(C17:C28)","v":13393077},{"$f":"SUM(D17:D28)","v":12054752.449999999},14781554.57,13615469,14673842,14673842,13941024.465,13950323.6295,13961017.668675]
[{"$f":"$A$14","v":"% increase"},{"$f":"$B$14","v":4},null,{"$f":"IF(ISERROR((D29/C29)-1),0,((D29/C29)-1))","v":-9.9926592671721437E-2},{"$f":"IF(ISERROR((E29/D29)-1),0,((E29/D29)-1))","v":0.22620141983919395},-7.8887884523772378E-2,7.773312839976354E-2,0,-4.9940399726261187E-2,6.6703595014461214E-4,7.665800062435224E-4]
[]
["Other Municipal Staff"]
["Basic Salaries and Wages",null,376411281,396306149.63,402798777.38999999,434364536,420720101,420720101,453708048.91075033,462508253.88151819,474581768.90355664]
["Pension and UIF Contributions",null,67341471,71398866.560000002,73185635.359999999,75484936,84012938,84012938,83346829.167125031,85517480.321303114,87748572.454335734]
["Medical Aid Contributions",null,33719007,59139171,37649708.719999999,44383274.004799999,39337618.004799999,39337618.004799999,44749964.869500019,51410424.65730001,59093233.955895059]
["Overtime",null,28323422,28872310.579999998,35571198.810000002,10000000,36054652,36054652,23705776.791994136,33796421.670543753,34642145.387307346]
["Performance Bonus",null,null,null,null,null,0,0]
["Motor Vehicle Allowance",3,46224800,52223670.509999998,55781131.820000008,44054099,31694768,31694768,52547950.579999998,53115223.579999998,53732111.579999998]
["Cellphone Allowance",3,9692110,10084993.17,10148919.560000001,2928690,11215389,11215389,10445233.875,10474226.875,10505278.875]
["Housing Allowances",3,2037290,2706576.17,11407785.65,2026887,2736844,2736844,2036407.4099999995,2045303.4099999995,2054830.4099999995]
["Other benefits and allowances",3,73185174,58725214.290000007,80581200.350000009,61579366,80616462,80616462,56747905.899125099,58051707.148978204,59390615.505077668]
["Payments in lieu of leave",null,-7926958,61335921.020000003,14717356.01,27517908,27237320,27237320,1347107.6696250001,1380785.3613656252,1415304.9953997659]
["Long service awards",null,null,null,null,6153382,8938422,8938422,15130820.344999995,15792143.96975344,16384648.638416056]
["Post-retirement benefit obligations",6,null,null,null,15241088,15241088,15241088,29150208.854999997,33522740.183249995,38551151.210737497]
["Sub Total - Other Municipal Staff",null,{"$f":"SUM(C33:C44)","v":629007597},740792872.92999983,721841713.66999996,723734166.00479996,757805602.00479996,757805602.00479996,772916254.37311971,807614711.05901229,838099661.91572583]
[{"$f":"$A$14","v":"% increase"},{"$f":"$B$14","v":4},null,{"$f":"IF(ISERROR((D45/C45)-1),0,((D45/C45)-1))","v":0.1777168931872215},{"$f":"IF(ISERROR((E45/D45)-1),0,((E45/D45)-1))","v":-2.5582264560731871E-2},2.6216998809591718E-3,4.7077280029604207E-2,0,1.9940011433465354E-2,4.4892905912601089E-2,3.7746898910173465E-2]
[]
["Total Parent Municipality",null,{"$f":"C13+C29+C45","v":656829019.63},767492425.40999985,751865687.58999991,753438379.00479996,789537873.00479996,789537873.00479996,801799264.52311969,836507020.37351227,867002665.26940084]
[null,null,null,{"$f":"IF(ISERROR((D48/C48)-1),0,((D48/C48)-1))","v":0.16848129798275036},{"$f":"IF(ISERROR((E48/D48)-1),0,((E48/D48)-1))","v":-2.0360771393479249E-2},2.091718561916478E-3,4.7913001256563392E-2,0,1.5529833257593717E-2,4.3287338098314976E-2,3.6455934203961426E-2]
[]
["Board Members of Entities"]
["Basic Salaries and Wages"]
["Pension and UIF Contributions"]
["Medical Aid Contributions"]
["Overtime"]
["Performance Bonus"]
["Motor Vehicle Allowance",3]
["Cellphone Allowance",3]
["Housing Allowances",3]
["Other benefits and allowances",3]
["Board Fees"]
["Payments in lieu of leave"]
["Long service awards"]
["Post-retirement benefit obligations",6]
["Sub Total - Board Members of Entities",null,{"$f":"SUM(C52:C64)","v":0},{"$f":"SUM(D52:D64)","v":0},0,0,0,0,0,0,0]
[{"$f":"$A$14","v":"% increase"},{"$f":"$B$14","v":4},null,{"$f":"IF(ISERROR((D65/C65)-1),0,((D65/C65)-1))","v":0},{"$f":"IF(ISERROR((E65/D65)-1),0,((E65/D65)-1))","v":0},0,0,0,0,0,0]
[]
["Senior Managers of Entities"]
["Basic Salaries and Wages"]
["Pension and UIF Contributions"]
["Medical Aid Contributions"]
["Overtime"]
["Performance Bonus"]
["Motor Vehicle Allowance",3]
["Cellphone Allowance",3]
["Housing Allowances",3]
["Other benefits and allowances",3]
["Payments in lieu of leave"]
["Long service awards"]
["Post-retirement benefit obligations",6]
["Sub Total - Senior Managers of Entities",null,{"$f":"SUM(C69:C80)","v":0},{"$f":"SUM(D69:D80)","v":0},0,0,0,0,0,0,0]
[{"$f":"$A$14","v":"% increase"},{"$f":"$B$14","v":4},null,{"$f":"IF(ISERROR((D81/C81)-1),0,((D81/C81)-1))","v":0},{"$f":"IF(ISERROR((E81/D81)-1),0,((E81/D81)-1))","v":0},0,0,0,0,0,0]
[]
["Other Staff of Entities"]
["Basic Salaries and Wages"]
["Pension and UIF Contributions"]
["Medical Aid Contributions"]
["Overtime"]
["Performance Bonus"]
["Motor Vehicle Allowance",3]
["Cellphone Allowance",3]
["Housing Allowances",3]
["Other benefits and allowances",3]
["Payments in lieu of leave"]
["Long service awards"]
["Post-retirement benefit obligations",6]
["Sub Total - Other Staff of Entities",null,{"$f":"SUM(C85:C96)","v":0},{"$f":"SUM(D85:D96)","v":0},0,0,0,0,0,0,0]
[{"$f":"$A$14","v":"% increase"},{"$f":"$B$14","v":4},null,{"$f":"IF(ISERROR((D97/C97)-1),0,((D97/C97)-1))","v":0},{"$f":"IF(ISERROR((E97/D97)-1),0,((E97/D97)-1))","v":0},0,0,0,0,0,0]
[]
["Total Municipal Entities",null,{"$f":"C65+C81+C97","v":0},{"$f":"D65+D81+D97","v":0},0,0,0,0,0,0,0]
[]
["TOTAL SALARY, ALLOWANCES & BENEFITS",null,{"$f":"C48+C100","v":656829019.63},{"$f":"D48+D100","v":767492425.40999985},{"$f":"E48+E100","v":751865687.58999991},753438379.00479996,789537873.00479996,789537873.00479996,801799264.52311969,836507020.37351227,867002665.26940084]
[{"$f":"$A$14","v":"% increase"},{"$f":"$B$14","v":4},null,{"$f":"IF(ISERROR((D102/C102)-1),0,((D102/C102)-1))","v":0.16848129798275036},{"$f":"IF(ISERROR((E102/D102)-1),0,((E102/D102)-1))","v":-2.0360771393479249E-2},2.091718561916478E-3,4.7913001256563392E-2,0,1.5529833257593717E-2,4.3287338098314976E-2,3.6455934203961426E-2]
["TOTAL MANAGERS AND STAFF","5,7",{"$f":"C29+C45+C81+C97","v":642400674},752847625.37999988,736623268.24000001,737349635.00479996,772479444.00479996,772479444.00479996,786857278.83811975,821565034.68851233,852060679.58440077]
[{"$f":"head27a","v":"References"}]
["1. Include 'Loans and advances' where applicable if any reportable amounts until phased compliance with s164 of MFMA achieved"]
["2. s57 of the Systems Act"]
["3. In kind benefits (e.g. provision of living quarters) must be shown as the cost (full market value) to the municipality, as part of the relevant allowance"]
["4. B/A, C/B, D/C, E/C, F/C, G/D, H/D, I/D"]
["5. Must agree to the sub-total appearing on Table A1 (Employee costs)"]
["6. Includes pension payments and employer contributions to medical aid"]
["7. Correct as at 30 June"]
[]
["Column Definitions:"]
["A, B and C. Audited actual as per the audited financial statements. If audited amounts are unavailable, unaudited amounts must be provided with a note stating these are unaudited"]
["D. The original budget approved by council for the budget year."]
["E. The budget for the budget year as adjusted by council resolution in terms of section 28 of the MFMA."]
["F. An estimate of final actual amounts (pre audit) for the current year at the point in time of preparing the budget for the budget year. This may differ from E."]
["G. The amount to be appropriated for the budget year."]
["H and I. The indicative projection"]

{"sheet":"SA23","index":44,"n_rows":74,"n_cols":9,"rows_kept":74,"cut":false,"hidden":false,"merged":[[1,2,2,2],[1,5,2,5],[1,3,2,3],[1,6,2,6]]}
[{"$f":"muni&\" - \"&TableA23","v":"DC12 Amathole - Supporting Table SA23 Salaries, allowances & benefits (political office bearers/councillors/senior managers)"}]
["Disclosure of Salaries, Allowances & Benefits 1.",{"$f":"head27","v":"Ref"},"No.","Salary","\nContributions\n","Allowances","Performance  Bonuses","In-kind benefits","Total Package"]
["Rand per annum",null,null,null,"1.",null,null,null,"2."]
["Councillors",3]
["Speaker",4,null,789893.04,null,44400,null,null,{"$f":"SUM(D5:F5)","v":834293.04}]
["Chief Whip",null,null,740525.04,null,44400,null,null,784925.04]
["Executive Mayor",null,null,987368.04,null,44400,null,null,1031768.04]
["Deputy Executive Mayor",null,null,789893.04,null,44400,null,null,834293.04]
["Executive Committee",null,null,6055150.3950000005,null,864434.78,null,null,6919585.1750000007]
["Total for all other councillors",null,null,3620253.2,null,916868.16,null,null,4537121.3600000003]
[{"$f":"\"Total \"&A4","v":"Total Councillors"},8,{"$f":"SUM(C5:C10)","v":0},12983082.754999999,0,1958902.94,null,null,14941985.695]
[]
["Senior Managers of the Municipality",5]
["Municipal Manager (MM)",null,null,2436617.4000000004,0,27767.19,0,null,{"$f":"SUM(D14:H14)","v":2464384.5900000003}]
["Chief Finance Officer",null,null,1084914.96,195284.76,519135.60000000003,0,null,1799335.32]
["Director Strategic Management",null,null,1557551.4,0,241784.64,0,null,1799336.04]
["Director Engineering Services",null,null,1079601,0,719734.44000000006,0,null,1799335.44]
["Director Community Services",null,null,1278364.56,249281.40000000002,953833.87499999988,0,null,2481479.835]
["Director Corporate Services",null,null,1004785.9199999999,241356.27000000002,564569.52,0,null,1810711.71]
["Director Land Human Settlement and Economic Development",null,null,1066329,191939.28,541179.48,0,null,1799447.76]
[null,null,null,null,null,null,null,null,0]
[null,null,null,null,null,null,null,null,0]
[null,null,null,null,null,null,null,null,0]
[]
["List of each offical with packages >= senior manager"]
[null,null,null,null,null,null,null,null,{"$f":"SUM(D26:H26)","v":0}]
[null,null,null,null,null,null,null,null,{"$f":"SUM(D27:H27)","v":0}]
[null,null,null,null,null,null,null,null,0]
[null,null,null,null,null,null,null,null,0]
[null,null,null,null,null,null,null,null,0]
[null,null,null,null,null,null,null,null,0]
[null,null,null,null,null,null,null,null,0]
[null,null,null,null,null,null,null,null,0]
[null,null,null,null,null,null,null,null,0]
[null,null,null,null,null,null,null,null,0]
[null,null,null,null,null,null,null,null,0]
[null,null,null,null,null,null,null,null,{"$f":"SUM(D37:H37)","v":0}]
[null,null,null,null,null,null,null,null,{"$f":"SUM(D38:H38)","v":0}]
[{"$f":"\"Total \"&A13","v":"Total Senior Managers of the Municipality"},"8,10",{"$f":"SUM(C14:C38)","v":0},{"$f":"SUM(D14:D38)","v":9508164.2400000002},{"$f":"SUM(E14:E38)","v":877861.71000000008},{"$f":"SUM(F14:F38)","v":3568004.7450000001},{"$f":"SUM(G14:G38)","v":0},null,{"$f":"SUM(I14:I38)","v":13954030.695000002}]
[]
["A Heading for Each Entity","6,7"]
["List each member of board by designation"]
[null,null,null,null,null,null,null,null,{"$f":"SUM(D43:G43)","v":0}]
[null,null,null,null,null,null,null,null,{"$f":"SUM(D44:G44)","v":0}]
[null,null,null,null,null,null,null,null,0]
[null,null,null,null,null,null,null,null,0]
[null,null,null,null,null,null,null,null,0]
[null,null,null,null,null,null,null,null,0]
[null,null,null,null,null,null,null,null,0]
[null,null,null,null,null,null,null,null,0]
[null,null,null,null,null,null,null,null,0]
[null,null,null,null,null,null,null,null,0]
[null,null,null,null,null,null,null,null,0]
[null,null,null,null,null,null,null,null,0]
[null,null,null,null,null,null,null,null,0]
[null,null,null,null,null,null,null,null,0]
[null,null,null,null,null,null,null,null,0]
[null,null,null,null,null,null,null,null,0]
["Total for municipal entities","8,10",{"$f":"SUM(C42:C58)","v":0},{"$f":"SUM(D43:D58)","v":0},0,0,0,null,0]
[]
["TOTAL COST OF COUNCILLOR, DIRECTOR and EXECUTIVE REMUNERATION",10,{"$f":"C11+C39+C59","v":0},22491246.994999997,877861.71000000008,5526907.6850000005,0,null,28896016.390000001]
[]
[{"$f":"head27a","v":"References"}]
["1. Pension and medical aid"]
["2. Total package must equal the total cost to the municipality"]
["3. List each political office bearer by designation. Provide a total for all other councillors"]
["4. Political office bearer is defined in MFMA s 1: speaker, executive mayor, deputy executive mayor, member of executive committee,"]
["    mayor, deputy mayor, member of mayoral committee, the councillor designated to exercise powers and duties of mayor (MSA s 57)"]
["5. Also list each senior manager reporting to MM by designation and each official with package >= senior manager by designation"]
["6. List each entity where municipality has an interest and state percentage ownership and control"]
["7. List each senior manager reporting to the CEO of an Entity by designation"]
["8. Must reconcile to relevant section of Table SA24"]
["9. Must reconcile to totals shown for the budget year of Table SA22"]
["10. Correct as at 30 June"]

{"sheet":"SA24","index":45,"n_rows":53,"n_cols":11,"rows_kept":53,"cut":false,"hidden":false,"merged":[]}
[{"$f":"muni&\" - \"&TableA24","v":"DC12 Amathole - Supporting Table SA24 Summary of personnel numbers"}]
["Summary of Personnel Numbers",{"$f":"head27","v":"Ref"},{"$f":"Head1","v":"2018/19"},null,null,{"$f":"Head2","v":"Current Year 2019/20"},null,null,{"$f":"Head9","v":"Budget Year 2020/21"}]
["Number","1,2","Positions","Permanent employees","Contract employees","Positions","Permanent employees","Contract employees","Positions","Permanent employees","Contract employees"]
["Municipal Council and Boards of Municipal Entities"]
["Councillors (Political Office Bearers plus Other Councillors)",null,null,52,null,55,null,55,54,null,54]
["Board Members of municipal entities",4]
["Municipal employees",5]
["Municipal Manager and Senior Managers",3,null,8,null,8,null,8,7,null,7]
["Other Managers",7,156,null,null,137,null,137,165,165]
["Professionals",null,{"$f":"SUM(C11:C19)","v":996},{"$f":"SUM(D11:D19)","v":1},0,137,137,0,113,113,0]
["Finance",null,200,1,null,96,96,null,22,22]
["Spatial/town planning",null,0,0]
["Information Technology",null,13,null,null,7,7,null,5,5]
["Roads",null,0,0]
["Electricity",null,0,0]
["Water",null,783,null,null,9,9,null,33,33]
["Sanitation"]
["Refuse"]
["Other",null,null,null,null,25,25,null,53,53]
["Technicians",null,{"$f":"SUM(C21:C29)","v":35},{"$f":"SUM(D21:D29)","v":0},0,352,349,3,500,500,0]
["Finance",null,null,null,null,51,50,1,109,109]
["Spatial/town planning",null,0]
["Information Technology",null,35,null,null,35,33,2,9,9]
["Roads",null,0]
["Electricity",null,0]
["Water",null,null,null,null,86,86,null,169,169]
["Sanitation"]
["Refuse",null,0]
["Other",null,null,null,null,180,180,null,213,213]
["Clerks (Clerical and administrative)",null,56,2,null,149,146,3,171,171]
["Service and sales workers"]
["Skilled agricultural and fishery workers"]
["Craft and related trades"]
["Plant and Machine Operators",null,443,1,null,107,107]
["Elementary Occupations",null,368,null,null,500,472,28,768,768]
["TOTAL PERSONNEL NUMBERS",9,{"$f":"SUM(C5:C9)+SUM(C11:C19)+SUM(C21:C35)","v":2054},{"$f":"SUM(D5:D9)+SUM(D11:D19)+SUM(D21:D35)","v":64},0,1445,1211,{"$f":"SUM(H5:H9)+SUM(H11:H19)+SUM(H21:H35)","v":234},1778,1717,61]
["% increase",null,null,null,null,{"$f":"IF(ISERROR((F36/C36)-1),0,((F36/C36)-1))","v":-0.29649464459591046},17.921875,0,0.23044982698961936,0.41783649876135431,-0.73931623931623935]
[]
["Total municipal employees headcount","6, 10",1330,1330,0,1445,1211,234,1439,1439,61]
["Finance personnel headcount","8, 10",229,228,1,219,218,1,131,131]
["Human Resources personnel headcount","8, 10",82,80,2,38,36,2,143,143]
[]
[{"$f":"head27a","v":"References"}]
["1. Positions must be funded and aligned to the municipality's current organisational structure"]
["2. Full Time Equivalent (FTE). E.g. One full time person = 1FTE. A person working half time (say 4 hours out of 8) = 0.5FTE."]
["3. s57 of the Systems Act"]
["4. Include only in Consolidated Statements"]
["5. Include municipal entity employees in Consolidated Statements"]
["6.  Include headcount (number fo persons, Not FTE) of managers and staff only (exclude councillors)"]
["7. Managers who provide the direction of a critical technical function"]
["8. Total number of employees working on these functions"]
["9. Correct as at 30 June"]
["10. Must account for all budgeted positions, as per the municipal organogram"]

{"sheet":"SA25","index":46,"n_rows":48,"n_cols":17,"rows_kept":48,"cut":false,"hidden":false,"merged":[[1,2,1,13],[1,14,1,16]]}
[{"$f":"muni&\" - \"& TableA25","v":"DC12 Amathole - Supporting Table SA25 Budgeted monthly revenue and expenditure"}]
[{"$f":"desc","v":"Description"},{"$f":"head27","v":"Ref"},{"$f":"Head9","v":"Budget Year 2020/21"},null,null,null,null,null,null,null,null,null,null,null,"Medium Term Revenue and Expenditure Framework"]
["R thousand",null,"July","August","Sept.","October","November","December","January","February","March","April","May","June",{"$f":"Head9","v":"Budget Year 2020/21"},{"$f":"Head10","v":"Budget Year +1 2021/22"},{"$f":"Head11","v":"Budget Year +2 2022/23"}]
[{"$f":"'A4-FinPerf RE'!A4","v":"Revenue By Source"}]
[{"$f":"'A4-FinPerf RE'!A5","v":"Property rates"},null,null,null,null,null,null,null,null,null,null,null,null,{"$f":"O5-SUM(C5:M5)","v":0},{"$f":"'A4-FinPerf RE'!J5","v":0},{"$f":"'A4-FinPerf RE'!K5","v":0},{"$f":"'A4-FinPerf RE'!L5","v":0}]
[{"$f":"'A4-FinPerf RE'!A6","v":"Service charges - electricity revenue"},null,null,null,null,null,null,null,null,null,null,null,null,0,{"$f":"'A4-FinPerf RE'!J6","v":0},{"$f":"'A4-FinPerf RE'!K6","v":0},{"$f":"'A4-FinPerf RE'!L6","v":0}]
[{"$f":"'A4-FinPerf RE'!A7","v":"Service charges - water revenue"},null,31400980.48,34201103.039999999,37001225.600000001,39801348.159999996,37001225.600000001,25800735.359999999,31400980.48,37001225.600000001,28400980.48,25800735.359999999,22400980.48,33300421.359999955,{"$f":"'A4-FinPerf RE'!J7","v":383511942},{"$f":"'A4-FinPerf RE'!K7","v":408022656},{"$f":"'A4-FinPerf RE'!L7","v":413820012}]
[{"$f":"'A4-FinPerf RE'!A8","v":"Service charges - sanitation revenue"},null,11243274.4,12648683.699999999,14054093,15459502.300000001,14054093,8432455.7999999989,11243274.4,14054093,11243274.4,8432455.7999999989,11243274.4,8432455.7999999821,{"$f":"'A4-FinPerf RE'!J8","v":140540930},{"$f":"'A4-FinPerf RE'!K8","v":148973389},{"$f":"'A4-FinPerf RE'!L8","v":157911795}]
[{"$f":"'A4-FinPerf RE'!A9","v":"Service charges - refuse revenue"},null,592749.36,666843.03,740936.70000000007,815030.37,740936.70000000007,444562.01999999996,592749.36,740936.70000000007,592749.36,444562.01999999996,592749.36,444562.01999999862,{"$f":"'A4-FinPerf RE'!J9","v":7409367},{"$f":"'A4-FinPerf RE'!K9","v":7853929},{"$f":"'A4-FinPerf RE'!L9","v":8325165}]
[]
[{"$f":"'A4-FinPerf RE'!A11","v":"Rental of facilities and equipment"},null,25476.16,28660.68,31845.200000000001,35029.72,31845.200000000001,19107.12,25476.16,31845.200000000001,25476.16,19107.12,25476.16,19107.119999999995,{"$f":"'A4-FinPerf RE'!J11","v":318452},{"$f":"'A4-FinPerf RE'!K11","v":350297},{"$f":"'A4-FinPerf RE'!L11","v":385327}]
[{"$f":"'A4-FinPerf RE'!A12","v":"Interest earned - external investments"},null,1432880.72,1611990.81,1791100.9000000001,1970210.99,1791100.9000000001,1074660.54,1432880.72,1791100.9000000001,1432880.72,1074660.54,1432880.72,1074660.5399999991,{"$f":"'A4-FinPerf RE'!J12","v":17911009},{"$f":"'A4-FinPerf RE'!K12","v":18717004},{"$f":"'A4-FinPerf RE'!L12","v":19559270}]
[{"$f":"'A4-FinPerf RE'!A13","v":"Interest earned - outstanding debtors"},null,7444487.2800000003,8375048.1899999995,9305609.0999999996,10236170.01,9305609.0999999996,5583365.46,7444487.2800000003,9305609.0999999996,7444487.2800000003,5583365.46,7444487.2800000003,5583365.4600000083,{"$f":"'A4-FinPerf RE'!J13","v":93056091},{"$f":"'A4-FinPerf RE'!K13","v":98639456},{"$f":"'A4-FinPerf RE'!L13","v":104557824}]
[{"$f":"'A4-FinPerf RE'!A14","v":"Dividends received"},null,null,null,null,null,null,null,null,null,null,null,null,0,{"$f":"'A4-FinPerf RE'!J14","v":0},{"$f":"'A4-FinPerf RE'!K14","v":0},{"$f":"'A4-FinPerf RE'!L14","v":0}]
[{"$f":"'A4-FinPerf RE'!A15","v":"Fines, penalties and forfeits"},null,null,null,null,null,null,null,null,null,null,null,null,0,{"$f":"'A4-FinPerf RE'!J15","v":0},{"$f":"'A4-FinPerf RE'!K15","v":0},{"$f":"'A4-FinPerf RE'!L15","v":0}]
[{"$f":"'A4-FinPerf RE'!A16","v":"Licences and permits"},null,null,null,null,null,null,null,null,null,null,null,null,0,{"$f":"'A4-FinPerf RE'!J16","v":0},{"$f":"'A4-FinPerf RE'!K16","v":0},{"$f":"'A4-FinPerf RE'!L16","v":0}]
[{"$f":"'A4-FinPerf RE'!A17","v":"Agency services"},null,null,null,null,null,null,null,null,null,null,null,null,0,{"$f":"'A4-FinPerf RE'!J17","v":0},{"$f":"'A4-FinPerf RE'!K17","v":0},{"$f":"'A4-FinPerf RE'!L17","v":0}]
[{"$f":"'A4-FinPerf RE'!A18","v":"Transfers and subsidies"},null,242935508.33333331,0,4254180,235664994.33333331,6270513,235664994.33333331,4254180,0,230387763,null,null,0,{"$f":"'A4-FinPerf RE'!J18","v":959432133},{"$f":"'A4-FinPerf RE'!K18","v":991670163},{"$f":"'A4-FinPerf RE'!L18","v":1057558355}]
[{"$f":"'A4-FinPerf RE'!A19","v":"Other revenue"},null,5778111.3600000003,6500375.2799999993,7222639.2000000002,7944903.1200000001,7222639.2000000002,4333583.5199999996,5778111.3600000003,7222639.2000000002,5778111.3600000003,4333583.5199999996,5778111.3600000003,4333583.5199999958,{"$f":"'A4-FinPerf RE'!J19","v":72226392},{"$f":"'A4-FinPerf RE'!K19","v":82017792},{"$f":"'A4-FinPerf RE'!L19","v":82542505}]
[{"$f":"'A4-FinPerf RE'!A20","v":"Gains"},null,null,null,null,null,null,null,null,null,null,null,null,0,{"$f":"'A4-FinPerf RE'!J20","v":0},{"$f":"'A4-FinPerf RE'!K20","v":0},{"$f":"'A4-FinPerf RE'!L20","v":0}]
[{"$f":"'A4-FinPerf RE'!A21","v":"Total Revenue (excluding capital transfers and contributions)"},null,{"$f":"SUM(C5:C9)+SUM(C11:C20)","v":300853468.0933333},{"$f":"SUM(D5:D9)+SUM(D11:D20)","v":64032704.729999997},74401629.700000003,311927189.00333333,76417962.700000003,281353464.15333331,62172139.760000005,70147449.700000003,285305722.75999999,45688469.82,48917959.760000005,53188155.819999933,1674406316,1756244686,1844660253]
[]
[{"$f":"'A4-FinPerf RE'!A23","v":"Expenditure By Type"}]
[{"$f":"'A4-FinPerf RE'!A24","v":"Employee related costs"},null,38933205.368149713,48771390.868060887,70079769.66266948,70079769.66266948,72131314.088950709,77866410.736299425,56558031.941690817,77866410.736299425,62293128.589039542,72131314.088950709,62293128.589039542,{"$f":"O24-SUM(C24:M24)","v":77866410.736299396},{"$f":"'A4-FinPerf RE'!J24","v":786870285.06811917},{"$f":"'A4-FinPerf RE'!K24","v":821578040.91851282},{"$f":"'A4-FinPerf RE'!L24","v":852073685.81440067}]
[{"$f":"'A4-FinPerf RE'!A25","v":"Remuneration of councillors"},null,739307.87363726308,926126.50142840063,1330754.1725470733,1330754.1725470733,1369711.2256107582,1478615.7472745262,1073988.076155853,1478615.7472745262,1182892.597819621,1369711.2256107582,1182892.597819621,1478615.7472745292,{"$f":"'A4-FinPerf RE'!J25","v":14941985.685000001},{"$f":"'A4-FinPerf RE'!K25","v":14941985.685000001},{"$f":"'A4-FinPerf RE'!L25","v":14941985.685000001}]
[{"$f":"'A4-FinPerf RE'!A26","v":"Debt impairment"},null,10950056.699187584,13717069.793087184,19710102.058537647,19710102.058537647,20287103.81259973,21900113.398375168,15907081.132924698,21900113.398375168,17520090.718700133,20287103.81259973,17520090.718700133,21900113.398375154,{"$f":"'A4-FinPerf RE'!J26","v":221309141},{"$f":"'A4-FinPerf RE'!K26","v":234587689},{"$f":"'A4-FinPerf RE'!L26","v":248662951}]
[{"$f":"'A4-FinPerf RE'!A27","v":"Depreciation & asset impairment"},null,8427057.1621174626,10556523.533953642,15168702.891811432,15168702.891811432,15612757.831224117,16854114.324234925,12241934.966377132,16854114.324234925,13483291.459387941,15612757.831224117,13483291.459387941,16854114.324234933,{"$f":"'A4-FinPerf RE'!J27","v":170317363},{"$f":"'A4-FinPerf RE'!K27","v":187349108},{"$f":"'A4-FinPerf RE'!L27","v":206084037}]
[{"$f":"'A4-FinPerf RE'!A28","v":"Finance charges"},null,1392302.9561760733,1744129.4915309218,2506145.3211169313,2506145.3211169313,2579511.2652365654,2784605.9123521466,2022590.0827661359,2784605.9123521466,2227684.7298817174,2579511.2652365654,2227684.7298817174,2784605.9123521447,{"$f":"'A4-FinPerf RE'!J28","v":28139522.899999999},{"$f":"'A4-FinPerf RE'!K28","v":30338874.584899995},{"$f":"'A4-FinPerf RE'!L28","v":32441437.161427893}]
[{"$f":"'A4-FinPerf RE'!A29","v":"Bulk purchases"},null,5937426.7053095205,7437778.5198238241,10687368.069557134,10687368.069557134,11000234.543009534,11874853.410619041,8625263.8608857263,11874853.410619041,9499882.7284952328,11000234.543009534,9499882.7284952328,11874853.41061905,{"$f":"'A4-FinPerf RE'!J29","v":120000000},{"$f":"'A4-FinPerf RE'!K29","v":129936000},{"$f":"'A4-FinPerf RE'!L29","v":140694700.80000001}]
[{"$f":"'A4-FinPerf RE'!A30","v":"Other materials"},null,2203450.3875326561,2760248.9723759075,3966210.6975587807,3966210.6975587807,4082319.2048955006,4406900.7750653122,3200939.049882438,4406900.7750653122,3525520.6200522501,4082319.2048955006,3525520.6200522501,4406900.7750653103,{"$f":"'A4-FinPerf RE'!J30","v":44533441.780000001},{"$f":"'A4-FinPerf RE'!K30","v":12338832},{"$f":"'A4-FinPerf RE'!L30","v":14938395}]
[{"$f":"'A4-FinPerf RE'!A31","v":"Contracted services"},null,3207516.3793833894,4018036.3670387734,5773529.4828901002,5773529.4828901002,5942546.1946688062,6415032.7587667787,4659539.64291545,6415032.7587667787,5132026.2070134236,5942546.1946688062,5132026.2070134236,6415032.7587667853,{"$f":"'A4-FinPerf RE'!J31","v":64826394.434782609},{"$f":"'A4-FinPerf RE'!K31","v":89945034.340869576},{"$f":"'A4-FinPerf RE'!L31","v":96503104.609001741}]
[{"$f":"'A4-FinPerf RE'!A32","v":"Transfers and subsidies"},null,null,5000000,null,null,null,5000000,null,null,5000000,null,null,0,{"$f":"'A4-FinPerf RE'!J32","v":15000000},{"$f":"'A4-FinPerf RE'!K32","v":10000000},{"$f":"'A4-FinPerf RE'!L32","v":10000000}]
[{"$f":"'A4-FinPerf RE'!A33","v":"Other expenditure"},null,9565599.3642509971,11982768.463826887,17218078.855651792,17218078.855651792,17722128.082377482,19131198.728501994,13895888.336677084,19131198.728501994,15304958.982801596,17722128.082377482,15304958.982801596,19131198.728502005,{"$f":"'A4-FinPerf RE'!J33","v":193328184.19192269},{"$f":"'A4-FinPerf RE'!K33","v":210158202.23630938},{"$f":"'A4-FinPerf RE'!L33","v":213248075.93421713}]
[{"$f":"'A4-FinPerf RE'!A34","v":"Losses"},null,null,null,null,null,null,null,null,null,null,null,null,0,{"$f":"'A4-FinPerf RE'!J34","v":0},{"$f":"'A4-FinPerf RE'!K34","v":0},{"$f":"'A4-FinPerf RE'!L34","v":0}]
[{"$f":"'A4-FinPerf RE'!A35","v":"Total Expenditure"},null,{"$f":"SUM(C24:C34)","v":81355922.895744666},{"$f":"SUM(D24:D34)","v":106914072.51112643},146440661.21234035,146440661.21234035,150727626.24857321,167711845.79148933,118185257.09027536,162711845.79148933,135169476.63319147,150727626.24857321,130169476.63319148,162711845.79148933,1659266318.0598242,1741173766.7655916,1829588373.0040474]
[]
[{"$f":"'A4-FinPerf RE'!A37","v":"Surplus/(Deficit)"},null,{"$f":"C21-C35","v":219497545.19758862},-42881367.781126432,-72039031.512340352,165486527.79099298,-74309663.548573211,113641618.36184397,-56013117.330275357,-92564396.09148933,150136246.12680852,-105039156.42857322,-81251516.873191476,-109523689.9714894,15139997.940175772,15070919.234408379,15071879.995952606]
[{"$f":"'A4-FinPerf RE'!A38","v":"Transfers and subsidies - capital (monetary allocations) (National / Provincial and District)"},null,24312845.273209296,30456554.211804688,43763121.491776727,43763121.491776727,45044261.375730254,48625690.546418592,35319123.266446538,48625690.546418592,38900552.437134869,45044261.375730254,38900552.437134869,{"$f":"O38-SUM(C38:M38)","v":48625691.546418607},{"$f":"'A4-FinPerf RE'!J38","v":491381466},{"$f":"'A4-FinPerf RE'!K38","v":600491315},{"$f":"'A4-FinPerf RE'!L38","v":603602546}]
[{"$f":"'A4-FinPerf RE'!A39","v":"Transfers and subsidies - capital (monetary allocations) (National / Provincial Departmental Agencies, Households, Non-profit Institutions, Private Enterprises, Public Corporatons, Higher Educational Institutions)"},null,null,null,null,null,null,null,null,null,null,null,null,{"$f":"O39-SUM(C39:M39)","v":0},{"$f":"'A4-FinPerf RE'!J39","v":0},{"$f":"'A4-FinPerf RE'!K39","v":0},{"$f":"'A4-FinPerf RE'!L39","v":0}]
[{"$f":"'A4-FinPerf RE'!A40","v":"Transfers and subsidies - capital (in-kind - all) "},null,null,null,null,null,null,null,null,null,null,null,null,{"$f":"O40-SUM(C40:M40)","v":0},{"$f":"'A4-FinPerf RE'!J40","v":0},{"$f":"'A4-FinPerf RE'!K40","v":0},{"$f":"'A4-FinPerf RE'!L40","v":0}]
[{"$f":"'A4-FinPerf RE'!A41","v":"Surplus/(Deficit) after capital transfers & contributions"},null,{"$f":"C37+SUM(C38:C40)","v":243810390.47079793},-12424813.569321744,-28275910.020563625,209249649.28276971,-29265402.172842957,162267308.90826255,-20693994.063828819,-43938705.545070738,189036798.56394339,-59994895.052842967,-42350964.436056606,-60897998.425070792,{"$f":"O37+SUM(O38:O40)","v":506521463.94017577},{"$f":"P37+SUM(P38:P40)","v":615562234.23440838},{"$f":"Q37+SUM(Q38:Q40)","v":618674425.99595261}]
[{"$f":"'A4-FinPerf RE'!A42","v":"Taxation"},null,null,null,null,null,null,null,null,null,null,null,null,{"$f":"O42-SUM(C42:M42)","v":0},{"$f":"'A4-FinPerf RE'!J42","v":0},{"$f":"'A4-FinPerf RE'!K42","v":0},{"$f":"'A4-FinPerf RE'!L42","v":0}]
[{"$f":"'A4-FinPerf RE'!A44","v":"Attributable to minorities"},null,null,null,null,null,null,null,null,null,null,null,null,{"$f":"O43-SUM(C43:M43)","v":0},{"$f":"'A4-FinPerf RE'!J44","v":0},{"$f":"'A4-FinPerf RE'!K44","v":0},{"$f":"'A4-FinPerf RE'!L44","v":0}]
[{"$f":"'A4-FinPerf RE'!A46","v":"Share of surplus/ (deficit) of associate"},null,null,null,null,null,null,null,null,null,null,null,null,{"$f":"O44-SUM(C44:M44)","v":0},{"$f":"'A4-FinPerf RE'!J46","v":0},{"$f":"'A4-FinPerf RE'!K46","v":0},{"$f":"'A4-FinPerf RE'!L46","v":0}]
[{"$f":"'A4-FinPerf RE'!A37","v":"Surplus/(Deficit)"},1,{"$f":"C41-C42+SUM(C43:C44)","v":243810390.47079793},{"$f":"D41-D42+SUM(D43:D44)","v":-12424813.569321744},-28275910.020563625,209249649.28276971,-29265402.172842957,162267308.90826255,-20693994.063828819,-43938705.545070738,189036798.56394339,-59994895.052842967,-42350964.436056606,{"$f":"N41-N42+SUM(N43:N44)","v":-60897998.425070792},{"$f":"O41-O42+SUM(O43:O44)","v":506521463.94017577},{"$f":"P41-P42+SUM(P43:P44)","v":615562234.23440838},{"$f":"Q41-Q42+SUM(Q43:Q44)","v":618674425.99595261}]
[{"$f":"head27a","v":"References"}]
["1. Surplus (Deficit) must reconcile with Budgeted Financial Performance"]
["check",null,null,null,null,null,null,null,null,null,null,null,null,null,{"$f":"O45-'A4-FinPerf RE'!J47","v":0},{"$f":"P45-'A4-FinPerf RE'!K47","v":0},{"$f":"Q45-'A4-FinPerf RE'!L47","v":0}]

{"sheet":"SA26","index":47,"n_rows":48,"n_cols":17,"rows_kept":48,"cut":false,"hidden":false,"merged":[[1,2,1,13],[1,14,1,16]]}
[{"$f":"muni&\" - \"&TableA26","v":"DC12 Amathole - Supporting Table SA26 Budgeted monthly revenue and expenditure (municipal vote)"}]
[{"$f":"desc","v":"Description"},{"$f":"head27","v":"Ref"},{"$f":"Head9","v":"Budget Year 2020/21"},null,null,null,null,null,null,null,null,null,null,null,"Medium Term Revenue and Expenditure Framework"]
["R thousand",null,"July","August","Sept.","October","November","December","January","February","March","April","May","June",{"$f":"Head9","v":"Budget Year 2020/21"},{"$f":"Head10","v":"Budget Year +1 2021/22"},{"$f":"Head11","v":"Budget Year +2 2022/23"}]
[{"$f":"'A3-FinPerf V'!A4","v":"Revenue by Vote"}]
[{"$f":"'A3-FinPerf V'!A5","v":"Vote 1 - Legislative & Executive Support Services"},null,null,null,null,null,null,null,null,null,null,null,null,{"$f":"O5-SUM(C5:M5)","v":0},{"$f":"'A3-FinPerf V'!I5","v":0},{"$f":"'A3-FinPerf V'!J5","v":0},{"$f":"'A3-FinPerf V'!K5","v":0}]
[{"$f":"'A3-FinPerf V'!A6","v":"Vote 2 - Strategic Management"},null,4955541.9203215521,972926.53043251985,1156239.3849409746,5151314.9050731305,1191886.2585502446,4610800.1659439523,940033.48928930343,1081029.4782583558,4937862.8418875113,648617.6869550132,864823.58260668453,1075403.7557407618,{"$f":"'A3-FinPerf V'!I6","v":27586480},{"$f":"'A3-FinPerf V'!J6","v":29697412},{"$f":"'A3-FinPerf V'!K6","v":31689608}]
[{"$f":"'A3-FinPerf V'!A7","v":"Vote 3 - Corporate Services"},null,15876820.355864573,3117112.1123579177,3704419.2740664044,16504047.924394663,3818626.5631262995,14772318.973084707,3011727.6935424223,3463457.9026199095,15820179.214115078,2078074.7415719451,2770766.3220959273,3445433.9231601506,{"$f":"'A3-FinPerf V'!I7","v":88382985},{"$f":"'A3-FinPerf V'!J7","v":95153575},{"$f":"'A3-FinPerf V'!K7","v":101548310}]
[{"$f":"'A3-FinPerf V'!A8","v":"Vote 4 - Budget & Treasury"},null,40507352.420355864,7952849.2505996013,9451276.3691968676,42107630.536296517,9742659.3289602064,37689380.952630073,7683976.5357302893,8836499.1673328914,40362840.947723955,5301899.5003997339,7069199.3338663131,8790513.6569076777,{"$f":"'A3-FinPerf V'!I8","v":225496078},{"$f":"'A3-FinPerf V'!J8","v":240822736},{"$f":"'A3-FinPerf V'!K8","v":255782026}]
[{"$f":"'A3-FinPerf V'!A9","v":"Vote 5 - Engineering Department"},null,196085193.14855832,38497603.230211072,45751085.707173251,203831708.89709061,47161592.20862212,182444151.54697332,37196062.767126344,42775114.700234532,195385651.99540782,25665068.820140712,34220091.760187618,42552511.218274355,{"$f":"'A3-FinPerf V'!I9","v":1091565836},{"$f":"'A3-FinPerf V'!J9","v":1213423525},{"$f":"'A3-FinPerf V'!K9","v":1252569794}]
[{"$f":"'A3-FinPerf V'!A10","v":"Vote 6 - Health & Protection Department"},null,15875457.452857396,3116844.5322394543,3704101.2781418227,16502631.178721247,3818298.7633836856,14771050.883032659,3011469.1598663884,3463160.5913771722,15818821.173314607,2077896.3548263027,2770528.4731017374,3445138.159137547,{"$f":"'A3-FinPerf V'!I10","v":88375398},{"$f":"'A3-FinPerf V'!J10","v":95010093},{"$f":"'A3-FinPerf V'!K10","v":101325574}]
[{"$f":"'A3-FinPerf V'!A11","v":"Vote 7 - Water & Sanitation Management"},null,0,0,0,0,0,0,0,0,0,0,0,{"$f":"O11-SUM(C11:M11)","v":0},{"$f":"'A3-FinPerf V'!I11","v":0},{"$f":"'A3-FinPerf V'!J11","v":0},{"$f":"'A3-FinPerf V'!K11","v":0}]
[{"$f":"'A3-FinPerf V'!A12","v":"Vote 8 - Water Services"},null,83092426.67330426,16313619.718755361,19387331.971910812,86375065.109551981,19985043.640813138,77311943.043576777,15762083.145520732,18126244.131950404,82795991.378829584,10875746.479170239,14500995.305560322,{"$f":"O12-SUM(C12:M12)","v":18031914.40105629},{"$f":"'A3-FinPerf V'!I12","v":462558405},{"$f":"'A3-FinPerf V'!J12","v":492535771},{"$f":"'A3-FinPerf V'!K12","v":503557764}]
[{"$f":"'A3-FinPerf V'!A13","v":"Vote 9 - Sanitation Services"},null,25246297.10408783,4956630.9079179242,5890528.9280195432,26243673.983844239,6072134.0029924745,23489990.146112058,4789055.3929266706,5507367.675464361,25156230.008733042,3304420.6052786158,4405894.1403714884,{"$f":"O13-SUM(C13:M13)","v":5478707.1042517424},{"$f":"'A3-FinPerf V'!I13","v":140540930},{"$f":"'A3-FinPerf V'!J13","v":148973389},{"$f":"'A3-FinPerf V'!K13","v":157911795}]
[{"$f":"'A3-FinPerf V'!A14","v":"Vote 10 - Land Human Settlement & Economic Development"},null,4366134.2428749129,857207.52818236058,1018717.3174440316,4538622.1657493962,1050124.3841219721,4062395.7612036401,828226.75562572922,952452.80909151188,4350557.8980524018,571471.68545490701,761962.2472732095,{"$f":"O14-SUM(C14:M14)","v":947496.20492592454},{"$f":"'A3-FinPerf V'!I14","v":24305369},{"$f":"'A3-FinPerf V'!J14","v":22844164},{"$f":"'A3-FinPerf V'!K14","v":24376623}]
[{"$f":"'A3-FinPerf V'!A15","v":"Vote 11 - Municipal Management"},null,3049565.2673881077,598724.21677242324,711532.1645535368,3170040.9901628583,733468.70941536501,2837416.4252892896,578482.33860410936,665249.12974713708,3038685.8309069443,399149.47784828214,532199.30379770964,661787.14551423676,{"$f":"'A3-FinPerf V'!I15","v":16976301},{"$f":"'A3-FinPerf V'!J15","v":18275336},{"$f":"'A3-FinPerf V'!K15","v":19501305}]
[{"$f":"'A3-FinPerf V'!A16","v":"Vote 12 - [NAME OF VOTE 12]"},null,null,null,null,null,null,null,null,null,null,null,null,0,{"$f":"'A3-FinPerf V'!I16","v":0},{"$f":"'A3-FinPerf V'!J16","v":0},{"$f":"'A3-FinPerf V'!K16","v":0}]
[{"$f":"'A3-FinPerf V'!A17","v":"Vote 13 - [NAME OF VOTE 13]"},null,null,null,null,null,null,null,null,null,null,null,null,0,{"$f":"'A3-FinPerf V'!I17","v":0},{"$f":"'A3-FinPerf V'!J17","v":0},{"$f":"'A3-FinPerf V'!K17","v":0}]
[{"$f":"'A3-FinPerf V'!A18","v":"Vote 14 - [NAME OF VOTE 14]"},null,null,null,null,null,null,null,null,null,null,null,null,0,{"$f":"'A3-FinPerf V'!I18","v":0},{"$f":"'A3-FinPerf V'!J18","v":0},{"$f":"'A3-FinPerf V'!K18","v":0}]
[{"$f":"'A3-FinPerf V'!A19","v":"Vote 15 - [NAME OF VOTE 15]"},null,null,null,null,null,null,null,null,null,null,null,null,0,{"$f":"'A3-FinPerf V'!I19","v":0},{"$f":"'A3-FinPerf V'!J19","v":0},{"$f":"'A3-FinPerf V'!K19","v":0}]
[{"$f":"'A3-FinPerf V'!A20","v":"Total Revenue by Vote"},null,{"$f":"SUM(C5:C19)","v":389054788.58561283},76383518.027468637,90775232.395447224,{"$f":"SUM(F5:F19)","v":404424735.69088459},93573833.859985515,361989447.89784646,73801117.278231964,84870575.586076275,387666821.28897095,50922345.351645753,67896460.468860999,84428905.568968683,2165787782,2356736001,2448262799]
[]
[{"$f":"'A3-FinPerf V'!A22","v":"Expenditure by Vote to be appropriated"}]
[{"$f":"A5","v":"Vote 1 - Legislative & Executive Support Services"},null,null,null,null,null,null,null,null,null,null,null,null,{"$f":"O23-SUM(C23:M23)","v":0},{"$f":"'A3-FinPerf V'!I23","v":0},{"$f":"'A3-FinPerf V'!J23","v":0},{"$f":"'A3-FinPerf V'!K23","v":0}]
["Vote 2 - Strategic Management",null,4525670.7926237052,5669280.4273389168,8146207.4267226672,8146207.4267226672,8384682.9029131383,9051341.5852474105,6574414.5858636564,9051341.5852474105,7241073.2681979276,8384682.9029131383,7241073.2681979276,9051341.5852473974,{"$f":"'A3-FinPerf V'!I24","v":91467317.757235974},{"$f":"'A3-FinPerf V'!J24","v":94050544.481900007},{"$f":"'A3-FinPerf V'!K24","v":98254624.428369373}]
["Vote 3 - Corporate Services",null,10359634.614685576,12977451.619137917,18647342.306434035,18647342.306434035,19193232.387949258,20719269.229371153,15049378.542075029,20719269.229371153,16575415.383496922,19193232.387949258,16575415.383496922,20719269.22937119,{"$f":"'A3-FinPerf V'!I25","v":209376252.6197724},{"$f":"'A3-FinPerf V'!J25","v":224518946.86869094},{"$f":"'A3-FinPerf V'!K25","v":232242159.86198863}]
["Vote 4 - Budget & Treasury",null,7094480.8849040661,8887213.2918884438,12770065.592827318,12770065.592827318,13143901.822830882,14188961.769808132,10306109.468869256,14188961.769808132,11351169.415846506,13143901.822830882,11351169.415846506,14188961.769808128,{"$f":"'A3-FinPerf V'!I26","v":143384962.61809558},{"$f":"'A3-FinPerf V'!J26","v":152274159.19706878},{"$f":"'A3-FinPerf V'!K26","v":158844252.89928454}]
["Vote 5 - Engineering Department",null,7998003.213146395,10019050.247310983,14396405.783663509,14396405.783663509,14817852.175198819,15996006.42629279,11618650.88994026,15996006.42629279,12796805.141034232,14817852.175198819,12796805.141034232,15996006.426292777,{"$f":"'A3-FinPerf V'!I27","v":161645849.82906914},{"$f":"'A3-FinPerf V'!J27","v":136703859.10594457},{"$f":"'A3-FinPerf V'!K27","v":145095107.22920361}]
["Vote 6 - Health & Protection Department",null,6348076.0852947859,7952196.5142223183,11426536.953530613,11426536.953530613,11761042.165399188,12696152.170589572,9221811.7312812731,12696152.170589572,10156921.736471659,11761042.165399188,10156921.736471659,12696152.170589581,{"$f":"'A3-FinPerf V'!I28","v":128299542.55337001},{"$f":"'A3-FinPerf V'!J28","v":139246740.47136566},{"$f":"'A3-FinPerf V'!K28","v":144141658.87502632}]
["Vote 7 - Water & Sanitation Management",null,3105056.2893847758,3889685.2320513851,5589101.3208925957,5589101.3208925957,5752719.0056822496,6210112.5787695516,4510696.4899283396,6210112.5787695516,4968090.0630156407,5752719.0056822496,4968090.0630156407,6210112.5787695497,{"$f":"'A3-FinPerf V'!I29","v":62755596.526854128},{"$f":"'A3-FinPerf V'!J29","v":66590473.146178126},{"$f":"'A3-FinPerf V'!K29","v":69674649.043365389}]
["Vote 8 - Water Services",null,28287097.372187831,35435075.776999541,50916775.269938089,50916775.269938089,52407334.200312234,56574194.744375661,41092495.251437105,56574194.744375661,45259355.795500532,52407334.200312234,45259355.795500532,{"$f":"O30-SUM(C30:M30)","v":56574194.744375646},{"$f":"'A3-FinPerf V'!I30","v":571704183.16525316},{"$f":"'A3-FinPerf V'!J30","v":619140197.84559369},{"$f":"'A3-FinPerf V'!K30","v":660524869.39866507}]
["Vote 9 - Sanitation Services",null,9300222.7579988819,11650332.794367483,16740400.964397985,16740400.964397985,17230466.449166808,18600445.515997764,13510377.345967256,18600445.515997764,14880356.412798213,17230466.449166808,14880356.412798213,{"$f":"O31-SUM(C31:M31)","v":18600445.515997738},{"$f":"'A3-FinPerf V'!I31","v":187964717.09905294},{"$f":"'A3-FinPerf V'!J31","v":204245154.20727187},{"$f":"'A3-FinPerf V'!K31","v":213389622.710949}]
[{"$f":"A14","v":"Vote 10 - Land Human Settlement & Economic Development"},null,2938176.5311550456,3680635.9683283437,5288717.7560790814,5288717.7560790814,5443541.8870213702,5876353.0623100912,4268271.2745593516,5876353.0623100912,4701082.4498480726,5443541.8870213702,4701082.4498480726,{"$f":"O32-SUM(C32:M32)","v":5876353.0623100922},{"$f":"'A3-FinPerf V'!I32","v":59382827.146870062},{"$f":"'A3-FinPerf V'!J32","v":53716590.157684371},{"$f":"'A3-FinPerf V'!K32","v":55125659.383532733}]
["Vote 11 - Municipal Management",null,2141682.6925273011,2682872.9544590828,3855028.8465491412,3855028.8465491412,3967882.5699754627,4283365.3850546023,3111209.4929645425,4283365.3850546023,3426692.3080436816,3967882.5699754627,3426692.3080436816,4283365.3850545958,{"$f":"'A3-FinPerf V'!I33","v":43285068.744251303},{"$f":"'A3-FinPerf V'!J33","v":50687101.283893757},{"$f":"'A3-FinPerf V'!K33","v":52295769.173662975}]
["Vote 12 - [NAME OF VOTE 12]",null,null,null,null,null,null,null,null,null,null,null,null,0,{"$f":"'A3-FinPerf V'!I34","v":0},{"$f":"'A3-FinPerf V'!J34","v":0},{"$f":"'A3-FinPerf V'!K34","v":0}]
["Vote 13 - [NAME OF VOTE 13]",null,null,null,null,null,null,null,null,null,null,null,null,0,{"$f":"'A3-FinPerf V'!I35","v":0},{"$f":"'A3-FinPerf V'!J35","v":0},{"$f":"'A3-FinPerf V'!K35","v":0}]
["Vote 14 - [NAME OF VOTE 14]",null,null,null,null,null,null,null,null,null,null,null,null,0,{"$f":"'A3-FinPerf V'!I36","v":0},{"$f":"'A3-FinPerf V'!J36","v":0},{"$f":"'A3-FinPerf V'!K36","v":0}]
["Vote 15 - [NAME OF VOTE 15]",null,null,null,null,null,null,null,null,null,null,null,null,0,{"$f":"'A3-FinPerf V'!I37","v":0},{"$f":"'A3-FinPerf V'!J37","v":0},{"$f":"'A3-FinPerf V'!K37","v":0}]
[{"$f":"'A3-FinPerf V'!A38","v":"Total Expenditure by Vote"},null,{"$f":"SUM(C23:C37)","v":82098101.233908355},{"$f":"SUM(D23:D37)","v":102843794.82610442},147776582.22103506,147776582.22103506,152102655.5664494,164196202.46781671,119263415.07288608,164196202.46781671,131356961.97425339,152102655.5664494,131356961.97425339,164196202.46781668,{"$f":"SUM(O23:O37)","v":1659266318.0598247},{"$f":"SUM(P23:P37)","v":1741173766.7655916},{"$f":"SUM(Q23:Q37)","v":1829588373.0040474}]
[]
[{"$f":"'A4-FinPerf RE'!A37&\" before assoc.\"","v":"Surplus/(Deficit) before assoc."},null,{"$f":"C20-C38","v":306956687.35170448},-26460276.798635781,-57001349.825587839,256648153.46984953,-58528821.706463888,197793245.43002975,-45462297.794654116,-79325626.881740436,256309859.31471756,-101180310.21480365,-63460501.505392388,-79767296.898847997,506521463.94017529,615562234.23440838,618674425.99595261]
[]
[{"$f":"'SA25'!A42","v":"Taxation"},null,null,null,null,null,null,null,null,null,null,null,null,{"$f":"O42-SUM(C42:M42)","v":0},{"$f":"'SA25'!O42","v":0},{"$f":"'SA25'!P42","v":0},{"$f":"'SA25'!Q42","v":0}]
[{"$f":"'SA25'!A43","v":"Attributable to minorities"},null,null,null,null,null,null,null,null,null,null,null,null,{"$f":"O43-SUM(C43:M43)","v":0},{"$f":"'SA25'!O43","v":0},{"$f":"'SA25'!P43","v":0},{"$f":"'SA25'!Q43","v":0}]
[{"$f":"'A4-FinPerf RE'!A46","v":"Share of surplus/ (deficit) of associate"},null,null,null,null,null,null,null,null,null,null,null,null,{"$f":"O44-SUM(C44:M44)","v":0},{"$f":"'A4-FinPerf RE'!J46","v":0},{"$f":"'A4-FinPerf RE'!K46","v":0},{"$f":"'A4-FinPerf RE'!L46","v":0}]
[{"$f":"'A4-FinPerf RE'!A37","v":"Surplus/(Deficit)"},1,{"$f":"C40+C44","v":306956687.35170448},{"$f":"D40+D44","v":-26460276.798635781},-57001349.825587839,256648153.46984953,-58528821.706463888,197793245.43002975,-45462297.794654116,-79325626.881740436,256309859.31471756,-101180310.21480365,-63460501.505392388,-79767296.898847997,506521463.94017529,615562234.23440838,618674425.99595261]
[{"$f":"head27a","v":"References"}]
["1. Surplus (Deficit) must reconcile with Budgeted Financial Performance"]
["check",null,null,null,null,null,null,null,null,null,null,null,null,null,{"$f":"O45-'A4-FinPerf RE'!J47","v":-4.76837158203125E-7},{"$f":"P45-'A4-FinPerf RE'!K47","v":0},{"$f":"Q45-'A4-FinPerf RE'!L47","v":0}]

{"sheet":"SA27","index":48,"n_rows":56,"n_cols":17,"rows_kept":56,"cut":false,"hidden":false,"merged":[[1,2,1,13],[1,14,1,16]]}
[{"$f":"muni&\" - \"&TableA27","v":"DC12 Amathole - Supporting Table SA27 Budgeted monthly revenue and expenditure (functional classification)"}]
[{"$f":"desc","v":"Description"},{"$f":"head27","v":"Ref"},{"$f":"Head9","v":"Budget Year 2020/21"},null,null,null,null,null,null,null,null,null,null,null,"Medium Term Revenue and Expenditure Framework"]
["R thousand",null,"July","August","Sept.","October","November","December","January","February","March","April","May","June",{"$f":"Head9","v":"Budget Year 2020/21"},{"$f":"Head10","v":"Budget Year +1 2021/22"},{"$f":"Head11","v":"Budget Year +2 2022/23"}]
[{"$f":"'A2-FinPerf SC'!A4","v":"Revenue - Functional"}]
[{"$f":"'A2-FinPerf SC'!A5","v":"Governance and administration"},null,{"$f":"SUM(C6:C8)","v":59433738.043608539},{"$f":"SUM(D6:D8)","v":11668685.579729943},{"$f":"SUM(E6:E8)","v":13867227.807816809},61781719.450854041,14294754.601501871,55299116.351004064,11274186.567876821,12965206.199699938,59221705.992745981,7779123.7198199611,10372164.959759949,{"$f":"O5-SUM(C5:M5)","v":12897734.725582063},{"$f":"'A2-FinPerf SC'!I5","v":330855364},{"$f":"'A2-FinPerf SC'!J5","v":354251647},{"$f":"'A2-FinPerf SC'!K5","v":376831641}]
[{"$f":"'A2-FinPerf SC'!A6","v":"Executive and council"},null,3049565.2673881077,598724.21677242324,711532.1645535368,3170040.9901628583,733468.70941536501,2837416.4252892896,578482.33860410936,665249.12974713708,3038685.8309069443,399149.47784828214,532199.30379770964,661787.14551423676,{"$f":"'A2-FinPerf SC'!I6","v":16976301},{"$f":"'A2-FinPerf SC'!J6","v":18275336},{"$f":"'A2-FinPerf SC'!K6","v":19501305}]
[{"$f":"'A2-FinPerf SC'!A7","v":"Finance and administration"},null,56384172.776220433,11069961.362957519,13155695.643263273,58611678.460691184,13561285.892086506,52461699.925714776,10695704.229272712,12299957.069952801,56183020.161839038,7379974.241971679,9839965.65596224,12235947.580067813,{"$f":"'A2-FinPerf SC'!I7","v":313879063},{"$f":"'A2-FinPerf SC'!J7","v":335976311},{"$f":"'A2-FinPerf SC'!K7","v":357330336}]
[{"$f":"'A2-FinPerf SC'!A8","v":"Internal audit"},null,null,null,null,null,null,null,null,null,null,null,null,0,{"$f":"'A2-FinPerf SC'!I8","v":0},{"$f":"'A2-FinPerf SC'!J8","v":0},{"$f":"'A2-FinPerf SC'!K8","v":0}]
[{"$f":"'A2-FinPerf SC'!A9","v":"Community and public safety"},null,{"$f":"SUM(C10:C14)","v":19687412.734727062},{"$f":"SUM(D10:D14)","v":3865249.5475102607},4593516.1799625885,20465181.062608272,4735134.3369133854,18317820.202880349,3734571.8360714195,4294721.7194558457,19617177.164229058,2576833.0316735068,3435777.3755646767,4272371.8084035814,{"$f":"'A2-FinPerf SC'!I9","v":109595767},{"$f":"'A2-FinPerf SC'!J9","v":117854257},{"$f":"'A2-FinPerf SC'!K9","v":125702197}]
[{"$f":"'A2-FinPerf SC'!A10","v":"Community and social services"},null,null,null,null,null,null,null,null,null,null,null,null,0,{"$f":"'A2-FinPerf SC'!I10","v":0},{"$f":"'A2-FinPerf SC'!J10","v":0},{"$f":"'A2-FinPerf SC'!K10","v":0}]
[{"$f":"'A2-FinPerf SC'!A11","v":"Sport and recreation"},null,null,null,null,null,null,null,null,null,null,null,null,0,{"$f":"'A2-FinPerf SC'!I11","v":0},{"$f":"'A2-FinPerf SC'!J11","v":0},{"$f":"'A2-FinPerf SC'!K11","v":0}]
[{"$f":"'A2-FinPerf SC'!A12","v":"Public safety"},null,1390026.5194969017,272905.30492284865,324324.45003925101,1444940.7236306239,334323.37658466998,1293326.6653401523,263678.82672306238,303228.11658094299,1385067.5486600678,181936.86994856573,242582.49326475436,301650.10480815917,{"$f":"'A2-FinPerf SC'!I12","v":7737991},{"$f":"'A2-FinPerf SC'!J12","v":8202270},{"$f":"'A2-FinPerf SC'!K12","v":8694406}]
[{"$f":"'A2-FinPerf SC'!A13","v":"Housing"},null,3811955.2818696671,748405.01527080662,889414.90182076592,3962549.8838870269,916835.57352969993,3546769.3198476899,723102.67620503111,831561.1280786742,3798355.99091445,498936.67684720439,665248.90246293938,827233.64926604182,{"$f":"'A2-FinPerf SC'!I13","v":21220369},{"$f":"'A2-FinPerf SC'!J13","v":22844164},{"$f":"'A2-FinPerf SC'!K13","v":24376623}]
[{"$f":"'A2-FinPerf SC'!A14","v":"Health"},null,14485430.933360493,2843939.2273166054,3379776.8281025719,15057690.455090623,3483975.3867990156,13477724.217692507,2747790.333143326,3159932.474796229,14433753.624654539,1895959.484877737,2527945.9798369831,3143488.0543293804,{"$f":"'A2-FinPerf SC'!I14","v":80637407},{"$f":"'A2-FinPerf SC'!J14","v":86807823},{"$f":"'A2-FinPerf SC'!K14","v":92631168}]
[{"$f":"'A2-FinPerf SC'!A15","v":"Economic and environmental services"},null,{"$f":"SUM(C16:C18)","v":9863196.3114940673},{"$f":"SUM(D16:D18)","v":1936451.254092929},2301305.5322946394,10252850.442593953,2372254.8084691479,9177044.1903201025,1870983.0313850995,2151612.5045476994,9828008.9951510895,1290967.5027286191,1721290.0036381593,2140415.4232845008,{"$f":"'A2-FinPerf SC'!I15","v":54906380},{"$f":"'A2-FinPerf SC'!J15","v":56065662},{"$f":"'A2-FinPerf SC'!K15","v":59680658}]
[{"$f":"'A2-FinPerf SC'!A16","v":"Planning and development"},null,9330753.3810501304,1831916.1979276629,2177074.6214656737,9699372.89204612,2244193.8572226344,8681641.6709751952,1769982.133037304,2035462.4421418482,9297465.5744843502,1221277.4652851084,1628369.9537134783,2024869.8106504977,{"$f":"'A2-FinPerf SC'!I16","v":51942380},{"$f":"'A2-FinPerf SC'!J16","v":52938662},{"$f":"'A2-FinPerf SC'!K16","v":56372658}]
[{"$f":"'A2-FinPerf SC'!A17","v":"Road transport"},null,532442.93044393777,104535.05616526607,124230.9108289658,553477.55054783204,128060.95124651369,495402.51934490644,101000.89834779556,116150.0624058512,530543.42066673911,69690.037443510708,92920.049924680963,115545.61263400083,{"$f":"'A2-FinPerf SC'!I17","v":2964000},{"$f":"'A2-FinPerf SC'!J17","v":3127000},{"$f":"'A2-FinPerf SC'!K17","v":3308000}]
[{"$f":"'A2-FinPerf SC'!A18","v":"Environmental protection"},null,null,null,null,null,null,null,null,null,null,null,null,0,{"$f":"'A2-FinPerf SC'!I18","v":0},{"$f":"'A2-FinPerf SC'!J18","v":0},{"$f":"'A2-FinPerf SC'!K18","v":0}]
[{"$f":"'A2-FinPerf SC'!A19","v":"Trading services"},null,{"$f":"SUM(C20:C23)","v":300070441.49578309},{"$f":"SUM(D20:D23)","v":58913131.646135502},70013182.875373214,311924984.73482835,72171690.11310111,279195467.153642,56921375.842898645,65459035.16237279,298999929.13684475,39275421.097423673,52367228.12989822,{"$f":"O19-SUM(C19:M19)","v":65118383.611698866},{"$f":"'A2-FinPerf SC'!I19","v":1670430271},{"$f":"'A2-FinPerf SC'!J19","v":1828564435},{"$f":"'A2-FinPerf SC'!K19","v":1886048303}]
[{"$f":"'A2-FinPerf SC'!A20","v":"Energy sources"},null,null,null,null,null,null,null,null,null,null,null,null,0,{"$f":"'A2-FinPerf SC'!I20","v":0},{"$f":"'A2-FinPerf SC'!J20","v":0},{"$f":"'A2-FinPerf SC'!K20","v":0}]
[{"$f":"'A2-FinPerf SC'!A21","v":"Water management"},null,273493150.77556348,53695185.422598794,63812103.20137658,284297735.07680398,65779431.081041649,254467076.50869352,51879839.774132393,59661317.136220895,272517453.8807584,35796790.281732529,47729053.708976708,59350837.15210104,{"$f":"'A2-FinPerf SC'!I21","v":1522479974},{"$f":"'A2-FinPerf SC'!J21","v":1671737117},{"$f":"'A2-FinPerf SC'!K21","v":1719811343}]
[{"$f":"'A2-FinPerf SC'!A22","v":"Waste water management"},null,25246297.10408783,4956630.9079179242,5890528.9280195432,26243673.983844239,6072134.0029924745,23489990.146112058,4789055.3929266706,5507367.675464361,25156230.008733042,3304420.6052786158,4405894.1403714884,5478707.1042517424,{"$f":"'A2-FinPerf SC'!I22","v":140540930},{"$f":"'A2-FinPerf SC'!J22","v":148973389},{"$f":"'A2-FinPerf SC'!K22","v":157911795}]
[{"$f":"'A2-FinPerf SC'!A23","v":"Waste management"},null,1330993.6161317842,261315.31561878169,310550.74597708567,1383575.6741801412,320125.02906697959,1238400.4988363734,252480.67583957859,290350.35068753525,1326245.2473533247,174210.21041252112,232280.2805500282,288839.35534586664,{"$f":"'A2-FinPerf SC'!I23","v":7409367},{"$f":"'A2-FinPerf SC'!J23","v":7853929},{"$f":"'A2-FinPerf SC'!K23","v":8325165}]
[{"$f":"'A2-FinPerf SC'!A24","v":"Other"},null,null,null,null,null,null,null,null,null,null,null,null,0,{"$f":"'A2-FinPerf SC'!I24","v":0},{"$f":"'A2-FinPerf SC'!J24","v":0},{"$f":"'A2-FinPerf SC'!K24","v":0}]
[{"$f":"'A2-FinPerf SC'!A25","v":"Total Revenue - Functional"},null,{"$f":"C5+C9+C15+C19+C24","v":389054788.58561277},76383518.027468637,90775232.395447254,404424735.69088459,93573833.859985515,361989447.89784652,73801117.278231978,84870575.586076275,387666821.28897089,50922345.35164576,67896460.468861014,84428905.568969011,2165787782,2356736001,2448262799]
[]
[{"$f":"'A2-FinPerf SC'!A27","v":"Expenditure - Functional"}]
[{"$f":"'A2-FinPerf SC'!A28","v":"Governance and administration"},null,{"$f":"SUM(C29:C31)","v":22618731.880779784},{"$f":"SUM(D29:D31)","v":28334348.612350266},{"$f":"SUM(E29:E31)","v":40713717.385403611},40713717.385403611,41905587.740818128,45237463.761559568,32858094.988506217,45237463.761559568,36189971.009247653,41905587.740818128,36189971.009247653,{"$f":"O28-SUM(C28:M28)","v":45237463.761559546},{"$f":"'A2-FinPerf SC'!I28","v":457142119.03725374},{"$f":"'A2-FinPerf SC'!J28","v":490710633.79912853},{"$f":"'A2-FinPerf SC'!K28","v":510328036.83814794}]
[{"$f":"'A2-FinPerf SC'!A29","v":"Executive and council"},null,4112914.6168758394,5152223.2626320627,7403246.31037651,7403246.31037651,7619972.0327575654,8225829.2337516788,5974806.1860072296,8225829.2337516788,6580663.3870013431,7619972.0327575654,6580663.3870013431,8225829.2337516844,{"$f":"'A2-FinPerf SC'!I29","v":83125195.227041006},{"$f":"'A2-FinPerf SC'!J29","v":89565927.31464377},{"$f":"'A2-FinPerf SC'!K29","v":91752045.499337971}]
[{"$f":"'A2-FinPerf SC'!A30","v":"Finance and administration"},null,17925371.673348531,22455004.669390671,32265669.012027349,32265669.012027349,33210227.673399784,35850743.346697062,26040079.004060373,35850743.346697062,28680594.677357648,33210227.673399784,28680594.677357648,35850743.346697032,{"$f":"'A2-FinPerf SC'!I30","v":362285668.11246032},{"$f":"'A2-FinPerf SC'!J30","v":389086601.86422533},{"$f":"'A2-FinPerf SC'!K30","v":406203309.03284097}]
[{"$f":"'A2-FinPerf SC'!A31","v":"Internal audit"},null,580445.59055541374,727120.68032753118,1044802.0629997446,1044802.0629997446,1075388.0346607792,1160891.1811108275,843209.79843861377,1160891.1811108275,928712.94488866196,1075388.0346607792,928712.94488866196,1160891.1811108273,{"$f":"'A2-FinPerf SC'!I31","v":11731255.697752412},{"$f":"'A2-FinPerf SC'!J31","v":12058104.620259374},{"$f":"'A2-FinPerf SC'!K31","v":12372682.305968985}]
[{"$f":"'A2-FinPerf SC'!A32","v":"Community and public safety"},null,{"$f":"SUM(C33:C37)","v":6451183.7621288756},{"$f":"SUM(D33:D37)","v":8081358.8773214258},11612130.771831974,11612130.771831974,11952069.134598751,12902367.524257751,9371595.6297472008,12902367.524257751,10321894.019406201,11952069.134598751,10321894.019406201,12902367.524257779,{"$f":"'A2-FinPerf SC'!I32","v":130383428.69364461},{"$f":"'A2-FinPerf SC'!J32","v":141412163.33680314},{"$f":"'A2-FinPerf SC'!K32","v":146381066.04053727}]
[{"$f":"'A2-FinPerf SC'!A33","v":"Community and social services"},null,466240.45697088307,584056.6002827147,839232.82254758943,839232.82254758943,863800.87446524447,932480.91394176614,677304.69167689118,932480.91394176614,745984.73115341295,863800.87446524447,745984.73115341295,932480.9139417652,{"$f":"'A2-FinPerf SC'!I33","v":9423081.3470882811},{"$f":"'A2-FinPerf SC'!J33","v":10311258.564774999},{"$f":"'A2-FinPerf SC'!K33","v":10768722.971378751}]
[{"$f":"'A2-FinPerf SC'!A34","v":"Sport and recreation"},null,0,0,0,0,0,0,0,0,0,0,0,0,{"$f":"'A2-FinPerf SC'!I34","v":0},{"$f":"'A2-FinPerf SC'!J34","v":0},{"$f":"'A2-FinPerf SC'!K34","v":0}]
[{"$f":"'A2-FinPerf SC'!A35","v":"Public safety"},null,3323750.158404096,4163641.7189507498,5982750.2851273715,5982750.2851273715,6157891.8139932062,6647500.3168081921,4828391.750631568,6647500.3168081921,5318000.2534465538,6157891.8139932062,5318000.2534465538,6647500.316808179,{"$f":"'A2-FinPerf SC'!I35","v":67175569.283545256},{"$f":"'A2-FinPerf SC'!J35","v":74313133.487150013},{"$f":"'A2-FinPerf SC'!K35","v":76973979.844845951}]
[{"$f":"'A2-FinPerf SC'!A36","v":"Housing"},null,103107.67683408894,129162.36309910707,185593.81830136006,185593.81830136006,191026.96919956041,206215.35366817788,149783.89846592484,206215.35366817788,164972.28293454231,191026.96919956041,164972.28293454231,206215.3536681782,{"$f":"'A2-FinPerf SC'!I36","v":2083886.1402745801},{"$f":"'A2-FinPerf SC'!J36","v":2165422.8654375002},{"$f":"'A2-FinPerf SC'!K36","v":2239407.1655109376}]
[{"$f":"'A2-FinPerf SC'!A37","v":"Health"},null,2558085.4699198077,3204498.1949888547,4604553.8458556533,4604553.8458556533,4739349.476940739,5116170.9398396155,3716115.2889728155,5116170.9398396155,4092936.7518716925,4739349.476940739,4092936.7518716925,5116170.9398396239,{"$f":"'A2-FinPerf SC'!I37","v":51700891.922736496},{"$f":"'A2-FinPerf SC'!J37","v":54622348.419440635},{"$f":"'A2-FinPerf SC'!K37","v":56398956.058801644}]
[{"$f":"'A2-FinPerf SC'!A38","v":"Economic and environmental services"},null,{"$f":"SUM(C39:C41)","v":5973605.2444511047},{"$f":"SUM(D39:D41)","v":7483099.1569721103},10752489.440011986,10752489.440011986,11067262.303642772,11947210.488902209,8677820.2058623303,11947210.488902209,9557768.3911217675,11067262.303642772,9557768.3911217675,{"$f":"O38-SUM(C38:M38)","v":11947210.488902211},{"$f":"'A2-FinPerf SC'!I38","v":120731196.34354523},{"$f":"'A2-FinPerf SC'!J38","v":118316041.32010624},{"$f":"'A2-FinPerf SC'!K38","v":122049930.2095933}]
[{"$f":"'A2-FinPerf SC'!A39","v":"Planning and development"},null,5795073.6805774141,7259453.7467975579,10431132.625039343,10431132.625039343,10736497.955144005,11590147.361154828,8418468.4829130396,11590147.361154828,9272117.8889238629,10736497.955144005,9272117.8889238629,11590147.361154824,{"$f":"'A2-FinPerf SC'!I39","v":117122934.93196692},{"$f":"'A2-FinPerf SC'!J39","v":114118334.24566874},{"$f":"'A2-FinPerf SC'!K39","v":117635359.79210736}]
[{"$f":"'A2-FinPerf SC'!A40","v":"Road transport"},null,178531.56387369049,223645.41017455264,321356.81497264287,321356.81497264287,330764.34849876689,357063.12774738099,259351.72294929068,357063.12774738099,285650.5021979048,330764.34849876689,285650.5021979048,357063.12774738064,{"$f":"'A2-FinPerf SC'!I40","v":3608261.411578306},{"$f":"'A2-FinPerf SC'!J40","v":4197707.0744375},{"$f":"'A2-FinPerf SC'!K40","v":4414570.4174859375}]
[{"$f":"'A2-FinPerf SC'!A41","v":"Environmental protection"},null,null,null,null,null,null,null,null,null,null,null,null,0,{"$f":"'A2-FinPerf SC'!I41","v":0},{"$f":"'A2-FinPerf SC'!J41","v":0},{"$f":"'A2-FinPerf SC'!K41","v":0}]
[{"$f":"'A2-FinPerf SC'!A42","v":"Trading services"},null,{"$f":"SUM(C43:C46)","v":47054580.346548587},{"$f":"SUM(D43:D46)","v":58944988.1794606},84698244.623787433,84698244.623787433,87177736.387389734,94109160.693097174,68355904.248770297,94109160.693097174,75287328.554477736,87177736.387389734,75287328.554477736,{"$f":"O42-SUM(C42:M42)","v":94109160.693097234},{"$f":"'A2-FinPerf SC'!I42","v":951009573.98538077},{"$f":"'A2-FinPerf SC'!J42","v":990734928.3095541},{"$f":"'A2-FinPerf SC'!K42","v":1050829339.9157689}]
[{"$f":"'A2-FinPerf SC'!A43","v":"Energy sources"},null,null,null,null,null,null,null,null,null,null,null,null,0,{"$f":"'A2-FinPerf SC'!I43","v":0},{"$f":"'A2-FinPerf SC'!J43","v":0},{"$f":"'A2-FinPerf SC'!K43","v":0}]
[{"$f":"'A2-FinPerf SC'!A44","v":"Water management"},null,37410344.336310975,46863712.064858474,67338619.805359751,67338619.805359751,69309918.66664505,74820688.672621951,54345780.932120658,74820688.672621951,59856550.938097566,69309918.66664505,59856550.938097566,74820688.672621846,{"$f":"'A2-FinPerf SC'!I44","v":756092082.17136073},{"$f":"'A2-FinPerf SC'!J44","v":778925225.58823764},{"$f":"'A2-FinPerf SC'!K44","v":829200670.50598562}]
[{"$f":"'A2-FinPerf SC'!A45","v":"Waste water management"},null,9300222.7579988819,11650332.794367483,16740400.964397985,16740400.964397985,17230466.449166808,18600445.515997764,13510377.345967256,18600445.515997764,14880356.412798213,17230466.449166808,14880356.412798213,18600445.515997738,{"$f":"'A2-FinPerf SC'!I45","v":187964717.09905294},{"$f":"'A2-FinPerf SC'!J45","v":204245154.20727187},{"$f":"'A2-FinPerf SC'!K45","v":213389622.71094903}]
[{"$f":"'A2-FinPerf SC'!A46","v":"Waste management"},null,344013.25223872485,430943.32023464312,619223.85402970458,619223.85402970458,637351.27157787792,688026.50447744969,499745.970682388,688026.50447744969,550421.20358195971,637351.27157787792,550421.20358195971,688026.50447744876,{"$f":"'A2-FinPerf SC'!I46","v":6952774.7149671894},{"$f":"'A2-FinPerf SC'!J46","v":7564548.5140445661},{"$f":"'A2-FinPerf SC'!K46","v":8239046.6988342404}]
[{"$f":"'A2-FinPerf SC'!A47","v":"Other"},null,null,null,null,null,null,null,null,null,null,null,null,0,{"$f":"'A2-FinPerf SC'!I47","v":0},{"$f":"'A2-FinPerf SC'!J47","v":0},{"$f":"'A2-FinPerf SC'!K47","v":0}]
[{"$f":"'A2-FinPerf SC'!A48","v":"Total Expenditure - Functional"},null,{"$f":"C28+C32+C38+C42+C47","v":82098101.233908355},{"$f":"D28+D32+D38+D42+D47","v":102843794.8261044},147776582.221035,147776582.221035,152102655.56644937,164196202.46781671,119263415.07288605,164196202.46781671,131356961.97425336,152102655.56644937,131356961.97425336,164196202.46781677,1659266318.0598245,1741173766.7655921,{"$f":"Q28+Q32+Q38+Q42+Q47","v":1829588373.0040474}]
[]
[{"$f":"'A4-FinPerf RE'!A37&\" before assoc.\"","v":"Surplus/(Deficit) before assoc."},null,{"$f":"C25-C48","v":306956687.35170442},-26460276.798635766,-57001349.825587749,256648153.46984959,-58528821.706463858,197793245.43002981,-45462297.794654071,-79325626.881740436,256309859.31471753,-101180310.21480361,-63460501.505392343,-79767296.898847759,506521463.94017553,615562234.2344079,618674425.99595261]
[]
[{"$f":"'A4-FinPerf RE'!A46","v":"Share of surplus/ (deficit) of associate"},null,null,null,null,null,null,null,null,null,null,null,null,{"$f":"O52-SUM(C52:M52)","v":0},{"$f":"'A4-FinPerf RE'!J46","v":0},{"$f":"'A4-FinPerf RE'!K46","v":0},{"$f":"'A4-FinPerf RE'!L46","v":0}]
[{"$f":"'A4-FinPerf RE'!A37","v":"Surplus/(Deficit)"},1,{"$f":"C50+C52","v":306956687.35170442},{"$f":"D50+D52","v":-26460276.798635766},-57001349.825587749,256648153.46984959,-58528821.706463858,197793245.43002981,-45462297.794654071,-79325626.881740436,256309859.31471753,-101180310.21480361,-63460501.505392343,-79767296.898847759,506521463.94017553,615562234.2344079,618674425.99595261]
[{"$f":"head27a","v":"References"}]
["1. Surplus (Deficit) must reconcile with Budeted Financial Performance"]
["check",null,null,null,null,null,null,null,null,null,null,null,null,null,{"$f":"O53-'A4-FinPerf RE'!J47","v":0},{"$f":"P53-'A4-FinPerf RE'!K47","v":0},{"$f":"Q53-'A4-FinPerf RE'!L47","v":0}]

{"sheet":"SA28","index":49,"n_rows":47,"n_cols":17,"rows_kept":47,"cut":false,"hidden":false,"merged":[[1,2,1,13],[1,14,1,16]]}
[{"$f":"muni&\" - \"& TableA28","v":"DC12 Amathole - Supporting Table SA28 Budgeted monthly capital expenditure (municipal vote)"}]
[{"$f":"desc","v":"Description"},{"$f":"head27","v":"Ref"},{"$f":"Head9","v":"Budget Year 2020/21"},null,null,null,null,null,null,null,null,null,null,null,"Medium Term Revenue and Expenditure Framework"]
["R thousand",null,"July","August","Sept.","October","Nov.","Dec.","January","Feb.","March","April","May","June",{"$f":"Head9","v":"Budget Year 2020/21"},{"$f":"Head10","v":"Budget Year +1 2021/22"},{"$f":"Head11","v":"Budget Year +2 2022/23"}]
["Multi-year expenditure to be appropriated",1]
[{"$f":"'A5-Capex'!A6","v":"Vote 1 - Legislative & Executive Support Services"},null,null,null,null,null,null,null,null,null,null,null,null,{"$f":"O5-SUM(C5:M5)","v":0},{"$f":"'A5-Capex'!J6","v":0},{"$f":"'A5-Capex'!K6","v":0},{"$f":"'A5-Capex'!L6","v":0}]
[{"$f":"'A5-Capex'!A7","v":"Vote 2 - Strategic Management"},null,null,null,null,null,null,null,null,null,null,null,null,{"$f":"O6-SUM(C6:M6)","v":0},{"$f":"'A5-Capex'!J7","v":0},{"$f":"'A5-Capex'!K7","v":0},{"$f":"'A5-Capex'!L7","v":0}]
[{"$f":"'A5-Capex'!A8","v":"Vote 3 - Corporate Services"},null,null,null,null,null,null,null,null,null,null,null,null,0,{"$f":"'A5-Capex'!J8","v":0},{"$f":"'A5-Capex'!K8","v":0},{"$f":"'A5-Capex'!L8","v":0}]
[{"$f":"'A5-Capex'!A9","v":"Vote 4 - Budget & Treasury"},null,null,null,null,null,null,null,null,null,null,null,null,0,{"$f":"'A5-Capex'!J9","v":0},{"$f":"'A5-Capex'!K9","v":0},{"$f":"'A5-Capex'!L9","v":0}]
[{"$f":"'A5-Capex'!A10","v":"Vote 5 - Engineering Department"},null,28153495.689438976,33784194.827326767,50676292.240990154,50676292.240990154,50676292.240990154,56306991.378877953,22522796.551551182,39414893.965214565,45045593.103102364,45045593.103102364,50676292.240990154,78365130.04122138,{"$f":"'A5-Capex'!J10","v":551343857.62379622},{"$f":"'A5-Capex'!K10","v":673833750},{"$f":"'A5-Capex'!L10","v":676953950}]
[{"$f":"'A5-Capex'!A11","v":"Vote 6 - Health & Protection Department"},null,null,null,null,null,null,null,null,null,null,null,null,0,{"$f":"'A5-Capex'!J11","v":0},{"$f":"'A5-Capex'!K11","v":0},{"$f":"'A5-Capex'!L11","v":0}]
[{"$f":"'A5-Capex'!A12","v":"Vote 7 - Water & Sanitation Management"},null,null,null,null,null,null,null,null,null,null,null,null,0,{"$f":"'A5-Capex'!J12","v":0},{"$f":"'A5-Capex'!K12","v":0},{"$f":"'A5-Capex'!L12","v":0}]
[{"$f":"'A5-Capex'!A13","v":"Vote 8 - Water Services"},null,null,null,null,null,null,null,null,null,null,null,null,{"$f":"O12-SUM(C12:M12)","v":0},{"$f":"'A5-Capex'!J13","v":0},{"$f":"'A5-Capex'!K13","v":0},{"$f":"'A5-Capex'!L13","v":0}]
[{"$f":"'A5-Capex'!A14","v":"Vote 9 - Sanitation Services"},null,null,null,null,null,null,null,null,null,null,null,null,{"$f":"O13-SUM(C13:M13)","v":0},{"$f":"'A5-Capex'!J14","v":0},{"$f":"'A5-Capex'!K14","v":0},{"$f":"'A5-Capex'!L14","v":0}]
[{"$f":"'A5-Capex'!A15","v":"Vote 10 - Land Human Settlement & Economic Development"},null,null,null,null,null,null,null,null,null,null,null,null,{"$f":"O14-SUM(C14:M14)","v":0},{"$f":"'A5-Capex'!J15","v":0},{"$f":"'A5-Capex'!K15","v":0},{"$f":"'A5-Capex'!L15","v":0}]
[{"$f":"'A5-Capex'!A16","v":"Vote 11 - Municipal Management"},null,null,null,null,null,null,null,null,null,null,null,null,0,{"$f":"'A5-Capex'!J16","v":0},{"$f":"'A5-Capex'!K16","v":0},{"$f":"'A5-Capex'!L16","v":0}]
[{"$f":"'A5-Capex'!A17","v":"Vote 12 - [NAME OF VOTE 12]"},null,null,null,null,null,null,null,null,null,null,null,null,0,{"$f":"'A5-Capex'!J17","v":0},{"$f":"'A5-Capex'!K17","v":0},{"$f":"'A5-Capex'!L17","v":0}]
[{"$f":"'A5-Capex'!A18","v":"Vote 13 - [NAME OF VOTE 13]"},null,null,null,null,null,null,null,null,null,null,null,null,0,{"$f":"'A5-Capex'!J18","v":0},{"$f":"'A5-Capex'!K18","v":0},{"$f":"'A5-Capex'!L18","v":0}]
[{"$f":"'A5-Capex'!A19","v":"Vote 14 - [NAME OF VOTE 14]"},null,null,null,null,null,null,null,null,null,null,null,null,0,{"$f":"'A5-Capex'!J19","v":0},{"$f":"'A5-Capex'!K19","v":0},{"$f":"'A5-Capex'!L19","v":0}]
[{"$f":"'A5-Capex'!A20","v":"Vote 15 - [NAME OF VOTE 15]"},null,null,null,null,null,null,null,null,null,null,null,null,0,{"$f":"'A5-Capex'!J20","v":0},{"$f":"'A5-Capex'!K20","v":0},{"$f":"'A5-Capex'!L20","v":0}]
["Capital multi-year expenditure sub-total",2,{"$f":"SUM(C5:C19)","v":28153495.689438976},{"$f":"SUM(D5:D19)","v":33784194.827326767},50676292.240990154,50676292.240990154,50676292.240990154,56306991.378877953,22522796.551551182,39414893.965214565,45045593.103102364,45045593.103102364,{"$f":"SUM(M5:M19)","v":50676292.240990154},78365130.04122138,551343857.62379622,673833750,676953950]
[]
["Single-year expenditure to be appropriated"]
[{"$f":"'A5-Capex'!A24","v":"Vote 1 - Legislative & Executive Support Services"},null,null,null,null,null,null,null,null,null,null,null,null,{"$f":"O23-SUM(C23:M23)","v":0},{"$f":"'A5-Capex'!J24","v":0},{"$f":"'A5-Capex'!K24","v":0},{"$f":"'A5-Capex'!L24","v":0}]
[{"$f":"'A5-Capex'!A25","v":"Vote 2 - Strategic Management"},null,null,null,3750000,null,null,3750000,null,null,3750000,null,null,{"$f":"O24-SUM(C24:M24)","v":3750000},{"$f":"'A5-Capex'!J25","v":15000000},{"$f":"'A5-Capex'!K25","v":15000000},{"$f":"'A5-Capex'!L25","v":15000000}]
[{"$f":"'A5-Capex'!A26","v":"Vote 3 - Corporate Services"},null,null,null,null,null,null,null,null,null,null,null,null,0,{"$f":"'A5-Capex'!J26","v":0},{"$f":"'A5-Capex'!K26","v":0},{"$f":"'A5-Capex'!L26","v":0}]
[{"$f":"'A5-Capex'!A27","v":"Vote 4 - Budget & Treasury"},null,null,null,null,null,null,null,50000,null,null,null,null,0,{"$f":"'A5-Capex'!J27","v":50000},{"$f":"'A5-Capex'!K27","v":50000},{"$f":"'A5-Capex'!L27","v":50000}]
[{"$f":"'A5-Capex'!A28","v":"Vote 5 - Engineering Department"},null,null,null,null,40000,null,null,null,50000,null,null,null,0,{"$f":"'A5-Capex'!J28","v":90000},{"$f":"'A5-Capex'!K28","v":20920},{"$f":"'A5-Capex'!L28","v":21880}]
[{"$f":"'A5-Capex'!A29","v":"Vote 6 - Health & Protection Department"},null,null,null,null,null,null,null,null,null,null,null,null,0,{"$f":"'A5-Capex'!J29","v":0},{"$f":"'A5-Capex'!K29","v":0},{"$f":"'A5-Capex'!L29","v":0}]
[{"$f":"'A5-Capex'!A30","v":"Vote 7 - Water & Sanitation Management"},null,null,null,null,null,null,null,null,null,null,null,null,0,{"$f":"'A5-Capex'!J30","v":0},{"$f":"'A5-Capex'!K30","v":0},{"$f":"'A5-Capex'!L30","v":0}]
[{"$f":"'A5-Capex'!A31","v":"Vote 8 - Water Services"},null,null,null,null,null,null,null,null,null,null,null,null,{"$f":"O30-SUM(C30:M30)","v":0},{"$f":"'A5-Capex'!J31","v":0},{"$f":"'A5-Capex'!K31","v":0},{"$f":"'A5-Capex'!L31","v":0}]
[{"$f":"'A5-Capex'!A32","v":"Vote 9 - Sanitation Services"},null,null,null,null,null,null,null,null,null,null,null,null,{"$f":"O31-SUM(C31:M31)","v":0},{"$f":"'A5-Capex'!J32","v":0},{"$f":"'A5-Capex'!K32","v":0},{"$f":"'A5-Capex'!L32","v":0}]
[{"$f":"'A5-Capex'!A33","v":"Vote 10 - Land Human Settlement & Economic Development"},null,null,null,null,null,null,null,null,null,null,null,null,{"$f":"O32-SUM(C32:M32)","v":0},{"$f":"'A5-Capex'!J33","v":0},{"$f":"'A5-Capex'!K33","v":0},{"$f":"'A5-Capex'!L33","v":0}]
[{"$f":"'A5-Capex'!A34","v":"Vote 11 - Municipal Management"},null,null,null,null,null,null,null,null,null,null,null,null,0,{"$f":"'A5-Capex'!J34","v":0},{"$f":"'A5-Capex'!K34","v":0},{"$f":"'A5-Capex'!L34","v":0}]
[{"$f":"'A5-Capex'!A35","v":"Vote 12 - [NAME OF VOTE 12]"},null,null,null,null,null,null,null,null,null,null,null,null,0,{"$f":"'A5-Capex'!J35","v":0},{"$f":"'A5-Capex'!K35","v":0},{"$f":"'A5-Capex'!L35","v":0}]
[{"$f":"'A5-Capex'!A36","v":"Vote 13 - [NAME OF VOTE 13]"},null,null,null,null,null,null,null,null,null,null,null,null,0,{"$f":"'A5-Capex'!J36","v":0},{"$f":"'A5-Capex'!K36","v":0},{"$f":"'A5-Capex'!L36","v":0}]
[{"$f":"'A5-Capex'!A37","v":"Vote 14 - [NAME OF VOTE 14]"},null,null,null,null,null,null,null,null,null,null,null,null,0,{"$f":"'A5-Capex'!J37","v":0},{"$f":"'A5-Capex'!K37","v":0},{"$f":"'A5-Capex'!L37","v":0}]
[{"$f":"'A5-Capex'!A38","v":"Vote 15 - [NAME OF VOTE 15]"},null,null,null,null,null,null,null,null,null,null,null,null,0,{"$f":"'A5-Capex'!J38","v":0},{"$f":"'A5-Capex'!K38","v":0},{"$f":"'A5-Capex'!L38","v":0}]
["Capital single-year expenditure sub-total",2,{"$f":"SUM(C23:C37)","v":0},0,3750000,40000,0,3750000,50000,50000,3750000,0,0,3750000,15140000,15070920,15071880]
["Total Capital Expenditure",2,{"$f":"C20+C38","v":28153495.689438976},{"$f":"D20+D38","v":33784194.827326767},54426292.240990154,50716292.240990154,50676292.240990154,60056991.378877953,22572796.551551182,39464893.965214565,48795593.103102364,45045593.103102364,50676292.240990154,82115130.04122138,{"$f":"O20+O38","v":566483857.62379622},{"$f":"P20+P38","v":688904670},{"$f":"Q20+Q38","v":692025830}]
[]
[]
[{"$f":"head27a","v":"References"}]
["1. Table should be completed as either Multi-Year expenditure appropriation or Budget Year and Forward Year estimates"]
["2. Total Capital Expenditure must reconcile to Budgeted Capital Expenditure"]
["check",null,null,null,null,null,null,null,null,null,null,null,null,null,{"$f":"O20-'A5-Capex'!J21","v":0},{"$f":"P20-'A5-Capex'!K21","v":0},{"$f":"Q20-'A5-Capex'!L21","v":0}]
[]
[null,null,null,null,"Add single year stuff"]

{"sheet":"SA29","index":50,"n_rows":40,"n_cols":17,"rows_kept":40,"cut":false,"hidden":false,"merged":[[1,2,1,13],[1,14,1,16]]}
[{"$f":"muni&\" - \"& TableA29","v":"DC12 Amathole - Supporting Table SA29 Budgeted monthly capital expenditure (functional classification)"}]
[{"$f":"desc","v":"Description"},{"$f":"head27","v":"Ref"},{"$f":"Head9","v":"Budget Year 2020/21"},null,null,null,null,null,null,null,null,null,null,null,"Medium Term Revenue and Expenditure Framework"]
["R thousand",null,"July","August","Sept.","October","Nov.","Dec.","January","Feb.","March","April","May","June",{"$f":"Head9","v":"Budget Year 2020/21"},{"$f":"Head10","v":"Budget Year +1 2021/22"},{"$f":"Head11","v":"Budget Year +2 2022/23"}]
[{"$f":"'A5-Capex'!A42","v":"Capital Expenditure - Functional"},1]
[{"$f":"'A5-Capex'!A43","v":"Governance and administration"},null,{"$f":"SUM(C6:C8)","v":0},{"$f":"SUM(D6:D8)","v":0},{"$f":"SUM(E6:E8)","v":0},0,0,0,50000,0,0,0,0,{"$f":"O5-SUM(C5:M5)","v":0},{"$f":"'A5-Capex'!J43","v":50000},{"$f":"'A5-Capex'!K43","v":50000},{"$f":"'A5-Capex'!L43","v":50000}]
[{"$f":"'A5-Capex'!A44","v":"Executive and council"},null,null,null,null,null,null,null,null,null,null,null,null,{"$f":"O6-SUM(C6:M6)","v":0},{"$f":"'A5-Capex'!J44","v":0},{"$f":"'A5-Capex'!K44","v":0},{"$f":"'A5-Capex'!L44","v":0}]
[{"$f":"'A5-Capex'!A45","v":"Finance and administration"},null,null,null,null,null,null,null,50000,null,null,null,null,0,{"$f":"'A5-Capex'!J45","v":50000},{"$f":"'A5-Capex'!K45","v":50000},{"$f":"'A5-Capex'!L45","v":50000}]
[{"$f":"'A5-Capex'!A46","v":"Internal audit"},null,null,null,null,null,null,null,null,null,null,null,null,0,{"$f":"'A5-Capex'!J46","v":0},{"$f":"'A5-Capex'!K46","v":0},{"$f":"'A5-Capex'!L46","v":0}]
[{"$f":"'A5-Capex'!A47","v":"Community and public safety"},null,{"$f":"SUM(C10:C14)","v":0},{"$f":"SUM(D10:D14)","v":0},0,0,0,0,0,0,0,0,0,0,{"$f":"'A5-Capex'!J47","v":0},{"$f":"'A5-Capex'!K47","v":0},{"$f":"'A5-Capex'!L47","v":0}]
[{"$f":"'A5-Capex'!A48","v":"Community and social services"},null,null,null,null,null,null,null,null,null,null,null,null,0,{"$f":"'A5-Capex'!J48","v":0},{"$f":"'A5-Capex'!K48","v":0},{"$f":"'A5-Capex'!L48","v":0}]
[{"$f":"'A5-Capex'!A49","v":"Sport and recreation"},null,null,null,null,null,null,null,null,null,null,null,null,0,{"$f":"'A5-Capex'!J49","v":0},{"$f":"'A5-Capex'!K49","v":0},{"$f":"'A5-Capex'!L49","v":0}]
[{"$f":"'A5-Capex'!A50","v":"Public safety"},null,null,null,null,null,null,null,null,null,null,null,null,0,{"$f":"'A5-Capex'!J50","v":0},{"$f":"'A5-Capex'!K50","v":0},{"$f":"'A5-Capex'!L50","v":0}]
[{"$f":"'A5-Capex'!A51","v":"Housing"},null,null,null,null,null,null,null,null,null,null,null,null,0,{"$f":"'A5-Capex'!J51","v":0},{"$f":"'A5-Capex'!K51","v":0},{"$f":"'A5-Capex'!L51","v":0}]
[{"$f":"'A5-Capex'!A52","v":"Health"},null,null,null,null,null,null,null,null,null,null,null,null,0,{"$f":"'A5-Capex'!J52","v":0},{"$f":"'A5-Capex'!K52","v":0},{"$f":"'A5-Capex'!L52","v":0}]
[{"$f":"'A5-Capex'!A53","v":"Economic and environmental services"},null,{"$f":"SUM(C16:C18)","v":0},{"$f":"SUM(D16:D18)","v":0},3750000,40000,0,3750000,0,50000,3750000,0,0,3750000,{"$f":"'A5-Capex'!J53","v":15090000},{"$f":"'A5-Capex'!K53","v":15020920},{"$f":"'A5-Capex'!L53","v":15021880}]
[{"$f":"'A5-Capex'!A54","v":"Planning and development"},null,null,null,3750000,40000,null,3750000,null,50000,3750000,null,null,3750000,{"$f":"'A5-Capex'!J54","v":15090000},{"$f":"'A5-Capex'!K54","v":15020920},{"$f":"'A5-Capex'!L54","v":15021880}]
[{"$f":"'A5-Capex'!A55","v":"Road transport"},null,null,null,null,null,null,null,null,null,null,null,null,0,{"$f":"'A5-Capex'!J55","v":0},{"$f":"'A5-Capex'!K55","v":0},{"$f":"'A5-Capex'!L55","v":0}]
[{"$f":"'A5-Capex'!A56","v":"Environmental protection"},null,null,null,null,null,null,null,null,null,null,null,null,0,{"$f":"'A5-Capex'!J56","v":0},{"$f":"'A5-Capex'!K56","v":0},{"$f":"'A5-Capex'!L56","v":0}]
[{"$f":"'A5-Capex'!A57","v":"Trading services"},null,{"$f":"SUM(C20:C23)","v":28153495.689438976},{"$f":"SUM(D20:D23)","v":33784194.827326767},50676292.240990154,50676292.240990199,50676292.240990154,56306991.378877953,22522796.5515512,39414893.965214603,45045593.103102364,45045593.103102364,50676292.240990154,{"$f":"O19-SUM(C19:M19)","v":78365130.041221261},{"$f":"'A5-Capex'!J57","v":551343857.62379622},{"$f":"'A5-Capex'!K57","v":673833750},{"$f":"'A5-Capex'!L57","v":676953950}]
[{"$f":"'A5-Capex'!A58","v":"Energy sources"},null,null,null,null,null,null,null,null,null,null,null,null,0,{"$f":"'A5-Capex'!J58","v":0},{"$f":"'A5-Capex'!K58","v":0},{"$f":"'A5-Capex'!L58","v":0}]
[{"$f":"'A5-Capex'!A59","v":"Water management"},null,28153495.689438976,33784194.827326767,50676292.240990154,50676292.240990199,50676292.240990154,56306991.378877953,22522796.5515512,39414893.965214603,45045593.103102364,45045593.103102364,50676292.240990154,78365130.041221261,{"$f":"'A5-Capex'!J59","v":551343857.62379622},{"$f":"'A5-Capex'!K59","v":673833750},{"$f":"'A5-Capex'!L59","v":676953950}]
[{"$f":"'A5-Capex'!A60","v":"Waste water management"},null,null,null,null,null,null,null,null,null,null,null,null,0,{"$f":"'A5-Capex'!J60","v":0},{"$f":"'A5-Capex'!K60","v":0},{"$f":"'A5-Capex'!L60","v":0}]
[{"$f":"'A5-Capex'!A61","v":"Waste management"},null,null,null,null,null,null,null,null,null,null,null,null,0,{"$f":"'A5-Capex'!J61","v":0},{"$f":"'A5-Capex'!K61","v":0},{"$f":"'A5-Capex'!L61","v":0}]
[{"$f":"'A5-Capex'!A62","v":"Other"},null,null,null,null,null,null,null,null,null,null,null,null,{"$f":"O24-SUM(C24:M24)","v":0},{"$f":"'A5-Capex'!J62","v":0},{"$f":"'A5-Capex'!K62","v":0},{"$f":"'A5-Capex'!L62","v":0}]
[{"$f":"'A5-Capex'!A63","v":"Total Capital Expenditure - Functional"},2,{"$f":"C5+C9+C15+C19+C24","v":28153495.689438976},{"$f":"D5+D9+D15+D19+D24","v":33784194.827326767},54426292.240990154,50716292.240990199,50676292.240990154,60056991.378877953,22572796.5515512,39464893.965214603,48795593.103102364,45045593.103102364,50676292.240990154,{"$f":"N5+N9+N15+N19+N24","v":82115130.041221261},566483857.62379622,688904670,692025830]
[]
["Funded by:"]
["National Government",null,28153495.689438976,33784194.827326767,50676292.240990154,{"$f":"40000+50676292.2409902","v":50716292.240990199},50676292.240990154,56306991.378877953,{"$f":"50000+22522796.5515512","v":22572796.5515512},{"$f":"50000+39414893.9652146","v":39464893.965214603},45045593.103102364,45045593.103102364,50676292.240990154,{"$f":"O28-SUM(C28:M28)","v":78365130.041221261},{"$f":"'A5-Capex'!J66","v":551483857.62379622},{"$f":"'A5-Capex'!K66","v":673904670},{"$f":"'A5-Capex'!L66","v":677025830}]
["Provincial Government",null,null,null,null,null,null,null,null,null,null,null,null,{"$f":"O29-SUM(C29:M29)","v":0},{"$f":"'A5-Capex'!J67","v":0},{"$f":"'A5-Capex'!K67","v":0},{"$f":"'A5-Capex'!L67","v":0}]
["District Municipality",null,null,null,null,null,null,null,null,null,null,null,null,0,{"$f":"'A5-Capex'!J68","v":0},{"$f":"'A5-Capex'!K68","v":0},{"$f":"'A5-Capex'!L68","v":0}]
[{"$f":"'A5-Capex'!A69","v":"Transfers and subsidies - capital (monetary allocations) (National / Provincial Departmental Agencies, Households, Non-profit Institutions, Private Enterprises, Public Corporatons, Higher Educational Institutions)"},null,null,null,null,null,null,null,null,null,null,null,null,{"$f":"O31-SUM(C31:M31)","v":0},{"$f":"'A5-Capex'!J69","v":0},{"$f":"'A5-Capex'!K69","v":0},{"$f":"'A5-Capex'!L69","v":0}]
["Transfers recognised - capital",null,{"$f":"SUM(C28:C31)","v":28153495.689438976},33784194.827326767,50676292.240990154,50716292.240990199,50676292.240990154,56306991.378877953,22572796.5515512,39464893.965214603,45045593.103102364,45045593.103102364,50676292.240990154,{"$f":"SUM(N28:N31)","v":78365130.041221261},551483857.62379622,673904670,677025830]
[]
["Borrowing",null,null,null,null,null,null,null,null,null,null,null,null,0,{"$f":"'A5-Capex'!J72","v":0},{"$f":"'A5-Capex'!K72","v":0},{"$f":"'A5-Capex'!L72","v":0}]
["Internally generated funds",null,null,null,3750000,null,null,3750000,null,null,3750000,null,null,3750000,{"$f":"'A5-Capex'!J73","v":15000000},{"$f":"'A5-Capex'!K73","v":15000000},{"$f":"'A5-Capex'!L73","v":15000000}]
["Total Capital Funding",null,{"$f":"+C32+C34+C35","v":28153495.689438976},{"$f":"+D32+D34+D35","v":33784194.827326767},54426292.240990154,50716292.240990199,50676292.240990154,60056991.378877953,22572796.5515512,39464893.965214603,48795593.103102364,45045593.103102364,50676292.240990154,82115130.041221261,566483857.62379622,688904670,692025830]
[{"$f":"head27a","v":"References"}]
["1. Table should be completed as either Multi-Year expenditure appropriation or Budget Year and Forward Year estimates"]
[{"$f":"'SA28'!A44","v":"2. Total Capital Expenditure must reconcile to Budgeted Capital Expenditure"}]
["check"]

{"sheet":"SA30","index":51,"n_rows":63,"n_cols":19,"rows_kept":63,"cut":false,"hidden":false,"merged":[[1,13,1,15],[1,1,1,12],[56,0,56,15]]}
[{"$f":"muni&\" - \"& TableA30","v":"DC12 Amathole - Supporting Table SA30 Budgeted monthly cash flow"}]
["MONTHLY CASH FLOWS",{"$f":"Head9","v":"Budget Year 2020/21"},null,null,null,null,null,null,null,null,null,null,null,"Medium Term Revenue and Expenditure Framework"]
["R thousand","July","August","Sept.","October","November","December","January","February","March","April","May","June",{"$f":"Head9","v":"Budget Year 2020/21"},{"$f":"Head10","v":"Budget Year +1 2021/22"},{"$f":"Head11","v":"Budget Year +2 2022/23"}]
["Cash Receipts By Source"]
[{"$f":"'A4-FinPerf RE'!A5","v":"Property rates"},null,null,null,null,null,null,null,null,null,null,null,{"$f":"N5-SUM(B5:L5)","v":0},null,null,null,100001,100001,100001]
[{"$f":"'A4-FinPerf RE'!A6","v":"Service charges - electricity revenue"},null,null,null,null,null,null,null,null,null,null,null,0]
[{"$f":"'A4-FinPerf RE'!A7","v":"Service charges - water revenue"},null,null,null,null,null,null,null,null,null,null,null,191755971,{"$f":"'A4-FinPerf RE'!J7*50%","v":191755971},{"$f":"'A4-FinPerf RE'!K7*50%","v":204011328},{"$f":"'A4-FinPerf RE'!L7*50%","v":206910006}]
[{"$f":"'A4-FinPerf RE'!A8","v":"Service charges - sanitation revenue"},null,null,null,null,null,null,null,null,null,null,null,70270465,{"$f":"'A4-FinPerf RE'!J8*50%","v":70270465},{"$f":"'A4-FinPerf RE'!K8*50%","v":74486694.5},{"$f":"'A4-FinPerf RE'!L8*50%","v":78955897.5}]
[{"$f":"'A4-FinPerf RE'!A9","v":"Service charges - refuse revenue"},null,null,null,null,null,null,null,null,null,null,null,3704683.5,{"$f":"'A4-FinPerf RE'!J9*50%","v":3704683.5},{"$f":"'A4-FinPerf RE'!K9*50%","v":3926964.5},4162582.9424000001]
[]
[{"$f":"'A4-FinPerf RE'!A11","v":"Rental of facilities and equipment"},null,null,null,null,null,null,null,null,null,null,null,318452,318452,350297,385327]
[{"$f":"'A4-FinPerf RE'!A12","v":"Interest earned - external investments"},null,null,null,null,null,null,null,null,null,null,null,17911009,17911009,18717004,19559270]
[{"$f":"'A4-FinPerf RE'!A13","v":"Interest earned - outstanding debtors"},null,null,null,null,null,null,null,null,null,null,null,65139263.699999996,{"$f":"93056091*70%","v":65139263.699999996},{"$f":"98639456*90%","v":88775510.400000006},{"$f":"104557824","v":104557824}]
[{"$f":"'A4-FinPerf RE'!A14","v":"Dividends received"},null,null,null,null,null,null,null,null,null,null,null,0]
[{"$f":"'A4-FinPerf RE'!A15","v":"Fines, penalties and forfeits"},null,null,null,null,null,null,null,null,null,null,null,0]
[{"$f":"'A4-FinPerf RE'!A16","v":"Licences and permits"},null,null,null,null,null,null,null,null,null,null,null,0]
[{"$f":"'A4-FinPerf RE'!A17","v":"Agency services"},null,null,null,null,null,null,null,null,null,null,null,0]
["Transfers and Subsidies - Operational",null,null,null,null,null,null,null,null,null,null,null,959432133,959432133,991670163,1057558355]
[{"$f":"'A4-FinPerf RE'!A19","v":"Other revenue"},null,null,null,null,null,null,null,null,null,null,null,72226392,72226392,82017792,82542505]
["Cash Receipts by Source",{"$f":"SUM(B5:B9)+SUM(B11:B19)","v":0},{"$f":"SUM(C5:C9)+SUM(C11:C19)","v":0},0,0,0,0,0,0,0,0,0,1380758369.2,1380758369.2,1463955753.4000001,1554631767.4424]
[]
["Other Cash Flows by Source"]
[{"$f":"'A4-FinPerf RE'!A38","v":"Transfers and subsidies - capital (monetary allocations) (National / Provincial and District)"},null,null,null,null,null,null,null,null,null,null,null,{"$f":"N23-SUM(B23:L23)","v":491381465},491381465,600491315,603602546]
[{"$f":"'A4-FinPerf RE'!A39","v":"Transfers and subsidies - capital (monetary allocations) (National / Provincial Departmental Agencies, Households, Non-profit Institutions, Private Enterprises, Public Corporatons, Higher Educational Institutions)"},null,null,null,null,null,null,null,null,null,null,null,0]
["Proceeds on Disposal of Fixed and Intangible Assets",null,null,null,null,null,null,null,null,null,null,null,0]
[{"$f":"'A7-CFlow'!A31","v":"Short term loans"},null,null,null,null,null,null,null,null,null,null,null,0]
[{"$f":"'A7-CFlow'!A32","v":"Borrowing long term/refinancing"},null,null,null,null,null,null,null,null,null,null,null,0]
[{"$f":"'A7-CFlow'!A33","v":"Increase (decrease) in consumer deposits"},null,null,null,null,null,null,null,null,null,null,null,0]
[]
[{"$f":"'A7-CFlow'!A23","v":"Decrease (increase) in non-current receivables"},null,null,null,null,null,null,null,null,null,null,null,0]
[{"$f":"'A7-CFlow'!A24","v":"Decrease (increase) in non-current investments"},null,null,null,null,null,null,null,null,null,null,null,0]
["Total Cash Receipts by Source",{"$f":"SUM(B20:B28)+SUM(B30:B31)","v":0},{"$f":"SUM(C20:C28)+SUM(C30:C31)","v":0},0,0,0,0,0,0,0,0,0,{"$f":"SUM(M20:M28)+SUM(M30:M31)","v":1872139834.2},{"$f":"SUM(N20:N28)+SUM(N30:N31)","v":1872139834.2},2064447068.4000001,2158234313.4424]
[]
["Cash Payments by Type"]
["Employee related costs",null,null,null,null,null,null,null,null,null,null,null,{"$f":"N35-SUM(B35:L35)","v":786870285.06811917},786870285.06811917,821578040.91851282,852073685.81440067]
["Remuneration of councillors",null,null,null,null,null,null,null,null,null,null,null,14941985.685000001,14941985.685000001,14941985.685000001,14941985.685000001]
["Finance charges",null,null,null,null,null,null,null,null,null,null,null,28139522.899999999,28139522.899999999,30338874.584899995,32441437.161427893]
["Bulk purchases - Electricity",null,null,null,null,null,null,null,null,null,null,null,0]
["Bulk purchases - Water & Sewer",null,null,null,null,null,null,null,null,null,null,null,150000000,{"$f":"120000000+30000000","v":150000000},{"$f":"129936000+50000000","v":179936000},140694700.80000001]
["Other materials",null,null,null,null,null,null,null,null,null,null,null,44533441.780000001,44533441.780000001,12338832,14938395]
["Contracted services",null,null,null,null,null,null,null,null,null,null,null,64826394.434782609,64826394.434782609,89945034.340869576,96503104.609001741]
["Transfers and grants - other municipalities",null,null,null,null,null,null,null,null,null,null,null,0]
["Transfers and grants - other",null,null,null,null,null,null,null,null,null,null,null,15000000,15000000,10000000,10000000]
["Other expenditure",null,null,null,null,null,null,null,null,null,null,null,243328184.19192299,{"$f":"193328184.191923+50000000","v":243328184.19192299},210158202.23630938,{"$f":"213248075.934217+150000000","v":363248075.93421698}]
["Cash Payments by Type",{"$f":"SUM(B35:B44)","v":0},0,0,0,0,0,0,0,0,0,0,1347639814.0598245,{"$f":"SUM(N35:N44)","v":1347639814.0598245},1369236969.7655916,{"$f":"SUM(P35:P44)","v":1524841385.0040472}]
[]
["Other Cash Flows/Payments by Type"]
[{"$f":"'A7-CFlow'!A26","v":"Capital assets"},null,null,null,null,null,null,null,null,null,null,null,{"$f":"N48-SUM(B48:L48)","v":506521465},{"$f":"491381465+15000000+120000+20000","v":506521465},{"$f":"600491315+15000000+50000+20920","v":615562235},{"$f":"603602546+15000000+50000+21880","v":618674426}]
[{"$f":"'A7-CFlow'!A35","v":"Repayment of borrowing"},null,null,null,null,null,null,null,null,null,null,null,{"$f":"N49-SUM(B49:L49)","v":0}]
[{"$f":"LEFT(A47,25)","v":"Other Cash Flows/Payments"},null,null,null,null,null,null,null,null,null,null,null,{"$f":"N50-SUM(B50:L50)","v":0}]
["Total Cash Payments by Type",{"$f":"SUM(B45:B50)","v":0},{"$f":"SUM(C45:C50)","v":0},0,0,0,0,0,0,0,0,0,1854161279.0598245,1854161279.0598245,1984799204.7655916,2143515811.0040472,null,"Check"]
[]
["NET INCREASE/(DECREASE) IN CASH HELD",{"$f":"B32-B51","v":0},0,0,0,0,0,0,0,0,0,0,17978555.140175581,17978555.140175581,79647863.634408474,14718502.438352823]
["Cash/cash equivalents at the month/year begin:",95242728.8386783,{"$f":"B55","v":95242728.8386783},{"$f":"C55","v":95242728.8386783},95242728.8386783,95242728.8386783,95242728.8386783,95242728.8386783,95242728.8386783,95242728.8386783,95242728.8386783,95242728.8386783,95242728.8386783,{"$f":"B54","v":95242728.8386783},{"$f":"N55","v":113221283.97885388},{"$f":"O55","v":192869147.61326236}]
["Cash/cash equivalents at the month/year end:",{"$f":"B54+B53","v":95242728.8386783},{"$f":"C54+C53","v":95242728.8386783},{"$f":"D54+D53","v":95242728.8386783},95242728.8386783,95242728.8386783,95242728.8386783,95242728.8386783,95242728.8386783,95242728.8386783,95242728.8386783,95242728.8386783,113221283.97885388,113221283.97885388,192869147.61326236,207587650.05161518]
[{"$f":"head27a","v":"References"}]
["1. Note that this section of Table SA 30 is deliberately not linked to Table A4 because timing differences between the invoicing of clients and receiving the cash means that the cashflow will differ from budgeted revenue, and similarly for budgeted expenditure. However for the MTREF it is now directly linked to A7."]
[]
[]
[]
[]
[null,null,null,null,{"$f":"E45+E61","v":0},0,0,0,0,0,0,0,1347639814.0598245,1347639814.0598245,1369236969.7655916,1524841385.0040472]
[null,null,null,null,{"$f":"E53-E61","v":0},0,0,0,0,0,0,0,17978555.140175581,17978555.140175581,79647863.634408474,14718502.438352823]

{"sheet":"SA31","index":52,"n_rows":41,"n_cols":11,"rows_kept":41,"cut":false,"hidden":false,"merged":[[1,5,1,7],[1,8,1,10],[1,1,2,1]]}
[{"$f":"muni&\" - \"& TableA31","v":"DC12 Amathole - NOT REQUIRED - municipality does not have entities"}]
[{"$f":"desc","v":"Description"},{"$f":"head27","v":"Ref"},{"$f":"head1b","v":"2016/17"},{"$f":"head1A","v":"2017/18"},{"$f":"Head1","v":"2018/19"},{"$f":"Head2","v":"Current Year 2019/20"},null,null,{"$f":"Head3","v":"2020/21 Medium Term Revenue & Expenditure Framework"}]
["R million",null,{"$f":"Head5","v":"Audited Outcome"},{"$f":"Head5","v":"Audited Outcome"},{"$f":"Head5","v":"Audited Outcome"},{"$f":"Head6","v":"Original Budget"},{"$f":"Head7","v":"Adjusted Budget"},{"$f":"Head8","v":"Full Year Forecast"},{"$f":"Head9","v":"Budget Year 2020/21"},{"$f":"Head10","v":"Budget Year +1 2021/22"},{"$f":"Head11","v":"Budget Year +2 2022/23"}]
["Financial Performance"]
[{"$f":"'A1-Sum'!A5","v":"Property rates"}]
[{"$f":"'A1-Sum'!A6","v":"Service charges"}]
[{"$f":"'A1-Sum'!A7","v":"Investment revenue"}]
[{"$f":"'A1-Sum'!A8","v":"Transfers recognised - operational"},null,null,null,null,69552347,21673991,21673991,17469454,11954000,11938821]
[{"$f":"'A1-Sum'!A9","v":"Other own revenue"},null,null,null,null,188320,428708,428708,6489677,5350387,5393127]
[{"$f":"'A1-Sum'!A21","v":"Transfers and subsidies - capital (monetary allocations) (National / Provincial Departmental Agencies, Households, Non-profit Institutions, Private Enterprises, Public Corporatons, Higher Educational Institutions) & Transfers and subsidies - capital (in-kind - all) "}]
[{"$f":"'A4-FinPerf RE'!A21","v":"Total Revenue (excluding capital transfers and contributions)"},null,{"$f":"SUM(C5:C10)","v":0},{"$f":"SUM(D5:D10)","v":0},{"$f":"SUM(E5:E10)","v":0},69740667,22102699,22102699,23959131,17304387,17331948]
[{"$f":"'A1-Sum'!A11","v":"Employee costs"},null,null,null,null,9264981,9281283,null,10191777,10191777,10191777]
["Remuneration of Board Members",null,null,null,null,1000000,1000000,null,1000000,1000000,1000000]
[{"$f":"'A1-Sum'!A13","v":"Depreciation & asset impairment"},null,null,null,null,150000,150000,null,150000,158100,166638]
[{"$f":"'A1-Sum'!A14","v":"Finance charges"}]
[{"$f":"'A1-Sum'!A15","v":"Materials and bulk purchases"}]
[{"$f":"'A1-Sum'!A16","v":"Transfers and grants"}]
[{"$f":"'A1-Sum'!A17","v":"Other expenditure"},null,null,null,null,56638170,8983900.0600000005,null,9917354,5954510,5973533]
[{"$f":"'A4-FinPerf RE'!A35","v":"Total Expenditure"},null,{"$f":"SUM(C12:C18)","v":0},{"$f":"SUM(D12:D18)","v":0},0,67053151,19415183.060000002,0,21259131,17304387,{"$f":"SUM(K12:K18)","v":17331948}]
[{"$f":"'A4-FinPerf RE'!A37","v":"Surplus/(Deficit)"},null,{"$f":"C11-C19","v":0},{"$f":"D11-D19","v":0},0,2687516,2687515.9399999976,22102699,2700000,0,{"$f":"K11-K19","v":0}]
[]
["Capital expenditure & funds sources"]
["Capital expenditure"]
[{"$f":"A8","v":"Transfers recognised - operational"}]
[]
[{"$f":"'A5-Capex'!A72","v":"Borrowing"}]
[{"$f":"'A5-Capex'!A73","v":"Internally generated funds"},null,null,null,null,2687516,2687516,2687516,2700000,0,0]
["Total sources",null,{"$f":"+C24+C26+C27","v":0},{"$f":"+D24+D26+D27","v":0},0,2687516,2687516,2687516,2700000,0,0]
[]
["Financial position"]
[{"$f":"'A6-FinPos'!A12","v":"Total current assets"}]
[{"$f":"'A6-FinPos'!A24","v":"Total non current assets"}]
[{"$f":"'A6-FinPos'!A34","v":"Total current liabilities"}]
[{"$f":"'A6-FinPos'!A39","v":"Total non current liabilities"}]
["Equity"]
[]
["Cash flows"]
[{"$f":"'A1-Sum'!A42","v":"Net cash from (used) operating"}]
[{"$f":"'A1-Sum'!A43","v":"Net cash from (used) investing"}]
[{"$f":"'A1-Sum'!A44","v":"Net cash from (used) financing"}]
[{"$f":"'A1-Sum'!A45","v":"Cash/cash equivalents at the year end"}]

{"sheet":"SA32","index":53,"n_rows":27,"n_cols":6,"rows_kept":27,"cut":false,"hidden":false,"merged":[[1,3,2,3],[1,4,2,4],[1,1,2,1]]}
[{"$f":"muni&\" - \"&TableA32","v":"DC12 Amathole - Supporting Table SA32 List of external mechanisms"}]
["External mechanism","Yrs/ Mths","Period of agreement 1.","Service provided","Expiry date of service delivery agreement or contract","Monetary value of agreement 2."]
["Name of organisation",null,"Number",null,null,"R thousand"]
[]
[]
[]
[]
[]
[]
[]
[]
[]
[]
[]
[]
[]
[]
[]
[]
[]
[]
[]
[]
[]
[{"$f":"head27a","v":"References"}]
["1. Total agreement period from commencement until end"]
["2. Annual value"]

{"sheet":"SA33","index":54,"n_rows":48,"n_cols":15,"rows_kept":48,"cut":false,"hidden":false,"merged":[[1,4,1,6],[47,0,47,13]]}
[{"$f":"muni&\" - \"& TableA33","v":"DC12 Amathole - Supporting Table SA33 Contracts having future budgetary implications"}]
[{"$f":"desc","v":"Description"},{"$f":"head27","v":"Ref"},"Preceding Years",{"$f":"Head2","v":"Current Year 2019/20"},{"$f":"Head3","v":"2020/21 Medium Term Revenue & Expenditure Framework"},null,null,{"$f":"Head12","v":"Forecast 2023/24"},{"$f":"Head13","v":"Forecast 2024/25"},{"$f":"Head14","v":"Forecast 2025/26"},{"$f":"Head15","v":"Forecast 2026/27"},{"$f":"Head16","v":"Forecast 2027/28"},{"$f":"Head17","v":"Forecast 2028/29"},{"$f":"Head18","v":"Forecast 2029/30"},"Total Contract Value"]
["R thousand","1,3","Total",{"$f":"Head6","v":"Original Budget"},{"$f":"Head9","v":"Budget Year 2020/21"},{"$f":"Head10","v":"Budget Year +1 2021/22"},{"$f":"Head11","v":"Budget Year +2 2022/23"},"Estimate","Estimate","Estimate","Estimate","Estimate","Estimate","Estimate","Estimate"]
["Parent Municipality:"]
["Revenue Obligation By Contract",2]
["Contract 1",null,null,null,null,null,null,null,null,null,null,null,null,null,{"$f":"SUM(C6:N6)","v":0}]
["Contract 2",null,null,null,null,null,null,null,null,null,null,null,null,null,{"$f":"SUM(C7:N7)","v":0}]
["Contract 3 etc",null,null,null,null,null,null,null,null,null,null,null,null,null,{"$f":"SUM(C8:N8)","v":0}]
["Total Operating Revenue Implication",null,{"$f":"SUM(C6:C8)","v":0},{"$f":"SUM(D6:D8)","v":0},0,0,0,0,0,0,0,0,0,0,{"$f":"SUM(C9:N9)","v":0}]
[]
["Expenditure Obligation By Contract",2]
["Contract 1",null,null,null,null,null,null,null,null,null,null,null,null,null,{"$f":"SUM(C12:N12)","v":0}]
["Contract 2",null,null,null,null,null,null,null,null,null,null,null,null,null,{"$f":"SUM(C13:N13)","v":0}]
["Contract 3 etc",null,null,null,null,null,null,null,null,null,null,null,null,null,{"$f":"SUM(C14:N14)","v":0}]
["Total Operating Expenditure Implication",null,{"$f":"SUM(C12:C14)","v":0},0,0,0,0,0,0,0,0,0,0,0,{"$f":"SUM(C15:N15)","v":0}]
[]
["Capital Expenditure Obligation By Contract",2]
["Contract 1",null,null,null,null,null,null,null,null,null,null,null,null,null,{"$f":"SUM(C18:N18)","v":0}]
["Contract 2",null,null,null,null,null,null,null,null,null,null,null,null,null,{"$f":"SUM(C19:N19)","v":0}]
["Contract 3 etc",null,null,null,null,null,null,null,null,null,null,null,null,null,{"$f":"SUM(C20:N20)","v":0}]
["Total Capital Expenditure Implication",null,{"$f":"SUM(C18:C20)","v":0},0,0,0,0,0,0,0,0,0,0,0,{"$f":"SUM(C21:N21)","v":0}]
[]
["Total Parent Expenditure Implication",null,{"$f":"C15+C21","v":0},{"$f":"D15+D21","v":0},0,0,0,0,0,0,0,0,0,0,0]
[]
["Entities:"]
["Revenue Obligation By Contract",2]
["Contract 1",null,null,null,null,null,null,null,null,null,null,null,null,null,{"$f":"SUM(C27:N27)","v":0}]
["Contract 2",null,null,null,null,null,null,null,null,null,null,null,null,null,{"$f":"SUM(C28:N28)","v":0}]
["Contract 3 etc",null,null,null,null,null,null,null,null,null,null,null,null,null,{"$f":"SUM(C29:N29)","v":0}]
["Total Operating Revenue Implication",null,{"$f":"SUM(C27:C29)","v":0},0,0,0,0,0,0,0,0,0,0,0,{"$f":"SUM(C30:N30)","v":0}]
[]
["Expenditure Obligation By Contract",2]
["Contract 1",null,null,null,null,null,null,null,null,null,null,null,null,null,{"$f":"SUM(C33:N33)","v":0}]
["Contract 2",null,null,null,null,null,null,null,null,null,null,null,null,null,{"$f":"SUM(C34:N34)","v":0}]
["Contract 3 etc",null,null,null,null,null,null,null,null,null,null,null,null,null,{"$f":"SUM(C35:N35)","v":0}]
["Total Operating Expenditure Implication",null,{"$f":"SUM(C33:C35)","v":0},0,0,0,0,0,0,0,0,0,0,0,{"$f":"SUM(C36:N36)","v":0}]
[]
["Capital Expenditure Obligation By Contract",2]
["Contract 1",null,null,null,null,null,null,null,null,null,null,null,null,null,{"$f":"SUM(C39:N39)","v":0}]
["Contract 2",null,null,null,null,null,null,null,null,null,null,null,null,null,{"$f":"SUM(C40:N40)","v":0}]
["Contract 3 etc",null,null,null,null,null,null,null,null,null,null,null,null,null,{"$f":"SUM(C41:N41)","v":0}]
["Total Capital Expenditure Implication",null,{"$f":"SUM(C39:C41)","v":0},0,0,0,0,0,0,0,0,0,0,0,{"$f":"SUM(C42:N42)","v":0}]
[]
["Total Entity Expenditure Implication",null,{"$f":"C36+C42","v":0},{"$f":"D36+D42","v":0},0,0,0,0,0,0,0,0,0,0,0]
[{"$f":"head27a","v":"References"}]
["1. Total implication for all preceding years to be summed and total stated in 'Preceding Years' column"]
["2. List all contracts with future financial obligations beyond the three years covered by the MTREF (MFMA s33)"]
["3. For municipalities with approved total revenue not exceeding R250 m - all contracts with an annual cost greater than R500 000. For municipalities with approved total revenue greater than R250 m - all contracts with an annual cost greater than R1million. For municipalities with approved total revenue greater than R500 m - all contracts with an annual cost greater than R5 million"]

{"sheet":"SA34a","index":55,"n_rows":173,"n_cols":11,"rows_kept":173,"cut":false,"hidden":false,"merged":[[1,5,1,7],[1,8,1,10]]}
[{"$f":"muni&\" - \"&TableA34a","v":"DC12 Amathole - Supporting Table SA34a Capital expenditure on new assets by asset class"}]
[{"$f":"desc","v":"Description"},{"$f":"head27","v":"Ref"},{"$f":"head1b","v":"2016/17"},{"$f":"head1A","v":"2017/18"},{"$f":"Head1","v":"2018/19"},{"$f":"Head2","v":"Current Year 2019/20"},null,null,{"$f":"Head3","v":"2020/21 Medium Term Revenue & Expenditure Framework"}]
["R thousand",1,{"$f":"Head5","v":"Audited Outcome"},{"$f":"Head5","v":"Audited Outcome"},{"$f":"Head5","v":"Audited Outcome"},{"$f":"Head6","v":"Original Budget"},{"$f":"Head7","v":"Adjusted Budget"},{"$f":"Head8","v":"Full Year Forecast"},{"$f":"Head9","v":"Budget Year 2020/21"},{"$f":"Head10","v":"Budget Year +1 2021/22"},{"$f":"Head11","v":"Budget Year +2 2022/23"}]
["Capital expenditure on new assets by Asset Class/Sub-class"]
[]
["Infrastructure",null,{"$f":"C7+C12+C16+C26+C37+C44+C52+C62+C68","v":58735885},{"$f":"D7+D12+D16+D26+D37+D44+D52+D62+D68","v":370077132},320883855.51999992,486205103.48802197,363667063.41066384,363667063.41066384,393082936.16379666,548911728.4606303,517408233.075607]
["Roads Infrastructure",null,{"$f":"SUM(C8:C11)","v":0},0,0,0,0,0,0,0,0]
["Roads"]
["Road Structures"]
["Road Furniture"]
["Capital Spares"]
["Storm water Infrastructure",null,{"$f":"SUM(C13:C15)","v":0},{"$f":"SUM(D13:D15)","v":0},0,0,0,0,0,0,0]
["Drainage Collection"]
["Storm water Conveyance"]
["Attenuation"]
["Electrical Infrastructure",null,{"$f":"SUM(C17:C25)","v":0},0,0,0,0,0,0,0,0]
["Power Plants"]
["HV Substations"]
["HV Switching Station"]
["HV Transmission Conductors"]
["MV Substations"]
["MV Switching Stations"]
["MV Networks"]
["LV Networks"]
["Capital Spares"]
["Water Supply Infrastructure",null,{"$f":"SUM(C27:C36)","v":58651184},{"$f":"SUM(D27:D36)","v":360591659},320157084.93999994,309289021.01157141,322184707.42500544,322184707.42500544,360811346.09650898,499389435.16363657,465994873.68560702]
["Dams and Weirs",null,null,null,null,0,0,0]
["Boreholes",null,null,null,25458.28,35000,22041750,22041750,1246017.69,0,0]
["Reservoirs",null,58651184,null,null,5200000,7100000,7100000]
["Pump Stations",null,null,null,null,null,0,0,409980.56000000006,0,0]
["Water Treatment Works",null,null,535165,{"$f":"12945+46040585.11","v":46053530.109999999},12723524.944509385,12723524.944509385,12723524.944509385,{"$f":"10500000+14800000","v":25300000},{"$f":"500000+11014925.0354906","v":11514925.0354906},{"$f":"4000000+12732376.86","v":16732376.859999999}]
["Bulk Mains",null,null,null,null,255926062.586566,0,0]
["Distribution",null,null,360056494,{"$f":"69403880.49+274221527.03-69547310.97","v":274078096.54999995},35404433.480496019,280319432.48049605,280319432.48049605,{"$f":"17450000+86366000+230039347.846509","v":333855347.84650898},{"$f":"36000000+147250000+304624510.128146","v":487874510.12814599},{"$f":"32000000+127976000+289286496.825607","v":449262496.825607}]
["Distribution Points"]
["PRV Stations"]
["Capital Spares"]
["Sanitation Infrastructure",null,{"$f":"SUM(C38:C43)","v":84701},{"$f":"SUM(D38:D43)","v":9485473},726770.58,176916082.47645053,41482355.985658415,41482355.985658415,32271590.067287698,49522293.29699374,51413359.390000001]
["Pump Station",null,null,{"$f":"9411816+73657","v":9485473},{"$f":"105027.2+621743.38","v":726770.58}]
["Reticulation",null,84701,null,null,176916082.47645053,null,null,{"$f":"3000000+21621590.0672877","v":24621590.067287698},{"$f":"500000+4273883.62","v":4773883.62},{"$f":"3000000+2413359.39","v":5413359.3900000006}]
["Waste Water Treatment Works",null,null,null,null,null,41482355.985658415,41482355.985658415,{"$f":"500000+7150000","v":7650000},44748409.676993743,{"$f":"1000000+45000000","v":46000000}]
["Outfall Sewers"]
["Toilet Facilities"]
["Capital Spares"]
["Solid Waste Infrastructure",null,{"$f":"SUM(C45:C51)","v":0},{"$f":"SUM(D45:D51)","v":0},0,0,0,0,0,0,0]
["Landfill Sites"]
["Waste Transfer Stations"]
["Waste Processing Facilities"]
["Waste Drop-off Points"]
["Waste Separation Facilities"]
["Electricity Generation Facilities"]
["Capital Spares"]
["Rail Infrastructure",null,{"$f":"SUM(C53:C61)","v":0},0,0,0,0,0,0,0,0]
["Rail Lines"]
["Rail Structures"]
["Rail Furniture"]
["Drainage Collection"]
["Storm water Conveyance"]
["Attenuation"]
["MV Substations"]
["LV Networks"]
["Capital Spares"]
["Coastal Infrastructure",null,{"$f":"SUM(C63:C67)","v":0},{"$f":"SUM(D63:D67)","v":0},0,0,0,0,0,0,0]
["Sand Pumps"]
["Piers"]
["Revetments"]
["Promenades"]
["Capital Spares"]
["Information and Communication Infrastructure",null,{"$f":"SUM(C69:C72)","v":0},{"$f":"SUM(D69:D72)","v":0},0,0,0,0,0,0,0]
["Data Centres"]
["Core Layers"]
["Distribution Layers"]
["Capital Spares"]
[]
["Community Assets",null,{"$f":"C75+C98","v":0},{"$f":"D75+D98","v":0},0,0,0,0,0,0,0]
["Community Facilities",null,{"$f":"SUM(C76:C97)","v":0},{"$f":"SUM(D76:D97)","v":0},0,0,0,0,0,0,0]
["Halls"]
["Centres"]
["Crèches"]
["Clinics/Care Centres"]
["Fire/Ambulance Stations"]
["Testing Stations"]
["Museums"]
["Galleries"]
["Theatres"]
["Libraries"]
["Cemeteries/Crematoria"]
["Police"]
["Parks"]
["Public Open Space"]
["Nature Reserves"]
["Public Ablution Facilities"]
["Markets"]
["Stalls"]
["Abattoirs"]
["Airports"]
["Taxi Ranks/Bus Terminals"]
["Capital Spares"]
["Sport and Recreation Facilities",null,{"$f":"SUM(C99:C101)","v":0},{"$f":"SUM(D99:D101)","v":0},0,0,0,0,0,0,0]
["Indoor Facilities"]
["Outdoor Facilities"]
["Capital Spares"]
[]
["Heritage assets",null,{"$f":"SUM(C104:C108)","v":0},{"$f":"SUM(D104:D108)","v":0},0,0,0,0,0,0,0]
["Monuments"]
["Historic Buildings"]
["Works of Art"]
["Conservation Areas"]
["Other Heritage"]
[]
["Investment properties",null,{"$f":"+C111+C114","v":0},{"$f":"+D111+D114","v":0},0,0,0,0,0,0,0]
["Revenue Generating",null,{"$f":"SUM(C112:C113)","v":0},0,0,0,0,0,0,0,0]
["Improved Property"]
["Unimproved Property"]
["Non-revenue Generating",null,{"$f":"SUM(C115:C116)","v":0},{"$f":"SUM(D115:D116)","v":0},0,0,0,0,0,0,0]
["Improved Property"]
["Unimproved Property"]
[]
["Other assets",null,{"$f":"+C119+C131","v":0},{"$f":"+D119+D131","v":0},0,0,0,0,0,0,0]
["Operational Buildings",null,{"$f":"SUM(C120:C130)","v":0},{"$f":"SUM(D120:D130)","v":0},0,0,0,0,0,0,0]
["Municipal Offices"]
["Pay/Enquiry Points"]
["Building Plan Offices",null,null,null,null,null,null,null,null,0,0]
["Workshops"]
["Yards"]
["Stores"]
["Laboratories"]
["Training Centres"]
["Manufacturing Plant"]
["Depots"]
["Capital Spares"]
["Housing",null,{"$f":"SUM(C132:C134)","v":0},{"$f":"SUM(D132:D134)","v":0},0,0,0,0,0,0,0]
["Staff Housing"]
["Social Housing"]
["Capital Spares"]
[]
["Biological or Cultivated Assets",null,{"$f":"SUM(C137:C137)","v":0},0,0,0,0,0,0,0,0]
["Biological or Cultivated Assets"]
[]
["Intangible Assets",null,{"$f":"+C140+C141","v":-29759074},{"$f":"+D140+D141","v":0},0,46462720,26611707,26611707,15000000,15000000,15000000]
["Servitudes"]
["Licences and Rights",null,{"$f":"SUM(C142:C147)","v":-29759074},{"$f":"SUM(D142:D147)","v":0},0,46462720,26611707,26611707,15000000,15000000,15000000]
["Water Rights"]
["Effluent Licenses"]
["Solid Waste Licenses"]
["Computer Software and Applications",null,-29759074,null,null,46462720,26611707,26611707,15000000,15000000,15000000]
["Load Settlement Software Applications"]
["Unspecified"]
[]
["Computer Equipment",null,{"$f":"SUM(C150:C150)","v":0},0,139771,0,0,0,0,0,0]
["Computer Equipment",null,null,null,139771]
[]
["Furniture and Office Equipment",null,{"$f":"SUM(C153:C153)","v":766510},0,5500,0,0,0,0,0,0]
["Furniture and Office Equipment",null,766510,null,5500]
[]
["Machinery and Equipment",null,{"$f":"SUM(C156:C156)","v":26197},79480,0,1500000,0,0,0,0,0]
["Machinery and Equipment",null,26197,79480,null,1500000,null,null,null,0,0]
[]
["Transport Assets",null,{"$f":"SUM(C159:C159)","v":2394548},0,13617978,0,0,0,0,0,0]
["Transport Assets",null,2394548,null,13617978]
[]
["Land",null,{"$f":"SUM(C162:C162)","v":16053},0,0,0,0,0,0,0,0]
["Land",null,16053]
[]
["Zoo's, Marine and Non-biological Animals",null,{"$f":"SUM(C165:C165)","v":0},0,0,0,0,0,0,0,0]
["Zoo's, Marine and Non-biological Animals"]
[]
["Total Capital Expenditure on new assets ",1,{"$f":"C6+C74+C103+C110+C118+C136+C139+C149+C152+C155+C158+C161+C164","v":32180119},{"$f":"D6+D74+D103+D110+D118+D136+D139+D149+D152+D155+D158+D161+D164","v":370156612},334647104.51999992,534167823.48802197,390278770.41066384,390278770.41066384,408082936.16379666,563911728.4606303,532408233.075607]
[]
[{"$f":"head27a","v":"References"}]
["1. Total Capital Expenditure on new assets (SA34a) plus Total Capital Expenditure on renewal of existing assets (SA34b) plus Total Capital Expenditure  on upgrading of existing assets (SA34e) must reconcile to total capital expenditure in Budgeted Capital Expenditure"]
[]
[null,null,null,"                         "]
["check balance",null,{"$f":"SUM(C167+SA34b!C167++SA34e!C167)-'A5-Capex'!C40","v":-67074325},{"$f":"SUM(D167+SA34b!D167++SA34e!D167)-'A5-Capex'!D40","v":0},{"$f":"SUM(E167+SA34b!E167++SA34e!E167)-'A5-Capex'!E40","v":-0.12000006437301636},{"$f":"SUM(F167+SA34b!F167++SA34e!F167)-'A5-Capex'!F40","v":-4.0000677108764648E-3},{"$f":"SUM(G167+SA34b!G167++SA34e!G167)-'A5-Capex'!G40","v":8.4101319313049316E-2},{"$f":"SUM(H167+SA34b!H167++SA34e!H167)-'A5-Capex'!H40","v":8.4101319313049316E-2},{"$f":"SUM(I167+SA34b!I167++SA34e!I167)-'A5-Capex'!J40","v":0},{"$f":"SUM(J167+SA34b!J167++SA34e!J167)-'A5-Capex'!K40","v":0},{"$f":"SUM(K167+SA34b!K167++SA34e!K167)-'A5-Capex'!L40","v":0}]

{"sheet":"SA34b","index":56,"n_rows":175,"n_cols":11,"rows_kept":175,"cut":false,"hidden":false,"merged":[[1,5,1,7],[1,8,1,10]]}
[{"$f":"muni&\" - \"&TableA34b","v":"DC12 Amathole - Supporting Table SA34b Capital expenditure on the renewal of existing assets by asset class"}]
[{"$f":"desc","v":"Description"},{"$f":"head27","v":"Ref"},{"$f":"head1b","v":"2016/17"},{"$f":"head1A","v":"2017/18"},{"$f":"Head1","v":"2018/19"},{"$f":"Head2","v":"Current Year 2019/20"},null,null,{"$f":"Head3","v":"2020/21 Medium Term Revenue & Expenditure Framework"}]
["R thousand",1,{"$f":"Head5","v":"Audited Outcome"},{"$f":"Head5","v":"Audited Outcome"},{"$f":"Head5","v":"Audited Outcome"},{"$f":"Head6","v":"Original Budget"},{"$f":"Head7","v":"Adjusted Budget"},{"$f":"Head8","v":"Full Year Forecast"},{"$f":"Head9","v":"Budget Year 2020/21"},{"$f":"Head10","v":"Budget Year +1 2021/22"},{"$f":"Head11","v":"Budget Year +2 2022/23"}]
["Capital expenditure on renewal of existing assets by Asset Class/Sub-class"]
[]
["Infrastructure",null,{"$f":"C7+C12+C16+C26+C37+C44+C52+C62+C68","v":0},{"$f":"D7+D12+D16+D26+D37+D44+D52+D62+D68","v":0},0,2200000,3310289,3310289,22790000,9823407.2543415427,9500000]
["Roads Infrastructure",null,{"$f":"SUM(C8:C11)","v":0},0,0,0,0,0,0,0,0]
["Roads"]
["Road Structures"]
["Road Furniture"]
["Capital Spares"]
["Storm water Infrastructure",null,{"$f":"SUM(C13:C15)","v":0},{"$f":"SUM(D13:D15)","v":0},0,0,0,0,0,0,0]
["Drainage Collection"]
["Storm water Conveyance"]
["Attenuation"]
["Electrical Infrastructure",null,{"$f":"SUM(C17:C25)","v":0},0,0,0,0,0,0,0,0]
["Power Plants"]
["HV Substations"]
["HV Switching Station"]
["HV Transmission Conductors"]
["MV Substations"]
["MV Switching Stations"]
["MV Networks"]
["LV Networks"]
["Capital Spares"]
["Water Supply Infrastructure",null,{"$f":"SUM(C27:C36)","v":0},{"$f":"SUM(D27:D36)","v":0},0,2200000,860000,860000,15500000,8094022.8669937002,9500000]
["Dams and Weirs",null,null,null,null,200000,null,null,0,1500000,4000000]
["Boreholes",null,null,null,null,2000000]
["Reservoirs",null,null,null,null,null,860000,860000,200000,2500000,0]
["Pump Stations"]
["Water Treatment Works"]
["Bulk Mains"]
["Distribution",null,null,null,null,null,null,null,{"$f":"500000+14800000","v":15300000},{"$f":"2500000+1594022.8669937","v":4094022.8669937002},5500000]
["Distribution Points",null,null,null,null,null,null,null,null,null,0]
["PRV Stations"]
["Capital Spares"]
["Sanitation Infrastructure",null,{"$f":"SUM(C38:C43)","v":0},{"$f":"SUM(D38:D43)","v":0},0,0,2450289,2450289,7290000,1729384.3873478435,0]
["Pump Station"]
["Reticulation",null,null,null,null,null,null,null,7290000,1729384.3873478435,0]
["Waste Water Treatment Works",null,null,null,null,null,2450289,2450289]
["Outfall Sewers"]
["Toilet Facilities"]
["Capital Spares"]
["Solid Waste Infrastructure",null,{"$f":"SUM(C45:C51)","v":0},{"$f":"SUM(D45:D51)","v":0},0,0,0,0,0,0,0]
["Landfill Sites"]
["Waste Transfer Stations"]
["Waste Processing Facilities"]
["Waste Drop-off Points"]
["Waste Separation Facilities"]
["Electricity Generation Facilities"]
["Capital Spares"]
["Rail Infrastructure",null,{"$f":"SUM(C53:C61)","v":0},0,0,0,0,0,0,0,0]
["Rail Lines"]
["Rail Structures"]
["Rail Furniture"]
["Drainage Collection"]
["Storm water Conveyance"]
["Attenuation"]
["MV Substations"]
["LV Networks"]
["Capital Spares"]
["Coastal Infrastructure",null,{"$f":"SUM(C63:C67)","v":0},{"$f":"SUM(D63:D67)","v":0},0,0,0,0,0,0,0]
["Sand Pumps"]
["Piers"]
["Revetments"]
["Promenades"]
["Capital Spares"]
["Information and Communication Infrastructure",null,{"$f":"SUM(C69:C72)","v":0},{"$f":"SUM(D69:D72)","v":0},0,0,0,0,0,0,0]
["Data Centres"]
["Core Layers"]
["Distribution Layers"]
["Capital Spares"]
[]
["Community Assets",null,{"$f":"C75+C98","v":0},{"$f":"D75+D98","v":0},0,0,0,0,0,0,0]
["Community Facilities",null,{"$f":"SUM(C76:C97)","v":0},{"$f":"SUM(D76:D97)","v":0},0,0,0,0,0,0,0]
["Halls"]
["Centres"]
["Crèches"]
["Clinics/Care Centres"]
["Fire/Ambulance Stations"]
["Testing Stations"]
["Museums"]
["Galleries"]
["Theatres"]
["Libraries"]
["Cemeteries/Crematoria"]
["Police"]
["Parks"]
["Public Open Space"]
["Nature Reserves"]
["Public Ablution Facilities"]
["Markets"]
["Stalls"]
["Abattoirs"]
["Airports"]
["Taxi Ranks/Bus Terminals"]
["Capital Spares"]
["Sport and Recreation Facilities",null,{"$f":"SUM(C99:C101)","v":0},{"$f":"SUM(D99:D101)","v":0},0,0,0,0,0,0,0]
["Indoor Facilities"]
["Outdoor Facilities"]
["Capital Spares"]
[]
["Heritage assets",null,{"$f":"SUM(C104:C108)","v":0},{"$f":"SUM(D104:D108)","v":0},0,0,0,0,0,0,0]
["Monuments"]
["Historic Buildings"]
["Works of Art"]
["Conservation Areas"]
["Other Heritage"]
[]
["Investment properties",null,{"$f":"+C111+C114","v":0},{"$f":"+D111+D114","v":0},0,0,0,0,0,0,0]
["Revenue Generating",null,{"$f":"SUM(C112:C113)","v":0},0,0,0,0,0,0,0,0]
["Improved Property"]
["Unimproved Property"]
["Non-revenue Generating",null,{"$f":"SUM(C115:C116)","v":0},{"$f":"SUM(D115:D116)","v":0},0,0,0,0,0,0,0]
["Improved Property"]
["Unimproved Property"]
[]
["Other assets",null,{"$f":"+C119+C131","v":0},{"$f":"+D119+D131","v":0},0,0,0,0,0,0,0]
["Operational Buildings",null,{"$f":"SUM(C120:C130)","v":0},{"$f":"SUM(D120:D130)","v":0},0,0,0,0,0,0,0]
["Municipal Offices"]
["Pay/Enquiry Points"]
["Building Plan Offices"]
["Workshops"]
["Yards"]
["Stores"]
["Laboratories"]
["Training Centres"]
["Manufacturing Plant"]
["Depots"]
["Capital Spares"]
["Housing",null,{"$f":"SUM(C132:C134)","v":0},{"$f":"SUM(D132:D134)","v":0},0,0,0,0,0,0,0]
["Staff Housing"]
["Social Housing"]
["Capital Spares"]
[]
["Biological or Cultivated Assets",null,{"$f":"SUM(C137:C137)","v":0},0,0,0,0,0,0,0,0]
["Biological or Cultivated Assets"]
[]
["Intangible Assets",null,{"$f":"+C140+C141","v":0},{"$f":"+D140+D141","v":0},0,0,0,0,0,0,0]
["Servitudes"]
["Licences and Rights",null,{"$f":"SUM(C142:C147)","v":0},{"$f":"SUM(D142:D147)","v":0},0,0,0,0,0,0,0]
["Water Rights"]
["Effluent Licenses"]
["Solid Waste Licenses"]
["Computer Software and Applications"]
["Load Settlement Software Applications"]
["Unspecified"]
[]
["Computer Equipment",null,{"$f":"SUM(C150:C150)","v":0},585960,200229.41,1000000,603369,603369,120000,50000,50000]
["Computer Equipment",null,null,585960,200229.41,1000000,603369,603369,120000,50000,50000]
[]
["Furniture and Office Equipment",null,{"$f":"SUM(C153:C153)","v":0},0,0,0,0,0,20000,20920,21880]
["Furniture and Office Equipment",null,null,null,null,null,null,null,20000,20920,21880]
[]
["Machinery and Equipment",null,{"$f":"SUM(C156:C156)","v":0},0,115286.41999999995,0,0,0,0,0,0]
["Machinery and Equipment",null,null,null,115286.41999999995]
[]
["Transport Assets",null,{"$f":"SUM(C159:C159)","v":0},134444,0,0,0,0,0,0,0]
["Transport Assets",null,null,134444]
[]
["Land",null,{"$f":"SUM(C162:C162)","v":0},0,0,0,0,0,0,0,0]
["Land"]
[]
["Zoo's, Marine and Non-biological Animals",null,{"$f":"SUM(C165:C165)","v":0},0,0,0,0,0,0,0,0]
["Zoo's, Marine and Non-biological Animals"]
[]
["Total Capital Expenditure on renewal of existing assets ",1,{"$f":"C6+C74+C103+C110+C118+C136+C139+C149+C152+C155+C158+C161+C164","v":0},{"$f":"D6+D74+D103+D110+D118+D136+D139+D149+D152+D155+D158+D161+D164","v":720404},315515.82999999996,3200000,3913658,3913658,22930000,9894327.2543415427,9571880]
[]
["Renewal of Existing Assets as % of total capex",null,{"$f":"IF(ISERROR(C167/'A9-Asset'!C69),0,(C167/'A9-Asset'!C69))","v":0},{"$f":"IF(ISERROR(D167/'A9-Asset'!D132),0,(D167/'A9-Asset'!D132))","v":1.9312260342921968E-3},{"$f":"IF(ISERROR(E167/'A9-Asset'!E132),0,(E167/'A9-Asset'!E132))","v":9.4009853467616467E-4},{"$f":"IF(ISERROR(F167/'A9-Asset'!F132),0,(F167/'A9-Asset'!F132))","v":4.851015314502851E-3},{"$f":"IF(ISERROR(G167/'A9-Asset'!G132),0,(G167/'A9-Asset'!G132))","v":6.6617417518266631E-3},{"$f":"IF(ISERROR(H167/'A9-Asset'!H132),0,(H167/'A9-Asset'!H132))","v":6.6617417518266631E-3},{"$f":"IF(ISERROR(I167/'A9-Asset'!I132),0,(I167/'A9-Asset'!I132))","v":4.047776417881243E-2},{"$f":"IF(ISERROR(J167/'A9-Asset'!J132),0,(J167/'A9-Asset'!J132))","v":1.4362404096261303E-2},{"$f":"IF(ISERROR(K167/'A9-Asset'!K132),0,(K167/'A9-Asset'!K132))","v":1.3831680242340095E-2}]
["Renewal of Existing Assets as % of deprecn\"",null,{"$f":"IF(ISERROR(C167/'A9-Asset'!C168),0,(C167/'A9-Asset'!C168))","v":0},{"$f":"IF(ISERROR(D167/'A9-Asset'!D168),0,(D167/'A9-Asset'!D168))","v":6.7158303450638055E-3},{"$f":"IF(ISERROR(E167/'A9-Asset'!E168),0,(E167/'A9-Asset'!E168))","v":2.4328712608546396E-3},{"$f":"IF(ISERROR(F167/'A9-Asset'!F168),0,(F167/'A9-Asset'!F168))","v":1.9684233522551105E-2},{"$f":"IF(ISERROR(G167/'A9-Asset'!G168),0,(G167/'A9-Asset'!G168))","v":2.4074174374812594E-2},{"$f":"IF(ISERROR(H167/'A9-Asset'!H168),0,(H167/'A9-Asset'!H168))","v":2.4074174374812594E-2},{"$f":"IF(ISERROR(I167/'A9-Asset'!I168),0,(I167/'A9-Asset'!I168))","v":0.13463101821274676},{"$f":"IF(ISERROR(J167/'A9-Asset'!J168),0,(J167/'A9-Asset'!J168))","v":5.2812246399067682E-2},{"$f":"IF(ISERROR(K167/'A9-Asset'!K168),0,(K167/'A9-Asset'!K168))","v":4.644648920576027E-2}]
[{"$f":"head27a","v":"References"}]
["1. Total Capital Expenditure  on renewal of existing assets (SA34b) plus Total Capital Expenditure on new assets (SA34a) plus Total Capital Expenditure  on upgrading of existing assets (SA34e) must reconcile to total capital expenditure in Budgeted Capital Expenditure"]
[]
[]
["check balance",null,{"$f":"SUM(C167+SA34a!C167++SA34e!C167)-'A5-Capex'!C40","v":-67074325},{"$f":"SUM(D167+SA34a!D167++SA34e!D167)-'A5-Capex'!D40","v":0},{"$f":"SUM(E167+SA34a!E167++SA34e!E167)-'A5-Capex'!E40","v":-0.12000006437301636},{"$f":"SUM(F167+SA34a!F167++SA34e!F167)-'A5-Capex'!F40","v":-4.0000677108764648E-3},{"$f":"SUM(G167+SA34a!G167++SA34e!G167)-'A5-Capex'!G40","v":8.4101319313049316E-2},{"$f":"SUM(H167+SA34a!H167++SA34e!H167)-'A5-Capex'!H40","v":8.4101319313049316E-2},{"$f":"SUM(I167+SA34a!I167++SA34e!I167)-'A5-Capex'!J40","v":0},{"$f":"SUM(J167+SA34a!J167++SA34e!J167)-'A5-Capex'!K40","v":0},{"$f":"SUM(K167+SA34a!K167++SA34e!K167)-'A5-Capex'!L40","v":0}]

{"sheet":"SA34c","index":57,"n_rows":175,"n_cols":11,"rows_kept":175,"cut":false,"hidden":false,"merged":[[1,5,1,7],[1,8,1,10]]}
[{"$f":"muni&\" - \"&TableA34c","v":"DC12 Amathole - Supporting Table SA34c Repairs and maintenance expenditure by asset class"}]
[{"$f":"desc","v":"Description"},{"$f":"head27","v":"Ref"},{"$f":"head1b","v":"2016/17"},{"$f":"head1A","v":"2017/18"},{"$f":"Head1","v":"2018/19"},{"$f":"Head2","v":"Current Year 2019/20"},null,null,{"$f":"Head3","v":"2020/21 Medium Term Revenue & Expenditure Framework"}]
["R thousand",1,{"$f":"Head5","v":"Audited Outcome"},{"$f":"Head5","v":"Audited Outcome"},{"$f":"Head5","v":"Audited Outcome"},{"$f":"Head6","v":"Original Budget"},{"$f":"Head7","v":"Adjusted Budget"},{"$f":"Head8","v":"Full Year Forecast"},{"$f":"Head9","v":"Budget Year 2020/21"},{"$f":"Head10","v":"Budget Year +1 2021/22"},{"$f":"Head11","v":"Budget Year +2 2022/23"}]
["Repairs and maintenance expenditure by Asset Class/Sub-class"]
[]
["Infrastructure",null,{"$f":"C7+C12+C16+C26+C37+C44+C52+C62+C68","v":20715203},{"$f":"D7+D12+D16+D26+D37+D44+D52+D62+D68","v":16524490.93},16074491.189999999,11868158,17266950,17266950,16837144,26619135,28332095]
["Roads Infrastructure",null,{"$f":"SUM(C8:C11)","v":0},0,0,0,981599,981599,0,0,0]
["Roads"]
["Road Structures",null,null,null,null,null,981599,981599]
["Road Furniture"]
["Capital Spares"]
["Storm water Infrastructure",null,{"$f":"SUM(C13:C15)","v":0},{"$f":"SUM(D13:D15)","v":0},0,0,0,0,0,0,0]
["Drainage Collection"]
["Storm water Conveyance"]
["Attenuation"]
["Electrical Infrastructure",null,{"$f":"SUM(C17:C25)","v":0},0,0,0,0,0,0,0,0]
["Power Plants"]
["HV Substations"]
["HV Switching Station"]
["HV Transmission Conductors"]
["MV Substations"]
["MV Switching Stations"]
["MV Networks"]
["LV Networks"]
["Capital Spares"]
["Water Supply Infrastructure",null,{"$f":"SUM(C27:C36)","v":20715203},{"$f":"SUM(D27:D36)","v":16524490.93},16074491.189999999,8696008,12359218,12359218,14022019,22971054,24455023]
["Dams and Weirs",null,null,null,null,475200,492334,492334,200000,240000,300000]
["Boreholes",null,null,null,null,1625788,1202142,1202142,1450000,2255000,2460000]
["Reservoirs",null,null,null,null,425146,528350,528350,730000,1245000,1360000]
["Pump Stations",null,null,null,null,1161600,1814023,1814023,5995542,8913448,9610507]
["Water Treatment Works",null,20715203,16524490.93,16074491.189999999,4110674,7769973,7769973,3499177,6783530,7013353]
["Bulk Mains",null,null,null,null,844800,478369,478369,1300000,2420000,2530000]
["Distribution",null,null,null,null,52800,74027,74027,847300,1114076,1181163]
["Distribution Points"]
["PRV Stations"]
["Capital Spares"]
["Sanitation Infrastructure",null,{"$f":"SUM(C38:C43)","v":0},{"$f":"SUM(D38:D43)","v":0},0,3172150,3926133,3926133,2815125,3648081,3877072]
["Pump Station",null,null,null,null,2056481,2510144,2510144,1554625,1666590,1757014]
["Reticulation",null,null,null,null,52800,74027,74027,52000,55000,60000]
["Waste Water Treatment Works",null,null,null,null,1062869,1341962,1341962,1208500,1926491,2060058]
["Outfall Sewers"]
["Toilet Facilities"]
["Capital Spares"]
["Solid Waste Infrastructure",null,{"$f":"SUM(C45:C51)","v":0},{"$f":"SUM(D45:D51)","v":0},0,0,0,0,0,0,0]
["Landfill Sites"]
["Waste Transfer Stations"]
["Waste Processing Facilities"]
["Waste Drop-off Points"]
["Waste Separation Facilities"]
["Electricity Generation Facilities"]
["Capital Spares"]
["Rail Infrastructure",null,{"$f":"SUM(C53:C61)","v":0},0,0,0,0,0,0,0,0]
["Rail Lines"]
["Rail Structures"]
["Rail Furniture"]
["Drainage Collection"]
["Storm water Conveyance"]
["Attenuation"]
["MV Substations"]
["LV Networks"]
["Capital Spares"]
["Coastal Infrastructure",null,{"$f":"SUM(C63:C67)","v":0},{"$f":"SUM(D63:D67)","v":0},0,0,0,0,0,0,0]
["Sand Pumps"]
["Piers"]
["Revetments"]
["Promenades"]
["Capital Spares"]
["Information and Communication Infrastructure",null,{"$f":"SUM(C69:C72)","v":0},{"$f":"SUM(D69:D72)","v":0},0,0,0,0,0,0,0]
["Data Centres"]
["Core Layers"]
["Distribution Layers"]
["Capital Spares"]
[]
["Community Assets",null,{"$f":"C75+C98","v":0},{"$f":"D75+D98","v":0},0,792000,0,0,0,0,0]
["Community Facilities",null,{"$f":"SUM(C76:C97)","v":0},{"$f":"SUM(D76:D97)","v":0},0,792000,0,0,0,0,0]
["Halls"]
["Centres"]
["Crèches"]
["Clinics/Care Centres"]
["Fire/Ambulance Stations"]
["Testing Stations"]
["Museums"]
["Galleries"]
["Theatres"]
["Libraries"]
["Cemeteries/Crematoria"]
["Police"]
["Parks"]
["Public Open Space"]
["Nature Reserves"]
["Public Ablution Facilities"]
["Markets"]
["Stalls"]
["Abattoirs"]
["Airports"]
["Taxi Ranks/Bus Terminals",null,null,null,null,792000,0,0]
["Capital Spares"]
["Sport and Recreation Facilities",null,{"$f":"SUM(C99:C101)","v":0},{"$f":"SUM(D99:D101)","v":0},0,0,0,0,0,0,0]
["Indoor Facilities"]
["Outdoor Facilities"]
["Capital Spares"]
[null,null,1000,1000,1000,1000,1000,1000,1000,1000,1000]
["Heritage assets",null,{"$f":"SUM(C104:C108)","v":0},{"$f":"SUM(D104:D108)","v":0},0,0,0,0,0,0,0]
["Monuments"]
["Historic Buildings"]
["Works of Art"]
["Conservation Areas"]
["Other Heritage"]
[]
["Investment properties",null,{"$f":"+C111+C114","v":0},{"$f":"+D111+D114","v":0},0,0,0,0,0,0,0]
["Revenue Generating",null,{"$f":"SUM(C112:C113)","v":0},0,0,0,0,0,0,0,0]
["Improved Property"]
["Unimproved Property"]
["Non-revenue Generating",null,{"$f":"SUM(C115:C116)","v":0},{"$f":"SUM(D115:D116)","v":0},0,0,0,0,0,0,0]
["Improved Property"]
["Unimproved Property"]
[]
["Other assets",null,{"$f":"+C119+C131","v":0},{"$f":"+D119+D131","v":0},0,3229139,1487527,1487527,0,0,0]
["Operational Buildings",null,{"$f":"SUM(C120:C130)","v":0},{"$f":"SUM(D120:D130)","v":0},0,3229139,1487527,1487527,0,0,0]
["Municipal Offices",null,null,null,null,3229139,1487527,1487527]
["Pay/Enquiry Points"]
["Building Plan Offices"]
["Workshops"]
["Yards"]
["Stores"]
["Laboratories"]
["Training Centres"]
["Manufacturing Plant"]
["Depots"]
["Capital Spares"]
["Housing",null,{"$f":"SUM(C132:C134)","v":0},{"$f":"SUM(D132:D134)","v":0},0,0,0,0,0,0,0]
["Staff Housing"]
["Social Housing"]
["Capital Spares"]
[]
["Biological or Cultivated Assets",null,{"$f":"SUM(C137:C137)","v":0},0,0,0,0,0,0,0,0]
["Biological or Cultivated Assets"]
[]
["Intangible Assets",null,{"$f":"+C140+C141","v":0},{"$f":"+D140+D141","v":0},0,0,0,0,0,0,0]
["Servitudes"]
["Licences and Rights",null,{"$f":"SUM(C142:C147)","v":0},{"$f":"SUM(D142:D147)","v":0},0,0,0,0,0,0,0]
["Water Rights"]
["Effluent Licenses"]
["Solid Waste Licenses"]
["Computer Software and Applications"]
["Load Settlement Software Applications"]
["Unspecified"]
[]
["Computer Equipment",null,{"$f":"SUM(C150:C150)","v":0},0,0,0,0,0,0,0,0]
["Computer Equipment"]
[]
["Furniture and Office Equipment",null,{"$f":"SUM(C153:C153)","v":0},0,0,0,0,0,0,0,0]
["Furniture and Office Equipment"]
[]
["Machinery and Equipment",null,{"$f":"SUM(C156:C156)","v":0},0,0,319765,3338,3338,0,0,0]
["Machinery and Equipment",null,null,null,null,319765,3338,3338]
[]
["Transport Assets",null,{"$f":"SUM(C159:C159)","v":0},0,0,4407499,0,0,0,0,0]
["Transport Assets",null,null,null,null,4407499,0,0,null,0,0]
[]
["Land",null,{"$f":"SUM(C162:C162)","v":0},0,0,0,0,0,0,0,0]
["Land"]
[]
["Zoo's, Marine and Non-biological Animals",null,{"$f":"SUM(C165:C165)","v":0},0,0,0,0,0,0,0,0]
["Zoo's, Marine and Non-biological Animals"]
[]
["Total Repairs and Maintenance Expenditure",1,{"$f":"C6+C74+C103+C110+C118+C136+C139+C149+C152+C155+C158+C161+C164","v":20715203},{"$f":"D6+D74+D103+D110+D118+D136+D139+D149+D152+D155+D158+D161+D164","v":16524490.93},16074491.189999999,20616561,18757815,18757815,16837144,26619135,28332095]
[]
["R&M as a % of PPE",null,{"$f":"IF(ISERROR(ROUND(C167/'A6-FinPos'!C19,3)),0,(ROUND(C167/'A6-FinPos'!C19,3)))","v":4.0000000000000001E-3},{"$f":"IF(ISERROR(ROUND(D167/'A6-FinPos'!D19,3)),0,(ROUND(D167/'A6-FinPos'!D19,3)))","v":4.0000000000000001E-3},{"$f":"IF(ISERROR(ROUND(E167/'A6-FinPos'!E19,3)),0,(ROUND(E167/'A6-FinPos'!E19,3)))","v":3.0000000000000001E-3},{"$f":"IF(ISERROR(ROUND(F167/'A6-FinPos'!F19,3)),0,(ROUND(F167/'A6-FinPos'!F19,3)))","v":3.0000000000000001E-3},{"$f":"IF(ISERROR(ROUND(G167/'A6-FinPos'!G19,3)),0,(ROUND(G167/'A6-FinPos'!G19,3)))","v":4.0000000000000001E-3},{"$f":"IF(ISERROR(ROUND(H167/'A6-FinPos'!H19,3)),0,(ROUND(H167/'A6-FinPos'!H19,3)))","v":4.0000000000000001E-3},{"$f":"IF(ISERROR(ROUND(I167/'A6-FinPos'!I19,3)),0,(ROUND(I167/'A6-FinPos'!I19,3)))","v":3.0000000000000001E-3},{"$f":"IF(ISERROR(ROUND(J167/'A6-FinPos'!J19,3)),0,(ROUND(J167/'A6-FinPos'!J19,3)))","v":5.0000000000000001E-3},{"$f":"IF(ISERROR(ROUND(K167/'A6-FinPos'!K19,3)),0,(ROUND(K167/'A6-FinPos'!K19,3)))","v":5.0000000000000001E-3}]
["R&M as % Operating Expenditure",null,{"$f":"IF(ISERROR(ROUND(C167/'A1-Sum'!B18,3)),0,(ROUND(C167/'A1-Sum'!B18,3)))","v":1.4E-2},{"$f":"IF(ISERROR(ROUND(D167/'A1-Sum'!C18,3)),0,(ROUND(D167/'A1-Sum'!C18,3)))","v":1.0999999999999999E-2},{"$f":"IF(ISERROR(ROUND(E167/'A1-Sum'!D18,3)),0,(ROUND(E167/'A1-Sum'!D18,3)))","v":0.01},{"$f":"IF(ISERROR(ROUND(F167/'A1-Sum'!E18,3)),0,(ROUND(F167/'A1-Sum'!E18,3)))","v":1.4E-2},{"$f":"IF(ISERROR(ROUND(G167/'A1-Sum'!F18,3)),0,(ROUND(G167/'A1-Sum'!F18,3)))","v":0.01},{"$f":"IF(ISERROR(ROUND(H167/'A1-Sum'!G18,3)),0,(ROUND(H167/'A1-Sum'!G18,3)))","v":0.01},{"$f":"IF(ISERROR(ROUND(I167/'A1-Sum'!H18,3)),0,(ROUND(I167/'A1-Sum'!H18,3)))","v":8.9999999999999993E-3},{"$f":"IF(ISERROR(ROUND(J167/'A1-Sum'!I18,3)),0,(ROUND(J167/'A1-Sum'!I18,3)))","v":1.6E-2},{"$f":"IF(ISERROR(ROUND(K167/'A1-Sum'!J18,3)),0,(ROUND(K167/'A1-Sum'!J18,3)))","v":1.6E-2}]
[{"$f":"head27a","v":"References"}]
["1. Total Repairs and Maintenance Expenditure by Asset Category must reconcile to total repairs and maintenance expenditure on Table SA1"]
[]
[]
["check balance",null,{"$f":"C167-'SA1'!C164","v":0},{"$f":"D167-'SA1'!D164","v":0},{"$f":"E167-'SA1'!E164","v":0},{"$f":"F167-'SA1'!F164","v":0},{"$f":"G167-'SA1'!G164","v":1},{"$f":"H167-'SA1'!H164","v":1},{"$f":"I167-'SA1'!J164","v":0},{"$f":"J167-'SA1'!K164","v":0},{"$f":"K167-'SA1'!L164","v":0}]

{"sheet":"SA34d","index":58,"n_rows":173,"n_cols":11,"rows_kept":173,"cut":false,"hidden":false,"merged":[[1,5,1,7],[1,8,1,10]]}
[{"$f":"muni&\" - \"&TableA34d","v":"DC12 Amathole - Supporting Table SA34d Depreciation by asset class"}]
[{"$f":"desc","v":"Description"},{"$f":"head27","v":"Ref"},{"$f":"head1b","v":"2016/17"},{"$f":"head1A","v":"2017/18"},{"$f":"Head1","v":"2018/19"},{"$f":"Head2","v":"Current Year 2019/20"},null,null,{"$f":"Head3","v":"2020/21 Medium Term Revenue & Expenditure Framework"}]
["R thousand",1,{"$f":"Head5","v":"Audited Outcome"},{"$f":"Head5","v":"Audited Outcome"},{"$f":"Head5","v":"Audited Outcome"},{"$f":"Head6","v":"Original Budget"},{"$f":"Head7","v":"Adjusted Budget"},{"$f":"Head8","v":"Full Year Forecast"},{"$f":"Head9","v":"Budget Year 2020/21"},{"$f":"Head10","v":"Budget Year +1 2021/22"},{"$f":"Head11","v":"Budget Year +2 2022/23"}]
["Depreciation by Asset Class/Sub-class"]
[]
["Infrastructure",null,{"$f":"C7+C12+C16+C26+C37+C44+C52+C62+C68","v":85251432},{"$f":"D7+D12+D16+D26+D37+D44+D52+D62+D68","v":75207587.64974618},90925832.223678648,125565214,125565214,125565214,138121678,151933851,167127241]
["Roads Infrastructure",null,{"$f":"SUM(C8:C11)","v":0},0,0,0,0,0,0,0,0]
["Roads"]
["Road Structures"]
["Road Furniture"]
["Capital Spares"]
["Storm water Infrastructure",null,{"$f":"SUM(C13:C15)","v":0},{"$f":"SUM(D13:D15)","v":0},0,0,0,0,0,0,0]
["Drainage Collection"]
["Storm water Conveyance"]
["Attenuation"]
["Electrical Infrastructure",null,{"$f":"SUM(C17:C25)","v":0},0,0,0,0,0,0,0,0]
["Power Plants"]
["HV Substations"]
["HV Switching Station"]
["HV Transmission Conductors"]
["MV Substations"]
["MV Switching Stations"]
["MV Networks"]
["LV Networks"]
["Capital Spares"]
["Water Supply Infrastructure",null,{"$f":"SUM(C27:C36)","v":85251432},{"$f":"SUM(D27:D36)","v":69069188.442354068},83504519.110264614,115185459,115185459,115185459,126703948,139374345,153311782]
["Dams and Weirs",null,null,196420.14171716396,237471.58244592769]
["Boreholes",null,null,4737135.9249137314,5727188.4365635598]
["Reservoirs",null,null,4980916.3152661659,6021918.4706638241]
["Pump Stations",null,null,4461688.6519145248,5394173.2008158648]
["Water Treatment Works",null,85251432,7138146.324478698,8630005.5003799722,115185459,115185459,115185459,126703948,139374345,153311782]
["Bulk Mains"]
["Distribution",null,null,47553694.7020237,57492327.585737102]
["Distribution Points"]
["PRV Stations",null,null,1186.3820400895179,1434.3336583636474]
["Capital Spares"]
["Sanitation Infrastructure",null,{"$f":"SUM(C38:C43)","v":0},{"$f":"SUM(D38:D43)","v":5974822.819696378},7223549.5678972602,10379755,10379755,10379755,11417730,12559506,13815459]
["Pump Station",null,null,341650.79768107407,413055.17275343905]
["Reticulation",null,null,2755314.2128553749,3331169.7086783308]
["Waste Water Treatment Works",null,null,2877857.8091599289,3479324.6864654911,10379755,10379755,10379755,11417730,12559506,13815459]
["Outfall Sewers"]
["Toilet Facilities"]
["Capital Spares"]
["Solid Waste Infrastructure",null,{"$f":"SUM(C45:C51)","v":0},{"$f":"SUM(D45:D51)","v":163576.38769572604},197763.54551676934,0,0,0,0,0,0]
["Landfill Sites",null,null,163576.38769572604,197763.54551676934]
["Waste Transfer Stations"]
["Waste Processing Facilities"]
["Waste Drop-off Points"]
["Waste Separation Facilities"]
["Electricity Generation Facilities"]
["Capital Spares"]
["Rail Infrastructure",null,{"$f":"SUM(C53:C61)","v":0},0,0,0,0,0,0,0,0]
["Rail Lines"]
["Rail Structures"]
["Rail Furniture"]
["Drainage Collection"]
["Storm water Conveyance"]
["Attenuation"]
["MV Substations"]
["LV Networks"]
["Capital Spares"]
["Coastal Infrastructure",null,{"$f":"SUM(C63:C67)","v":0},{"$f":"SUM(D63:D67)","v":0},0,0,0,0,0,0,0]
["Sand Pumps"]
["Piers"]
["Revetments"]
["Promenades"]
["Capital Spares"]
["Information and Communication Infrastructure",null,{"$f":"SUM(C69:C72)","v":0},{"$f":"SUM(D69:D72)","v":0},0,0,0,0,0,0,0]
["Data Centres"]
["Core Layers"]
["Distribution Layers"]
["Capital Spares"]
[]
["Community Assets",null,{"$f":"C75+C98","v":2065603},{"$f":"D75+D98","v":1225855.693278844},1482057.2309353896,2997692,2997692,2997692,0,0,0]
["Community Facilities",null,{"$f":"SUM(C76:C97)","v":2065603},{"$f":"SUM(D76:D97)","v":1225855.693278844},1482057.2309353896,2997692,2997692,2997692,0,0,0]
["Halls"]
["Centres",null,2065603,1225855.693278844,1482057.2309353896]
["Crèches"]
["Clinics/Care Centres"]
["Fire/Ambulance Stations"]
["Testing Stations"]
["Museums",null,null,null,null,2997692,2997692,2997692]
["Galleries"]
["Theatres"]
["Libraries"]
["Cemeteries/Crematoria"]
["Police"]
["Parks"]
["Public Open Space"]
["Nature Reserves"]
["Public Ablution Facilities"]
["Markets"]
["Stalls"]
["Abattoirs"]
["Airports"]
["Taxi Ranks/Bus Terminals"]
["Capital Spares"]
["Sport and Recreation Facilities",null,{"$f":"SUM(C99:C101)","v":0},{"$f":"SUM(D99:D101)","v":0},0,0,0,0,0,0,0]
["Indoor Facilities"]
["Outdoor Facilities"]
["Capital Spares"]
[]
["Heritage assets",null,{"$f":"SUM(C104:C108)","v":0},{"$f":"SUM(D104:D108)","v":0},0,0,0,0,0,0,0]
["Monuments"]
["Historic Buildings"]
["Works of Art"]
["Conservation Areas"]
["Other Heritage"]
[]
["Investment properties",null,{"$f":"+C111+C114","v":357613},{"$f":"+D111+D114","v":295579.93389543798},357355.58496075927,447755,447755,447755,492531,541784,595962]
["Revenue Generating",null,{"$f":"SUM(C112:C113)","v":0},0,0,0,0,0,0,0,0]
["Improved Property"]
["Unimproved Property"]
["Non-revenue Generating",null,{"$f":"SUM(C115:C116)","v":357613},{"$f":"SUM(D115:D116)","v":295579.93389543798},357355.58496075927,447755,447755,447755,492531,541784,595962]
["Improved Property"]
["Unimproved Property",null,357613,295579.93389543798,357355.58496075927,447755,447755,447755,492531,541784,595962]
[]
["Other assets",null,{"$f":"+C119+C131","v":16853544.510000009},{"$f":"+D119+D131","v":3597934.4666905855},4349896.0130680772,527581,527581,527581,580339,638373,702211]
["Operational Buildings",null,{"$f":"SUM(C120:C130)","v":16853544.510000009},{"$f":"SUM(D120:D130)","v":3597934.4666905855},4349896.0130680772,527581,527581,527581,580339,638373,702211]
["Municipal Offices",null,527575,3597934.4666905855,4349896.0130680772,527581,527581,527581,580339,638373,702211]
["Pay/Enquiry Points"]
["Building Plan Offices"]
["Workshops"]
["Yards"]
["Stores"]
["Laboratories"]
["Training Centres"]
["Manufacturing Plant"]
["Depots"]
["Capital Spares",null,{"$f":"18179762-1853792.48999999","v":16325969.510000009}]
["Housing",null,{"$f":"SUM(C132:C134)","v":0},{"$f":"SUM(D132:D134)","v":0},0,0,0,0,0,0,0]
["Staff Housing"]
["Social Housing"]
["Capital Spares"]
[]
["Biological or Cultivated Assets",null,{"$f":"SUM(C137:C137)","v":0},0,0,0,0,0,0,0,0]
["Biological or Cultivated Assets"]
[]
["Intangible Assets",null,{"$f":"+C140+C141","v":6760400},{"$f":"+D140+D141","v":10652216.814838059},12878510.123565739,14000616,14000616,14000616,15400678,16940746,18634821]
["Servitudes"]
["Licences and Rights",null,{"$f":"SUM(C142:C147)","v":6760400},{"$f":"SUM(D142:D147)","v":10652216.814838059},12878510.123565739,14000616,14000616,14000616,15400678,16940746,18634821]
["Water Rights"]
["Effluent Licenses"]
["Solid Waste Licenses"]
["Computer Software and Applications",null,6760400,10652216.814838059,12878510.123565739,14000616,14000616,14000616,15400678,16940746,18634821]
["Load Settlement Software Applications"]
["Unspecified"]
[]
["Computer Equipment",null,{"$f":"SUM(C150:C150)","v":0},5098855.2528181821,6164506.4246670231,6143239,6143239,6143239,3835893,4219482,4641431]
["Computer Equipment",null,null,5098855.2528181821,6164506.4246670231,6143239,6143239,6143239,3835893,4219482,4641431]
[]
["Furniture and Office Equipment",null,{"$f":"SUM(C153:C153)","v":0},2194914.1870928053,2653647.13,2292696,2292696,2292696,1587269,1746000,1920604]
["Furniture and Office Equipment",null,null,2194914.1870928053,{"$f":"2534411.31+119235.82","v":2653647.13},2292696,2292696,2292696,1587269,1746000,1920604]
[]
["Machinery and Equipment",null,{"$f":"SUM(C156:C156)","v":0},1537992.7282488816,1859430.32,547995,547995,547995,344779,379258,417187]
["Machinery and Equipment",null,null,1537992.7282488816,1859430.32,547995,547995,547995,344779,379258,417187]
[]
["Transport Assets",null,{"$f":"SUM(C159:C159)","v":0},7458598.5333910258,9017431.6191243622,10043867,10043867,10043867,9954196,10949614,12044580]
["Transport Assets",null,null,7458598.5333910258,{"$f":"8948531.37+68900.3776119947-0.128487631678581","v":9017431.6191243622},10043867,10043867,10043867,9954196,10949614,12044580]
[]
["Land",null,{"$f":"SUM(C162:C162)","v":0},0,0,0,0,0,0,0,0]
["Land"]
[]
["Zoo's, Marine and Non-biological Animals",null,{"$f":"SUM(C165:C165)","v":0},0,0,0,0,0,0,0,0]
["Zoo's, Marine and Non-biological Animals"]
[]
["Total Depreciation",1,{"$f":"C6+C74+C103+C110+C118+C136+C139+C149+C152+C155+C158+C161+C164","v":111288592.51000001},{"$f":"D6+D74+D103+D110+D118+D136+D139+D149+D152+D155+D158+D161+D164","v":107269535.26000002},129688666.67,162566655,162566655,162566655,170317363,187349108,206084037]
[]
[{"$f":"head27a","v":"References"}]
["1. Depreciation based on write down values. Not including Depreciation resulting from revaluation."]
[]
[]
["Check",null,{"$f":"C$167-'A4-FinPerf RE'!C$27","v":0},{"$f":"D$167-'A4-FinPerf RE'!D$27","v":0},{"$f":"E$167-'A4-FinPerf RE'!E$27","v":0},{"$f":"F$167-'A4-FinPerf RE'!F$27","v":0},{"$f":"G$167-'A4-FinPerf RE'!G$27","v":0},{"$f":"H$167-'A4-FinPerf RE'!H$27","v":0},{"$f":"I$167-'A4-FinPerf RE'!J$27","v":0},{"$f":"J$167-'A4-FinPerf RE'!K$27","v":0},{"$f":"K$167-'A4-FinPerf RE'!L$27","v":0}]

{"sheet":"SA34e","index":59,"n_rows":175,"n_cols":11,"rows_kept":175,"cut":false,"hidden":false,"merged":[[1,5,1,7],[1,8,1,10]]}
[{"$f":"muni&\" - \"&TableA34e","v":"DC12 Amathole - Supporting Table SA34e Capital expenditure on the upgrading of existing assets by asset class"}]
[{"$f":"desc","v":"Description"},{"$f":"head27","v":"Ref"},{"$f":"head1b","v":"2016/17"},{"$f":"head1A","v":"2017/18"},{"$f":"Head1","v":"2018/19"},{"$f":"Head2","v":"Current Year 2019/20"},null,null,{"$f":"Head3","v":"2020/21 Medium Term Revenue & Expenditure Framework"}]
["R thousand",1,{"$f":"Head5","v":"Audited Outcome"},{"$f":"Head5","v":"Audited Outcome"},{"$f":"Head5","v":"Audited Outcome"},{"$f":"Head6","v":"Original Budget"},{"$f":"Head7","v":"Adjusted Budget"},{"$f":"Head8","v":"Full Year Forecast"},{"$f":"Head9","v":"Budget Year 2020/21"},{"$f":"Head10","v":"Budget Year +1 2021/22"},{"$f":"Head11","v":"Budget Year +2 2022/23"}]
["Capital expenditure on upgrading of existing assets by Asset Class/Sub-class"]
[]
["Infrastructure",null,{"$f":"C7+C12+C16+C26+C37+C44+C52+C62+C68","v":0},{"$f":"D7+D12+D16+D26+D37+D44+D52+D62+D68","v":0},0,122287896.50797798,193290266.92601252,193290266.92601252,135470921.46000001,115098614.28502831,150045716.92439258]
["Roads Infrastructure",null,{"$f":"SUM(C8:C11)","v":0},0,0,0,0,0,0,0,0]
["Roads"]
["Road Structures"]
["Road Furniture"]
["Capital Spares"]
["Storm water Infrastructure",null,{"$f":"SUM(C13:C15)","v":0},{"$f":"SUM(D13:D15)","v":0},0,0,0,0,0,0,0]
["Drainage Collection"]
["Storm water Conveyance"]
["Attenuation"]
["Electrical Infrastructure",null,{"$f":"SUM(C17:C25)","v":0},0,0,0,0,0,0,0,0]
["Power Plants"]
["HV Substations"]
["HV Switching Station"]
["HV Transmission Conductors"]
["MV Substations"]
["MV Switching Stations"]
["MV Networks"]
["LV Networks"]
["Capital Spares"]
["Water Supply Infrastructure",null,{"$f":"SUM(C27:C36)","v":0},{"$f":"SUM(D27:D36)","v":0},0,86711396.581965461,145763767,145763767,107010921.46000001,91305877.8380346,114545716.9243926]
["Dams and Weirs"]
["Boreholes"]
["Reservoirs"]
["Pump Stations"]
["Water Treatment Works",null,null,null,null,66211396.581965461]
["Bulk Mains",null,null,null,null,20500000]
["Distribution",null,null,null,null,null,145763767,145763767,{"$f":"10000000+36200000+60810921.46","v":107010921.46000001},{"$f":"30000000+61305877.8380346","v":91305877.8380346},{"$f":"25000000+89545716.9243926","v":114545716.9243926}]
["Distribution Points"]
["PRV Stations"]
["Capital Spares"]
["Sanitation Infrastructure",null,{"$f":"SUM(C38:C43)","v":0},{"$f":"SUM(D38:D43)","v":0},0,35576499.926012516,47526499.926012516,47526499.926012516,28460000,23792736.446993701,35500000]
["Pump Station"]
["Reticulation",null,null,null,null,8482349.963006258,8482349.963006258,8482349.963006258,4500000,11045082.536993699,30000000]
["Waste Water Treatment Works",null,null,null,null,27094149.963006258,39044149.963006258,39044149.963006258,{"$f":"21650000+2310000","v":23960000},{"$f":"11500000+1247653.91","v":12747653.91},5500000]
["Outfall Sewers"]
["Toilet Facilities"]
["Capital Spares"]
["Solid Waste Infrastructure",null,{"$f":"SUM(C45:C51)","v":0},{"$f":"SUM(D45:D51)","v":0},0,0,0,0,0,0,0]
["Landfill Sites"]
["Waste Transfer Stations"]
["Waste Processing Facilities"]
["Waste Drop-off Points"]
["Waste Separation Facilities"]
["Electricity Generation Facilities"]
["Capital Spares"]
["Rail Infrastructure",null,{"$f":"SUM(C53:C61)","v":0},0,0,0,0,0,0,0,0]
["Rail Lines"]
["Rail Structures"]
["Rail Furniture"]
["Drainage Collection"]
["Storm water Conveyance"]
["Attenuation"]
["MV Substations"]
["LV Networks"]
["Capital Spares"]
["Coastal Infrastructure",null,{"$f":"SUM(C63:C67)","v":0},{"$f":"SUM(D63:D67)","v":0},0,0,0,0,0,0,0]
["Sand Pumps"]
["Piers"]
["Revetments"]
["Promenades"]
["Capital Spares"]
["Information and Communication Infrastructure",null,{"$f":"SUM(C69:C72)","v":0},{"$f":"SUM(D69:D72)","v":0},0,0,0,0,0,0,0]
["Data Centres"]
["Core Layers"]
["Distribution Layers"]
["Capital Spares"]
[]
["Community Assets",null,{"$f":"C75+C98","v":0},{"$f":"D75+D98","v":2152338},657336.88,0,0,0,0,0,0]
["Community Facilities",null,{"$f":"SUM(C76:C97)","v":0},{"$f":"SUM(D76:D97)","v":2152338},657336.88,0,0,0,0,0,0]
["Halls"]
["Centres",null,null,2152338,657336.88]
["Crèches"]
["Clinics/Care Centres"]
["Fire/Ambulance Stations"]
["Testing Stations"]
["Museums"]
["Galleries"]
["Theatres"]
["Libraries"]
["Cemeteries/Crematoria"]
["Police"]
["Parks"]
["Public Open Space"]
["Nature Reserves"]
["Public Ablution Facilities"]
["Markets"]
["Stalls"]
["Abattoirs"]
["Airports"]
["Taxi Ranks/Bus Terminals"]
["Capital Spares"]
["Sport and Recreation Facilities",null,{"$f":"SUM(C99:C101)","v":0},{"$f":"SUM(D99:D101)","v":0},0,0,0,0,0,0,0]
["Indoor Facilities"]
["Outdoor Facilities"]
["Capital Spares"]
[]
["Heritage assets",null,{"$f":"SUM(C104:C108)","v":0},{"$f":"SUM(D104:D108)","v":0},0,0,0,0,0,0,0]
["Monuments"]
["Historic Buildings"]
["Works of Art"]
["Conservation Areas"]
["Other Heritage"]
[]
["Investment properties",null,{"$f":"+C111+C114","v":0},{"$f":"+D111+D114","v":0},0,0,0,0,0,0,0]
["Revenue Generating",null,{"$f":"SUM(C112:C113)","v":0},0,0,0,0,0,0,0,0]
["Improved Property"]
["Unimproved Property"]
["Non-revenue Generating",null,{"$f":"SUM(C115:C116)","v":0},{"$f":"SUM(D115:D116)","v":0},0,0,0,0,0,0,0]
["Improved Property"]
["Unimproved Property"]
[]
["Other assets",null,{"$f":"+C119+C131","v":0},{"$f":"+D119+D131","v":0},0,0,0,0,0,0,0]
["Operational Buildings",null,{"$f":"SUM(C120:C130)","v":0},{"$f":"SUM(D120:D130)","v":0},0,0,0,0,0,0,0]
["Municipal Offices"]
["Pay/Enquiry Points"]
["Building Plan Offices"]
["Workshops"]
["Yards"]
["Stores"]
["Laboratories"]
["Training Centres"]
["Manufacturing Plant"]
["Depots"]
["Capital Spares"]
["Housing",null,{"$f":"SUM(C132:C134)","v":0},{"$f":"SUM(D132:D134)","v":0},0,0,0,0,0,0,0]
["Staff Housing"]
["Social Housing"]
["Capital Spares"]
[]
["Biological or Cultivated Assets",null,{"$f":"SUM(C137:C137)","v":0},0,0,0,0,0,0,0,0]
["Biological or Cultivated Assets"]
[]
["Intangible Assets",null,{"$f":"+C140+C141","v":0},{"$f":"+D140+D141","v":0},0,0,0,0,0,0,0]
["Servitudes"]
["Licences and Rights",null,{"$f":"SUM(C142:C147)","v":0},{"$f":"SUM(D142:D147)","v":0},0,0,0,0,0,0,0]
["Water Rights"]
["Effluent Licenses"]
["Solid Waste Licenses"]
["Computer Software and Applications"]
["Load Settlement Software Applications"]
["Unspecified"]
[]
["Computer Equipment",null,{"$f":"SUM(C150:C150)","v":0},0,0,0,0,0,0,0,0]
["Computer Equipment"]
[]
["Furniture and Office Equipment",null,{"$f":"SUM(C153:C153)","v":0},0,0,0,0,0,0,0,0]
["Furniture and Office Equipment"]
[]
["Machinery and Equipment",null,{"$f":"SUM(C156:C156)","v":0},0,0,0,0,0,0,0,0]
["Machinery and Equipment"]
[]
["Transport Assets",null,{"$f":"SUM(C159:C159)","v":0},0,0,0,0,0,0,0,0]
["Transport Assets"]
[]
["Land",null,{"$f":"SUM(C162:C162)","v":0},0,0,0,0,0,0,0,0]
["Land"]
[]
["Zoo's, Marine and Non-biological Animals",null,{"$f":"SUM(C165:C165)","v":0},0,0,0,0,0,0,0,0]
["Zoo's, Marine and Non-biological Animals"]
[]
["Total Capital Expenditure on upgrading of existing assets ",1,{"$f":"C6+C74+C103+C110+C118+C136+C139+C149+C152+C155+C158+C161+C164","v":0},{"$f":"D6+D74+D103+D110+D118+D136+D139+D149+D152+D155+D158+D161+D164","v":2152338},657336.88,122287896.50797798,193290266.92601252,193290266.92601252,135470921.46000001,115098614.28502831,150045716.92439258]
[]
["Upgrading of Existing Assets as % of total capex",null,{"$f":"IF(ISERROR(C167/'A9-Asset'!C67),0,(C167/'A9-Asset'!C67))","v":0},{"$f":"IF(ISERROR(D167/'A9-Asset'!D132),0,(D167/'A9-Asset'!D132))","v":5.7698890902832273E-3},{"$f":"IF(ISERROR(E167/'A9-Asset'!E132),0,(E167/'A9-Asset'!E132))","v":1.9585750663496091E-3},{"$f":"IF(ISERROR(F167/'A9-Asset'!F132),0,(F167/'A9-Asset'!F132))","v":0.18538139335579401},{"$f":"IF(ISERROR(G167/'A9-Asset'!G132),0,(G167/'A9-Asset'!G132))","v":0.329014400696928},{"$f":"IF(ISERROR(H167/'A9-Asset'!H132),0,(H167/'A9-Asset'!H132))","v":0.329014400696928},{"$f":"IF(ISERROR(I167/'A9-Asset'!I132),0,(I167/'A9-Asset'!I132))","v":0.23914348067790234},{"$f":"IF(ISERROR(J167/'A9-Asset'!J132),0,(J167/'A9-Asset'!J132))","v":0.16707480627911594},{"$f":"IF(ISERROR(K167/'A9-Asset'!K132),0,(K167/'A9-Asset'!K132))","v":0.21682097751234611}]
["Upgrading of Existing Assets as % of deprecn\"",null,{"$f":"IF(ISERROR(C167/'A9-Asset'!C168),0,(C167/'A9-Asset'!C168))","v":0},{"$f":"IF(ISERROR(D167/'A9-Asset'!D168),0,(D167/'A9-Asset'!D168))","v":2.0064764844773129E-2},{"$f":"IF(ISERROR(E167/'A9-Asset'!E168),0,(E167/'A9-Asset'!E168))","v":5.0685761283415006E-3},{"$f":"IF(ISERROR(F167/'A9-Asset'!F168),0,(F167/'A9-Asset'!F168))","v":0.75223234745143752},{"$f":"IF(ISERROR(G167/'A9-Asset'!G168),0,(G167/'A9-Asset'!G168))","v":1.1889908599399583},{"$f":"IF(ISERROR(H167/'A9-Asset'!H168),0,(H167/'A9-Asset'!H168))","v":1.1889908599399583},{"$f":"IF(ISERROR(I167/'A9-Asset'!I168),0,(I167/'A9-Asset'!I168))","v":0.79540288244129287},{"$f":"IF(ISERROR(J167/'A9-Asset'!J168),0,(J167/'A9-Asset'!J168))","v":0.61435368181752059},{"$f":"IF(ISERROR(K167/'A9-Asset'!K168),0,(K167/'A9-Asset'!K168))","v":0.72808024875984245}]
[{"$f":"head27a","v":"References"}]
["1.  Total Capital Expenditure  on upgrading of existing assets (SA34e) plus Total Capital Expenditure on new assets (SA34a)  plus Total Capital Expenditure  on renewal of existing assets (SA34b) must reconcile to total capital expenditure in Budgeted Capital Expenditure"]
[]
[]
["check balance",null,{"$f":"SUM(C167+SA34a!C167++SA34b!C167)-'A5-Capex'!C40","v":-67074325},{"$f":"SUM(D167+SA34a!D167++SA34b!D167)-'A5-Capex'!D40","v":0},{"$f":"SUM(E167+SA34a!E167++SA34b!E167)-'A5-Capex'!E40","v":-0.12000006437301636},{"$f":"SUM(F167+SA34a!F167++SA34b!F167)-'A5-Capex'!F40","v":-4.0000677108764648E-3},{"$f":"SUM(G167+SA34a!G167++SA34b!G167)-'A5-Capex'!G40","v":8.4101319313049316E-2},{"$f":"SUM(H167+SA34a!H167++SA34b!H167)-'A5-Capex'!H40","v":8.4101319313049316E-2},{"$f":"SUM(I167+SA34a!I167++SA34b!I167)-'A5-Capex'!J40","v":0},{"$f":"SUM(J167+SA34a!J167++SA34b!J167)-'A5-Capex'!K40","v":0},{"$f":"SUM(K167+SA34a!K167++SA34b!K167)-'A5-Capex'!L40","v":0}]

{"sheet":"SA35","index":60,"n_rows":62,"n_cols":9,"rows_kept":62,"cut":false,"hidden":false,"merged":[[1,5,1,8],[1,2,1,4]]}
[{"$f":"muni&\" - \"&TableA35","v":"DC12 Amathole - Supporting Table SA35 Future financial implications of the capital budget"}]
[{"$f":"Vdesc","v":"Vote Description"},{"$f":"head27","v":"Ref"},{"$f":"Head3","v":"2020/21 Medium Term Revenue & Expenditure Framework"},null,null,"Forecasts"]
["R thousand",null,{"$f":"Head9","v":"Budget Year 2020/21"},{"$f":"Head10","v":"Budget Year +1 2021/22"},{"$f":"Head11","v":"Budget Year +2 2022/23"},{"$f":"Head12","v":"Forecast 2023/24"},{"$f":"Head13","v":"Forecast 2024/25"},{"$f":"Head14","v":"Forecast 2025/26"},{"$f":"Head48","v":"Present value"}]
["Capital expenditure",1]
[{"$f":"'A5-Capex'!A6","v":"Vote 1 - Legislative & Executive Support Services"},null,{"$f":"'A5-Capex'!J6+'A5-Capex'!J24","v":0},{"$f":"'A5-Capex'!K6+'A5-Capex'!K24","v":0},{"$f":"'A5-Capex'!L6+'A5-Capex'!L24","v":0}]
[{"$f":"'A5-Capex'!A7","v":"Vote 2 - Strategic Management"},null,{"$f":"'A5-Capex'!J7+'A5-Capex'!J25","v":15000000},{"$f":"'A5-Capex'!K7+'A5-Capex'!K25","v":15000000},{"$f":"'A5-Capex'!L7+'A5-Capex'!L25","v":15000000}]
[{"$f":"'A5-Capex'!A8","v":"Vote 3 - Corporate Services"},null,{"$f":"'A5-Capex'!J8+'A5-Capex'!J26","v":0},{"$f":"'A5-Capex'!K8+'A5-Capex'!K26","v":0},{"$f":"'A5-Capex'!L8+'A5-Capex'!L26","v":0}]
[{"$f":"'A5-Capex'!A9","v":"Vote 4 - Budget & Treasury"},null,{"$f":"'A5-Capex'!J9+'A5-Capex'!J27","v":50000},{"$f":"'A5-Capex'!K9+'A5-Capex'!K27","v":50000},{"$f":"'A5-Capex'!L9+'A5-Capex'!L27","v":50000}]
[{"$f":"'A5-Capex'!A10","v":"Vote 5 - Engineering Department"},null,{"$f":"'A5-Capex'!J10+'A5-Capex'!J28","v":551433857.62379622},{"$f":"'A5-Capex'!K10+'A5-Capex'!K28","v":673854670},{"$f":"'A5-Capex'!L10+'A5-Capex'!L28","v":676975830}]
[{"$f":"'A5-Capex'!A11","v":"Vote 6 - Health & Protection Department"},null,{"$f":"'A5-Capex'!J11+'A5-Capex'!J29","v":0},{"$f":"'A5-Capex'!K11+'A5-Capex'!K29","v":0},{"$f":"'A5-Capex'!L11+'A5-Capex'!L29","v":0}]
[{"$f":"'A5-Capex'!A12","v":"Vote 7 - Water & Sanitation Management"},null,{"$f":"'A5-Capex'!J12+'A5-Capex'!J30","v":0},{"$f":"'A5-Capex'!K12+'A5-Capex'!K30","v":0},{"$f":"'A5-Capex'!L12+'A5-Capex'!L30","v":0}]
[{"$f":"'A5-Capex'!A13","v":"Vote 8 - Water Services"},null,{"$f":"'A5-Capex'!J13+'A5-Capex'!J31","v":0},{"$f":"'A5-Capex'!K13+'A5-Capex'!K31","v":0},{"$f":"'A5-Capex'!L13+'A5-Capex'!L31","v":0}]
[{"$f":"'A5-Capex'!A14","v":"Vote 9 - Sanitation Services"},null,{"$f":"'A5-Capex'!J14+'A5-Capex'!J32","v":0},{"$f":"'A5-Capex'!K14+'A5-Capex'!K32","v":0},{"$f":"'A5-Capex'!L14+'A5-Capex'!L32","v":0}]
[{"$f":"'A5-Capex'!A15","v":"Vote 10 - Land Human Settlement & Economic Development"},null,{"$f":"'A5-Capex'!J15+'A5-Capex'!J33","v":0},{"$f":"'A5-Capex'!K15+'A5-Capex'!K33","v":0},{"$f":"'A5-Capex'!L15+'A5-Capex'!L33","v":0}]
[{"$f":"'A5-Capex'!A16","v":"Vote 11 - Municipal Management"},null,{"$f":"'A5-Capex'!J16+'A5-Capex'!J34","v":0},{"$f":"'A5-Capex'!K16+'A5-Capex'!K34","v":0},{"$f":"'A5-Capex'!L16+'A5-Capex'!L34","v":0}]
[{"$f":"'A5-Capex'!A17","v":"Vote 12 - [NAME OF VOTE 12]"},null,{"$f":"'A5-Capex'!J17+'A5-Capex'!J35","v":0},{"$f":"'A5-Capex'!K17+'A5-Capex'!K35","v":0},{"$f":"'A5-Capex'!L17+'A5-Capex'!L35","v":0}]
[{"$f":"'A5-Capex'!A18","v":"Vote 13 - [NAME OF VOTE 13]"},null,{"$f":"'A5-Capex'!J18+'A5-Capex'!J36","v":0},{"$f":"'A5-Capex'!K18+'A5-Capex'!K36","v":0},{"$f":"'A5-Capex'!L18+'A5-Capex'!L36","v":0}]
[{"$f":"'A5-Capex'!A19","v":"Vote 14 - [NAME OF VOTE 14]"},null,{"$f":"'A5-Capex'!J19+'A5-Capex'!J37","v":0},{"$f":"'A5-Capex'!K19+'A5-Capex'!K37","v":0},{"$f":"'A5-Capex'!L19+'A5-Capex'!L37","v":0}]
[{"$f":"'A5-Capex'!A20","v":"Vote 15 - [NAME OF VOTE 15]"},null,{"$f":"'A5-Capex'!J20+'A5-Capex'!J38","v":0},{"$f":"'A5-Capex'!K20+'A5-Capex'!K38","v":0},{"$f":"'A5-Capex'!L20+'A5-Capex'!L38","v":0}]
["List entity summary if applicable"]
["Total Capital Expenditure ",null,{"$f":"SUM(C5:C20)","v":566483857.62379622},{"$f":"SUM(D5:D20)","v":688904670},692025830,0,0,0,0]
[]
["Future operational costs by vote",2]
[{"$f":"A5","v":"Vote 1 - Legislative & Executive Support Services"},null,0,0,0]
[{"$f":"A6","v":"Vote 2 - Strategic Management"},null,91467317.757235974,94050544.481900007,98254624.428369373]
["Vote 3 - Corporate Services",null,209376252.6197724,224518946.86869094,232242159.86198863]
["Vote 4 - Budget & Treasury",null,143384962.61809558,152274159.19706878,158844252.89928454]
["Vote 5 - Engineering Department",null,161645849.82906914,136703859.10594457,145095107.22920361]
["Vote 6 - Health & Protection Department",null,128299542.55337001,139246740.47136566,144141658.87502632]
["Vote 7 - Water & Sanitation Management",null,62755596.526854128,66590473.146178126,69674649.043365389]
["Vote 8 - Water Services",null,571704183.16525316,619140197.84559369,660524869.39866507]
["Vote 9 - Sanitation Services",null,187964717.09905294,204245154.20727187,213389622.710949]
["Vote 10 - Land Human Settlement & Economic Development",null,59382827.146870062,53716590.157684371,55125659.383532733]
["Vote 11 - Municipal Management",null,43285068.744251303,50687101.283893757,52295769.173662975]
["Vote 12 - [NAME OF VOTE 12]"]
["Vote 13 - [NAME OF VOTE 13]"]
["Vote 14 - [NAME OF VOTE 14]"]
["Vote 15 - [NAME OF VOTE 15]"]
["List entity summary if applicable"]
["Total future operational costs",null,{"$f":"SUM(C24:C39)","v":1659266318.0598247},{"$f":"SUM(D24:D39)","v":1741173766.7655916},1829588373.0040474,0,0,0,0]
[]
["Future revenue by source",3]
[{"$f":"'A4-FinPerf RE'!A5","v":"Property rates"}]
[{"$f":"'A4-FinPerf RE'!A6","v":"Service charges - electricity revenue"}]
[{"$f":"'A4-FinPerf RE'!A7","v":"Service charges - water revenue"},null,383511942,408022656,413820012]
[{"$f":"'A4-FinPerf RE'!A8","v":"Service charges - sanitation revenue"},null,140540930,148973389,157911795]
[{"$f":"'A4-FinPerf RE'!A9","v":"Service charges - refuse revenue"},null,7409367,7853929,8325165]
[]
[{"$f":"'A4-FinPerf RE'!A11","v":"Rental of facilities and equipment"},null,318452,350297,385327]
["Interest earned - external investments",null,17911009,18717004,19559270]
["Interest earned - outstanding debtors",null,93056091,98639456,104557824]
["Transfers and subsidies",null,959432133,991670163,1057558355]
["Other revenue",null,72226392,82017792,82542505]
[]
["Total future revenue",null,{"$f":"SUM(C43:C47)+SUM(C49:C54)","v":1674406316},{"$f":"SUM(D43:D47)+SUM(D49:D54)","v":1756244686},{"$f":"SUM(E43:E47)+SUM(E49:E54)","v":1844660253},{"$f":"SUM(F43:F47)+SUM(F49:F53)","v":0},0,0,0]
["Net Financial Implications",null,{"$f":"C21+C40-C55","v":551343859.68362093},673833750.76559162,676953950.00404739,0,0,0,0]
[{"$f":"head27a","v":"References"}]
["1. Summarise the total capital cost until capital project is operational (MFMA s19(2)(a))"]
["2. Summary of future operational costs from when projects operational (present value until the end of each asset's useful life) (MFMA s19(2)(b))"]
["3. Summarise the future revenue from when projects are operational, including municipal tax and tariff implications, (present value until the end of asset's useful life)"]
[]
["check",null,{"$f":"C21-('A5-Capex'!J21+'A5-Capex'!J39)","v":0},{"$f":"D21-('A5-Capex'!K21+'A5-Capex'!K39)","v":0},{"$f":"E21-('A5-Capex'!L21+'A5-Capex'!L39)","v":0}]

{"sheet":"SA36","index":61,"n_rows":122,"n_cols":17,"rows_kept":122,"cut":false,"hidden":false,"merged":[[1,12,1,13],[1,14,1,16]]}
[{"$f":"muni&\" - \"&TableA36","v":"DC12 Amathole - Supporting Table SA36 Detailed capital budget"}]
["R thousand",null,null,null,null,null,null,null,null,null,null,null,null,null,{"$f":"Head3","v":"2020/21 Medium Term Revenue & Expenditure Framework"}]
["Function","Project Description","Project Number","Type","MTSF Service Outcome","IUDF","Own Strategic Objectives","Asset Class","Asset Sub-Class","Ward Location","GPS Longitude","GPS Lattitude",{"$f":"Head5&\"    \"&Head1","v":"Audited Outcome    2018/19"},{"$f":"Head2 & \"        \"&Head8","v":"Current Year 2019/20        Full Year Forecast"},{"$f":"Head9","v":"Budget Year 2020/21"},{"$f":"Head10","v":"Budget Year +1 2021/22"},{"$f":"Head11","v":"Budget Year +2 2022/23"}]
["Parent municipality:"]
["List all capital projects grouped by Function"]
[]
["Water management","20 x fire hydrant installations for Komga",null,"Renewal","Responsive, accountable, effective and efficient local government","Inclusion and access",null,"Water Supply Infrastructure","Reservoirs","EC123 GREAT KEI",null,null,null,23660298.49000001,200000,0,0]
["Water management","Adelaide Water Treatment Works & Bedford Water Treatment Works ",null,"Renewal","Responsive, accountable, effective and efficient local government","Inclusion and access",null,"Water Supply Infrastructure","Distribution","EC129 NKONKOBE/NXUBA",null,null,null,0,9200000,0,0]
["Water management","Amabele Waste Water Treatment Works ",null,"Renewal","Responsive, accountable, effective and efficient local government","Inclusion and access",null,"Sanitation Infrastructure","Waste Water Treatment Works","EC124 AMAHLATI",null,null,null,0,0,0,500000]
["Water management","Bulk Water Supply to Ekuphumleni & 9 Villages - Phase 5",null,"New","Responsive, accountable, effective and efficient local government","Inclusion and access",null,"Water Supply Infrastructure","Distribution","EC129 NKONKOBE/NXUBA",null,null,null,0,1000000,2000000,7000000]
["Water management","Butterworth Waste Water Treatment Works",null,"Renewal","Responsive, accountable, effective and efficient local government","Inclusion and access",null,"Sanitation Infrastructure","Waste Water Treatment Works","EC122 MNQUMA",null,null,null,0,6300000,0,0]
["Water management","Cathcart Sanitation",null,"New","Responsive, accountable, effective and efficient local government","Inclusion and access",null,"Sanitation Infrastructure","Waste Water Treatment Works","EC124 AMAHLATI",null,null,null,0,500000,0,1000000]
["Water management","Chintsa Bulk Services Upgrade (WTW's & WWTW's)",null,"Upgrading","Responsive, accountable, effective and efficient local government","Inclusion and access",null,"Water Supply Infrastructure","Water Treatment Works","EC123 GREAT KEI",null,null,null,0,500000,500000,4000000]
["Water management","Cintsa Dam Refurbishment",null,"Renewal","Responsive, accountable, effective and efficient local government","Inclusion and access",null,"Water Supply Infrastructure","Dams and Weirs","EC123 GREAT KEI",null,null,null,750000,0,1500000,4000000]
["Water management","Corrosion Evaluation of Rural reservoirs (Feasibility Study)",null,"Renewal","Responsive, accountable, effective and efficient local government","Inclusion and access",null,"Water Supply Infrastructure","Reservoirs","EC123 GREAT KEI",null,null,null,0,0,1000000,0]
["Water management","Crouches Bush",null,"New","Responsive, accountable, effective and efficient local government","Inclusion and access",null,"Water Supply Infrastructure","Distribution","EC122 MNQUMA",null,null,null,0,3000000,10000000,0]
["Water management","Cwili Interim Water Services",null,"New","Responsive, accountable, effective and efficient local government","Inclusion and access",null,"Water Supply Infrastructure","Distribution","EC123 GREAT KEI",null,null,null,0,1000000,2000000,1000000]
["Water management","District wide Refurbishment of Water and Sewer Pump Stations",null,"Renewal","Responsive, accountable, effective and efficient local government","Inclusion and access",null,"Water Supply Infrastructure","Waste Water Treatment Works","ADM: WHOLE DISTRICT",null,null,null,2500000,3000000,5000000,5000000]
["Water management","Dontsa Water Supply",null,"New","Responsive, accountable, effective and efficient local government","Inclusion and access",null,"Water Supply Infrastructure","Distribution","EC124 AMAHLATI",null,null,null,0,0,1000000,0]
["Water management","Drought Interventions",null,"New","Responsive, accountable, effective and efficient local government","Inclusion and access",null,"Water Supply Infrastructure","Distribution","ADM: WHOLE DISTRICT",null,null,null,0,3000000,5000000,9000000]
["Water management","Fort Beaufort  Waste Water Treatment Works",null,"Renewal","Responsive, accountable, effective and efficient local government","Inclusion and access",null,"Sanitation Infrastructure","Waste Water Treatment Works","EC129 NKONKOBE/NXUBA",null,null,null,0,10800000,1500000,0]
["Water management","Kei Mouth pipe replacement ",null,"Renewal","Responsive, accountable, effective and efficient local government","Inclusion and access",null,"Water Supply Infrastructure","Distribution","EC123 GREAT KEI",null,null,null,0,500000,1000000,1000000]
["Water management","Keiskammahoek Waste Water Treatment Works ",null,"Renewal","Responsive, accountable, effective and efficient local government","Inclusion and access",null,"Sanitation Infrastructure","Waste Water Treatment Works","EC124 AMAHLATI",null,null,null,0,0,1000000,0]
["Water management","Kolomane Bulk Water Supply Phase 3",null,"New","Responsive, accountable, effective and efficient local government","Inclusion and access",null,"Water Supply Infrastructure","Distribution","EC129 NKONKOBE/NXUBA",null,null,null,0,1000000,1000000,4000000]
["Water management","Komga Waste Water Treatment Works",null,"Renewal","Responsive, accountable, effective and efficient local government","Inclusion and access",null,"Sanitation Infrastructure","Waste Water Treatment Works","EC123 GREAT KEI",null,null,null,8333520,50000,1000000,0]
["Water management","Langdraai Reservoir Refurbishment",null,"Renewal","Responsive, accountable, effective and efficient local government","Inclusion and access",null,"Water Supply Infrastructure","Reservoirs","EC124 AMAHLATI",null,null,null,6184282,0,500000,0]
["Water management","Major Dams (Morgan Bay , Centenary, Chintsa) devegetation and excess reeds removals",null,"Renewal","Responsive, accountable, effective and efficient local government","Inclusion and access",null,"Water Supply Infrastructure","Distribution","EC123 GREAT KEI",null,null,null,0,0,500000,500000]
["Water management","Middledrift East (Gagatyume) Water Supply ",null,"Renewal","Responsive, accountable, effective and efficient local government","Inclusion and access",null,"Water Supply Infrastructure","Distribution","EC129 NKONKOBE/NXUBA",null,null,null,0,0,1000000,4000000]
["Water management","Morgan's Bay Sewage Waste Water  Ponds",null,"Renewal","Responsive, accountable, effective and efficient local government","Inclusion and access",null,"Sanitation Infrastructure","Waste Water Treatment Works","EC123 GREAT KEI",null,null,null,0,1500000,3000000]
["Water management","Peddie Sewer Remodelling (Feasibility study)",null,"Renewal","Responsive, accountable, effective and efficient local government","Inclusion and access",null,"Sanitation Infrastructure","Reticulation","EC126 NGQUSHWA",null,null,null,3500000,0,1000000,0]
["Water management","Replacing the entire galvanise reticulation system to HDPE reticulation in Amabhele",null,"Renewal","Responsive, accountable, effective and efficient local government","Inclusion and access",null,"Water Supply Infrastructure","Distribution","EC124 AMAHLATI",null,null,null,0,5000000,10000000,5000000]
["Water management","Rhabula Water Supply",null,"New","Responsive, accountable, effective and efficient local government","Inclusion and access",null,"Water Supply Infrastructure","Distribution","EC124 AMAHLATI",null,null,null,4455000,3000000,5000000,6000000]
["Water management","RHIG - Ward 11 & 14",null,"New","Responsive, accountable, effective and efficient local government","Inclusion and access",null,"Water Supply Infrastructure","Reticulation","EC122 MNQUMA",null,null,null,0,2000000,null,0]
["Water management","Roma / Keilands Water Supply",null,"New","Responsive, accountable, effective and efficient local government","Inclusion and access",null,"Water Supply Infrastructure","Distribution","EC124 AMAHLATI",null,null,null,9500000,5450000,10000000,5000000]
["Water management","Seymour Ext 6 Sewer",null,"New","Responsive, accountable, effective and efficient local government","Inclusion and access",null,"Sanitation Infrastructure","Reticulation","EC129 NKONKOBE/NXUBA",null,null,null,0,1000000,500000,3000000]
["Water management","Water Loss Reduction Programme: Amahlathi",null,"Renewal","Responsive, accountable, effective and efficient local government","Inclusion and access",null,"Water Supply Infrastructure","Distribution","EC124 AMAHLATI",null,null,null,0,2500000,2500000,2500000]
["Water management","Water Loss Reduction Programme: Great Kei",null,"Renewal","Responsive, accountable, effective and efficient local government","Inclusion and access",null,"Water Supply Infrastructure","Distribution","EC123 GREAT KEI",null,null,null,8000000,2500000,2500000,2500000]
["Water management","Water Loss Reduction Programme: Mbhashe",null,"Renewal","Responsive, accountable, effective and efficient local government","Inclusion and access",null,"Water Supply Infrastructure","Distribution","EC121 MBHASHE",null,null,null,49929000,2500000,2500000,2500000]
["Water management","Water Loss Reduction Programme: Mnquma",null,"Renewal","Responsive, accountable, effective and efficient local government","Inclusion and access",null,"Water Supply Infrastructure","Distribution","EC122 MNQUMA",null,null,null,1559000,2500000,2500000,2500000]
["Water management","Water Loss Reduction Programme: Ngqushwa",null,"Renewal","Responsive, accountable, effective and efficient local government","Inclusion and access",null,"Water Supply Infrastructure","Distribution","EC126 NGQUSHWA",null,null,null,4600000,5000000,5000000,5000000]
["Water management","Water Loss Reduction Programme: Raymond Mhlaba",null,"Renewal","Responsive, accountable, effective and efficient local government","Inclusion and access",null,"Water Supply Infrastructure","Distribution","EC129 NKONKOBE/NXUBA",null,null,null,0,5000000,5000000,5000000]
["Water management","West Victoria East Water Supply phase 3",null,"New","Responsive, accountable, effective and efficient local government","Inclusion and access",null,"Water Supply Infrastructure","Distribution","EC129 NKONKOBE/NXUBA",null,null,null,0,2000000,0,0]
[]
["Water management","Xhora East Water Supply ",null,"New","Responsive, accountable, effective and efficient local government","Inclusion and access",null,"Water Supply Infrastructure","Distribution","EC121 MBHASHE",null,null,null,99694000,56366000,0,0]
["Water management","Sundwana Water Supply",null,"New","Responsive, accountable, effective and efficient local government","Inclusion and access",null,"Water Supply Infrastructure","Distribution","EC121 MBHASHE",null,null,null,0,10000000,47500000,66348000]
["Water management","Ngqamakhwe Bulk Water Supply",null,"New","Responsive, accountable, effective and efficient local government","Inclusion and access",null,"Water Supply Infrastructure","Distribution","EC122 MNQUMA",null,null,null,0,20000000,99750000,61628000]
[]
["Water management","Bedford & Adelaide Bucket Eradication Programme - Phase 6",null,"Renewal","Responsive, accountable, effective and efficient local government","Inclusion and access",null,"Sanitation Infrastructure","Reticulation","EC129 NKONKOBE/NXUBA",null,null,null,232350,1000000,10045082.536993699,0]
["Water management","Hogsback Water Treatment Works and New Reservoir",null,"New","Responsive, accountable, effective and efficient local government","Inclusion and access",null,"Water Supply Infrastructure","Water Treatment Works","EC129 NKONKOBE/NXUBA",null,null,null,2482350,9917954,4821115.0600000024,0]
["Water management","Fort Beaufort Bulk Water Services Upgrading",null,"Upgrading","Responsive, accountable, effective and efficient local government","Inclusion and access",null,"Water Supply Infrastructure","Distribution","EC129 NKONKOBE/NXUBA",null,null,null,4926999,18650000,16635006.620324329,0]
["Water management","Nxuba - Adelaide and Bedford Bucket Eradication Phase 4: Upgrading of Bedford WWTW ",null,"Upgrading","Responsive, accountable, effective and efficient local government","Inclusion and access",null,"Sanitation Infrastructure","Reticulation","EC129 NKONKOBE/NXUBA",null,null,null,362811,1060000,1247653.9099999964,0]
["Water management","Peddie Wastewater Treatment Works",null,"New","Responsive, accountable, effective and efficient local government","Inclusion and access",null,"Sanitation Infrastructure","Waste Water Treatment Works","EC126 NGQUSHWA",null,null,null,1482350,7150000,44748409.676993743,45000000]
["Water management","Ngqushwa Villages Water Reticulation - Budget Maintanance",null,"Renewal","Responsive, accountable, effective and efficient local government","Inclusion and access",null,"Water Supply Infrastructure","Bulk Mains","EC126 NGQUSHWA",null,null,null,8482350,14800000,1594022.8669936974,0]
["Water management","Stutterheim Sewer Pipe Replacement Programme",null,"Renewal","Responsive, accountable, effective and efficient local government","Inclusion and access",null,"Sanitation Infrastructure","Reticulation","EC124 AMAHLATI",null,null,null,3985542,7290000,1729384.3873478435,0]
["Water management","Stutterheim Water Pipe Replacement Programme",null,"Renewal","Responsive, accountable, effective and efficient local government","Inclusion and access",null,"Water Supply Infrastructure","Distribution","EC124 AMAHLATI",null,null,null,1313739,15309000,2728875.3099999987,3523577.0400000028]
["Water management","Carthcart Bulk Services Upgrade",null,"Upgrading","Responsive, accountable, effective and efficient local government","Inclusion and access",null,"Water Supply Infrastructure","Distribution","EC124 AMAHLATI",null,null,null,4655659,17100000,40941995.907710224,50000000]
["Water management","Komga Commonage Settlement Project -Bulk Water",null,"New","Responsive, accountable, effective and efficient local government","Inclusion and access",null,"Water Supply Infrastructure","Distribution","EC124 AMAHLATI",null,null,null,2566691,3800000,14333959.570665598,1414533.8700000038]
["Water management","Morgan's Bay/Igxara Sanitation",null,"New","Responsive, accountable, effective and efficient local government","Inclusion and access",null,"Sanitation Infrastructure","Reticulation","EC123 GREAT KEI",null,null,null,399421,359420.72,0,0]
["Water management","Kei Bridge Komga Water Treatment Works",null,"New","Responsive, accountable, effective and efficient local government","Inclusion and access",null,"Water Supply Infrastructure","Water Treatment Works","EC123 GREAT KEI",null,null,null,3725485,14800000,11014925.035490595,12732376.860000005]
["Water management","Ibika–Centani Water Supply Phase 3",null,"New","Responsive, accountable, effective and efficient local government","Inclusion and access",null,"Water Supply Infrastructure","Distribution","EC122 MNQUMA",null,null,null,18123839,16516000,46740747.813987628,56999999.999999881]
["Water management","Gcuwa West Regional Water Supply",null,"New","Responsive, accountable, effective and efficient local government","Inclusion and access",null,"Water Supply Infrastructure","Distribution","EC122 MNQUMA",null,null,null,7291075,4959164.350496022,5064910.3595039751,0]
["Water management","Nxaxo & Cebe Water Supply Scheme Phase 2",null,"New","Responsive, accountable, effective and efficient local government","Inclusion and access",null,"Water Supply Infrastructure","Distribution","EC122 MNQUMA",null,null,null,13964700,12757934.97601252,46223980.293630347,40000000]
["Water management","Ngqamakwe Regional Water Supply Phase (1 - 4)",null,"New","Responsive, accountable, effective and efficient local government","Inclusion and access",null,"Water Supply Infrastructure","Distribution","EC122 MNQUMA",null,null,null,21205875,9958729,30812406.199499901,60000000]
["Water management","Zizamele Sewerage Reticulation Phase 2",null,"New","Responsive, accountable, effective and efficient local government","Inclusion and access",null,"Sanitation Infrastructure","Reticulation","EC122 MNQUMA",null,null,null,3036934,19964700,173501.81999999657,2413359.390000002]
["Water management","Centane Phase 4 Water Supply ",null,"New","Responsive, accountable, effective and efficient local government","Inclusion and access",null,"Water Supply Infrastructure","Distribution","EC122 MNQUMA",null,null,null,1913358,15337000,32983693.899999961,39454050.000000045]
["Water management","Bawa Falls Water Supply",null,"New","Responsive, accountable, effective and efficient local government","Inclusion and access",null,"Water Supply Infrastructure","Distribution","EC122 MNQUMA",null,null,null,371093,4900000,13710675.93,371093]
["Water management","Cafutweni Water Supply Scheme (Revised Scope)",null,"New","Responsive, accountable, effective and efficient local government","Inclusion and access",null,"Water Supply Infrastructure","Distribution","EC122 MNQUMA",null,null,null,4000000,23474157.879999999,11630670.990000006,2999999.9999999925]
["Water management","Sundwana Water Supply Scheme, Sundwane water supply scheme including other villages",null,"New","Responsive, accountable, effective and efficient local government","Inclusion and access",null,"Water Supply Infrastructure","Distribution","EC122 MNQUMA",null,null,null,2668010,28500000,15225845.805484563,25000000]
["Water management","Mncwasa Regional Water Supply Scheme Phase 4",null,"New","Responsive, accountable, effective and efficient local government","Inclusion and access",null,"Water Supply Infrastructure","Distribution","EC121 MBHASHE",null,null,null,3200000,2000000,2537568.5899999915,609000.00000000838]
["Water management","Mgwali North Water Supply Scheme",null,"New","Responsive, accountable, effective and efficient local government","Inclusion and access",null,"Water Supply Infrastructure","Distribution","EC121 MBHASHE",null,null,null,2241175,14000000,6927072.9284968711,700000]
["Water management","Mgwali South Water Supply Project; Mgwali South Water Supply Phase B",null,"New","Responsive, accountable, effective and efficient local government","Inclusion and access",null,"Water Supply Infrastructure","Distribution","EC121 MBHASHE",null,null,null,17564700,15455600,41459738.363987535,41999999.99999997]
["Water management","Idutywa East Water Supply Scheme Phase 2, Idutywa east water supply project",null,"New","Responsive, accountable, effective and efficient local government","Inclusion and access",null,"Water Supply Infrastructure","Distribution","EC121 MBHASHE",null,null,null,2968822,10850000,3005210.5999999996,0]
["Water management","Ward 31 Water Supply Scheme",null,"New","Responsive, accountable, effective and efficient local government","Inclusion and access",null,"Water Supply Infrastructure","Distribution","EC121 MBHASHE",null,null,null,741176,16350000,12781805.378496874,300174.98150312528]
["Water management","Bende Water Supply Scheme",null,"New","Responsive, accountable, effective and efficient local government","Inclusion and access",null,"Water Supply Infrastructure","Distribution","EC121 MBHASHE",null,null,null,937645,18950000,10104264.515895627,19437644.974104375]
["Water management","Shixini Water Supply Scheme",null,"New","Responsive, accountable, effective and efficient local government","Inclusion and access",null,"Water Supply Infrastructure","Distribution","EC121 MBHASHE",null,null,null,9805266,16000000,1260843.8284968995,0]
["Water management","Elliotdale Waste Water Treatment Works Feasibility Study",null,"New","Responsive, accountable, effective and efficient local government","Inclusion and access",null,"Sanitation Infrastructure","Waste Water Treatment Works","EC121 MBHASHE",null,null,null,311800,1250000,0,0]
["Water management","Upgrading of water storage & retic to accommodate future development in Dutywa",null,"Upgrading","Responsive, accountable, effective and efficient local government","Inclusion and access",null,"Water Supply Infrastructure","Distribution","EC121 MBHASHE",null,null,null,50000,5143932.5599999996,1000000,36022139.884392604]
["Water management","Upgrading of bulk collector sewers to accomodated future development in Dutywa",null,"Upgrading","Responsive, accountable, effective and efficient local government","Inclusion and access",null,"Sanitation Infrastructure","Reticulation","EC121 MBHASHE",null,null,null,50000,3500000,1000000,30000000]
["Water management","Sewage Reticulation in Willowvale",null,"New","Responsive, accountable, effective and efficient local government","Inclusion and access",null,"Sanitation Infrastructure","Reticulation","EC121 MBHASHE",null,null,null,50000,570000,4100381.8,0]
["Water management","Equipping boreholes in Mantaneni (Mphuthi Dam)",null,"New","Responsive, accountable, effective and efficient local government","Inclusion and access",null,"Water Supply Infrastructure","Boreholes","EC121 MBHASHE",null,null,null,null,1246017.69,0,0]
["Water management","Lencani Village Water Tanker Refill Station",null,"New","Responsive, accountable, effective and efficient local government","Inclusion and access",null,"Water Supply Infrastructure","Distribution","EC121 MBHASHE",null,null,null,null,409980.56000000006,0,0]
["Water management","Remote Monitoring Infrastructure Upgrade (Bulk Water Supply)",null,"Renewal","Responsive, accountable, effective and efficient local government","Inclusion and access",null,"Water Supply Infrastructure","Distribution","EC121 MBHASHE",null,null,null,null,1998050,0,0]
["Water management","Ngqamakhwe Ward 17&19 Sanitation Project ",null,"New","Responsive, accountable, effective and efficient local government","Inclusion and access",null,"Sanitation Infrastructure","Reticulation","EC122 MNQUMA",null,null,null,null,507136.82000000193,0,0]
["Water management","Qolora by the Sea Water Scheme Upgrade",null,"Renewal","Responsive, accountable, effective and efficient local government","Inclusion and access",null,"Water Supply Infrastructure","Water Treatment Works","EC122 MNQUMA",null,null,null,null,1200037,0,0]
["Water management","Equipping of Qumrha boreholes",null,"New","Responsive, accountable, effective and efficient local government","Inclusion and access",null,"Water Supply Infrastructure","Boreholes","EC123 GREAT KEI",null,null,null,null,1171922.6399999999,0,0]
["Water management","Stutterheim Raw Water Supply Upgrade",null,"Renewal","Responsive, accountable, effective and efficient local government","Inclusion and access",null,"Water Supply Infrastructure","Distribution","EC123 GREAT KEI",null,null,null,null,1409901.9,0,0]
["Water management","Zingcuka Water Supply",null,"New","Responsive, accountable, effective and efficient local government","Inclusion and access",null,"Water Supply Infrastructure","Distribution","EC124 AMAHLATI",null,null,null,null,4950885,0,0]
["Water management","Amathole District Municipality Bucket Eradication COVID 19 Interventions",null,"New","Responsive, accountable, effective and efficient local government","Inclusion and access",null,"Sanitation Infrastructure","Reticulation","EC129 NKONKOBE/NXUBA",null,null,null,null,220332.52728769928,0,0]
["Water management","West Victoria East Water Supply Phase 4",null,"New","Responsive, accountable, effective and efficient local government","Inclusion and access",null,"Water Supply Infrastructure","Distribution","EC129 NKONKOBE/NXUBA",null,null,null,null,190000,5000000,0]
[]
["Water management","Butterworth Water Treatment Works Backwash Recovery",null,"New","Responsive, accountable, effective and efficient local government","Inclusion and access",null,"Water Supply Infrastructure","Water Treatment Works","EC122 MNQUMA",null,null,null,null,10000000,0,0]
["Water management","Refurbishment of Adelaide Canal",null,"Renewal","Responsive, accountable, effective and efficient local government","Inclusion and access",null,"Water Supply Infrastructure","Distribution","EC129 NKONKOBE/NXUBA",null,null,null,null,10000000,0,0]
[]
["Planning and development","ADMAC PROJECT",null,"New","Responsive, accountable, effective and efficient local government","Inclusion and access",null,"Licences and Rights","Computer Software and Applications","HEAD OFFICE",null,null,null,null,15000000,15000000,15000000]
["Planning and development","Computer Equipment",null,"Renewal","Responsive, accountable, effective and efficient local government","Inclusion and access",null,"Computer Equipment","Unspecified","HEAD OFFICE",null,null,null,null,70000,0,0]
["Planning and development","Office Furniture and Office Equipment",null,"Renewal","Responsive, accountable, effective and efficient local government","Inclusion and access",null,"Furniture and Office Equipment","Unspecified","HEAD OFFICE",null,null,null,null,20000,20920,21880]
[]
["Finance and Administration","Computer Equipment",null,"Renewal","Responsive, accountable, effective and efficient local government","Inclusion and access",null,"Computer Equipment","Unspecified","HEAD OFFICE",null,null,null,null,50000,50000,50000]
[]
[]
["Parent Capital expenditure",null,null,null,null,null,null,null,null,null,null,null,{"$f":"SUM(M7:M100)","v":0},{"$f":"SUM(N7:N100)","v":367776315.49000001},{"$f":"SUM(O7:O100)","v":566483857.62379622},{"$f":"SUM(P7:P100)","v":688904669.99999988},{"$f":"SUM(Q7:Q100)","v":692025830}]
[]
["Entities:"]
["List all capital projects grouped by Entity"]
[]
["Entity A"]
["Water project A"]
[]
["Entity B"]
["Electricity project B"]
[]
[]
[]
["Entity Capital expenditure",null,null,null,null,null,null,null,null,null,null,null,{"$f":"SUM(M106:M113)","v":0},{"$f":"SUM(N106:N113)","v":0},{"$f":"SUM(O106:O113)","v":0},{"$f":"SUM(P106:P113)","v":0},{"$f":"SUM(Q106:Q113)","v":0}]
["Total Capital expenditure",null,null,null,null,null,null,null,null,null,null,null,{"$f":"SUM(M7:M100)+SUM(M106:M113)","v":0},{"$f":"SUM(N7:N100)+SUM(N106:N113)","v":367776315.49000001},{"$f":"SUM(O7:O100)+SUM(O106:O113)","v":566483857.62379622},{"$f":"SUM(P7:P100)+SUM(P106:P113)","v":688904669.99999988},{"$f":"SUM(Q7:Q100)+SUM(Q106:Q113)","v":692025830}]
[{"$f":"head27a","v":"References"}]
["Must reconcile with Budgeted Capital Expenditure"]
["Projects that fall above the threshold values applicable to the municipality as identified in regulation 13 of the Municipal Budget and Reporting Regulations must be listed individually. Other projects by Function"]
["Asset class as per table A9 and asset sub-class as per table SA34"]
["GPS coordinates correct to seconds. Provide a logical starting point on networked infrastructure."]
["Distinguish projects approved in terms of MFMA section 19(1)(b) and MRRR Regulation 13",null,null,null,null,null,null,null,null,null,null,"check",{"$f":"SUM(SA34a!E167+SA34b!E167+SA34e!E167)-'SA36'!M115","v":335619957.2299999},{"$f":"SUM(SA34a!H167+SA34b!H167+SA34e!H167)-'SA36'!N115","v":219706379.84667635},{"$f":"SUM(SA34a!I167+SA34b!I167+SA34e!I167)-'SA36'!O115","v":0},{"$f":"SUM(SA34a!J167+SA34b!J167+SA34e!J167)-'SA36'!P115","v":0},{"$f":"SUM(SA34a!K167+SA34b!K167+SA34e!K167)-'SA36'!Q115","v":0}]
["Project Number consists of MSCOA Project Longcode and seq No (sample PC001002006002_00002)"]

{"sheet":"SA37","index":62,"n_rows":27,"n_cols":18,"rows_kept":27,"cut":false,"hidden":false,"merged":[[1,12,2,12],[1,13,1,14],[1,15,1,17]]}
[{"$f":"muni&\" - \"&TableA37","v":"DC12 Amathole - Supporting Table SA37 Projects delayed from previous financial year/s"}]
["R thousand",null,null,null,null,null,null,null,null,null,null,null,{"$f":"Head47","v":"Previous target year to complete"},{"$f":"Head2","v":"Current Year 2019/20"},null,{"$f":"Head3","v":"2020/21 Medium Term Revenue & Expenditure Framework"}]
["Function","Project name","Project number","Type","MTSF Service Outcome","IUDF","Own Strategic Objectives","Asset Class","Asset Sub-Class","Ward Location","GPS Longitude","GPS Lattitude",null,{"$f":"Head6","v":"Original Budget"},{"$f":"Head8","v":"Full Year Forecast"},{"$f":"Head9","v":"Budget Year 2020/21"},{"$f":"Head10","v":"Budget Year +1 2021/22"},{"$f":"Head11","v":"Budget Year +2 2022/23"}]
["Parent municipality:"]
["List all capital projects grouped by Function"]
[]
[]
[]
[]
[]
[]
[]
[]
["Entities:"]
["List all capital projects grouped by Entity"]
[]
["Entity Name"]
["Project name"]
[]
[]
[]
[]
[{"$f":"head27a","v":"References"}]
["List all projects with planned completion dates in current year that have been re-budgeted in the MTREF"]
["Asset class as per table A9 and asset sub-class as per table SA34"]
["GPS coordinates correct to seconds. Provide a logical starting point on networked infrastructure."]
["Project Number consists of MSCOA Project Longcode and seq No (sample PC001002006002_00002)"]

{"sheet":"SA38","index":63,"n_rows":47,"n_cols":17,"rows_kept":47,"cut":false,"hidden":false,"merged":[[1,12,1,13],[1,14,1,16]]}
[{"$f":"muni&\" - \"&TableA38","v":"DC12 Amathole - Supporting Table SA38 Consolidated detailed operational projects"}]
["R thousand",null,null,null,null,null,null,null,null,null,null,null,"Prior year outcomes",null,{"$f":"Head3","v":"2020/21 Medium Term Revenue & Expenditure Framework"}]
["Function","Project Description","Project Number","Type","MTSF Service Outcome","IUDF","Own Strategic Objectives","Asset Class","Asset Sub-Class","Ward Location","GPS Longitude","GPS Lattitude",{"$f":"Head5&\"    \"&Head1","v":"Audited Outcome    2018/19"},{"$f":"Head2 & \"        \"&Head8","v":"Current Year 2019/20        Full Year Forecast"},{"$f":"Head9","v":"Budget Year 2020/21"},{"$f":"Head10","v":"Budget Year +1 2021/22"},{"$f":"Head11","v":"Budget Year +2 2022/23"}]
["Parent municipality:"]
["List all operational projects grouped by Function"]
[]
["Water management","Ngqushwa Region 2C Sanitation Project",null,"New","Responsive, accountable, effective and efficient local government","Inclusion and access",null,"Sanitation Infrastructure","Toilet Facilities","EC126 NGQUSHWA",null,null,null,27982479,5575123,0,0]
[]
["Water management","Mbhashe Area Wide Sanitation: Mbhashe Region 1 Sanitation; Mbhashe Region 1b Sanitation Project",null,"New","Responsive, accountable, effective and efficient local government","Inclusion and access",null,"Sanitation Infrastructure","Toilet Facilities","EC121 MBHASHE",null,null,null,null,1477028.1199999994,0,0]
["Water management","Mbhashe Area Wide Sanitation: Mbhashe Region 2 Sanitation Project",null,"New","Responsive, accountable, effective and efficient local government","Inclusion and access",null,"Sanitation Infrastructure","Toilet Facilities","EC121 MBHASHE",null,null,null,null,1981480.4760000035,0,0]
["Water management","Mbhashe Elliotdale Region 2B Sanitation Project",null,"New","Responsive, accountable, effective and efficient local government","Inclusion and access",null,"Sanitation Infrastructure","Toilet Facilities","EC121 MBHASHE",null,null,null,null,39746.950000000186,0,0]
["Water management","Mbhashe Region 2C Sanitation Project",null,"New","Responsive, accountable, effective and efficient local government","Inclusion and access",null,"Sanitation Infrastructure","Toilet Facilities","EC121 MBHASHE",null,null,null,null,627805.753000075,0,0]
["Water management","Mbhashe Region 2D Sanitation Project",null,"New","Responsive, accountable, effective and efficient local government","Inclusion and access",null,"Sanitation Infrastructure","Toilet Facilities","EC121 MBHASHE",null,null,null,null,2572682.9099999182,0,0]
["Water management","Mbhashe Region 3B Sanitation Project",null,"New","Responsive, accountable, effective and efficient local government","Inclusion and access",null,"Sanitation Infrastructure","Toilet Facilities","EC121 MBHASHE",null,null,null,null,268448.68000000989,0,0]
["Water management","Centane Sanitation Project: Budget Maintenance",null,"New","Responsive, accountable, effective and efficient local government","Inclusion and access",null,"Sanitation Infrastructure","Toilet Facilities","EC122 MNQUMA",null,null,null,null,400368.91400008427,0,0]
["Water management","Mnquma Area Wide Sanitation Mnquma Region 2 Sanitation (3697 VIP Toilets)",null,"New","Responsive, accountable, effective and efficient local government","Inclusion and access",null,"Sanitation Infrastructure","Toilet Facilities","EC122 MNQUMA",null,null,null,null,346381.20000000071,0,0]
["Water management","Mnquma Region 1A Sanitation Project",null,"New","Responsive, accountable, effective and efficient local government","Inclusion and access",null,"Sanitation Infrastructure","Toilet Facilities","EC122 MNQUMA",null,null,null,null,15836843,0,0]
["Water management","Mnquma Region 2B Sanitation Project",null,"New","Responsive, accountable, effective and efficient local government","Inclusion and access",null,"Sanitation Infrastructure","Toilet Facilities","EC122 MNQUMA",null,null,null,null,507906.5700000028,0,0]
["Water management","Mnquma Region 3 Sanitation Project",null,"New","Responsive, accountable, effective and efficient local government","Inclusion and access",null,"Sanitation Infrastructure","Toilet Facilities","EC122 MNQUMA",null,null,null,null,1950664.2200000067,0,0]
["Water management","Great Kei Area Wide Sanitation",null,"New","Responsive, accountable, effective and efficient local government","Inclusion and access",null,"Sanitation Infrastructure","Toilet Facilities","EC123 GREAT KEI",null,null,null,null,873481,0,0]
["Water management","Amahlathi Area Wide Sanitation Region 2A ",null,"New","Responsive, accountable, effective and efficient local government","Inclusion and access",null,"Sanitation Infrastructure","Toilet Facilities","EC124 AMAHLATI",null,null,null,null,769103.32000000565,0,0]
["Water management","Amahlathi Area Wide Sanitation Region 3A",null,"New","Responsive, accountable, effective and efficient local government","Inclusion and access",null,"Sanitation Infrastructure","Toilet Facilities","EC124 AMAHLATI",null,null,null,null,1564205.5499999993,0,0]
["Water management","Amahlathi Area Wide Sanitation: Amahlathi Sanitation Project",null,"New","Responsive, accountable, effective and efficient local government","Inclusion and access",null,"Sanitation Infrastructure","Toilet Facilities","EC124 AMAHLATI",null,null,null,null,167912.41000000131,0,0]
["Water management","Nkonkobe Area Wide Sanitation Region 3A",null,"New","Responsive, accountable, effective and efficient local government","Inclusion and access",null,"Sanitation Infrastructure","Toilet Facilities","EC129 NKONKOBE/NXUBA",null,null,null,null,50000,0,0]
["Water management","Nkonkobe Region 2A Sanitation Project",null,"New","Responsive, accountable, effective and efficient local government","Inclusion and access",null,"Sanitation Infrastructure","Toilet Facilities","EC129 NKONKOBE/NXUBA",null,null,null,null,4160060.0599999856,0,0]
[]
[]
["Parent Operational expenditure",null,null,null,null,null,null,null,null,null,null,null,{"$f":"SUM(M7:M27)","v":0},{"$f":"SUM(N7:N27)","v":27982479},{"$f":"SUM(O7:O27)","v":39169242.133000098},{"$f":"SUM(P7:P27)","v":0},{"$f":"SUM(Q7:Q27)","v":0}]
[]
["Entities:"]
["List all Operational projects grouped by Entity"]
[]
["Entity A"]
["Water project A"]
[]
["Entity B"]
["Electricity project B"]
[]
[]
[]
["Entity Operational expenditure",null,null,null,null,null,null,null,null,null,null,null,{"$f":"SUM(M33:M40)","v":0},{"$f":"SUM(N33:N40)","v":0},{"$f":"SUM(O33:O40)","v":0},{"$f":"SUM(P33:P40)","v":0},{"$f":"SUM(Q33:Q40)","v":0}]
["Total Operational expenditure",null,null,null,null,null,null,null,null,null,null,null,{"$f":"SUM(M7:M27)+SUM(M33:M40)","v":0},{"$f":"SUM(N7:N27)+SUM(N33:N40)","v":27982479},{"$f":"SUM(O7:O27)+SUM(O33:O40)","v":39169242.133000098},{"$f":"SUM(P7:P27)+SUM(P33:P40)","v":0},{"$f":"SUM(Q7:Q27)+SUM(Q33:Q40)","v":0}]
[{"$f":"head27a","v":"References"}]
["Must reconcile with Budgeted Operating Expenditure"]
["Asset class as per table A9 and asset sub-class as per table SA34"]
["GPS coordinates correct to seconds. Provide a logical starting point on networked infrastructure."]
["Project Number consists of MSCOA Project Longcode and seq No (sample PO001001002001002001002_00066)",null,null,null,null,null,null,null,null,null,null,"check",{"$f":"+'A4-FinPerf RE'!E35-'SA38'!M42","v":1676528846.3199997},{"$f":"+'A4-FinPerf RE'!H35-'SA38'!N42","v":1805057722.2347999},{"$f":"+'A4-FinPerf RE'!J35-'SA38'!O42","v":1620097075.9268241},{"$f":"+'A4-FinPerf RE'!K35-'SA38'!P42","v":1741173766.7655916},{"$f":"+'A4-FinPerf RE'!L35-'SA38'!Q42","v":1829588373.0040474}]

{"sheet":"LGDB_EXPORT","index":64,"n_rows":2876,"n_cols":23,"rows_kept":2876,"cut":false,"hidden":false,"merged":[]}
["FORM","YEAR END","MUNCDE","ITEMCODE","SEQ","DESCRIPTION",null,null,null,null,null,null,null,null,null,null,null,null,null,null,null,null,"~"]
["BSD",{"$f":"+MTREF","v":2020},{"$f":"LEFT(muni,(FIND(\" \",muni,1)-1))","v":"DC12"},"1000",1,"Household service targets (000)",null,null,null,null,null,null,null,null,null,null,null,null,null,null,null,null,"~"]
["BSD",2020,"DC12","1100",2,"Water:",null,null,null,null,null,null,null,null,null,null,null,null,null,null,null,null,"~"]
["BSD",2020,"DC12","1101",3,"Piped water inside dwelling",null,null,null,null,null,null,null,null,null,null,null,null,null,null,null,null,"~"]
["BSD",2020,"DC12","1102",4,"Piped water inside yard (but not in dwelling)",null,null,null,null,null,null,null,null,null,null,null,null,null,null,null,null,"~"]
["BSD",2020,"DC12","1103",5,"Using public tap (at least min.service level)",null,null,null,null,null,null,null,null,null,null,null,null,null,null,null,null,"~"]
["BSD",2020,"DC12","1104",6,"Other water supply (at least min.service level)",null,null,null,null,null,null,null,null,null,null,null,null,null,null,null,null,"~"]
["BSD",2020,"DC12","1105",7,"Minimum Service Level and Above sub-total",null,null,null,null,null,null,null,null,null,null,null,null,null,null,null,null,"~"]
["BSD",2020,"DC12","1106",8,"Using public tap (< min.service level)",null,null,null,null,null,null,null,null,null,null,null,null,null,null,null,null,"~"]
["BSD",2020,"DC12","1107",9,"Other water supply (< min.service level)",null,null,null,null,null,null,null,null,null,null,null,null,null,null,null,null,"~"]
["BSD",2020,"DC12","1108",10,"No water supply",null,null,null,null,null,null,null,null,null,null,null,null,null,null,null,null,"~"]
["BSD",2020,"DC12","1109",11,"Below Minimum Service Level sub-total",null,null,null,null,null,null,null,null,null,null,null,null,null,null,null,null,"~"]
["BSD",2020,"DC12","1110",12,"Total number of households",null,null,null,null,null,null,null,null,null,null,null,null,null,null,null,null,"~"]
["BSD",2020,"DC12","1200",13,"Sanitation/sewerage:",null,null,null,null,null,null,null,null,null,null,null,null,null,null,null,null,"~"]
["BSD",2020,"DC12","1201",14,"Flush toilet (connected to sewerage)",null,null,null,null,null,null,null,null,null,null,null,null,null,null,null,null,"~"]
["BSD",2020,"DC12","1202",15,"Flush toilet (with septic tank)",null,null,null,null,null,null,null,null,null,null,null,null,null,null,null,null,"~"]
["BSD",2020,"DC12","1203",16,"Chemical toilet",null,null,null,null,null,null,null,null,null,null,null,null,null,null,null,null,"~"]
["BSD",2020,"DC12","1204",17,"Pit toilet (ventilated)",null,null,null,null,null,null,null,null,null,null,null,null,null,null,null,null,"~"]
["BSD",2020,"DC12","1205",18,"Other toilet provisions (> min.service level)",null,null,null,null,null,null,null,null,null,null,null,null,null,null,null,null,"~"]
["BSD",2020,"DC12","1206",19,"Minimum Service Level and Above sub-total",null,null,null,null,null,null,null,null,null,null,null,null,null,null,null,null,"~"]
["BSD",2020,"DC12","1207",20,"Bucket toilet",null,null,null,null,null,null,null,null,null,null,null,null,null,null,null,null,"~"]
["BSD",2020,"DC12","1208",21,"Other toilet provisions (< min.service level)",null,null,null,null,null,null,null,null,null,null,null,null,null,null,null,null,"~"]
["BSD",2020,"DC12","1209",22,"No toilet provisions",null,null,null,null,null,null,null,null,null,null,null,null,null,null,null,null,"~"]
["BSD",2020,"DC12","1210",23,"Below Minimum Service Level sub-total",null,null,null,null,null,null,null,null,null,null,null,null,null,null,null,null,"~"]
["BSD",2020,"DC12","1211",24,"Total number of households",null,null,null,null,null,null,null,null,null,null,null,null,null,null,null,null,"~"]
["BSD",2020,"DC12","1300",25,"Energy:",null,null,null,null,null,null,null,null,null,null,null,null,null,null,null,null,"~"]
["BSD",2020,"DC12","1301",26,"Electricity (at least min.service level)",null,null,null,null,null,null,null,null,null,null,null,null,null,null,null,null,"~"]
["BSD",2020,"DC12","1302",27,"Electricity - prepaid (min.service level)",null,null,null,null,null,null,null,null,null,null,null,null,null,null,null,null,"~"]
["BSD",2020,"DC12","1303",28,"Minimum Service Level and Above sub-total",null,null,null,null,null,null,null,null,null,null,null,null,null,null,null,null,"~"]
["BSD",2020,"DC12","1304",29,"Electricity (< min.service level)",null,null,null,null,null,null,null,null,null,null,null,null,null,null,null,null,"~"]
["BSD",2020,"DC12","1305",30,"Electricity - prepaid (< min. service level)",null,null,null,null,null,null,null,null,null,null,null,null,null,null,null,null,"~"]
["BSD",2020,"DC12","1306",31,"Other energy sources",null,null,null,null,null,null,null,null,null,null,null,null,null,null,null,null,"~"]
["BSD",2020,"DC12","1307",32,"Below Minimum Service Level sub-total",null,null,null,null,null,null,null,null,null,null,null,null,null,null,null,null,"~"]
["BSD",2020,"DC12","1308",33,"Total number of households",null,null,null,null,null,null,null,null,null,null,null,null,null,null,null,null,"~"]
["BSD",2020,"DC12","1400",34,"Refuse:",null,null,null,null,null,null,null,null,null,null,null,null,null,null,null,null,"~"]
["BSD",2020,"DC12","1401",35,"Removed at least once a week",null,null,null,null,null,null,null,null,null,null,null,null,null,null,null,null,"~"]
["BSD",2020,"DC12","1402",36,"Minimum Service Level and Above sub-total",null,null,null,null,null,null,null,null,null,null,null,null,null,null,null,null,"~"]
["BSD",2020,"DC12","1403",37,"Removed less frequently than once a week",null,null,null,null,null,null,null,null,null,null,null,null,null,null,null,null,"~"]
["BSD",2020,"DC12","1404",38,"Using communal refuse dump",null,null,null,null,null,null,null,null,null,null,null,null,null,null,null,null,"~"]
["BSD",2020,"DC12","1405",39,"Using own refuse dump",null,null,null,null,null,null,null,null,null,null,null,null,null,null,null,null,"~"]
["BSD",2020,"DC12","1406",40,"Other rubbish disposal",null,null,null,null,null,null,null,null,null,null,null,null,null,null,null,null,"~"]
["BSD",2020,"DC12","1407",41,"No rubbish disposal",null,null,null,null,null,null,null,null,null,null,null,null,null,null,null,null,"~"]
["BSD",2020,"DC12","1408",42,"Below Minimum Service Level sub-total",null,null,null,null,null,null,null,null,null,null,null,null,null,null,null,null,"~"]
["BSD",2020,"DC12","1409",43,"Total number of households",null,null,null,null,null,null,null,null,null,null,null,null,null,null,null,null,"~"]
["BSD",2020,"DC12",null,null,null,null,null,null,null,null,null,null,null,null,null,null,null,null,null,null,null,"~"]
["BSD",2020,"DC12","1500",45,"Households receiving Free Basic Service",null,null,null,null,null,null,null,null,null,null,null,null,null,null,null,null,"~"]
["BSD",2020,"DC12","1501",46,"Water (6 kilolitres per household per month)",null,null,null,null,null,null,null,null,null,null,null,null,null,null,null,null,"~"]
["BSD",2020,"DC12","1502",47,"Sanitation (free minimum level service)",null,null,null,null,null,null,null,null,null,null,null,null,null,null,null,null,"~"]
["BSD",2020,"DC12","1503",48,"Electricity/other energy (50kwh per household per month)",null,null,null,null,null,null,null,null,null,null,null,null,null,null,null,null,"~"]
["BSD",2020,"DC12","1504",49,"Refuse (removed at least once a week)",null,null,null,null,null,null,null,null,null,null,null,null,null,null,null,null,"~"]
["BSD",2020,"DC12",null,null,null,null,null,null,null,null,null,null,null,null,null,null,null,null,null,null,null,"~"]
["BSD",2020,"DC12","1600",51,"Cost of Free Basic Services provided - Formal Settlements (R'000)",null,null,null,null,null,null,null,null,null,null,null,null,null,null,null,null,"~"]
["BSD",2020,"DC12","1601",52,"Water (6 kilolitres per indigent household per month)",null,null,null,null,null,null,null,null,null,null,null,null,null,null,null,null,"~"]
["BSD",2020,"DC12","1602",53,"Sanitation (free sanitation service to indigent households)",null,null,null,null,null,null,null,null,null,null,null,null,null,null,null,null,"~"]
["BSD",2020,"DC12","1603",54,"Electricity/other energy (50kwh per indigent household per month)",null,null,null,null,null,null,null,null,null,null,null,null,null,null,null,null,"~"]
["BSD",2020,"DC12","1604",55,"Refuse (removed once a week for indigent households)",null,null,null,null,null,null,null,null,null,null,null,null,null,null,null,null,"~"]
["BSD",2020,"DC12",1606,56,"Cost of Free Basic Services provided - Informal Formal Settlements (R'000)",null,null,null,null,null,null,null,null,null,null,null,null,null,null,null,null,"~"]
["BSD",2020,"DC12",1607,57,"Total cost of FBS provided  ",null,null,null,null,null,null,null,null,null,null,null,null,null,null,null,null,"~"]
["BSD",2020,"DC12",null,null,null,null,null,null,null,null,null,null,null,null,null,null,null,null,null,null,null,"~"]
["BSD",2020,"DC12","1700",58,"Highest level of free service provided per household",null,null,null,null,null,null,null,null,null,null,null,null,null,null,null,null,"~"]
["BSD",2020,"DC12","1701",59,"Property rates (R value threshold)",null,null,null,null,null,null,null,null,null,null,null,null,null,null,null,null,"~"]
["BSD",2020,"DC12","1702",60,"Water (kilolitres per household per month)",null,null,null,null,null,null,null,null,null,null,null,null,null,null,null,null,"~"]
["BSD",2020,"DC12","1703",61,"Sanitation (kilolitres per household per month)",null,null,null,null,null,null,null,null,null,null,null,null,null,null,null,null,"~"]
["BSD",2020,"DC12","1704",62,"Sanitation (Rand per household per month)",null,null,null,null,null,null,null,null,null,null,null,null,null,null,null,null,"~"]
["BSD",2020,"DC12","1705",63,"Electricity (kwh per household per month)",null,null,null,null,null,null,null,null,null,null,null,null,null,null,null,null,"~"]
["BSD",{"$f":"+MTREF","v":2020},{"$f":"LEFT(muni,(FIND(\" \",muni,1)-1))","v":"DC12"},"1706",64,"Refuse (average litres per week)",null,null,null,null,null,null,null,null,null,null,null,null,null,null,null,null,"~"]
["BSD",2020,"DC12","1707",65,"Revenue  cost of subsidised services provided (R'000)",null,null,null,null,null,null,null,null,null,null,null,null,null,null,null,null,"~"]
["BSD",2020,"DC12","1708",66,"Property rates (tariff adjustment) ( impermissable values per section 17 of MPRA)",null,null,null,null,null,null,null,null,null,null,null,null,null,null,null,null,"~"]
["BSD",2020,"DC12","1709",67,"Property rates  exemptions, reductions and rebates and impermissable values in excess of section 17 of MPRA)",null,null,null,null,null,null,null,null,null,null,null,null,null,null,null,null,"~"]
["BSD",2020,"DC12","1710",68,"Water (in excess of 6 kilolitres per indigent household per month)",null,null,null,null,null,null,null,null,null,null,null,null,null,null,null,null,"~"]
["BSD",2020,"DC12","1711",69,"Sanitation (in excess of free sanitation service to indigent households)",null,null,null,null,null,null,null,null,null,null,null,null,null,null,null,null,"~"]
["BSD",2020,"DC12","1712",70,"Electricity/other energy (in excess of 50 kwh per indigent household per month)",null,null,null,null,null,null,null,null,null,null,null,null,null,null,null,null,"~"]
["BSD",2020,"DC12","1713",71,"Refuse (in excess of one removal a week for indigent households)",null,null,null,null,null,null,null,null,null,null,null,null,null,null,null,null,"~"]
["BSD",2020,"DC12","1714",72,"Municipal Housing - rental rebates",null,null,null,null,null,null,null,null,null,null,null,null,null,null,null,null,"~"]
["BSD",2020,"DC12","1715",73,"Housing - top structure subsidies",null,null,null,null,null,null,null,null,null,null,null,null,null,null,null,null,"~"]
["BSD",2020,"DC12","1716",74,"Other",null,null,null,null,null,null,null,null,null,null,null,null,null,null,null,null,"~"]
["BSD",2020,"DC12","1717",75,"Total revenue cost of subsidised services provided ",null,null,null,null,null,null,null,null,null,null,null,null,null,null,null,null,"~"]
["SA11",2020,"DC12",1000,"T","Valuation:",null,null,null,null,null,null,null,null,null,null,null,null,null,null,null,null,"~"]
["SA11",2020,"DC12",1001,"T","Date of valuation:",null,null,null,null,null,null,null,null,null,null,null,null,null,null,null,null,"~"]
["SA11",2020,"DC12",1002,"T","Financial year valuation used",null,null,null,null,null,null,null,null,null,null,null,null,null,null,null,null,"~"]
["SA11",2020,"DC12",1003,"T","Municipal by-laws s6 in place? (Y/N)",null,null,null,null,null,null,null,null,null,null,null,null,null,null,null,null,"~"]
["SA11",2020,"DC12",1004,"T","Municipal/assistant valuer appointed? (Y/N)",null,null,null,null,null,null,null,null,null,null,null,null,null,null,null,null,"~"]
["SA11",2020,"DC12",1005,"T","Municipal partnership s38 used? (Y/N)",null,null,null,null,null,null,null,null,null,null,null,null,null,null,null,null,"~"]
["SA11",2020,"DC12",1006,"V","No. of assistant valuers (FTE)",null,null,null,null,null,null,null,null,null,null,null,null,null,null,null,null,"~"]
["SA11",2020,"DC12",1007,"V","No. of data collectors (FTE)",null,null,null,null,null,null,null,null,null,null,null,null,null,null,null,null,"~"]
["SA11",2020,"DC12",1008,"V","No. of internal valuers (FTE)",null,null,null,null,null,null,null,null,null,null,null,null,null,null,null,null,"~"]
["SA11",2020,"DC12",1009,"V","No. of external valuers (FTE)",null,null,null,null,null,null,null,null,null,null,null,null,null,null,null,null,"~"]
["SA11",2020,"DC12",1010,"V","No. of additional valuers (FTE)",null,null,null,null,null,null,null,null,null,null,null,null,null,null,null,null,"~"]
["SA11",2020,"DC12",1011,"T","Valuation appeal board established? (Y/N)",null,null,null,null,null,null,null,null,null,null,null,null,null,null,null,null,"~"]
["SA11",2020,"DC12",1012,"V","Implementation time of new valuation roll (mths)",null,null,null,null,null,null,null,null,null,null,null,null,null,null,null,null,"~"]
["SA11",2020,"DC12",1020,"V","No. of properties",null,null,null,null,null,null,null,null,null,null,null,null,null,null,null,null,"~"]
["SA11",2020,"DC12",1021,"V","No. of sectional title values",null,null,null,null,null,null,null,null,null,null,null,null,null,null,null,null,"~"]
["SA11",2020,"DC12",1022,"V","No. of unreasonably difficult properties s7(2)",null,null,null,null,null,null,null,null,null,null,null,null,null,null,null,null,"~"]
["SA11",2020,"DC12",1023,"V","No. of supplementary valuations",null,null,null,null,null,null,null,null,null,null,null,null,null,null,null,null,"~"]
["SA11",2020,"DC12",1024,"V","No. of valuation roll amendments",null,null,null,null,null,null,null,null,null,null,null,null,null,null,null,null,"~"]
["SA11",2020,"DC12",1025,"V","No. of objections by rate payers",null,null,null,null,null,null,null,null,null,null,null,null,null,null,null,null,"~"]
["SA11",2020,"DC12",1026,"V","No. of appeals by rate payers",null,null,null,null,null,null,null,null,null,null,null,null,null,null,null,null,"~"]
["SA11",2020,"DC12",1028,"V","No. of successful objections",null,null,null,null,null,null,null,null,null,null,null,null,null,null,null,null,"~"]
["SA11",2020,"DC12",1029,"V","No. of successful objections > 10%",null,null,null,null,null,null,null,null,null,null,null,null,null,null,null,null,"~"]
["SA11",2020,"DC12",1030,"V","Supplementary valuation",null,null,null,null,null,null,null,null,null,null,null,null,null,null,null,null,"~"]
["SA11",2020,"DC12",1031,"V","Public service infrastructure value ",null,null,null,null,null,null,null,null,null,null,null,null,null,null,null,null,"~"]
["SA11",2020,"DC12",1032,"V","Municipality owned property value ",null,null,null,null,null,null,null,null,null,null,null,null,null,null,null,null,"~"]
["SA11",2020,"DC12",1100,"T","Valuation reductions:",null,null,null,null,null,null,null,null,null,null,null,null,null,null,null,null,"~"]
["SA11",2020,"DC12",1101,"V","Valuation reductions-public infrastructure",null,null,null,null,null,null,null,null,null,null,null,null,null,null,null,null,"~"]
["SA11",2020,"DC12",1102,"V","Valuation reductions-nature reserves/park",null,null,null,null,null,null,null,null,null,null,null,null,null,null,null,null,"~"]
["SA11",2020,"DC12",1103,"V","Valuation reductions-mineral rights",null,null,null,null,null,null,null,null,null,null,null,null,null,null,null,null,"~"]
["SA11",2020,"DC12",1104,"V","Valuation reductions-R15,000 threshold",null,null,null,null,null,null,null,null,null,null,null,null,null,null,null,null,"~"]
["SA11",2020,"DC12",1105,"V","Valuation reductions-public worship ",null,null,null,null,null,null,null,null,null,null,null,null,null,null,null,null,"~"]
["SA11",2020,"DC12",1106,"V","Valuation reductions-other",null,null,null,null,null,null,null,null,null,null,null,null,null,null,null,null,"~"]
["SA11",2020,"DC12",1107,"V","Total valuation reductions:",null,null,null,null,null,null,null,null,null,null,null,null,null,null,null,null,"~"]
["SA11",2020,"DC12",1108,"V","Total value used for rating",null,null,null,null,null,null,null,null,null,null,null,null,null,null,null,null,"~"]
["SA11",2020,"DC12",1109,"V","Total land value ",null,null,null,null,null,null,null,null,null,null,null,null,null,null,null,null,"~"]
["SA11",2020,"DC12",1110,"V","Total value of improvements",null,null,null,null,null,null,null,null,null,null,null,null,null,null,null,null,"~"]
["SA11",2020,"DC12",1111,"V","Total market value",null,null,null,null,null,null,null,null,null,null,null,null,null,null,null,null,"~"]
["SA11",2020,"DC12",null,null,null,null,null,null,null,null,null,null,null,null,null,null,null,null,null,null,null,"~"]
["SA11",2020,"DC12",1200,"T","Rating:",null,null,null,null,null,null,null,null,null,null,null,null,null,null,null,null,"~"]
["SA11",2020,"DC12",1202,"T","Residential rate used to determine rate for other categories? (Y/N)",null,null,null,null,null,null,null,null,null,null,null,null,null,null,null,null,"~"]
["SA11",2020,"DC12",1203,"T","Differential rates used? (Y/N)",null,null,null,null,null,null,null,null,null,null,null,null,null,null,null,null,"~"]
["SA11",2020,"DC12",1204,"T","Limit on annual rate increase (s20)? (Y/N)",null,null,null,null,null,null,null,null,null,null,null,null,null,null,null,null,"~"]
["SA11",2020,"DC12",1205,"T","Special rating area used? (Y/N)",null,null,null,null,null,null,null,null,null,null,null,null,null,null,null,null,"~"]
["SA11",2020,"DC12",1206,"V","Phasing-in properties s21 (number)",null,null,null,null,null,null,null,null,null,null,null,null,null,null,null,null,"~"]
["SA11",2020,"DC12",1207,"T","Rates policy accompanying budget? (Y/N)",null,null,null,null,null,null,null,null,null,null,null,null,null,null,null,null,"~"]
["SA11",2020,"DC12",1208,"V","Fixed amount minimum value",null,null,null,null,null,null,null,null,null,null,null,null,null,null,null,null,"~"]
["SA11",2020,"DC12",1209,"P","Non-residential prescribed ratio s19? (%)",null,null,null,null,null,null,null,null,null,null,null,null,null,null,null,null,"~"]
["SA11",2020,"DC12",null,null,null,null,null,null,null,null,null,null,null,null,null,null,null,null,null,null,null,"~"]
["SA11",2020,"DC12",1300,"T","Rate revenue:",null,null,null,null,null,null,null,null,null,null,null,null,null,null,null,null,"~"]
["SA11",2020,"DC12",1301,"V","Rate revenue budget ",null,null,null,null,null,null,null,null,null,null,null,null,null,null,null,null,"~"]
["SA11",2020,"DC12",1302,"V","Rate revenue expected to collect",null,null,null,null,null,null,null,null,null,null,null,null,null,null,null,null,"~"]
["SA11",2020,"DC12",1303,"P","Expected cash collection rate (%)",null,null,null,null,null,null,null,null,null,null,null,null,null,null,null,null,"~"]
["SA11",{"$f":"+MTREF","v":2020},{"$f":"LEFT(muni,(FIND(\" \",muni,1)-1))","v":"DC12"},1304,"V","Special rating areas",null,null,null,null,null,null,null,null,null,null,null,null,null,null,null,null,"~"]
["SA11",2020,"DC12",1305,"V","Rebates, exemptions - indigent",null,null,null,null,null,null,null,null,null,null,null,null,null,null,null,null,"~"]
["SA11",2020,"DC12",1306,"V","Rebates, exemptions - pensioners",null,null,null,null,null,null,null,null,null,null,null,null,null,null,null,null,"~"]
["SA11",2020,"DC12",1307,"V","Rebates, exemptions - bona fide farm",null,null,null,null,null,null,null,null,null,null,null,null,null,null,null,null,"~"]
["SA11",2020,"DC12",1308,"V","Rebates, exemptions - other",null,null,null,null,null,null,null,null,null,null,null,null,null,null,null,null,"~"]
["SA11",2020,"DC12",1309,"V","Phase-in reductions/discounts",null,null,null,null,null,null,null,null,null,null,null,null,null,null,null,null,"~"]
["SA11",2020,"DC12",1310,"V","Total rebates,exemptns,reductns,discs",null,null,null,null,null,null,null,null,null,null,null,null,null,null,null,null,"~"]
["SA12",2020,"DC12",1000,"T","Valuation:",null,null,null,null,null,null,null,null,null,null,null,null,null,null,null,null,"~"]
["SA12",2020,"DC12",1020,"V","No. of properties",null,null,null,null,null,null,null,null,null,null,null,null,null,null,null,null,"~"]
["SA12",2020,"DC12",1021,"V","No. of sectional title property values",null,null,null,null,null,null,null,null,null,null,null,null,null,null,null,null,"~"]
["SA12",2020,"DC12",1022,"V","No. of unreasonably difficult properties s7(2)",null,null,null,null,null,null,null,null,null,null,null,null,null,null,null,null,"~"]
["SA12",2020,"DC12",1023,"V","No. of supplementary valuations",null,null,null,null,null,null,null,null,null,null,null,null,null,null,null,null,"~"]
["SA12",2020,"DC12",1030,"V","Supplementary valuation ",null,null,null,null,null,null,null,null,null,null,null,null,null,null,null,null,"~"]
["SA12",2020,"DC12",1024,"V","No. of valuation roll amendments",null,null,null,null,null,null,null,null,null,null,null,null,null,null,null,null,"~"]
["SA12",2020,"DC12",1025,"V","No. of objections by rate-payers",null,null,null,null,null,null,null,null,null,null,null,null,null,null,null,null,"~"]
["SA12",2020,"DC12",1026,"V","No. of appeals by rate-payers",null,null,null,null,null,null,null,null,null,null,null,null,null,null,null,null,"~"]
["SA12",2020,"DC12",1027,"V","No. of appeals by rate-payers finalised",null,null,null,null,null,null,null,null,null,null,null,null,null,null,null,null,"~"]
["SA12",2020,"DC12",1028,"V","No. of successful objections",null,null,null,null,null,null,null,null,null,null,null,null,null,null,null,null,"~"]
["SA12",2020,"DC12",1029,"V","No. of successful objections > 10%",null,null,null,null,null,null,null,null,null,null,null,null,null,null,null,null,"~"]
["SA12",2020,"DC12",1040,"V","Estimated no. of properties not valued",null,null,null,null,null,null,null,null,null,null,null,null,null,null,null,null,"~"]
["SA12",2020,"DC12",1041,"T","Years since last valuation",null,null,null,null,null,null,null,null,null,null,null,null,null,null,null,null,"~"]
["SA12",2020,"DC12",1042,"T","Frequency of valuation ",null,null,null,null,null,null,null,null,null,null,null,null,null,null,null,null,"~"]
["SA12",2020,"DC12",1043,"T","Method of valuation used",null,null,null,null,null,null,null,null,null,null,null,null,null,null,null,null,"~"]
["SA12",2020,"DC12",1044,"T","Base of valuation",null,null,null,null,null,null,null,null,null,null,null,null,null,null,null,null,"~"]
["SA12",2020,"DC12",1206,"V","Phasing-in properties s21 (number)",null,null,null,null,null,null,null,null,null,null,null,null,null,null,null,null,"~"]
["SA12",2020,"DC12",1046,"T","Combination of rating types used? (Y/N)",null,null,null,null,null,null,null,null,null,null,null,null,null,null,null,null,"~"]
["SA12",2020,"DC12",1047,"T","Flat rate used? (Y/N)",null,null,null,null,null,null,null,null,null,null,null,null,null,null,null,null,"~"]
["SA12",2020,"DC12",1048,"T","Is balance rated by uniform rate/variable rate?",null,null,null,null,null,null,null,null,null,null,null,null,null,null,null,null,"~"]
["SA12",2020,"DC12",1100,"T","Valuation reductions:",null,null,null,null,null,null,null,null,null,null,null,null,null,null,null,null,"~"]
["SA12",2020,"DC12",1101,"V","Valuation reductions-public infrastructure",null,null,null,null,null,null,null,null,null,null,null,null,null,null,null,null,"~"]
["SA12",2020,"DC12",1102,"V","Valuation reductions-nature reserves/park",null,null,null,null,null,null,null,null,null,null,null,null,null,null,null,null,"~"]
["SA12",2020,"DC12",1103,"V","Valuation reductions-mineral rights",null,null,null,null,null,null,null,null,null,null,null,null,null,null,null,null,"~"]
["SA12",2020,"DC12",1104,"V","Valuation reductions-R15,000 threshold ",null,null,null,null,null,null,null,null,null,null,null,null,null,null,null,null,"~"]
["SA12",2020,"DC12",1105,"V","Valuation reductions-public worship",null,null,null,null,null,null,null,null,null,null,null,null,null,null,null,null,"~"]
["SA12",2020,"DC12",1106,"V","Valuation reductions-other",null,null,null,null,null,null,null,null,null,null,null,null,null,null,null,null,"~"]
["SA12",2020,"DC12",1107,"V","Total valuation reductions:",null,null,null,null,null,null,null,null,null,null,null,null,null,null,null,null,"~"]
["SA12",2020,"DC12",1108,"V","Total value used for rating",null,null,null,null,null,null,null,null,null,null,null,null,null,null,null,null,"~"]
["SA12",2020,"DC12",1109,"V","Total land value ",null,null,null,null,null,null,null,null,null,null,null,null,null,null,null,null,"~"]
["SA12",2020,"DC12",1110,"V","Total value of improvements",null,null,null,null,null,null,null,null,null,null,null,null,null,null,null,null,"~"]
["SA12",2020,"DC12",1111,"V","Total market value ",null,null,null,null,null,null,null,null,null,null,null,null,null,null,null,null,"~"]
["SA12",2020,"DC12",1200,"T","Rating:",null,null,null,null,null,null,null,null,null,null,null,null,null,null,null,null,"~"]
["SA12",2020,"DC12",1201,"V","Average rate",null,null,null,null,null,null,null,null,null,null,null,null,null,null,null,null,"~"]
["SA12",2020,"DC12",1301,"V","Rate revenue budget ",null,null,null,null,null,null,null,null,null,null,null,null,null,null,null,null,"~"]
["SA12",2020,"DC12",1302,"V","Rate revenue expected to collect",null,null,null,null,null,null,null,null,null,null,null,null,null,null,null,null,"~"]
["SA12",2020,"DC12",1303,"P","Expected cash collection rate (%)",null,null,null,null,null,null,null,null,null,null,null,null,null,null,null,null,"~"]
["SA12",2020,"DC12",1304,"V","Special rating areas",null,null,null,null,null,null,null,null,null,null,null,null,null,null,null,null,"~"]
["SA12",2020,"DC12",1305,"V","Rebates, exemptions - indigent",null,null,null,null,null,null,null,null,null,null,null,null,null,null,null,null,"~"]
["SA12",2020,"DC12",1306,"V","Rebates, exemptions - pensioners",null,null,null,null,null,null,null,null,null,null,null,null,null,null,null,null,"~"]
["SA12",2020,"DC12",1307,"V","Rebates, exemptions - bona fide farm. ",null,null,null,null,null,null,null,null,null,null,null,null,null,null,null,null,"~"]
["SA12",2020,"DC12",1308,"V","Rebates, exemptions - other ",null,null,null,null,null,null,null,null,null,null,null,null,null,null,null,null,"~"]
["SA12",2020,"DC12",1309,"V","Phase-in reductions/discounts ",null,null,null,null,null,null,null,null,null,null,null,null,null,null,null,null,"~"]
["SA12",2020,"DC12",1310,"V","Total rebates,exemptns,reductns,discs",null,null,null,null,null,null,null,null,null,null,null,null,null,null,null,null,"~"]
["SA12",2020,"DC12",null,null,null,null,null,null,null,null,null,null,null,null,null,null,null,null,null,null,null,"~"]
["SA12",2020,"DC12",null,null,null,null,null,null,null,null,null,null,null,null,null,null,null,null,null,null,null,"~"]
["SA12",2020,"DC12",null,null,null,null,null,null,null,null,null,null,null,null,null,null,null,null,null,null,null,"~"]
["SA12",2020,"DC12",null,null,null,null,null,null,null,null,null,null,null,null,null,null,null,null,null,null,null,"~"]
["SA12",2020,"DC12",1000,"T","Valuation:",null,null,null,null,null,null,null,null,null,null,null,null,null,null,null,null,"~"]
["SA12",2020,"DC12",1020,"V","No. of properties",null,null,null,null,null,null,null,null,null,null,null,null,null,null,null,null,"~"]
["SA12",2020,"DC12",1021,"V","No. of sectional title property values",null,null,null,null,null,null,null,null,null,null,null,null,null,null,null,null,"~"]
["SA12",2020,"DC12",1022,"V","No. of unreasonably difficult properties s7(2)",null,null,null,null,null,null,null,null,null,null,null,null,null,null,null,null,"~"]
["SA12",2020,"DC12",1023,"V","No. of supplementary valuations",null,null,null,null,null,null,null,null,null,null,null,null,null,null,null,null,"~"]
["SA12",2020,"DC12",1030,"V","Supplementary valuation ",null,null,null,null,null,null,null,null,null,null,null,null,null,null,null,null,"~"]
["SA12",2020,"DC12",1024,"V","No. of valuation roll amendments",null,null,null,null,null,null,null,null,null,null,null,null,null,null,null,null,"~"]
["SA12",2020,"DC12",1025,"V","No. of objections by rate-payers",null,null,null,null,null,null,null,null,null,null,null,null,null,null,null,null,"~"]
["SA12",{"$f":"+MTREF","v":2020},{"$f":"LEFT(muni,(FIND(\" \",muni,1)-1))","v":"DC12"},1026,"V","No. of appeals by rate-payers",null,null,null,null,null,null,null,null,null,null,null,null,null,null,null,null,"~"]
["SA12",2020,"DC12",1027,"V","No. of appeals by rate-payers finalised",null,null,null,null,null,null,null,null,null,null,null,null,null,null,null,null,"~"]
["SA12",2020,"DC12",1028,"V","No. of successful objections",null,null,null,null,null,null,null,null,null,null,null,null,null,null,null,null,"~"]
["SA12",2020,"DC12",1029,"V","No. of successful objections > 10%",null,null,null,null,null,null,null,null,null,null,null,null,null,null,null,null,"~"]
["SA12",2020,"DC12",1040,"V","Estimated no. of properties not valued",null,null,null,null,null,null,null,null,null,null,null,null,null,null,null,null,"~"]
["SA12",2020,"DC12",1041,"T","Years since last valuation",null,null,null,null,null,null,null,null,null,null,null,null,null,null,null,null,"~"]
["SA12",2020,"DC12",1042,"T","Frequency of valuation ",null,null,null,null,null,null,null,null,null,null,null,null,null,null,null,null,"~"]
["SA12",2020,"DC12",1043,"T","Method of valuation used",null,null,null,null,null,null,null,null,null,null,null,null,null,null,null,null,"~"]
["SA12",2020,"DC12",1044,"T","Base of valuation",null,null,null,null,null,null,null,null,null,null,null,null,null,null,null,null,"~"]
["SA12",2020,"DC12",1206,"V","Phasing-in properties s21 (number)",null,null,null,null,null,null,null,null,null,null,null,null,null,null,null,null,"~"]
["SA12",2020,"DC12",1046,"T","Combination of rating types used? (Y/N)",null,null,null,null,null,null,null,null,null,null,null,null,null,null,null,null,"~"]
["SA12",2020,"DC12",1047,"T","Flat rate used? (Y/N)",null,null,null,null,null,null,null,null,null,null,null,null,null,null,null,null,"~"]
["SA12",2020,"DC12",1048,"T","Is balance rated by uniform rate/variable rate?",null,null,null,null,null,null,null,null,null,null,null,null,null,null,null,null,"~"]
["SA12",2020,"DC12",1100,"T","Valuation reductions:",null,null,null,null,null,null,null,null,null,null,null,null,null,null,null,null,"~"]
["SA12",2020,"DC12",1101,"V","Valuation reductions-public infrastructure",null,null,null,null,null,null,null,null,null,null,null,null,null,null,null,null,"~"]
["SA12",2020,"DC12",1102,"V","Valuation reductions-nature reserves/park",null,null,null,null,null,null,null,null,null,null,null,null,null,null,null,null,"~"]
["SA12",2020,"DC12",1103,"V","Valuation reductions-mineral rights",null,null,null,null,null,null,null,null,null,null,null,null,null,null,null,null,"~"]
["SA12",2020,"DC12",1104,"V","Valuation reductions-R15,000 threshold ",null,null,null,null,null,null,null,null,null,null,null,null,null,null,null,null,"~"]
["SA12",2020,"DC12",1105,"V","Valuation reductions-public worship",null,null,null,null,null,null,null,null,null,null,null,null,null,null,null,null,"~"]
["SA12",2020,"DC12",1106,"V","Valuation reductions-other",null,null,null,null,null,null,null,null,null,null,null,null,null,null,null,null,"~"]
["SA12",2020,"DC12",1107,"V","Total valuation reductions:",null,null,null,null,null,null,null,null,null,null,null,null,null,null,null,null,"~"]
["SA12",2020,"DC12",1108,"V","Total value used for rating",null,null,null,null,null,null,null,null,null,null,null,null,null,null,null,null,"~"]
["SA12",2020,"DC12",1109,"V","Total land value ",null,null,null,null,null,null,null,null,null,null,null,null,null,null,null,null,"~"]
["SA12",2020,"DC12",1110,"V","Total value of improvements",null,null,null,null,null,null,null,null,null,null,null,null,null,null,null,null,"~"]
["SA12",2020,"DC12",1111,"V","Total market value ",null,null,null,null,null,null,null,null,null,null,null,null,null,null,null,null,"~"]
["SA12",2020,"DC12",1200,"T","Rating:",null,null,null,null,null,null,null,null,null,null,null,null,null,null,null,null,"~"]
["SA12",2020,"DC12",1201,"V","Average rate",null,null,null,null,null,null,null,null,null,null,null,null,null,null,null,null,"~"]
["SA12",2020,"DC12",1301,"V","Rate revenue budget ",null,null,null,null,null,null,null,null,null,null,null,null,null,null,null,null,"~"]
["SA12",2020,"DC12",1302,"V","Rate revenue expected to collect",null,null,null,null,null,null,null,null,null,null,null,null,null,null,null,null,"~"]
["SA12",2020,"DC12",1303,"P","Expected cash collection rate (%)",null,null,null,null,null,null,null,null,null,null,null,null,null,null,null,null,"~"]
["SA12",2020,"DC12",1304,"V","Special rating areas",null,null,null,null,null,null,null,null,null,null,null,null,null,null,null,null,"~"]
["SA12",2020,"DC12",1305,"V","Rebates, exemptions - indigent",null,null,null,null,null,null,null,null,null,null,null,null,null,null,null,null,"~"]
["SA12",2020,"DC12",1306,"V","Rebates, exemptions - pensioners",null,null,null,null,null,null,null,null,null,null,null,null,null,null,null,null,"~"]
["SA12",2020,"DC12",1307,"V","Rebates, exemptions - bona fide farm. ",null,null,null,null,null,null,null,null,null,null,null,null,null,null,null,null,"~"]
["SA12",2020,"DC12",1308,"V","Rebates, exemptions - other ",null,null,null,null,null,null,null,null,null,null,null,null,null,null,null,null,"~"]
["SA12",2020,"DC12",1309,"V","Phase-in reductions/discounts ",null,null,null,null,null,null,null,null,null,null,null,null,null,null,null,null,"~"]
["SA12",2020,"DC12",1310,"V","Total rebates,exemptns,reductns,discs",null,null,null,null,null,null,null,null,null,null,null,null,null,null,null,null,"~"]
["SA13",2020,"DC12",1000,1,"Property rates (rate in the Rand)",null,null,null,null,null,null,null,null,null,null,null,null,null,null,null,null,"~"]
["SA13",2020,"DC12",1001,2,"Residential properties",null,null,null,null,null,null,null,null,null,null,null,null,null,null,null,null,"~"]
["SA13",2020,"DC12",1002,3,"Residential properties - vacant land",null,null,null,null,null,null,null,null,null,null,null,null,null,null,null,null,"~"]
["SA13",2020,"DC12",1003,4,"Formal/informal settlements",null,null,null,null,null,null,null,null,null,null,null,null,null,null,null,null,"~"]
["SA13",2020,"DC12",1004,5,"Small holdings",null,null,null,null,null,null,null,null,null,null,null,null,null,null,null,null,"~"]
["SA13",2020,"DC12",1005,6,"Farm properties - used",null,null,null,null,null,null,null,null,null,null,null,null,null,null,null,null,"~"]
["SA13",2020,"DC12",1006,7,"Farm properties - not used",null,null,null,null,null,null,null,null,null,null,null,null,null,null,null,null,"~"]
["SA13",2020,"DC12",1007,8,"Industrial properties",null,null,null,null,null,null,null,null,null,null,null,null,null,null,null,null,"~"]
["SA13",2020,"DC12",1008,9,"Business and commercial properties",null,null,null,null,null,null,null,null,null,null,null,null,null,null,null,null,"~"]
["SA13",2020,"DC12",1009,10,"Communal land - residential",null,null,null,null,null,null,null,null,null,null,null,null,null,null,null,null,"~"]
["SA13",2020,"DC12",1010,11,"Communal land - small holdings",null,null,null,null,null,null,null,null,null,null,null,null,null,null,null,null,"~"]
["SA13",2020,"DC12",1011,12,"Communal land - farm property",null,null,null,null,null,null,null,null,null,null,null,null,null,null,null,null,"~"]
["SA13",2020,"DC12",1012,13,"Communal land - business and commercial",null,null,null,null,null,null,null,null,null,null,null,null,null,null,null,null,"~"]
["SA13",2020,"DC12",1013,14,"Communal land - other",null,null,null,null,null,null,null,null,null,null,null,null,null,null,null,null,"~"]
["SA13",2020,"DC12",1014,15,"State-owned properties",null,null,null,null,null,null,null,null,null,null,null,null,null,null,null,null,"~"]
["SA13",2020,"DC12",1015,16,"Municipal properties",null,null,null,null,null,null,null,null,null,null,null,null,null,null,null,null,"~"]
["SA13",2020,"DC12",1016,17,"Public service infrastructure",null,null,null,null,null,null,null,null,null,null,null,null,null,null,null,null,"~"]
["SA13",2020,"DC12",1017,18,"Privately owned towns serviced by the owner",null,null,null,null,null,null,null,null,null,null,null,null,null,null,null,null,"~"]
["SA13",2020,"DC12",1018,19,"State trust land",null,null,null,null,null,null,null,null,null,null,null,null,null,null,null,null,"~"]
["SA13",2020,"DC12",1019,20,"Restitution and redistribution properties",null,null,null,null,null,null,null,null,null,null,null,null,null,null,null,null,"~"]
["SA13",2020,"DC12",1020,21,"Protected areas",null,null,null,null,null,null,null,null,null,null,null,null,null,null,null,null,"~"]
["SA13",2020,"DC12",1021,22,"National monuments properties",null,null,null,null,null,null,null,null,null,null,null,null,null,null,null,null,"~"]
["SA13",2020,"DC12",null,null,null,null,null,null,null,null,null,null,null,null,null,null,null,null,null,null,null,"~"]
["SA13",2020,"DC12",1030,23,"Exemptions, reductions and rebates (Rands)",null,null,null,null,null,null,null,null,null,null,null,null,null,null,null,null,"~"]
["SA13",2020,"DC12",1031,24,"Residential properties",null,null,null,null,null,null,null,null,null,null,null,null,null,null,null,null,"~"]
["SA13",2020,"DC12",1032,25,"R15 000 threshhold rebate",null,null,null,null,null,null,null,null,null,null,null,null,null,null,null,null,"~"]
["SA13",2020,"DC12",1033,26,"General residential rebate",null,null,null,null,null,null,null,null,null,null,null,null,null,null,null,null,"~"]
["SA13",{"$f":"+MTREF","v":2020},{"$f":"LEFT(muni,(FIND(\" \",muni,1)-1))","v":"DC12"},1034,27,"Indigent rebate or exemption",null,null,null,null,null,null,null,null,null,null,null,null,null,null,null,null,"~"]
["SA13",2020,"DC12",1035,28,"Pensioners/social grants rebate or exemption ",null,null,null,null,null,null,null,null,null,null,null,null,null,null,null,null,"~"]
["SA13",2020,"DC12",1036,29,"Temporary relief rebate or exemption",null,null,null,null,null,null,null,null,null,null,null,null,null,null,null,null,"~"]
["SA13",2020,"DC12",1037,30," Bona fide farmers rebate or exemption",null,null,null,null,null,null,null,null,null,null,null,null,null,null,null,null,"~"]
["SA13",2020,"DC12",1038,31,"Other rebates or exemptions",null,null,null,null,null,null,null,null,null,null,null,null,null,null,null,null,"~"]
["SA13",2020,"DC12",null,null,null,null,null,null,null,null,null,null,null,null,null,null,null,null,null,null,null,"~"]
["SA13",2020,"DC12",1100,32,"Water tariffs",null,null,null,null,null,null,null,null,null,null,null,null,null,null,null,null,"~"]
["SA13",2020,"DC12",1101,33,"Domestic",null,null,null,null,null,null,null,null,null,null,null,null,null,null,null,null,"~"]
["SA13",2020,"DC12",1102,34,"Basic charge/fixed fee (Rands/month)",null,null,null,null,null,null,null,null,null,null,null,null,null,null,null,null,"~"]
["SA13",2020,"DC12",1103,35,"Service point - vacant land (Rands/month)",null,null,null,null,null,null,null,null,null,null,null,null,null,null,null,null,"~"]
["SA13",2020,"DC12",1104,36,"Water usage - flat rate tariff (c/kl)",null,null,null,null,null,null,null,null,null,null,null,null,null,null,null,null,"~"]
["SA13",2020,"DC12",1105,37,"Water usage - life line tariff",null,null,null,null,null,null,null,null,null,null,null,null,null,null,null,null,"~"]
["SA13",2020,"DC12",1106,38,"Water usage - Block 1 (c/kl)",null,null,null,null,null,null,null,null,null,null,null,null,null,null,null,null,"~"]
["SA13",2020,"DC12",1107,39,"Water usage - Block 2 (c/kl)",null,null,null,null,null,null,null,null,null,null,null,null,null,null,null,null,"~"]
["SA13",2020,"DC12",1108,40,"Water usage - Block 3 (c/kl)",null,null,null,null,null,null,null,null,null,null,null,null,null,null,null,null,"~"]
["SA13",2020,"DC12",1109,41,"Water usage - Block 4 (c/kl)",null,null,null,null,null,null,null,null,null,null,null,null,null,null,null,null,"~"]
["SA13",2020,"DC12",1110,42,"Other",null,null,null,null,null,null,null,null,null,null,null,null,null,null,null,null,"~"]
["SA13",2020,"DC12",null,null,null,null,null,null,null,null,null,null,null,null,null,null,null,null,null,null,null,"~"]
["SA13",2020,"DC12",1200,43,"Waste water tariffs",null,null,null,null,null,null,null,null,null,null,null,null,null,null,null,null,"~"]
["SA13",2020,"DC12",1201,44,"Domestic",null,null,null,null,null,null,null,null,null,null,null,null,null,null,null,null,"~"]
["SA13",2020,"DC12",1202,45,"Basic charge/fixed fee (Rands/month)",null,null,null,null,null,null,null,null,null,null,null,null,null,null,null,null,"~"]
["SA13",2020,"DC12",1203,46,"Service point - vacant land (Rands/month)",null,null,null,null,null,null,null,null,null,null,null,null,null,null,null,null,"~"]
["SA13",2020,"DC12",1204,47,"Waste water - flat rate tariff (c/kl)",null,null,null,null,null,null,null,null,null,null,null,null,null,null,null,null,"~"]
["SA13",2020,"DC12",1205,48,"Volumetric charge - Block 1 (c/kl)",null,null,null,null,null,null,null,null,null,null,null,null,null,null,null,null,"~"]
["SA13",2020,"DC12",1206,49,"Volumetric charge - Block 2 (c/kl)",null,null,null,null,null,null,null,null,null,null,null,null,null,null,null,null,"~"]
["SA13",2020,"DC12",1207,50,"Volumetric charge - Block 3 (c/kl)",null,null,null,null,null,null,null,null,null,null,null,null,null,null,null,null,"~"]
["SA13",2020,"DC12",1208,51,"Volumetric charge - Block 4 (c/kl)",null,null,null,null,null,null,null,null,null,null,null,null,null,null,null,null,"~"]
["SA13",2020,"DC12",1209,52,"Other",null,null,null,null,null,null,null,null,null,null,null,null,null,null,null,null,"~"]
["SA13",2020,"DC12",null,null,null,null,null,null,null,null,null,null,null,null,null,null,null,null,null,null,null,"~"]
["SA13",2020,"DC12",1300,53,"Electricity tariffs",null,null,null,null,null,null,null,null,null,null,null,null,null,null,null,null,"~"]
["SA13",2020,"DC12",1301,54,"Domestic",null,null,null,null,null,null,null,null,null,null,null,null,null,null,null,null,"~"]
["SA13",2020,"DC12",1302,55,"Basic charge/fixed fee (Rands/month)",null,null,null,null,null,null,null,null,null,null,null,null,null,null,null,null,"~"]
["SA13",2020,"DC12",1303,56,"Service point - vacant land (Rands/month)",null,null,null,null,null,null,null,null,null,null,null,null,null,null,null,null,"~"]
["SA13",2020,"DC12",1304,57,"FBE",null,null,null,null,null,null,null,null,null,null,null,null,null,null,null,null,"~"]
["SA13",2020,"DC12",1305,58,"Life-line tariff - meter",null,null,null,null,null,null,null,null,null,null,null,null,null,null,null,null,"~"]
["SA13",2020,"DC12",1306,59,"Life-line tariff - prepaid",null,null,null,null,null,null,null,null,null,null,null,null,null,null,null,null,"~"]
["SA13",2020,"DC12",1307,60,"Flat rate tariff - meter (c/kwh)",null,null,null,null,null,null,null,null,null,null,null,null,null,null,null,null,"~"]
["SA13",2020,"DC12",1308,61,"Flat rate tariff - prepaid(c/kwh)",null,null,null,null,null,null,null,null,null,null,null,null,null,null,null,null,"~"]
["SA13",2020,"DC12",1309,62,"Meter - IBT Block 1 (c/kwh)",null,null,null,null,null,null,null,null,null,null,null,null,null,null,null,null,"~"]
["SA13",2020,"DC12",1310,63,"Meter - IBT Block 2 (c/kwh)",null,null,null,null,null,null,null,null,null,null,null,null,null,null,null,null,"~"]
["SA13",2020,"DC12",1311,64,"Meter - IBT Block 3 (c/kwh)",null,null,null,null,null,null,null,null,null,null,null,null,null,null,null,null,"~"]
["SA13",2020,"DC12",1312,65,"Meter - IBT Block 4 (c/kwh)",null,null,null,null,null,null,null,null,null,null,null,null,null,null,null,null,"~"]
["SA13",2020,"DC12",1313,66,"Meter - IBT Block 5 (c/kwh)",null,null,null,null,null,null,null,null,null,null,null,null,null,null,null,null,"~"]
["SA13",2020,"DC12",1314,67,"Prepaid - IBT Block 1 (c/kwh)",null,null,null,null,null,null,null,null,null,null,null,null,null,null,null,null,"~"]
["SA13",2020,"DC12",1315,68,"Prepaid - IBT Block 2 (c/kwh)",null,null,null,null,null,null,null,null,null,null,null,null,null,null,null,null,"~"]
["SA13",2020,"DC12",1316,69,"Prepaid - IBT Block 3 (c/kwh)",null,null,null,null,null,null,null,null,null,null,null,null,null,null,null,null,"~"]
["SA13",2020,"DC12",1317,70,"Prepaid - IBT Block 4 (c/kwh)",null,null,null,null,null,null,null,null,null,null,null,null,null,null,null,null,"~"]
["SA13",2020,"DC12",1318,71,"Prepaid - IBT Block 5 (c/kwh)",null,null,null,null,null,null,null,null,null,null,null,null,null,null,null,null,"~"]
["SA13",2020,"DC12",1319,72,"Other",null,null,null,null,null,null,null,null,null,null,null,null,null,null,null,null,"~"]
["SA13",2020,"DC12",null,null,null,null,null,null,null,null,null,null,null,null,null,null,null,null,null,null,null,"~"]
["SA13",2020,"DC12",1400,73,"Waste management tariffs",null,null,null,null,null,null,null,null,null,null,null,null,null,null,null,null,"~"]
["SA13",2020,"DC12",1401,74,"Domestic",null,null,null,null,null,null,null,null,null,null,null,null,null,null,null,null,"~"]
["SA13",2020,"DC12",1402,75,"Street cleaning charge",null,null,null,null,null,null,null,null,null,null,null,null,null,null,null,null,"~"]
["SA13",2020,"DC12",1403,76,"Basic charge/fixed fee",null,null,null,null,null,null,null,null,null,null,null,null,null,null,null,null,"~"]
["SA13",2020,"DC12",1404,77,"80l bin - once a week",null,null,null,null,null,null,null,null,null,null,null,null,null,null,null,null,"~"]
["SA13",2020,"DC12",1405,78,"250l bin - once a week",null,null,null,null,null,null,null,null,null,null,null,null,null,null,null,null,"~"]
["SA14",2020,"DC12",1000,1,"Monthly Account for Household - 'Middle Income Range'",null,null,null,null,null,null,null,null,null,null,null,null,null,null,null,null,"~"]
["SA14",2020,"DC12",1001,2,"Rates and services charges:",null,null,null,null,null,null,null,null,null,null,null,null,null,null,null,null,"~"]
["SA14",2020,"DC12",1002,3,"Property rates",null,null,null,null,null,null,null,null,null,null,null,null,null,null,null,null,"~"]
["SA14",2020,"DC12",1003,4,"Electricity: Basic levy",null,null,null,null,null,null,null,null,null,null,null,null,null,null,null,null,"~"]
["SA14",2020,"DC12",1004,5,"Electricity: Consumption",null,null,null,null,null,null,null,null,null,null,null,null,null,null,null,null,"~"]
["SA14",2020,"DC12",1005,6,"Water: Basic levy",null,null,null,null,null,null,null,null,null,null,null,null,null,null,null,null,"~"]
["SA14",2020,"DC12",1006,7,"Water: Consumption",null,null,null,null,null,null,null,null,null,null,null,null,null,null,null,null,"~"]
["SA14",2020,"DC12",1007,8,"Sanitation",null,null,null,null,null,null,null,null,null,null,null,null,null,null,null,null,"~"]
["SA14",{"$f":"+MTREF","v":2020},{"$f":"LEFT(muni,(FIND(\" \",muni,1)-1))","v":"DC12"},1008,9,"Refuse removal",null,null,null,null,null,null,null,null,null,null,null,null,null,null,null,null,"~"]
["SA14",2020,"DC12",1009,10,"Other",null,null,null,null,null,null,null,null,null,null,null,null,null,null,null,null,"~"]
["SA14",2020,"DC12",1090,11,"sub-total",null,null,null,null,null,null,null,null,null,null,null,null,null,null,null,null,"~"]
["SA14",2020,"DC12",1091,12,"VAT on Services",null,null,null,null,null,null,null,null,null,null,null,null,null,null,null,null,"~"]
["SA14",2020,"DC12",1095,13,"Total large household bill:",null,null,null,null,null,null,null,null,null,null,null,null,null,null,null,null,"~"]
["SA14",2020,"DC12",1096,14,"% increase/-decrease",null,null,null,null,null,null,null,null,null,null,null,null,null,null,null,null,"~"]
["SA14",2020,"DC12",null,null,null,null,null,null,null,null,null,null,null,null,null,null,null,null,null,null,null,"~"]
["SA14",2020,"DC12",1100,15,"Monthly Account for Household - 'Affordable Range' ",null,null,null,null,null,null,null,null,null,null,null,null,null,null,null,null,"~"]
["SA14",2020,"DC12",1101,16,"Rates and services charges:",null,null,null,null,null,null,null,null,null,null,null,null,null,null,null,null,"~"]
["SA14",2020,"DC12",1102,17,"Property rates",null,null,null,null,null,null,null,null,null,null,null,null,null,null,null,null,"~"]
["SA14",2020,"DC12",1103,18,"Electricity: Basic levy",null,null,null,null,null,null,null,null,null,null,null,null,null,null,null,null,"~"]
["SA14",2020,"DC12",1110,19,"Electricity: Consumption",null,null,null,null,null,null,null,null,null,null,null,null,null,null,null,null,"~"]
["SA14",2020,"DC12",1107,20,"Water: Basic levy",null,null,null,null,null,null,null,null,null,null,null,null,null,null,null,null,"~"]
["SA14",2020,"DC12",1104,21,"Water: Consumption",null,null,null,null,null,null,null,null,null,null,null,null,null,null,null,null,"~"]
["SA14",2020,"DC12",1105,22,"Sanitation",null,null,null,null,null,null,null,null,null,null,null,null,null,null,null,null,"~"]
["SA14",2020,"DC12",1106,23,"Refuse removal",null,null,null,null,null,null,null,null,null,null,null,null,null,null,null,null,"~"]
["SA14",2020,"DC12",1108,24,"Other",null,null,null,null,null,null,null,null,null,null,null,null,null,null,null,null,"~"]
["SA14",2020,"DC12",1190,25,"sub-total",null,null,null,null,null,null,null,null,null,null,null,null,null,null,null,null,"~"]
["SA14",2020,"DC12",1191,26,"VAT on Services",null,null,null,null,null,null,null,null,null,null,null,null,null,null,null,null,"~"]
["SA14",2020,"DC12",1195,27,"Total small household bill:",null,null,null,null,null,null,null,null,null,null,null,null,null,null,null,null,"~"]
["SA14",2020,"DC12",1196,28,"% increase/-decrease",null,null,null,null,null,null,null,null,null,null,null,null,null,null,null,null,"~"]
["SA14",2020,"DC12",null,null,null,null,null,null,null,null,null,null,null,null,null,null,null,null,null,null,null,"~"]
["SA14",2020,"DC12",1200,29,"Monthly Account for Household - 'Indigent' HH receiving FBS",null,null,null,null,null,null,null,null,null,null,null,null,null,null,null,null,"~"]
["SA14",2020,"DC12",1201,30,"Rates and services charges:",null,null,null,null,null,null,null,null,null,null,null,null,null,null,null,null,"~"]
["SA14",2020,"DC12",1202,31,"Property rates",null,null,null,null,null,null,null,null,null,null,null,null,null,null,null,null,"~"]
["SA14",2020,"DC12",1203,32,"Electricity: Basic levy",null,null,null,null,null,null,null,null,null,null,null,null,null,null,null,null,"~"]
["SA14",2020,"DC12",1207,33,"Electricity: Consumption",null,null,null,null,null,null,null,null,null,null,null,null,null,null,null,null,"~"]
["SA14",2020,"DC12",1208,34,"Water: Basic levy",null,null,null,null,null,null,null,null,null,null,null,null,null,null,null,null,"~"]
["SA14",2020,"DC12",1204,35,"Water: Consumption",null,null,null,null,null,null,null,null,null,null,null,null,null,null,null,null,"~"]
["SA14",2020,"DC12",1205,36,"Sanitation",null,null,null,null,null,null,null,null,null,null,null,null,null,null,null,null,"~"]
["SA14",2020,"DC12",1206,37,"Refuse removal",null,null,null,null,null,null,null,null,null,null,null,null,null,null,null,null,"~"]
["SA14",2020,"DC12",1209,38,"Other",null,null,null,null,null,null,null,null,null,null,null,null,null,null,null,null,"~"]
["SA14",2020,"DC12",1290,39,"sub-total",null,null,null,null,null,null,null,null,null,null,null,null,null,null,null,null,"~"]
["SA14",2020,"DC12",1291,40,"VAT on Services",null,null,null,null,null,null,null,null,null,null,null,null,null,null,null,null,"~"]
["SA14",2020,"DC12",1295,41,"Total small household bill:",null,null,null,null,null,null,null,null,null,null,null,null,null,null,null,null,"~"]
["SA14",2020,"DC12",1296,42,"% increase/-decrease",null,null,null,null,null,null,null,null,null,null,null,null,null,null,null,null,"~"]
["SA22",2020,"DC12",1000,1,"Councillors (Political Office Bearers plus Other)",null,null,null,null,null,null,null,null,null,null,null,null,null,null,null,null,"~"]
["SA22",2020,"DC12",1001,2,"Basic Salaries and Wages",null,null,null,null,null,null,null,null,null,null,null,null,null,null,null,null,"~"]
["SA22",2020,"DC12",1002,3,"Pension and UIF Contributions",null,null,null,null,null,null,null,null,null,null,null,null,null,null,null,null,"~"]
["SA22",2020,"DC12",1003,4,"Medical Aid Contributions",null,null,null,null,null,null,null,null,null,null,null,null,null,null,null,null,"~"]
["SA22",2020,"DC12",1004,5,"Motor Vehicle Allowance",null,null,null,null,null,null,null,null,null,null,null,null,null,null,null,null,"~"]
["SA22",2020,"DC12",1005,6,"Cellphone Allowance",null,null,null,null,null,null,null,null,null,null,null,null,null,null,null,null,"~"]
["SA22",2020,"DC12",1006,7,"Housing Allowances",null,null,null,null,null,null,null,null,null,null,null,null,null,null,null,null,"~"]
["SA22",2020,"DC12",1007,8,"Other benefits and allowances",null,null,null,null,null,null,null,null,null,null,null,null,null,null,null,null,"~"]
["SA22",2020,"DC12",1090,9,"Sub Total - Councillors",null,null,null,null,null,null,null,null,null,null,null,null,null,null,null,null,"~"]
["SA22",2020,"DC12",1091,10,"% increase",null,null,null,null,null,null,null,null,null,null,null,null,null,null,null,null,"~"]
["SA22",2020,"DC12",null,null,null,null,null,null,null,null,null,null,null,null,null,null,null,null,null,null,null,"~"]
["SA22",2020,"DC12",1100,11,"Senior Managers of the Municipality",null,null,null,null,null,null,null,null,null,null,null,null,null,null,null,null,"~"]
["SA22",2020,"DC12",1101,12,"Basic Salaries and Wages",null,null,null,null,null,null,null,null,null,null,null,null,null,null,null,null,"~"]
["SA22",2020,"DC12",1102,13,"Pension and UIF Contributions",null,null,null,null,null,null,null,null,null,null,null,null,null,null,null,null,"~"]
["SA22",2020,"DC12",1103,14,"Medical Aid Contributions",null,null,null,null,null,null,null,null,null,null,null,null,null,null,null,null,"~"]
["SA22",2020,"DC12",1110,15,"Overtime",null,null,null,null,null,null,null,null,null,null,null,null,null,null,null,null,"~"]
["SA22",2020,"DC12",1107,16,"Performance Bonus",null,null,null,null,null,null,null,null,null,null,null,null,null,null,null,null,"~"]
["SA22",2020,"DC12",1104,17,"Motor Vehicle Allowance",null,null,null,null,null,null,null,null,null,null,null,null,null,null,null,null,"~"]
["SA22",2020,"DC12",1105,18,"Cellphone Allowance",null,null,null,null,null,null,null,null,null,null,null,null,null,null,null,null,"~"]
["SA22",2020,"DC12",1106,19,"Housing Allowances",null,null,null,null,null,null,null,null,null,null,null,null,null,null,null,null,"~"]
["SA22",2020,"DC12",1108,20,"Other benefits and allowances",null,null,null,null,null,null,null,null,null,null,null,null,null,null,null,null,"~"]
["SA22",2020,"DC12",1111,21,"Payments in lieu of leave",null,null,null,null,null,null,null,null,null,null,null,null,null,null,null,null,"~"]
["SA22",2020,"DC12",1112,22,"Long service awards",null,null,null,null,null,null,null,null,null,null,null,null,null,null,null,null,"~"]
["SA22",2020,"DC12",1113,23,"Post-retirement benefit obligations",null,null,null,null,null,null,null,null,null,null,null,null,null,null,null,null,"~"]
["SA22",2020,"DC12",1190,24,"Sub Total - Senior Managers of Municipality",null,null,null,null,null,null,null,null,null,null,null,null,null,null,null,null,"~"]
["SA22",2020,"DC12",1191,25,"% increase",null,null,null,null,null,null,null,null,null,null,null,null,null,null,null,null,"~"]
["SA22",2020,"DC12",null,null,null,null,null,null,null,null,null,null,null,null,null,null,null,null,null,null,null,"~"]
["SA22",2020,"DC12",1200,26,"Other Municipal Staff",null,null,null,null,null,null,null,null,null,null,null,null,null,null,null,null,"~"]
["SA22",{"$f":"+MTREF","v":2020},{"$f":"LEFT(muni,(FIND(\" \",muni,1)-1))","v":"DC12"},1201,27,"Basic Salaries and Wages",null,null,null,null,null,null,null,null,null,null,null,null,null,null,null,null,"~"]
["SA22",2020,"DC12",1202,28,"Pension and UIF Contributions",null,null,null,null,null,null,null,null,null,null,null,null,null,null,null,null,"~"]
["SA22",2020,"DC12",1203,29,"Medical Aid Contributions",null,null,null,null,null,null,null,null,null,null,null,null,null,null,null,null,"~"]
["SA22",2020,"DC12",1207,30,"Overtime",null,null,null,null,null,null,null,null,null,null,null,null,null,null,null,null,"~"]
["SA22",2020,"DC12",1208,31,"Performance Bonus",null,null,null,null,null,null,null,null,null,null,null,null,null,null,null,null,"~"]
["SA22",2020,"DC12",1204,32,"Motor Vehicle Allowance",null,null,null,null,null,null,null,null,null,null,null,null,null,null,null,null,"~"]
["SA22",2020,"DC12",1205,33,"Cellphone Allowance",null,null,null,null,null,null,null,null,null,null,null,null,null,null,null,null,"~"]
["SA22",2020,"DC12",1206,34,"Housing Allowances",null,null,null,null,null,null,null,null,null,null,null,null,null,null,null,null,"~"]
["SA22",2020,"DC12",1209,35,"Other benefits and allowances",null,null,null,null,null,null,null,null,null,null,null,null,null,null,null,null,"~"]
["SA22",2020,"DC12",1211,36,"Payments in lieu of leave",null,null,null,null,null,null,null,null,null,null,null,null,null,null,null,null,"~"]
["SA22",2020,"DC12",1212,37,"Long service awards",null,null,null,null,null,null,null,null,null,null,null,null,null,null,null,null,"~"]
["SA22",2020,"DC12",1213,38,"Post-retirement benefit obligations",null,null,null,null,null,null,null,null,null,null,null,null,null,null,null,null,"~"]
["SA22",2020,"DC12",1290,39,"Sub Total - Other Municipal Staff",null,null,null,null,null,null,null,null,null,null,null,null,null,null,null,null,"~"]
["SA22",2020,"DC12",1291,40,"% increase",null,null,null,null,null,null,null,null,null,null,null,null,null,null,null,null,"~"]
["SA22",2020,"DC12",null,null,null,null,null,null,null,null,null,null,null,null,null,null,null,null,null,null,null,"~"]
["SA22",2020,"DC12",1295,41,"Total Parent Municipality",null,null,null,null,null,null,null,null,null,null,null,null,null,null,null,null,"~"]
["SA22",2020,"DC12",1297,42,"% increase",null,null,null,null,null,null,null,null,null,null,null,null,null,null,null,null,"~"]
["SA22",2020,"DC12",null,null,null,null,null,null,null,null,null,null,null,null,null,null,null,null,null,null,null,"~"]
["SA22",2020,"DC12",2000,43,"Board Members of Entities",null,null,null,null,null,null,null,null,null,null,null,null,null,null,null,null,"~"]
["SA22",2020,"DC12",2001,44,"Basic Salaries and Wages",null,null,null,null,null,null,null,null,null,null,null,null,null,null,null,null,"~"]
["SA22",2020,"DC12",2002,45,"Pension and UIF Contributions",null,null,null,null,null,null,null,null,null,null,null,null,null,null,null,null,"~"]
["SA22",2020,"DC12",2003,46,"Medical Aid Contributions",null,null,null,null,null,null,null,null,null,null,null,null,null,null,null,null,"~"]
["SA22",2020,"DC12",2010,47,"Overtime",null,null,null,null,null,null,null,null,null,null,null,null,null,null,null,null,"~"]
["SA22",2020,"DC12",2011,48,"Performance Bonus",null,null,null,null,null,null,null,null,null,null,null,null,null,null,null,null,"~"]
["SA22",2020,"DC12",2004,49,"Motor Vehicle Allowance",null,null,null,null,null,null,null,null,null,null,null,null,null,null,null,null,"~"]
["SA22",2020,"DC12",2005,50,"Cellphone Allowance",null,null,null,null,null,null,null,null,null,null,null,null,null,null,null,null,"~"]
["SA22",2020,"DC12",2006,51,"Housing Allowances",null,null,null,null,null,null,null,null,null,null,null,null,null,null,null,null,"~"]
["SA22",2020,"DC12",2008,52,"Other benefits and allowances",null,null,null,null,null,null,null,null,null,null,null,null,null,null,null,null,"~"]
["SA22",2020,"DC12",2007,53,"Board Fees",null,null,null,null,null,null,null,null,null,null,null,null,null,null,null,null,"~"]
["SA22",2020,"DC12",2012,54,"Payments in lieu of leave",null,null,null,null,null,null,null,null,null,null,null,null,null,null,null,null,"~"]
["SA22",2020,"DC12",2013,55,"Long service awards",null,null,null,null,null,null,null,null,null,null,null,null,null,null,null,null,"~"]
["SA22",2020,"DC12",2014,56,"Post-retirement benefit obligations",null,null,null,null,null,null,null,null,null,null,null,null,null,null,null,null,"~"]
["SA22",2020,"DC12",2090,57,"Sub Total - Board Members of Entities",null,null,null,null,null,null,null,null,null,null,null,null,null,null,null,null,"~"]
["SA22",2020,"DC12",2091,58,"% increase",null,null,null,null,null,null,null,null,null,null,null,null,null,null,null,null,"~"]
["SA22",2020,"DC12",null,null,null,null,null,null,null,null,null,null,null,null,null,null,null,null,null,null,null,"~"]
["SA22",2020,"DC12",2100,59,"Senior Managers of Entities",null,null,null,null,null,null,null,null,null,null,null,null,null,null,null,null,"~"]
["SA22",2020,"DC12",2101,60,"Basic Salaries and Wages",null,null,null,null,null,null,null,null,null,null,null,null,null,null,null,null,"~"]
["SA22",2020,"DC12",2102,61,"Pension and UIF Contributions",null,null,null,null,null,null,null,null,null,null,null,null,null,null,null,null,"~"]
["SA22",2020,"DC12",2103,62,"Medical Aid Contributions",null,null,null,null,null,null,null,null,null,null,null,null,null,null,null,null,"~"]
["SA22",2020,"DC12",2110,63,"Overtime",null,null,null,null,null,null,null,null,null,null,null,null,null,null,null,null,"~"]
["SA22",2020,"DC12",2107,64,"Performance Bonus",null,null,null,null,null,null,null,null,null,null,null,null,null,null,null,null,"~"]
["SA22",2020,"DC12",2104,65,"Motor Vehicle Allowance",null,null,null,null,null,null,null,null,null,null,null,null,null,null,null,null,"~"]
["SA22",2020,"DC12",2105,66,"Cellphone Allowance",null,null,null,null,null,null,null,null,null,null,null,null,null,null,null,null,"~"]
["SA22",2020,"DC12",2106,67,"Housing Allowances",null,null,null,null,null,null,null,null,null,null,null,null,null,null,null,null,"~"]
["SA22",2020,"DC12",2108,68,"Other benefits and allowances",null,null,null,null,null,null,null,null,null,null,null,null,null,null,null,null,"~"]
["SA22",2020,"DC12",2111,69,"Payments in lieu of leave",null,null,null,null,null,null,null,null,null,null,null,null,null,null,null,null,"~"]
["SA22",2020,"DC12",2112,70,"Long service awards",null,null,null,null,null,null,null,null,null,null,null,null,null,null,null,null,"~"]
["SA22",2020,"DC12",2113,71,"Post-retirement benefit obligations",null,null,null,null,null,null,null,null,null,null,null,null,null,null,null,null,"~"]
["SA22",2020,"DC12",2190,72,"Sub Total - Senior Managers of Entities",null,null,null,null,null,null,null,null,null,null,null,null,null,null,null,null,"~"]
["SA22",2020,"DC12",2191,73,"% increase",null,null,null,null,null,null,null,null,null,null,null,null,null,null,null,null,"~"]
["SA22",2020,"DC12",null,null,null,null,null,null,null,null,null,null,null,null,null,null,null,null,null,null,null,"~"]
["SA22",2020,"DC12",2200,74,"Other Staff of Entities",null,null,null,null,null,null,null,null,null,null,null,null,null,null,null,null,"~"]
["SA22",2020,"DC12",2201,75,"Basic Salaries and Wages",null,null,null,null,null,null,null,null,null,null,null,null,null,null,null,null,"~"]
["SA22",2020,"DC12",2202,76,"Pension and UIF Contributions",null,null,null,null,null,null,null,null,null,null,null,null,null,null,null,null,"~"]
["SA22",2020,"DC12",2203,77,"Medical Aid Contributions",null,null,null,null,null,null,null,null,null,null,null,null,null,null,null,null,"~"]
["SA22",2020,"DC12",2207,78,"Overtime",null,null,null,null,null,null,null,null,null,null,null,null,null,null,null,null,"~"]
["SA22",2020,"DC12",2208,79,"Performance Bonus",null,null,null,null,null,null,null,null,null,null,null,null,null,null,null,null,"~"]
["SA22",2020,"DC12",2204,80,"Motor Vehicle Allowance",null,null,null,null,null,null,null,null,null,null,null,null,null,null,null,null,"~"]
["SA22",2020,"DC12",2205,81,"Cellphone Allowance",null,null,null,null,null,null,null,null,null,null,null,null,null,null,null,null,"~"]
["SA22",2020,"DC12",2206,82,"Housing Allowances",null,null,null,null,null,null,null,null,null,null,null,null,null,null,null,null,"~"]
["SA22",2020,"DC12",2209,83,"Other benefits and allowances",null,null,null,null,null,null,null,null,null,null,null,null,null,null,null,null,"~"]
["SA22",2020,"DC12",2211,84,"Payments in lieu of leave",null,null,null,null,null,null,null,null,null,null,null,null,null,null,null,null,"~"]
["SA22",2020,"DC12",2212,85,"Long service awards",null,null,null,null,null,null,null,null,null,null,null,null,null,null,null,null,"~"]
["SA22",2020,"DC12",2213,86,"Post-retirement benefit obligations",null,null,null,null,null,null,null,null,null,null,null,null,null,null,null,null,"~"]
["SA22",{"$f":"+MTREF","v":2020},{"$f":"LEFT(muni,(FIND(\" \",muni,1)-1))","v":"DC12"},2290,87,"Sub Total - Other Staff of Entities",null,null,null,null,null,null,null,null,null,null,null,null,null,null,null,null,"~"]
["SA22",2020,"DC12",2291,89,"% increase",null,null,null,null,null,null,null,null,null,null,null,null,null,null,null,null,"~"]
["SA22",2020,"DC12",null,null,null,null,null,null,null,null,null,null,null,null,null,null,null,null,null,null,null,"~"]
["SA22",2020,"DC12",2295,90,"Total Municipal Entities",null,null,null,null,null,null,null,null,null,null,null,null,null,null,null,null,"~"]
["SA22",2020,"DC12",null,null,null,null,null,null,null,null,null,null,null,null,null,null,null,null,null,null,null,"~"]
["SA22",2020,"DC12",2296,91,"TOTAL SALARY, ALLOWANCES & BENEFITS",null,null,null,null,null,null,null,null,null,null,null,null,null,null,null,null,"~"]
["SA22",2020,"DC12",2297,92,"% increase",null,null,null,null,null,null,null,null,null,null,null,null,null,null,null,null,"~"]
["SA22",2020,"DC12",2298,93,"TOTAL MANAGERS AND STAFF",null,null,null,null,null,null,null,null,null,null,null,null,null,null,null,null,"~"]
["SA23",2020,"DC12",1000,1,null,null,null,null,null,null,null,null,null,null,null,null,null,null,null,null,null,"~"]
["SA23",2020,"DC12",1001,2,null,null,null,null,null,null,null,null,null,null,null,null,null,null,null,null,null,"~"]
["SA23",2020,"DC12",1002,3,null,null,null,null,null,null,null,null,null,null,null,null,null,null,null,null,null,"~"]
["SA23",2020,"DC12",1003,4,null,null,null,null,null,null,null,null,null,null,null,null,null,null,null,null,null,"~"]
["SA23",2020,"DC12",1004,5,null,null,null,null,null,null,null,null,null,null,null,null,null,null,null,null,null,"~"]
["SA23",2020,"DC12",1005,6,null,null,null,null,null,null,null,null,null,null,null,null,null,null,null,null,null,"~"]
["SA23",2020,"DC12",1006,7,null,null,null,null,null,null,null,null,null,null,null,null,null,null,null,null,null,"~"]
["SA23",2020,"DC12",1090,8,null,null,null,null,null,null,null,null,null,null,null,null,null,null,null,null,null,"~"]
["SA23",2020,"DC12",null,null,null,null,null,null,null,null,null,null,null,null,null,null,null,null,null,null,null,"~"]
["SA23",2020,"DC12",null,null,null,null,null,null,null,null,null,null,null,null,null,null,null,null,null,null,null,"~"]
["SA23",2020,"DC12",null,null,null,null,null,null,null,null,null,null,null,null,null,null,null,null,null,null,null,"~"]
["SA23",2020,"DC12",null,null,null,null,null,null,null,null,null,null,null,null,null,null,null,null,null,null,null,"~"]
["SA23",2020,"DC12",null,null,null,null,null,null,null,null,null,null,null,null,null,null,null,null,null,null,null,"~"]
["SA23",2020,"DC12",null,null,null,null,null,null,null,null,null,null,null,null,null,null,null,null,null,null,null,"~"]
["SA23",2020,"DC12",null,null,null,null,null,null,null,null,null,null,null,null,null,null,null,null,null,null,null,"~"]
["SA23",2020,"DC12",null,null,null,null,null,null,null,null,null,null,null,null,null,null,null,null,null,null,null,"~"]
["SA23",2020,"DC12",null,null,null,null,null,null,null,null,null,null,null,null,null,null,null,null,null,null,null,"~"]
["SA23",2020,"DC12",null,null,null,null,null,null,null,null,null,null,null,null,null,null,null,null,null,null,null,"~"]
["SA23",2020,"DC12",null,null,null,null,null,null,null,null,null,null,null,null,null,null,null,null,null,null,null,"~"]
["SA23",2020,"DC12",null,null,null,null,null,null,null,null,null,null,null,null,null,null,null,null,null,null,null,"~"]
["SA23",2020,"DC12",null,null,null,null,null,null,null,null,null,null,null,null,null,null,null,null,null,null,null,"~"]
["SA23",2020,"DC12",null,null,null,null,null,null,null,null,null,null,null,null,null,null,null,null,null,null,null,"~"]
["SA23",2020,"DC12",null,null,null,null,null,null,null,null,null,null,null,null,null,null,null,null,null,null,null,"~"]
["SA23",2020,"DC12",null,null,null,null,null,null,null,null,null,null,null,null,null,null,null,null,null,null,null,"~"]
["SA23",2020,"DC12",null,null,null,null,null,null,null,null,null,null,null,null,null,null,null,null,null,null,null,"~"]
["SA23",2020,"DC12",null,null,null,null,null,null,null,null,null,null,null,null,null,null,null,null,null,null,null,"~"]
["SA23",2020,"DC12",null,null,null,null,null,null,null,null,null,null,null,null,null,null,null,null,null,null,null,"~"]
["SA23",2020,"DC12",null,null,null,null,null,null,null,null,null,null,null,null,null,null,null,null,null,null,null,"~"]
["SA23",2020,"DC12",null,null,null,null,null,null,null,null,null,null,null,null,null,null,null,null,null,null,null,"~"]
["SA23",2020,"DC12",null,null,null,null,null,null,null,null,null,null,null,null,null,null,null,null,null,null,null,"~"]
["SA23",2020,"DC12",null,null,null,null,null,null,null,null,null,null,null,null,null,null,null,null,null,null,null,"~"]
["SA23",2020,"DC12",null,null,null,null,null,null,null,null,null,null,null,null,null,null,null,null,null,null,null,"~"]
["SA23",2020,"DC12",null,null,null,null,null,null,null,null,null,null,null,null,null,null,null,null,null,null,null,"~"]
["SA23",2020,"DC12",null,null,null,null,null,null,null,null,null,null,null,null,null,null,null,null,null,null,null,"~"]
["SA23",2020,"DC12",null,null,null,null,null,null,null,null,null,null,null,null,null,null,null,null,null,null,null,"~"]
["SA23",2020,"DC12",null,null,null,null,null,null,null,null,null,null,null,null,null,null,null,null,null,null,null,"~"]
["SA23",2020,"DC12",null,null,null,null,null,null,null,null,null,null,null,null,null,null,null,null,null,null,null,"~"]
["SA23",2020,"DC12",null,null,null,null,null,null,null,null,null,null,null,null,null,null,null,null,null,null,null,"~"]
["SA23",2020,"DC12",null,null,null,null,null,null,null,null,null,null,null,null,null,null,null,null,null,null,null,"~"]
["SA23",2020,"DC12",null,null,null,null,null,null,null,null,null,null,null,null,null,null,null,null,null,null,null,"~"]
["SA23",2020,"DC12",null,null,null,null,null,null,null,null,null,null,null,null,null,null,null,null,null,null,null,"~"]
["SA23",2020,"DC12",null,null,null,null,null,null,null,null,null,null,null,null,null,null,null,null,null,null,null,"~"]
["SA23",2020,"DC12",null,null,null,null,null,null,null,null,null,null,null,null,null,null,null,null,null,null,null,"~"]
["SA23",2020,"DC12",null,null,null,null,null,null,null,null,null,null,null,null,null,null,null,null,null,null,null,"~"]
["SA23",2020,"DC12",null,null,null,null,null,null,null,null,null,null,null,null,null,null,null,null,null,null,null,"~"]
["SA23",2020,"DC12",null,null,null,null,null,null,null,null,null,null,null,null,null,null,null,null,null,null,null,"~"]
["SA23",2020,"DC12",null,null,null,null,null,null,null,null,null,null,null,null,null,null,null,null,null,null,null,"~"]
["SA23",2020,"DC12",null,null,null,null,null,null,null,null,null,null,null,null,null,null,null,null,null,null,null,"~"]
["SA23",2020,"DC12",null,null,null,null,null,null,null,null,null,null,null,null,null,null,null,null,null,null,null,"~"]
["SA23",2020,"DC12",null,null,null,null,null,null,null,null,null,null,null,null,null,null,null,null,null,null,null,"~"]
["SA23",2020,"DC12",null,null,null,null,null,null,null,null,null,null,null,null,null,null,null,null,null,null,null,"~"]
["SA23",2020,"DC12",null,null,null,null,null,null,null,null,null,null,null,null,null,null,null,null,null,null,null,"~"]
["SA23",2020,"DC12",null,null,null,null,null,null,null,null,null,null,null,null,null,null,null,null,null,null,null,"~"]
["SA23",2020,"DC12",null,null,null,null,null,null,null,null,null,null,null,null,null,null,null,null,null,null,null,"~"]
["SA23",2020,"DC12",null,null,null,null,null,null,null,null,null,null,null,null,null,null,null,null,null,null,null,"~"]
["SA23",2020,"DC12",null,null,null,null,null,null,null,null,null,null,null,null,null,null,null,null,null,null,null,"~"]
["SA23",{"$f":"+MTREF","v":2020},{"$f":"LEFT(muni,(FIND(\" \",muni,1)-1))","v":"DC12"},null,null,null,null,null,null,null,null,null,null,null,null,null,null,null,null,null,null,null,"~"]
["SA23",2020,"DC12",null,null,null,null,null,null,null,null,null,null,null,null,null,null,null,null,null,null,null,"~"]
["SA23",2020,"DC12",null,null,null,null,null,null,null,null,null,null,null,null,null,null,null,null,null,null,null,"~"]
["SA23",2020,"DC12",null,null,null,null,null,null,null,null,null,null,null,null,null,null,null,null,null,null,null,"~"]
["SA23",2020,"DC12",null,null,null,null,null,null,null,null,null,null,null,null,null,null,null,null,null,null,null,"~"]
["SA23",2020,"DC12",null,null,null,null,null,null,null,null,null,null,null,null,null,null,null,null,null,null,null,"~"]
["SA23",2020,"DC12",null,null,null,null,null,null,null,null,null,null,null,null,null,null,null,null,null,null,null,"~"]
["SA23",2020,"DC12",null,null,null,null,null,null,null,null,null,null,null,null,null,null,null,null,null,null,null,"~"]
["SA23",2020,"DC12",null,null,null,null,null,null,null,null,null,null,null,null,null,null,null,null,null,null,null,"~"]
["SA23",2020,"DC12",null,null,null,null,null,null,null,null,null,null,null,null,null,null,null,null,null,null,null,"~"]
["SA23",2020,"DC12",null,null,null,null,null,null,null,null,null,null,null,null,null,null,null,null,null,null,null,"~"]
["SA23",2020,"DC12",null,null,null,null,null,null,null,null,null,null,null,null,null,null,null,null,null,null,null,"~"]
["SA23",2020,"DC12",null,null,null,null,null,null,null,null,null,null,null,null,null,null,null,null,null,null,null,"~"]
["SA23",2020,"DC12",null,null,null,null,null,null,null,null,null,null,null,null,null,null,null,null,null,null,null,"~"]
["SA23",2020,"DC12",null,null,null,null,null,null,null,null,null,null,null,null,null,null,null,null,null,null,null,"~"]
["SA23",2020,"DC12",null,null,null,null,null,null,null,null,null,null,null,null,null,null,null,null,null,null,null,"~"]
["SA23",2020,"DC12",null,null,null,null,null,null,null,null,null,null,null,null,null,null,null,null,null,null,null,"~"]
["SA23",2020,"DC12",null,null,null,null,null,null,null,null,null,null,null,null,null,null,null,null,null,null,null,"~"]
["SA23",2020,"DC12",null,null,null,null,null,null,null,null,null,null,null,null,null,null,null,null,null,null,null,"~"]
["SA23",2020,"DC12",null,null,null,null,null,null,null,null,null,null,null,null,null,null,null,null,null,null,null,"~"]
["SA23",2020,"DC12",null,null,null,null,null,null,null,null,null,null,null,null,null,null,null,null,null,null,null,"~"]
["SA23",2020,"DC12",null,null,null,null,null,null,null,null,null,null,null,null,null,null,null,null,null,null,null,"~"]
["SA23",2020,"DC12",null,null,null,null,null,null,null,null,null,null,null,null,null,null,null,null,null,null,null,"~"]
["SA23",2020,"DC12",null,null,null,null,null,null,null,null,null,null,null,null,null,null,null,null,null,null,null,"~"]
["SA23",2020,"DC12",null,null,null,null,null,null,null,null,null,null,null,null,null,null,null,null,null,null,null,"~"]
["SA23",2020,"DC12",null,null,null,null,null,null,null,null,null,null,null,null,null,null,null,null,null,null,null,"~"]
["SA23",2020,"DC12",null,null,null,null,null,null,null,null,null,null,null,null,null,null,null,null,null,null,null,"~"]
["SA23",2020,"DC12",null,null,null,null,null,null,null,null,null,null,null,null,null,null,null,null,null,null,null,"~"]
["SA23",2020,"DC12",null,null,null,null,null,null,null,null,null,null,null,null,null,null,null,null,null,null,null,"~"]
["SA23",2020,"DC12",null,null,null,null,null,null,null,null,null,null,null,null,null,null,null,null,null,null,null,"~"]
["SA23",2020,"DC12",null,null,null,null,null,null,null,null,null,null,null,null,null,null,null,null,null,null,null,"~"]
["SA23",2020,"DC12",null,null,null,null,null,null,null,null,null,null,null,null,null,null,null,null,null,null,null,"~"]
["SA23",2020,"DC12",null,null,null,null,null,null,null,null,null,null,null,null,null,null,null,null,null,null,null,"~"]
["SA23",2020,"DC12",null,null,null,null,null,null,null,null,null,null,null,null,null,null,null,null,null,null,null,"~"]
["SA23",2020,"DC12",null,null,null,null,null,null,null,null,null,null,null,null,null,null,null,null,null,null,null,"~"]
["SA23",2020,"DC12",null,null,null,null,null,null,null,null,null,null,null,null,null,null,null,null,null,null,null,"~"]
["SA23",2020,"DC12",null,null,null,null,null,null,null,null,null,null,null,null,null,null,null,null,null,null,null,"~"]
["SA23",2020,"DC12",null,null,null,null,null,null,null,null,null,null,null,null,null,null,null,null,null,null,null,"~"]
["SA23",2020,"DC12",null,null,null,null,null,null,null,null,null,null,null,null,null,null,null,null,null,null,null,"~"]
["SA23",2020,"DC12",null,null,null,null,null,null,null,null,null,null,null,null,null,null,null,null,null,null,null,"~"]
["SA23",2020,"DC12",null,null,null,null,null,null,null,null,null,null,null,null,null,null,null,null,null,null,null,"~"]
["SA23",2020,"DC12",null,null,null,null,null,null,null,null,null,null,null,null,null,null,null,null,null,null,null,"~"]
["SA23",2020,"DC12",null,null,null,null,null,null,null,null,null,null,null,null,null,null,null,null,null,null,null,"~"]
["SA24",2020,"DC12",1000,1,"Municipal Council and Boards of Municipal Entities",null,null,null,null,null,null,null,null,null,null,null,null,null,null,null,null,"~"]
["SA24",2020,"DC12",1001,2,"Councillors (Political Office Bearers and Other Councillors)",null,null,null,null,null,null,null,null,null,null,null,null,null,null,null,null,"~"]
["SA24",2020,"DC12",1002,3,"Board Members of municipal entities",null,null,null,null,null,null,null,null,null,null,null,null,null,null,null,null,"~"]
["SA24",2020,"DC12",1100,4,"Municipal employees",null,null,null,null,null,null,null,null,null,null,null,null,null,null,null,null,"~"]
["SA24",2020,"DC12",1101,5,"Municipal Manager and Senior Managers",null,null,null,null,null,null,null,null,null,null,null,null,null,null,null,null,"~"]
["SA24",2020,"DC12",1102,6,"Other Managers",null,null,null,null,null,null,null,null,null,null,null,null,null,null,null,null,"~"]
["SA24",2020,"DC12",1103,7,"Professionals",null,null,null,null,null,null,null,null,null,null,null,null,null,null,null,null,"~"]
["SA24",2020,"DC12",1104,8,"Finance",null,null,null,null,null,null,null,null,null,null,null,null,null,null,null,null,"~"]
["SA24",2020,"DC12",1105,9,"Spatial/town planning",null,null,null,null,null,null,null,null,null,null,null,null,null,null,null,null,"~"]
["SA24",2020,"DC12",1106,10,"Information Technology",null,null,null,null,null,null,null,null,null,null,null,null,null,null,null,null,"~"]
["SA24",2020,"DC12",1107,11,"Roads",null,null,null,null,null,null,null,null,null,null,null,null,null,null,null,null,"~"]
["SA24",2020,"DC12",1108,12,"Electricity",null,null,null,null,null,null,null,null,null,null,null,null,null,null,null,null,"~"]
["SA24",2020,"DC12",1109,13,"Water",null,null,null,null,null,null,null,null,null,null,null,null,null,null,null,null,"~"]
["SA24",2020,"DC12",1110,14,"Sanitation",null,null,null,null,null,null,null,null,null,null,null,null,null,null,null,null,"~"]
["SA24",2020,"DC12",1111,15,"Refuse",null,null,null,null,null,null,null,null,null,null,null,null,null,null,null,null,"~"]
["SA24",2020,"DC12",1112,16,"Other",null,null,null,null,null,null,null,null,null,null,null,null,null,null,null,null,"~"]
["SA24",2020,"DC12",1113,17,"Technicians",null,null,null,null,null,null,null,null,null,null,null,null,null,null,null,null,"~"]
["SA24",2020,"DC12",1114,18,"Finance",null,null,null,null,null,null,null,null,null,null,null,null,null,null,null,null,"~"]
["SA24",2020,"DC12",1115,19,"Spatial/town planning",null,null,null,null,null,null,null,null,null,null,null,null,null,null,null,null,"~"]
["SA24",2020,"DC12",1116,20,"Information Technology",null,null,null,null,null,null,null,null,null,null,null,null,null,null,null,null,"~"]
["SA24",2020,"DC12",1117,21,"Roads",null,null,null,null,null,null,null,null,null,null,null,null,null,null,null,null,"~"]
["SA24",{"$f":"+MTREF","v":2020},{"$f":"LEFT(muni,(FIND(\" \",muni,1)-1))","v":"DC12"},1118,22,"Electricity",null,null,null,null,null,null,null,null,null,null,null,null,null,null,null,null,"~"]
["SA24",2020,"DC12",1119,23,"Water",null,null,null,null,null,null,null,null,null,null,null,null,null,null,null,null,"~"]
["SA24",2020,"DC12",1120,24,"Sanitation",null,null,null,null,null,null,null,null,null,null,null,null,null,null,null,null,"~"]
["SA24",2020,"DC12",1121,25,"Refuse",null,null,null,null,null,null,null,null,null,null,null,null,null,null,null,null,"~"]
["SA24",2020,"DC12",1122,26,"Other",null,null,null,null,null,null,null,null,null,null,null,null,null,null,null,null,"~"]
["SA24",2020,"DC12",1123,27,"Clerks (Clerical and administrative)",null,null,null,null,null,null,null,null,null,null,null,null,null,null,null,null,"~"]
["SA24",2020,"DC12",1124,28,"Service and sales workers",null,null,null,null,null,null,null,null,null,null,null,null,null,null,null,null,"~"]
["SA24",2020,"DC12",1125,29,"Skilled agricultural and fishery workers",null,null,null,null,null,null,null,null,null,null,null,null,null,null,null,null,"~"]
["SA24",2020,"DC12",1126,30,"Craft and related trades",null,null,null,null,null,null,null,null,null,null,null,null,null,null,null,null,"~"]
["SA24",2020,"DC12",1127,31,"Plant and Machine Operators",null,null,null,null,null,null,null,null,null,null,null,null,null,null,null,null,"~"]
["SA24",2020,"DC12",1128,32,"Elementary Occupations",null,null,null,null,null,null,null,null,null,null,null,null,null,null,null,null,"~"]
["SA24",2020,"DC12",1190,33,"TOTAL PERSONNEL NUMBERS",null,null,null,null,null,null,null,null,null,null,null,null,null,null,null,null,"~"]
["SA24",2020,"DC12",1191,34,"% increase",null,null,null,null,null,null,null,null,null,null,null,null,null,null,null,null,"~"]
["SA24",2020,"DC12",null,null,null,null,null,null,null,null,null,null,null,null,null,null,null,null,null,null,null,"~"]
["SA24",2020,"DC12",1200,35,"Total municipal employees headcount",null,null,null,null,null,null,null,null,null,null,null,null,null,null,null,null,"~"]
["SA24",2020,"DC12",1201,36,"Finance personnel headcount",null,null,null,null,null,null,null,null,null,null,null,null,null,null,null,null,"~"]
["SA24",2020,"DC12",1202,37,"Human Resources personnel headcount",null,null,null,null,null,null,null,null,null,null,null,null,null,null,null,null,"~"]
["OTHER",2020,"DC12","1001",1,"Unspent conditional transfers",null,null,null,null,null,null,null,null,null,null,null,null,null,null,null,null,"~"]
["OTHER",2020,"DC12","1002",2,"Unspent borrowing",null,null,null,null,null,null,null,null,null,null,null,null,null,null,null,null,"~"]
["OTHER",2020,"DC12","1003",3,"Statutory requirements",null,null,null,null,null,null,null,null,null,null,null,null,null,null,null,null,"~"]
["OTHER",2020,"DC12","1005",5,"Other provisions",null,null,null,null,null,null,null,null,null,null,null,null,null,null,null,null,"~"]
["OTHER",2020,"DC12","1006",6,"Long term investments committed",null,null,null,null,null,null,null,null,null,null,null,null,null,null,null,null,"~"]
["OTHER",2020,"DC12","1007",7,"Reserves to be backed by cash/investments",null,null,null,null,null,null,null,null,null,null,null,null,null,null,null,null,"~"]
["OTHER",2020,"DC12","1008",8,"Estimate of other debtors > 90 days",null,null,null,null,null,null,null,null,null,null,null,null,null,null,null,null,"~"]
["OTHER",2020,"DC12",2001,9,"Contributions recognised - capital",null,null,null,null,null,null,null,null,null,null,null,null,null,null,null,null,"~"]
["OTHER",2020,"DC12","3001",10,"Depreciation offsets",null,null,null,null,null,null,null,null,null,null,null,null,null,null,null,null,"~"]
["OTHER",2020,"DC12","4001",11,"Fixed operational expenditure % assumption",null,null,null,null,null,null,null,null,null,null,null,null,null,null,null,null,"~"]
["OTHER",2020,"DC12",5000,50,"Repairs and Maintenance by Expenditure Item",null,null,null,null,null,null,null,null,null,null,null,null,null,null,null,null,"~"]
["OTHER",2020,"DC12",5001,51,"Employee related costs",null,null,null,null,null,null,null,null,null,null,null,null,null,null,null,null,"~"]
["OTHER",2020,"DC12",5002,52,"Other materials",null,null,null,null,null,null,null,null,null,null,null,null,null,null,null,null,"~"]
["OTHER",2020,"DC12",5003,53,"Contracted Services",null,null,null,null,null,null,null,null,null,null,null,null,null,null,null,null,"~"]
["OTHER",2020,"DC12",5004,54,"Other Expenditure",null,null,null,null,null,null,null,null,null,null,null,null,null,null,null,null,"~"]
["OTHER",2020,"DC12",5005,55,"Total Repairs and Maintenance Expenditure",null,null,null,null,null,null,null,null,null,null,null,null,null,null,null,null,"~"]
["OTHER",2020,"DC12",6001,61,"Volume Electricity Distribution Losses",null,null,null,null,null,null,null,null,null,null,null,null,null,null,null,null,"~"]
["OTHER",2020,"DC12",6002,62,"Cost Electiricty Distribution Losses",null,null,null,null,null,null,null,null,null,null,null,null,null,null,null,null,"~"]
["OTHER",2020,"DC12",null,null,null,null,null,null,null,null,null,null,null,null,null,null,null,null,null,null,null,"~"]
["OTHER",2020,"DC12",6003,63,"Volume Water Distribution Losses",null,null,null,null,null,null,null,null,null,null,null,null,null,null,null,null,"~"]
["OTHER",2020,"DC12",6004,64,"Cost Water Distribution Losses",null,null,null,null,null,null,null,null,null,null,null,null,null,null,null,null,"~"]
["OTHER",2020,"DC12",null,null,null,null,null,null,null,null,null,null,null,null,null,null,null,null,null,null,null,"~"]
["OTHER",2020,"DC12",7001,71,"Consultant Fees",null,null,null,null,null,null,null,null,null,null,null,null,null,null,null,null,"~"]
["OTHER",2020,"DC12",7002,72,"Audit Fees",null,null,null,null,null,null,null,null,null,null,null,null,null,null,null,null,"~"]
["SA36",2020,"DC12",1,null,null,null,null,null,null,null,null,null,null,null,null,null,null,null,null,null,null,"~"]
["SA36",2020,"DC12",2,null,null,null,null,null,null,null,null,null,null,null,null,null,null,null,null,null,null,"~"]
["SA36",2020,"DC12",3,null,null,null,null,null,null,null,null,null,null,null,null,null,null,null,null,null,null,"~"]
["SA36",2020,"DC12",4,null,null,null,null,null,null,null,null,null,null,null,null,null,null,null,null,null,null,"~"]
["SA36",2020,"DC12",5,null,null,null,null,null,null,null,null,null,null,null,null,null,null,null,null,null,null,"~"]
["SA36",2020,"DC12",6,null,null,null,null,null,null,null,null,null,null,null,null,null,null,null,null,null,null,"~"]
["SA36",2020,"DC12",7,null,null,null,null,null,null,null,null,null,null,null,null,null,null,null,null,null,null,"~"]
["SA36",2020,"DC12",8,null,null,null,null,null,null,null,null,null,null,null,null,null,null,null,null,null,null,"~"]
["SA36",2020,"DC12",9,null,null,null,null,null,null,null,null,null,null,null,null,null,null,null,null,null,null,"~"]
["SA36",2020,"DC12",10,null,null,null,null,null,null,null,null,null,null,null,null,null,null,null,null,null,null,"~"]
["SA36",2020,"DC12",11,null,null,null,null,null,null,null,null,null,null,null,null,null,null,null,null,null,null,"~"]
["SA36",2020,"DC12",12,null,null,null,null,null,null,null,null,null,null,null,null,null,null,null,null,null,null,"~"]
["SA36",2020,"DC12",13,null,null,null,null,null,null,null,null,null,null,null,null,null,null,null,null,null,null,"~"]
["SA36",2020,"DC12",14,null,null,null,null,null,null,null,null,null,null,null,null,null,null,null,null,null,null,"~"]
["SA36",2020,"DC12",15,null,null,null,null,null,null,null,null,null,null,null,null,null,null,null,null,null,null,"~"]
["SA36",2020,"DC12",16,null,null,null,null,null,null,null,null,null,null,null,null,null,null,null,null,null,null,"~"]
["SA36",2020,"DC12",17,null,null,null,null,null,null,null,null,null,null,null,0,0,null,null,0,null,null,"~"]
["SA36",2020,"DC12",18,null,null,null,null,null,null,null,null,null,null,null,null,null,null,null,null,null,null,"~"]
["SA36",2020,"DC12",19,null,null,null,null,null,null,null,null,null,null,null,null,null,null,null,null,null,null,"~"]
["SA36",2020,"DC12",20,null,null,null,null,null,null,null,null,null,null,null,null,null,null,null,null,null,null,"~"]
["SA36",2020,"DC12",21,null,null,null,null,null,null,null,null,null,null,null,null,null,null,null,null,null,null,"~"]
["SA36",2020,"DC12",22,null,null,null,null,null,null,null,null,null,null,null,null,null,null,null,null,null,null,"~"]
["SA36",2020,"DC12",23,null,null,null,null,null,null,null,null,null,null,null,null,null,null,null,null,null,null,"~"]
["SA36",{"$f":"+MTREF","v":2020},{"$f":"LEFT(muni,(FIND(\" \",muni,1)-1))","v":"DC12"},24,null,null,null,null,null,null,null,null,null,null,null,null,null,null,null,null,null,null,"~"]
["SA36",2020,"DC12",25,null,null,null,null,null,null,null,null,null,null,null,null,null,null,null,null,null,null,"~"]
["SA36",2020,"DC12",26,null,null,null,null,null,null,null,null,null,null,null,null,null,null,null,null,null,null,"~"]
["SA36",2020,"DC12",27,null,null,null,null,null,null,null,null,null,null,null,null,null,null,null,null,null,null,"~"]
["SA36",2020,"DC12",28,null,null,null,null,null,null,null,null,null,null,null,null,null,null,null,null,null,null,"~"]
["SA36",2020,"DC12",29,null,null,null,null,null,null,null,null,null,null,null,null,null,null,null,null,null,null,"~"]
["SA36",2020,"DC12",30,null,null,null,null,null,null,null,null,null,0,0,0,0,null,null,null,null,null,"~"]
["SA36",2020,"DC12",31,null,null,null,null,null,null,null,null,null,0,0,0,0,null,null,null,null,null,"~"]
["SA36",2020,"DC12",32,null,null,null,null,null,null,null,null,null,null,null,null,null,null,null,null,null,null,"~"]
["SA36",2020,"DC12",33,null,null,null,null,null,null,null,null,null,null,null,null,null,null,null,null,null,null,"~"]
["SA36",2020,"DC12",34,null,null,null,null,null,null,null,null,null,null,null,null,null,null,null,null,null,null,"~"]
["SA36",2020,"DC12",35,null,null,null,null,null,null,null,null,null,null,null,null,null,null,null,null,null,null,"~"]
["SA36",2020,"DC12",36,null,null,null,null,null,null,null,null,null,null,null,null,null,null,null,null,null,null,"~"]
["SA36",2020,"DC12",37,null,null,null,null,null,null,null,null,null,null,null,null,null,null,null,null,null,null,"~"]
["SA36",2020,"DC12",38,null,null,null,null,null,null,null,null,"Check",0,null,null,null,null,null,null,null,null,"~"]
["SA36",2020,"DC12",39,null,null,null,null,null,null,null,null,null,null,null,null,null,null,null,null,null,null,"~"]
["SA36",2020,"DC12",40,null,null,null,null,null,null,null,null,null,null,null,null,null,null,null,null,null,null,"~"]
["SA36",2020,"DC12",41,null,null,null,null,null,null,null,null,null,null,null,null,null,null,null,null,null,null,"~"]
["SA36",2020,"DC12",42,null,null,null,null,null,null,null,null,null,null,null,null,null,null,null,null,null,null,"~"]
["SA36",2020,"DC12",43,null,null,null,null,null,null,null,null,null,null,null,null,null,null,null,null,null,null,"~"]
["SA36",2020,"DC12",44,null,null,null,null,null,null,null,null,null,null,null,null,null,null,null,null,null,null,"~"]
["SA36",2020,"DC12",45,null,null,null,null,null,null,null,null,null,null,null,null,null,null,null,null,null,null,"~"]
["SA36",2020,"DC12",46,null,null,null,null,null,null,null,null,null,null,null,null,null,null,null,null,null,null,"~"]
["SA36",2020,"DC12",47,null,null,null,null,null,null,null,null,null,null,null,null,null,null,null,null,null,null,"~"]
["SA36",2020,"DC12",48,null,null,null,null,null,null,null,null,null,null,null,null,null,null,null,null,null,null,"~"]
["SA36",2020,"DC12",49,null,null,null,null,null,null,null,null,null,null,null,null,null,null,null,null,null,null,"~"]
["SA36",2020,"DC12",50,null,null,null,null,null,null,null,null,null,null,null,null,null,null,null,null,null,null,"~"]
["SA36",2020,"DC12",51,null,null,null,null,null,null,null,null,null,null,null,null,null,null,null,null,null,null,"~"]
["SA36",2020,"DC12",52,null,null,null,null,null,null,null,null,null,null,null,null,null,null,null,null,null,null,"~"]
["SA36",2020,"DC12",53,null,null,null,null,null,null,null,null,null,null,null,null,null,null,null,null,null,null,"~"]
["SA36",2020,"DC12",54,null,null,null,null,null,null,null,null,null,null,null,null,null,null,null,null,null,null,"~"]
["SA36",2020,"DC12",55,null,null,null,null,null,null,null,null,null,null,null,null,null,null,null,null,null,null,"~"]
["SA36",2020,"DC12",56,null,null,null,null,null,null,null,null,null,null,null,null,null,null,null,null,null,null,"~"]
["SA36",2020,"DC12",57,null,null,null,null,null,null,null,null,null,null,null,null,null,null,null,null,null,null,"~"]
["SA36",2020,"DC12",58,null,null,null,null,null,null,null,null,null,null,null,null,null,null,null,null,null,null,"~"]
["SA36",2020,"DC12",59,null,null,null,null,null,null,null,null,null,null,null,null,null,null,null,null,null,null,"~"]
["SA36",2020,"DC12",60,null,null,null,null,null,null,null,null,null,null,null,null,null,null,null,null,null,null,"~"]
["SA36",2020,"DC12",61,null,null,null,null,null,null,null,null,null,null,null,null,null,null,null,null,null,null,"~"]
["SA36",2020,"DC12",62,null,null,null,null,null,null,null,null,null,null,null,null,null,null,null,null,null,null,"~"]
["SA36",2020,"DC12",63,null,null,null,null,null,null,null,null,null,null,null,null,null,null,null,null,null,null,"~"]
["SA36",2020,"DC12",64,null,null,null,null,null,null,null,null,null,null,null,null,null,null,null,null,null,null,"~"]
["SA36",2020,"DC12",65,null,null,null,null,null,null,null,null,null,null,null,null,null,null,null,null,null,null,"~"]
["SA36",2020,"DC12",66,null,null,null,null,null,null,null,null,null,null,null,null,null,null,null,null,null,null,"~"]
["SA36",2020,"DC12",67,null,null,null,null,null,null,null,null,null,null,null,null,null,null,null,null,null,null,"~"]
["SA36",2020,"DC12",68,null,null,null,null,null,null,null,null,null,null,null,null,null,null,null,null,null,null,"~"]
["SA36",2020,"DC12",69,null,null,null,null,null,null,null,null,null,null,null,null,null,null,null,null,null,null,"~"]
["SA36",2020,"DC12",70,null,null,null,null,null,null,null,null,null,null,null,null,null,null,null,null,null,null,"~"]
["SA36",2020,"DC12",71,null,null,null,null,null,null,null,null,null,null,null,null,null,null,null,null,null,null,"~"]
["SA36",2020,"DC12",72,null,null,null,null,null,null,null,null,null,null,null,null,null,null,null,null,null,null,"~"]
["SA36",2020,"DC12",73,null,null,null,null,null,null,null,null,null,null,null,null,null,null,null,null,null,null,"~"]
["SA36",2020,"DC12",74,null,null,null,null,null,null,null,null,null,null,null,null,null,null,null,null,null,null,"~"]
["SA36",2020,"DC12",75,null,null,null,null,null,null,null,null,null,null,null,null,null,null,null,null,null,null,"~"]
["SA36",2020,"DC12",76,null,null,null,null,null,null,null,null,null,null,null,null,null,null,null,null,null,null,"~"]
["SA36",2020,"DC12",77,null,null,null,null,null,null,null,null,null,null,null,null,null,null,null,null,null,null,"~"]
["SA36",2020,"DC12",78,null,null,null,null,null,null,null,null,null,null,null,null,null,null,null,null,null,null,"~"]
["SA36",2020,"DC12",79,null,null,null,null,null,null,null,null,null,null,null,null,null,null,null,null,null,null,"~"]
["SA36",2020,"DC12",80,null,null,null,null,null,null,null,null,null,null,null,null,null,null,null,null,null,null,"~"]
["SA36",2020,"DC12",81,null,null,null,null,null,null,null,null,null,null,null,null,null,null,null,null,null,null,"~"]
["SA36",2020,"DC12",82,null,null,null,null,null,null,null,null,null,null,null,null,null,null,null,null,null,null,"~"]
["SA36",2020,"DC12",83,null,null,null,null,null,null,null,null,null,null,null,null,null,null,null,null,null,null,"~"]
["SA36",2020,"DC12",84,null,null,null,null,null,null,null,null,null,null,null,null,null,null,null,null,null,null,"~"]
["SA36",2020,"DC12",85,null,null,null,null,null,null,null,null,null,null,null,null,null,null,null,null,null,null,"~"]
["SA36",2020,"DC12",86,null,null,null,null,null,null,null,null,null,null,null,null,null,null,null,null,null,null,"~"]
["SA36",2020,"DC12",87,null,null,null,null,null,null,null,null,null,null,null,null,null,null,null,null,null,null,"~"]
["SA36",{"$f":"+MTREF","v":2020},{"$f":"LEFT(muni,(FIND(\" \",muni,1)-1))","v":"DC12"},88,null,null,null,null,null,null,null,null,null,null,null,null,null,null,null,null,null,null,"~"]
["SA36",2020,"DC12",89,null,null,null,null,null,null,null,null,null,null,null,null,null,null,null,null,null,null,"~"]
["SA36",2020,"DC12",90,null,null,null,null,null,null,null,null,null,null,null,null,null,null,null,null,null,null,"~"]
["SA36",2020,"DC12",91,null,null,null,null,null,null,null,null,null,null,null,null,null,null,null,null,null,null,"~"]
["SA36",2020,"DC12",92,null,null,null,null,null,null,null,null,null,null,null,null,null,null,null,null,null,null,"~"]
["SA36",2020,"DC12",93,null,null,null,null,null,null,null,null,null,null,null,null,null,null,null,null,null,null,"~"]
["SA36",2020,"DC12",94,null,null,null,null,null,null,null,null,null,null,null,null,null,null,null,null,null,null,"~"]
["SA36",2020,"DC12",95,null,null,null,null,null,null,null,null,null,null,null,null,null,null,null,null,null,null,"~"]
["SA36",2020,"DC12",96,null,null,null,null,null,null,null,null,null,null,null,null,null,null,null,null,null,null,"~"]
["SA36",2020,"DC12",97,null,null,null,null,null,null,null,null,null,null,null,null,null,null,null,null,null,null,"~"]
["SA36",2020,"DC12",98,null,null,null,null,null,null,null,null,null,null,null,null,null,null,null,null,null,null,"~"]
["SA36",2020,"DC12",99,null,null,null,null,null,null,null,null,null,null,null,null,null,null,null,null,null,null,"~"]
["SA36",2020,"DC12",100,null,null,null,null,null,null,null,null,null,null,null,null,null,null,null,null,null,null,"~"]
["SA36",2020,"DC12",101,null,null,null,null,null,null,null,null,null,null,null,null,null,null,null,null,null,null,"~"]
["SA36",2020,"DC12",102,null,null,null,null,null,null,null,null,null,null,null,null,null,null,null,null,null,null,"~"]
["SA36",2020,"DC12",103,null,null,null,null,null,null,null,null,null,null,null,null,null,null,null,null,null,null,"~"]
["SA36",2020,"DC12",104,null,null,null,null,null,null,null,null,null,null,null,null,null,null,null,null,null,null,"~"]
["SA36",2020,"DC12",105,null,null,null,null,null,null,null,null,null,null,null,null,null,null,null,null,null,null,"~"]
["SA36",2020,"DC12",106,null,null,null,null,null,null,null,null,null,null,null,null,null,null,null,null,null,null,"~"]
["SA36",2020,"DC12",107,null,null,null,null,null,null,null,null,null,null,null,null,null,null,null,null,null,null,"~"]
["SA36",2020,"DC12",108,null,null,null,null,null,null,null,null,null,null,null,null,null,null,null,null,null,null,"~"]
["SA36",2020,"DC12",109,null,null,null,null,null,null,null,null,null,null,null,null,null,null,null,null,null,null,"~"]
["SA36",2020,"DC12",110,null,null,null,null,null,null,null,null,null,null,null,null,null,null,null,null,null,null,"~"]
["SA36",2020,"DC12",111,null,null,null,null,null,null,null,null,null,null,null,null,null,null,null,null,null,null,"~"]
["SA36",2020,"DC12",112,null,null,null,null,null,null,null,null,null,null,null,null,null,null,null,null,null,null,"~"]
["SA36",2020,"DC12",113,null,null,null,null,null,null,null,null,null,null,null,null,null,null,null,null,null,null,"~"]
["SA36",2020,"DC12",114,null,null,null,null,null,null,null,null,null,null,null,null,null,null,null,null,null,null,"~"]
["SA36",2020,"DC12",115,null,null,null,null,null,null,null,null,null,null,null,null,null,null,null,null,null,null,"~"]
["SA36",2020,"DC12",116,null,null,null,null,null,null,null,null,null,null,null,null,null,null,null,null,null,null,"~"]
["SA36",2020,"DC12",117,null,null,null,null,null,null,null,null,null,null,null,null,null,null,null,null,null,null,"~"]
["SA36",2020,"DC12",118,null,null,null,null,null,null,null,null,null,null,null,null,null,null,null,null,null,null,"~"]
["SA36",2020,"DC12",119,null,null,null,null,null,null,null,null,null,null,null,null,null,null,null,null,null,null,"~"]
["SA36",2020,"DC12",120,null,null,null,null,null,null,null,null,null,null,null,null,null,null,null,null,null,null,"~"]
["SA36",2020,"DC12",121,null,null,null,null,null,null,null,null,null,null,null,null,null,null,null,null,null,null,"~"]
["SA36",2020,"DC12",122,null,null,null,null,null,null,null,null,null,null,null,null,null,null,null,null,null,null,"~"]
["SA36",2020,"DC12",123,null,null,null,null,null,null,null,null,null,null,null,null,null,null,null,null,null,null,"~"]
["SA36",2020,"DC12",124,null,null,null,null,null,null,null,null,null,null,null,null,null,null,null,null,null,null,"~"]
["SA36",2020,"DC12",125,null,null,null,null,null,null,null,null,null,null,null,null,null,null,null,null,null,null,"~"]
["SA36",2020,"DC12",126,null,null,null,null,null,null,null,null,null,null,null,null,null,null,null,null,null,null,"~"]
["SA36",2020,"DC12",127,null,null,null,null,null,null,null,null,null,null,null,null,null,null,null,null,null,null,"~"]
["SA36",2020,"DC12",128,null,null,null,null,null,null,null,null,null,null,null,null,null,null,null,null,null,null,"~"]
["SA36",2020,"DC12",129,null,null,null,null,null,null,null,null,null,null,null,null,null,null,null,null,null,null,"~"]
["SA36",2020,"DC12",130,null,null,null,null,null,null,null,null,null,null,null,null,null,null,null,null,null,null,"~"]
["SA36",2020,"DC12",131,null,null,null,null,null,null,null,null,null,null,null,null,null,null,null,null,null,null,"~"]
["SA36",2020,"DC12",132,null,null,null,null,null,null,null,null,null,null,null,null,null,null,null,null,null,null,"~"]
["SA36",2020,"DC12",133,null,null,null,null,null,null,null,null,null,null,null,null,null,null,null,null,null,null,"~"]
["SA36",2020,"DC12",134,null,null,null,null,null,null,null,null,null,null,null,null,null,null,null,null,null,null,"~"]
["SA36",2020,"DC12",135,null,null,null,null,null,null,null,null,null,null,null,null,null,null,null,null,null,null,"~"]
["SA36",2020,"DC12",136,null,null,null,null,null,null,null,null,null,null,null,null,null,null,null,null,null,null,"~"]
["SA36",2020,"DC12",137,null,null,null,null,null,null,null,null,null,null,null,null,null,null,null,null,null,null,"~"]
["SA36",2020,"DC12",138,null,null,null,null,null,null,null,null,null,null,null,null,null,null,null,null,null,null,"~"]
["SA36",2020,"DC12",139,null,null,null,null,null,null,null,null,null,null,null,null,null,null,null,null,null,null,"~"]
["SA36",2020,"DC12",140,null,null,null,null,null,null,null,null,null,null,null,null,null,null,null,null,null,null,"~"]
["SA36",2020,"DC12",141,null,null,null,null,null,null,null,null,null,null,null,null,null,null,null,null,null,null,"~"]
["SA36",2020,"DC12",142,null,null,null,null,null,null,null,null,null,null,null,null,null,null,null,null,null,null,"~"]
["SA36",2020,"DC12",143,null,null,null,null,null,null,null,null,null,null,null,null,null,null,null,null,null,null,"~"]
["SA36",2020,"DC12",144,null,null,null,null,null,null,null,null,null,null,null,null,null,null,null,null,null,null,"~"]
["SA36",2020,"DC12",145,null,null,null,null,null,null,null,null,null,null,null,null,null,null,null,null,null,null,"~"]
["SA36",2020,"DC12",146,null,null,null,null,null,null,null,null,null,null,null,null,null,null,null,null,null,null,"~"]
["SA36",2020,"DC12",147,null,null,null,null,null,null,null,null,null,null,null,null,null,null,null,null,null,null,"~"]
["SA36",2020,"DC12",148,null,null,null,null,null,null,null,null,null,null,null,null,null,null,null,null,null,null,"~"]
["SA36",2020,"DC12",149,null,null,null,null,null,null,null,null,null,null,null,null,null,null,null,null,null,null,"~"]
["SA36",2020,"DC12",150,null,null,null,null,null,null,null,null,null,null,null,null,null,null,null,null,null,null,"~"]
["SA36",2020,"DC12",151,null,null,null,null,null,null,null,null,null,null,null,null,null,null,null,null,null,null,"~"]
["SA36",{"$f":"+MTREF","v":2020},{"$f":"LEFT(muni,(FIND(\" \",muni,1)-1))","v":"DC12"},152,null,null,null,null,null,null,null,null,null,null,null,null,null,null,null,null,null,null,"~"]
["SA36",2020,"DC12",153,null,null,null,null,null,null,null,null,null,null,null,null,null,null,null,null,null,null,"~"]
["SA36",2020,"DC12",154,null,null,null,null,null,null,null,null,null,null,null,null,null,null,null,null,null,null,"~"]
["SA36",2020,"DC12",155,null,null,null,null,null,null,null,null,null,null,null,null,null,null,null,null,null,null,"~"]
["SA36",2020,"DC12",156,null,null,null,null,null,null,null,null,null,null,null,null,null,null,null,null,null,null,"~"]
["SA36",2020,"DC12",157,null,null,null,null,null,null,null,null,null,null,null,null,null,null,null,null,null,null,"~"]
["SA36",2020,"DC12",158,null,null,null,null,null,null,null,null,null,null,null,null,null,null,null,null,null,null,"~"]
["SA36",2020,"DC12",159,null,null,null,null,null,null,null,null,null,null,null,null,null,null,null,null,null,null,"~"]
["SA36",2020,"DC12",160,null,null,null,null,null,null,null,null,null,null,null,null,null,null,null,null,null,null,"~"]
["SA36",2020,"DC12",161,null,null,null,null,null,null,null,null,null,null,null,null,null,null,null,null,null,null,"~"]
["SA36",2020,"DC12",162,null,null,null,null,null,null,null,null,null,null,null,null,null,null,null,null,null,null,"~"]
["SA36",2020,"DC12",163,null,null,null,null,null,null,null,null,null,null,null,null,null,null,null,null,null,null,"~"]
["SA36",2020,"DC12",164,null,null,null,null,null,null,null,null,null,null,null,null,null,null,null,null,null,null,"~"]
["SA36",2020,"DC12",165,null,null,null,null,null,null,null,null,null,null,null,null,null,null,null,null,null,null,"~"]
["SA36",2020,"DC12",166,null,null,null,null,null,null,null,null,null,null,null,null,null,null,null,null,null,null,"~"]
["SA36",2020,"DC12",167,null,null,null,null,null,null,null,null,null,null,null,null,null,null,null,null,null,null,"~"]
["SA36",2020,"DC12",168,null,null,null,null,null,null,null,null,null,null,null,null,null,null,null,null,null,null,"~"]
["SA36",2020,"DC12",169,null,null,null,null,null,null,null,null,null,null,null,null,null,null,null,null,null,null,"~"]
["SA36",2020,"DC12",170,null,null,null,null,null,null,null,null,null,null,null,null,null,null,null,null,null,null,"~"]
["SA36",2020,"DC12",171,null,null,null,null,null,null,null,null,null,null,null,null,null,null,null,null,null,null,"~"]
["SA36",2020,"DC12",172,null,null,null,null,null,null,null,null,null,null,null,null,null,null,null,null,null,null,"~"]
["SA36",2020,"DC12",173,null,null,null,null,null,null,null,null,null,null,null,null,null,null,null,null,null,null,"~"]
["SA36",2020,"DC12",174,null,null,null,null,null,null,null,null,null,null,null,null,null,null,null,null,null,null,"~"]
["SA36",2020,"DC12",175,null,null,null,null,null,null,null,null,null,null,null,null,null,null,null,null,null,null,"~"]
["SA36",2020,"DC12",176,null,null,null,null,null,null,null,null,null,null,null,null,null,null,null,null,null,null,"~"]
["SA36",2020,"DC12",177,null,null,null,null,null,null,null,null,null,null,null,null,null,null,null,null,null,null,"~"]
["SA36",2020,"DC12",178,null,null,null,null,null,null,null,null,null,null,null,null,null,null,null,null,null,null,"~"]
["SA36",2020,"DC12",179,null,null,null,null,null,null,null,null,null,null,null,null,null,null,null,null,null,null,"~"]
["SA36",2020,"DC12",180,null,null,null,null,null,null,null,null,null,null,null,null,null,null,null,null,null,null,"~"]
["SA36",2020,"DC12",181,null,null,null,null,null,null,null,null,null,null,null,null,null,null,null,null,null,null,"~"]
["SA36",2020,"DC12",182,null,null,null,null,null,null,null,null,null,null,null,null,null,null,null,null,null,null,"~"]
["SA36",2020,"DC12",183,null,null,null,null,null,null,null,null,null,null,null,null,null,null,null,null,null,null,"~"]
["SA36",2020,"DC12",184,null,null,null,null,null,null,null,null,null,null,null,null,null,null,null,null,null,null,"~"]
["SA36",2020,"DC12",185,null,null,null,null,null,null,null,null,null,null,null,null,null,null,null,null,null,null,"~"]
["SA36",2020,"DC12",186,null,null,null,null,null,null,null,null,null,null,null,null,null,null,null,null,null,null,"~"]
["SA36",2020,"DC12",187,null,null,null,null,null,null,null,null,null,null,null,null,null,null,null,null,null,null,"~"]
["SA36",2020,"DC12",188,null,null,null,null,null,null,null,null,null,null,null,null,null,null,null,null,null,null,"~"]
["SA36",2020,"DC12",189,null,null,null,null,null,null,null,null,null,null,null,null,null,null,null,null,null,null,"~"]
["SA36",2020,"DC12",190,null,null,null,null,null,null,null,null,null,null,null,null,null,null,null,null,null,null,"~"]
["SA36",2020,"DC12",191,null,null,null,null,null,null,null,null,null,null,null,null,null,null,null,null,null,null,"~"]
["SA36",2020,"DC12",192,null,null,null,null,null,null,null,null,null,null,null,null,null,null,null,null,null,null,"~"]
["SA36",2020,"DC12",193,null,null,null,null,null,null,null,null,null,null,null,null,null,null,null,null,null,null,"~"]
["SA36",2020,"DC12",194,null,null,null,null,null,null,null,null,null,null,null,null,null,null,null,null,null,null,"~"]
["SA36",2020,"DC12",195,null,null,null,null,null,null,null,null,null,null,null,null,null,null,null,null,null,null,"~"]
["SA36",2020,"DC12",196,null,null,null,null,null,null,null,null,null,null,null,null,null,null,null,null,null,null,"~"]
["SA36",2020,"DC12",197,null,null,null,null,null,null,null,null,null,null,null,null,null,null,null,null,null,null,"~"]
["SA36",2020,"DC12",198,null,null,null,null,null,null,null,null,null,null,null,null,null,null,null,null,null,null,"~"]
["SA36",2020,"DC12",199,null,null,null,null,null,null,null,null,null,null,null,null,null,null,null,null,null,null,"~"]
["SA36",2020,"DC12",200,null,null,null,null,null,null,null,null,null,null,null,null,null,null,null,null,null,null,"~"]
["SA36",2020,"DC12",201,null,null,null,null,null,null,null,null,null,null,null,null,null,null,null,null,null,null,"~"]
["SA36",2020,"DC12",202,null,null,null,null,null,null,null,null,null,null,null,null,null,null,null,null,null,null,"~"]
["SA36",2020,"DC12",203,null,null,null,null,null,null,null,null,null,null,null,null,null,null,null,null,null,null,"~"]
["SA36",2020,"DC12",204,null,null,null,null,null,null,null,null,null,null,null,null,null,null,null,null,null,null,"~"]
["SA36",2020,"DC12",205,null,null,null,null,null,null,null,null,null,null,null,null,null,null,null,null,null,null,"~"]
["SA36",2020,"DC12",206,null,null,null,null,null,null,null,null,null,null,null,null,null,null,null,null,null,null,"~"]
["SA36",2020,"DC12",207,null,null,null,null,null,null,null,null,null,null,null,null,null,null,null,null,null,null,"~"]
["SA36",2020,"DC12",208,null,null,null,null,null,null,null,null,null,null,null,null,null,null,null,null,null,null,"~"]
["SA36",2020,"DC12",209,null,null,null,null,null,null,null,null,null,null,null,null,null,null,null,null,null,null,"~"]
["SA36",2020,"DC12",210,null,null,null,null,null,null,null,null,null,null,null,null,null,null,null,null,null,null,"~"]
["SA36",2020,"DC12",211,null,null,null,null,null,null,null,null,null,null,null,null,null,null,null,null,null,null,"~"]
["SA36",2020,"DC12",212,null,null,null,null,null,null,null,null,null,null,null,null,null,null,null,null,null,null,"~"]
["SA36",2020,"DC12",213,null,null,null,null,null,null,null,null,null,null,null,null,null,null,null,null,null,null,"~"]
["SA36",2020,"DC12",214,null,null,null,null,null,null,null,null,null,null,null,null,null,null,null,null,null,null,"~"]
["SA36",2020,"DC12",215,null,null,null,null,null,null,null,null,null,null,null,null,null,null,null,null,null,null,"~"]
["SA36",{"$f":"+MTREF","v":2020},{"$f":"LEFT(muni,(FIND(\" \",muni,1)-1))","v":"DC12"},216,null,null,null,null,null,null,null,null,null,null,null,null,null,null,null,null,null,null,"~"]
["SA36",2020,"DC12",217,null,null,null,null,null,null,null,null,null,null,null,null,null,null,null,null,null,null,"~"]
["SA36",2020,"DC12",218,null,null,null,null,null,null,null,null,null,null,null,null,null,null,null,null,null,null,"~"]
["SA36",2020,"DC12",219,null,null,null,null,null,null,null,null,null,null,null,null,null,null,null,null,null,null,"~"]
["SA36",2020,"DC12",220,null,null,null,null,null,null,null,null,null,null,null,null,null,null,null,null,null,null,"~"]
["SA36",2020,"DC12",221,null,null,null,null,null,null,null,null,null,null,null,null,null,null,null,null,null,null,"~"]
["SA36",2020,"DC12",222,null,null,null,null,null,null,null,null,null,null,null,null,null,null,null,null,null,null,"~"]
["SA36",2020,"DC12",223,null,null,null,null,null,null,null,null,null,null,null,null,null,null,null,null,null,null,"~"]
["SA36",2020,"DC12",224,null,null,null,null,null,null,null,null,null,null,null,null,null,null,null,null,null,null,"~"]
["SA36",2020,"DC12",225,null,null,null,null,null,null,null,null,null,null,null,null,null,null,null,null,null,null,"~"]
["SA36",2020,"DC12",226,null,null,null,null,null,null,null,null,null,null,null,null,null,null,null,null,null,null,"~"]
["SA36",2020,"DC12",227,null,null,null,null,null,null,null,null,null,null,null,null,null,null,null,null,null,null,"~"]
["SA36",2020,"DC12",228,null,null,null,null,null,null,null,null,null,null,null,null,null,null,null,null,null,null,"~"]
["SA36",2020,"DC12",229,null,null,null,null,null,null,null,null,null,null,null,null,null,null,null,null,null,null,"~"]
["SA36",2020,"DC12",230,null,null,null,null,null,null,null,null,null,null,null,null,null,null,null,null,null,null,"~"]
["SA36",2020,"DC12",231,null,null,null,null,null,null,null,null,null,null,null,null,null,null,null,null,null,null,"~"]
["SA36",2020,"DC12",232,null,null,null,null,null,null,null,null,null,null,null,null,null,null,null,null,null,null,"~"]
["SA36",2020,"DC12",233,null,null,null,null,null,null,null,null,null,null,null,null,null,null,null,null,null,null,"~"]
["SA36",2020,"DC12",234,null,null,null,null,null,null,null,null,null,null,null,null,null,null,null,null,null,null,"~"]
["SA36",2020,"DC12",235,null,null,null,null,null,null,null,null,null,null,null,null,null,null,null,null,null,null,"~"]
["SA36",2020,"DC12",236,null,null,null,null,null,null,null,null,null,null,null,null,null,null,null,null,null,null,"~"]
["SA36",2020,"DC12",237,null,null,null,null,null,null,null,null,null,null,null,null,null,null,null,null,null,null,"~"]
["SA36",2020,"DC12",238,null,null,null,null,null,null,null,null,null,null,null,null,null,null,null,null,null,null,"~"]
["SA36",2020,"DC12",239,null,null,null,null,null,null,null,null,null,null,null,null,null,null,null,null,null,null,"~"]
["SA36",2020,"DC12",240,null,null,null,null,null,null,null,null,null,null,null,null,null,null,null,null,null,null,"~"]
["SA36",2020,"DC12",241,null,null,null,null,null,null,null,null,null,null,null,null,null,null,null,null,null,null,"~"]
["SA36",2020,"DC12",242,null,null,null,null,null,null,null,null,null,null,null,null,null,null,null,null,null,null,"~"]
["SA36",2020,"DC12",243,null,null,null,null,null,null,null,null,null,null,null,null,null,null,null,null,null,null,"~"]
["SA36",2020,"DC12",244,null,null,null,null,null,null,null,null,null,null,null,null,null,null,null,null,null,null,"~"]
["SA36",2020,"DC12",245,null,null,null,null,null,null,null,null,null,null,null,null,null,null,null,null,null,null,"~"]
["SA36",2020,"DC12",246,null,null,null,null,null,null,null,null,null,null,null,null,null,null,null,null,null,null,"~"]
["SA36",2020,"DC12",247,null,null,null,null,null,null,null,null,null,null,null,null,null,null,null,null,null,null,"~"]
["SA36",2020,"DC12",248,null,null,null,null,null,null,null,null,null,null,null,null,null,null,null,null,null,null,"~"]
["SA36",2020,"DC12",249,null,null,null,null,null,null,null,null,null,null,null,null,null,null,null,null,null,null,"~"]
["SA36",2020,"DC12",250,null,null,null,null,null,null,null,null,null,null,null,null,null,null,null,null,null,null,"~"]
["SA36",2020,"DC12",251,null,null,null,null,null,null,null,null,null,null,null,null,null,null,null,null,null,null,"~"]
["SA36",2020,"DC12",252,null,null,null,null,null,null,null,null,null,null,null,null,null,null,null,null,null,null,"~"]
["SA36",2020,"DC12",253,null,null,null,null,null,null,null,null,null,null,null,null,null,null,null,null,null,null,"~"]
["SA36",2020,"DC12",254,null,null,null,null,null,null,null,null,null,null,null,null,null,null,null,null,null,null,"~"]
["SA36",2020,"DC12",255,null,null,null,null,null,null,null,null,null,null,null,null,null,null,null,null,null,null,"~"]
["SA36",2020,"DC12",256,null,null,null,null,null,null,null,null,null,null,null,null,null,null,null,null,null,null,"~"]
["SA36",2020,"DC12",257,null,null,null,null,null,null,null,null,null,null,null,null,null,null,null,null,null,null,"~"]
["SA36",2020,"DC12",258,null,null,null,null,null,null,null,null,null,null,null,null,null,null,null,null,null,null,"~"]
["SA36",2020,"DC12",259,null,null,null,null,null,null,null,null,null,null,null,null,null,null,null,null,null,null,"~"]
["SA36",2020,"DC12",260,null,null,null,null,null,null,null,null,null,null,null,null,null,null,null,null,null,null,"~"]
["SA36",2020,"DC12",261,null,null,null,null,null,null,null,null,null,null,null,null,null,null,null,null,null,null,"~"]
["SA36",2020,"DC12",262,null,null,null,null,null,null,null,null,null,null,null,null,null,null,null,null,null,null,"~"]
["SA36",2020,"DC12",263,null,null,null,null,null,null,null,null,null,null,null,null,null,null,null,null,null,null,"~"]
["SA36",2020,"DC12",264,null,null,null,null,null,null,null,null,null,null,null,null,null,null,null,null,null,null,"~"]
["SA36",2020,"DC12",265,null,null,null,null,null,null,null,null,null,null,null,null,null,null,null,null,null,null,"~"]
["SA36",2020,"DC12",266,null,null,null,null,null,null,null,null,null,null,null,null,null,null,null,null,null,null,"~"]
["SA36",2020,"DC12",267,null,null,null,null,null,null,null,null,null,null,null,null,null,null,null,null,null,null,"~"]
["SA36",2020,"DC12",268,null,null,null,null,null,null,null,null,null,null,null,null,null,null,null,null,null,null,"~"]
["SA36",2020,"DC12",269,null,null,null,null,null,null,null,null,null,null,null,null,null,null,null,null,null,null,"~"]
["SA36",2020,"DC12",270,null,null,null,null,null,null,null,null,null,null,null,null,null,null,null,null,null,null,"~"]
["SA36",2020,"DC12",271,null,null,null,null,null,null,null,null,null,null,null,null,null,null,null,null,null,null,"~"]
["SA36",2020,"DC12",272,null,null,null,null,null,null,null,null,null,null,null,null,null,null,null,null,null,null,"~"]
["SA36",2020,"DC12",273,null,null,null,null,null,null,null,null,null,null,null,null,null,null,null,null,null,null,"~"]
["SA36",2020,"DC12",274,null,null,null,null,null,null,null,null,null,null,null,null,null,null,null,null,null,null,"~"]
["SA36",2020,"DC12",275,null,null,null,null,null,null,null,null,null,null,null,null,null,null,null,null,null,null,"~"]
["SA36",2020,"DC12",276,null,null,null,null,null,null,null,null,null,null,null,null,null,null,null,null,null,null,"~"]
["SA36",2020,"DC12",277,null,null,null,null,null,null,null,null,null,null,null,null,null,null,null,null,null,null,"~"]
["SA36",2020,"DC12",278,null,null,null,null,null,null,null,null,null,null,null,null,null,null,null,null,null,null,"~"]
["SA36",2020,"DC12",279,null,null,null,null,null,null,null,null,null,null,null,null,null,null,null,null,null,null,"~"]
["SA36",{"$f":"+MTREF","v":2020},{"$f":"LEFT(muni,(FIND(\" \",muni,1)-1))","v":"DC12"},280,null,null,null,null,null,null,null,null,null,null,null,null,null,null,null,null,null,null,"~"]
["SA36",2020,"DC12",281,null,null,null,null,null,null,null,null,null,null,null,null,null,null,null,null,null,null,"~"]
["SA36",2020,"DC12",282,null,null,null,null,null,null,null,null,null,null,null,null,null,null,null,null,null,null,"~"]
["SA36",2020,"DC12",283,null,null,null,null,null,null,null,null,null,null,null,null,null,null,null,null,null,null,"~"]
["SA36",2020,"DC12",284,null,null,null,null,null,null,null,null,null,null,null,null,null,null,null,null,null,null,"~"]
["SA36",2020,"DC12",285,null,null,null,null,null,null,null,null,null,null,null,null,null,null,null,null,null,null,"~"]
["SA36",2020,"DC12",286,null,null,null,null,null,null,null,null,null,null,null,null,null,null,null,null,null,null,"~"]
["SA36",2020,"DC12",287,null,null,null,null,null,null,null,null,null,null,null,null,null,null,null,null,null,null,"~"]
["SA36",2020,"DC12",288,null,null,null,null,null,null,null,null,null,null,null,null,null,null,null,null,null,null,"~"]
["SA36",2020,"DC12",289,null,null,null,null,null,null,null,null,null,null,null,null,null,null,null,null,null,null,"~"]
["SA36",2020,"DC12",290,null,null,null,null,null,null,null,null,null,null,null,null,null,null,null,null,null,null,"~"]
["SA36",2020,"DC12",291,null,null,null,null,null,null,null,null,null,null,null,null,null,null,null,null,null,null,"~"]
["SA36",2020,"DC12",292,null,null,null,null,null,null,null,null,null,null,null,null,null,null,null,null,null,null,"~"]
["SA36",2020,"DC12",293,null,null,null,null,null,null,null,null,null,null,null,null,null,null,null,null,null,null,"~"]
["SA36",2020,"DC12",294,null,null,null,null,null,null,null,null,null,null,null,null,null,null,null,null,null,null,"~"]
["SA36",2020,"DC12",295,null,null,null,null,null,null,null,null,null,null,null,null,null,null,null,null,null,null,"~"]
["SA36",2020,"DC12",296,null,null,null,null,null,null,null,null,null,null,null,null,null,null,null,null,null,null,"~"]
["SA36",2020,"DC12",297,null,null,null,null,null,null,null,null,null,null,null,null,null,null,null,null,null,null,"~"]
["SA36",2020,"DC12",298,null,null,null,null,null,null,null,null,null,null,null,null,null,null,null,null,null,null,"~"]
["SA36",2020,"DC12",299,null,null,null,null,null,null,null,null,null,null,null,null,null,null,null,null,null,null,"~"]
["SA36",2020,"DC12",300,null,null,null,null,null,null,null,null,null,null,null,null,null,null,null,null,null,null,"~"]
["SA36",2020,"DC12",301,null,null,null,null,null,null,null,null,null,null,null,null,null,null,null,null,null,null,"~"]
["SA36",2020,"DC12",302,null,null,null,null,null,null,null,null,null,null,null,null,null,null,null,null,null,null,"~"]
["SA36",2020,"DC12",303,null,null,null,null,null,null,null,null,null,null,null,null,null,null,null,null,null,null,"~"]
["SA36",2020,"DC12",304,null,null,null,null,null,null,null,null,null,null,null,null,null,null,null,null,null,null,"~"]
["SA36",2020,"DC12",305,null,null,null,null,null,null,null,null,null,null,null,null,null,null,null,null,null,null,"~"]
["SA36",2020,"DC12",306,null,null,null,null,null,null,null,null,null,null,null,null,null,null,null,null,null,null,"~"]
["SA36",2020,"DC12",307,null,null,null,null,null,null,null,null,null,null,null,null,null,null,null,null,null,null,"~"]
["SA36",2020,"DC12",308,null,null,null,null,null,null,null,null,null,null,null,null,null,null,null,null,null,null,"~"]
["SA36",2020,"DC12",309,null,null,null,null,null,null,null,null,null,null,null,null,null,null,null,null,null,null,"~"]
["SA36",2020,"DC12",310,null,null,null,null,null,null,null,null,null,null,null,null,null,null,null,null,null,null,"~"]
["SA36",2020,"DC12",311,null,null,null,null,null,null,null,null,null,null,null,null,null,null,null,null,null,null,"~"]
["SA36",2020,"DC12",312,null,null,null,null,null,null,null,null,null,null,null,null,null,null,null,null,null,null,"~"]
["SA36",2020,"DC12",313,null,null,null,null,null,null,null,null,null,null,null,null,null,null,null,null,null,null,"~"]
["SA36",2020,"DC12",314,null,null,null,null,null,null,null,null,null,null,null,null,null,null,null,null,null,null,"~"]
["SA36",2020,"DC12",315,null,null,null,null,null,null,null,null,null,null,null,null,null,null,null,null,null,null,"~"]
["SA36",2020,"DC12",316,null,null,null,null,null,null,null,null,null,null,null,null,null,null,null,null,null,null,"~"]
["SA36",2020,"DC12",317,null,null,null,null,null,null,null,null,null,null,null,null,null,null,null,null,null,null,"~"]
["SA36",2020,"DC12",318,null,null,null,null,null,null,null,null,null,null,null,null,null,null,null,null,null,null,"~"]
["SA36",2020,"DC12",319,null,null,null,null,null,null,null,null,null,null,null,null,null,null,null,null,null,null,"~"]
["SA36",2020,"DC12",320,null,null,null,null,null,null,null,null,null,null,null,null,null,null,null,null,null,null,"~"]
["SA36",2020,"DC12",321,null,null,null,null,null,null,null,null,null,null,null,null,null,null,null,null,null,null,"~"]
["SA36",2020,"DC12",322,null,null,null,null,null,null,null,null,null,null,null,null,null,null,null,null,null,null,"~"]
["SA36",2020,"DC12",323,null,null,null,null,null,null,null,null,null,null,null,null,null,null,null,null,null,null,"~"]
["SA36",2020,"DC12",324,null,null,null,null,null,null,null,null,null,null,null,null,null,null,null,null,null,null,"~"]
["SA36",2020,"DC12",325,null,null,null,null,null,null,null,null,null,null,null,null,null,null,null,null,null,null,"~"]
["SA36",2020,"DC12",326,null,null,null,null,null,null,null,null,null,null,null,null,null,null,null,null,null,null,"~"]
["SA36",2020,"DC12",327,null,null,null,null,null,null,null,null,null,null,null,null,null,null,null,null,null,null,"~"]
["SA36",2020,"DC12",328,null,null,null,null,null,null,null,null,null,null,null,null,null,null,null,null,null,null,"~"]
["SA36",2020,"DC12",329,null,null,null,null,null,null,null,null,null,null,null,null,null,null,null,null,null,null,"~"]
["SA36",2020,"DC12",330,null,null,null,null,null,null,null,null,null,null,null,null,null,null,null,null,null,null,"~"]
["SA36",2020,"DC12",331,null,null,null,null,null,null,null,null,null,null,null,null,null,null,null,null,null,null,"~"]
["SA36",2020,"DC12",332,null,null,null,null,null,null,null,null,null,null,null,null,null,null,null,null,null,null,"~"]
["SA36",2020,"DC12",333,null,null,null,null,null,null,null,null,null,null,null,null,null,null,null,null,null,null,"~"]
["SA36",2020,"DC12",334,null,null,null,null,null,null,null,null,null,null,null,null,null,null,null,null,null,null,"~"]
["SA36",2020,"DC12",335,null,null,null,null,null,null,null,null,null,null,null,null,null,null,null,null,null,null,"~"]
["SA36",2020,"DC12",336,null,null,null,null,null,null,null,null,null,null,null,null,null,null,null,null,null,null,"~"]
["SA36",2020,"DC12",337,null,null,null,null,null,null,null,null,null,null,null,null,null,null,null,null,null,null,"~"]
["SA36",2020,"DC12",338,null,null,null,null,null,null,null,null,null,null,null,null,null,null,null,null,null,null,"~"]
["SA36",2020,"DC12",339,null,null,null,null,null,null,null,null,null,null,null,null,null,null,null,null,null,null,"~"]
["SA36",2020,"DC12",340,null,null,null,null,null,null,null,null,null,null,null,null,null,null,null,null,null,null,"~"]
["SA36",2020,"DC12",341,null,null,null,null,null,null,null,null,null,null,null,null,null,null,null,null,null,null,"~"]
["SA36",2020,"DC12",342,null,null,null,null,null,null,null,null,null,null,null,null,null,null,null,null,null,null,"~"]
["SA36",2020,"DC12",343,null,null,null,null,null,null,null,null,null,null,null,null,null,null,null,null,null,null,"~"]
["SA36",{"$f":"+MTREF","v":2020},{"$f":"LEFT(muni,(FIND(\" \",muni,1)-1))","v":"DC12"},344,null,null,null,null,null,null,null,null,null,null,null,null,null,null,null,null,null,null,"~"]
["SA36",2020,"DC12",345,null,null,null,null,null,null,null,null,null,null,null,null,null,null,null,null,null,null,"~"]
["SA36",2020,"DC12",346,null,null,null,null,null,null,null,null,null,null,null,null,null,null,null,null,null,null,"~"]
["SA36",2020,"DC12",347,null,null,null,null,null,null,null,null,null,null,null,null,null,null,null,null,null,null,"~"]
["SA36",2020,"DC12",348,null,null,null,null,null,null,null,null,null,null,null,null,null,null,null,null,null,null,"~"]
["SA36",2020,"DC12",349,null,null,null,null,null,null,null,null,null,null,null,null,null,null,null,null,null,null,"~"]
["SA36",2020,"DC12",350,null,null,null,null,null,null,null,null,null,null,null,null,null,null,null,null,null,null,"~"]
["SA36",2020,"DC12",351,null,null,null,null,null,null,null,null,null,null,null,null,null,null,null,null,null,null,"~"]
["SA36",2020,"DC12",352,null,null,null,null,null,null,null,null,null,null,null,null,null,null,null,null,null,null,"~"]
["SA36",2020,"DC12",353,null,null,null,null,null,null,null,null,null,null,null,null,null,null,null,null,null,null,"~"]
["SA36",2020,"DC12",354,null,null,null,null,null,null,null,null,null,null,null,null,null,null,null,null,null,null,"~"]
["SA36",2020,"DC12",355,null,null,null,null,null,null,null,null,null,null,null,null,null,null,null,null,null,null,"~"]
["SA36",2020,"DC12",356,null,null,null,null,null,null,null,null,null,null,null,null,null,null,null,null,null,null,"~"]
["SA36",2020,"DC12",357,null,null,null,null,null,null,null,null,null,null,null,null,null,null,null,null,null,null,"~"]
["SA36",2020,"DC12",358,null,null,null,null,null,null,null,null,null,null,null,null,null,null,null,null,null,null,"~"]
["SA36",2020,"DC12",359,null,null,null,null,null,null,null,null,null,null,null,null,null,null,null,null,null,null,"~"]
["SA36",2020,"DC12",360,null,null,null,null,null,null,null,null,null,null,null,null,null,null,null,null,null,null,"~"]
["SA36",2020,"DC12",361,null,null,null,null,null,null,null,null,null,null,null,null,null,null,null,null,null,null,"~"]
["SA36",2020,"DC12",362,null,null,null,null,null,null,null,null,null,null,null,null,null,null,null,null,null,null,"~"]
["SA36",2020,"DC12",363,null,null,null,null,null,null,null,null,null,null,null,null,null,null,null,null,null,null,"~"]
["SA36",2020,"DC12",364,null,null,null,null,null,null,null,null,null,null,null,null,null,null,null,null,null,null,"~"]
["SA36",2020,"DC12",365,null,null,null,null,null,null,null,null,null,null,null,null,null,null,null,null,null,null,"~"]
["SA36",2020,"DC12",366,null,null,null,null,null,null,null,null,null,null,null,null,null,null,null,null,null,null,"~"]
["SA36",2020,"DC12",367,null,null,null,null,null,null,null,null,null,null,null,null,null,null,null,null,null,null,"~"]
["SA36",2020,"DC12",368,null,null,null,null,null,null,null,null,null,null,null,null,null,null,null,null,null,null,"~"]
["SA36",2020,"DC12",369,null,null,null,null,null,null,null,null,null,null,null,null,null,null,null,null,null,null,"~"]
["SA36",2020,"DC12",370,null,null,null,null,null,null,null,null,null,null,null,null,null,null,null,null,null,null,"~"]
["SA36",2020,"DC12",371,null,null,null,null,null,null,null,null,null,null,null,null,null,null,null,null,null,null,"~"]
["SA36",2020,"DC12",372,null,null,null,null,null,null,null,null,null,null,null,null,null,null,null,null,null,null,"~"]
["SA36",2020,"DC12",373,null,null,null,null,null,null,null,null,null,null,null,null,null,null,null,null,null,null,"~"]
["SA36",2020,"DC12",374,null,null,null,null,null,null,null,null,null,null,null,null,null,null,null,null,null,null,"~"]
["SA36",2020,"DC12",375,null,null,null,null,null,null,null,null,null,null,null,null,null,null,null,null,null,null,"~"]
["SA36",2020,"DC12",376,null,null,null,null,null,null,null,null,null,null,null,null,null,null,null,null,null,null,"~"]
["SA36",2020,"DC12",377,null,null,null,null,null,null,null,null,null,null,null,null,null,null,null,null,null,null,"~"]
["SA36",2020,"DC12",378,null,null,null,null,null,null,null,null,null,null,null,null,null,null,null,null,null,null,"~"]
["SA36",2020,"DC12",379,null,null,null,null,null,null,null,null,null,null,null,null,null,null,null,null,null,null,"~"]
["SA36",2020,"DC12",380,null,null,null,null,null,null,null,null,null,null,null,null,null,null,null,null,null,null,"~"]
["SA36",2020,"DC12",381,null,null,null,null,null,null,null,null,null,null,null,null,null,null,null,null,null,null,"~"]
["SA36",2020,"DC12",382,null,null,null,null,null,null,null,null,null,null,null,null,null,null,null,null,null,null,"~"]
["SA36",2020,"DC12",383,null,null,null,null,null,null,null,null,null,null,null,null,null,null,null,null,null,null,"~"]
["SA36",2020,"DC12",384,null,null,null,null,null,null,null,null,null,null,null,null,null,null,null,null,null,null,"~"]
["SA36",2020,"DC12",385,null,null,null,null,null,null,null,null,null,null,null,null,null,null,null,null,null,null,"~"]
["SA36",2020,"DC12",386,null,null,null,null,null,null,null,null,null,null,null,null,null,null,null,null,null,null,"~"]
["SA36",2020,"DC12",387,null,null,null,null,null,null,null,null,null,null,null,null,null,null,null,null,null,null,"~"]
["SA36",2020,"DC12",388,null,null,null,null,null,null,null,null,null,null,null,null,null,null,null,null,null,null,"~"]
["SA36",2020,"DC12",389,null,null,null,null,null,null,null,null,null,null,null,null,null,null,null,null,null,null,"~"]
["SA36",2020,"DC12",390,null,null,null,null,null,null,null,null,null,null,null,null,null,null,null,null,null,null,"~"]
["SA36",2020,"DC12",391,null,null,null,null,null,null,null,null,null,null,null,null,null,null,null,null,null,null,"~"]
["SA36",2020,"DC12",392,null,null,null,null,null,null,null,null,null,null,null,null,null,null,null,null,null,null,"~"]
["SA36",2020,"DC12",393,null,null,null,null,null,null,null,null,null,null,null,null,null,null,null,null,null,null,"~"]
["SA36",2020,"DC12",394,null,null,null,null,null,null,null,null,null,null,null,null,null,null,null,null,null,null,"~"]
["SA36",2020,"DC12",395,null,null,null,null,null,null,null,null,null,null,null,null,null,null,null,null,null,null,"~"]
["SA36",2020,"DC12",396,null,null,null,null,null,null,null,null,null,null,null,null,null,null,null,null,null,null,"~"]
["SA36",2020,"DC12",397,null,null,null,null,null,null,null,null,null,null,null,null,null,null,null,null,null,null,"~"]
["SA36",2020,"DC12",398,null,null,null,null,null,null,null,null,null,null,null,null,null,null,null,null,null,null,"~"]
["SA36",2020,"DC12",399,null,null,null,null,null,null,null,null,null,null,null,null,null,null,null,null,null,null,"~"]
["SA36",2020,"DC12",400,null,null,null,null,null,null,null,null,null,null,null,null,null,null,null,null,null,null,"~"]
["SA36",2020,"DC12",401,null,null,null,null,null,null,null,null,null,null,null,null,null,null,null,null,null,null,"~"]
["SA36",2020,"DC12",402,null,null,null,null,null,null,null,null,null,null,null,null,null,null,null,null,null,null,"~"]
["SA36",2020,"DC12",403,null,null,null,null,null,null,null,null,null,null,null,null,null,null,null,null,null,null,"~"]
["SA36",2020,"DC12",404,null,null,null,null,null,null,null,null,null,null,null,null,null,null,null,null,null,null,"~"]
["SA36",2020,"DC12",405,null,null,null,null,null,null,null,null,null,null,null,null,null,null,null,null,null,null,"~"]
["SA36",2020,"DC12",406,null,null,null,null,null,null,null,null,null,null,null,null,null,null,null,null,null,null,"~"]
["SA36",2020,"DC12",407,null,null,null,null,null,null,null,null,null,null,null,null,null,null,null,null,null,null,"~"]
["SA36",{"$f":"+MTREF","v":2020},{"$f":"LEFT(muni,(FIND(\" \",muni,1)-1))","v":"DC12"},408,null,null,null,null,null,null,null,null,null,null,null,null,null,null,null,null,null,null,"~"]
["SA36",2020,"DC12",409,null,null,null,null,null,null,null,null,null,null,null,null,null,null,null,null,null,null,"~"]
["SA36",2020,"DC12",410,null,null,null,null,null,null,null,null,null,null,null,null,null,null,null,null,null,null,"~"]
["SA36",2020,"DC12",411,null,null,null,null,null,null,null,null,null,null,null,null,null,null,null,null,null,null,"~"]
["SA36",2020,"DC12",412,null,null,null,null,null,null,null,null,null,null,null,null,null,null,null,null,null,null,"~"]
["SA36",2020,"DC12",413,null,null,null,null,null,null,null,null,null,null,null,null,null,null,null,null,null,null,"~"]
["SA36",2020,"DC12",414,null,null,null,null,null,null,null,null,null,null,null,null,null,null,null,null,null,null,"~"]
["SA36",2020,"DC12",415,null,null,null,null,null,null,null,null,null,null,null,null,null,null,null,null,null,null,"~"]
["SA36",2020,"DC12",416,null,null,null,null,null,null,null,null,null,null,null,null,null,null,null,null,null,null,"~"]
["SA36",2020,"DC12",417,null,null,null,null,null,null,null,null,null,null,null,null,null,null,null,null,null,null,"~"]
["SA36",2020,"DC12",418,null,null,null,null,null,null,null,null,null,null,null,null,null,null,null,null,null,null,"~"]
["SA36",2020,"DC12",419,null,null,null,null,null,null,null,null,null,null,null,null,null,null,null,null,null,null,"~"]
["SA36",2020,"DC12",420,null,null,null,null,null,null,null,null,null,null,null,null,null,null,null,null,null,null,"~"]
["SA36",2020,"DC12",421,null,null,null,null,null,null,null,null,null,null,null,null,null,null,null,null,null,null,"~"]
["SA36",2020,"DC12",422,null,null,null,null,null,null,null,null,null,null,null,null,null,null,null,null,null,null,"~"]
["SA36",2020,"DC12",423,null,null,null,null,null,null,null,null,null,null,null,null,null,null,null,null,null,null,"~"]
["SA36",2020,"DC12",424,null,null,null,null,null,null,null,null,null,null,null,null,null,null,null,null,null,null,"~"]
["SA36",2020,"DC12",425,null,null,null,null,null,null,null,null,null,null,null,null,null,null,null,null,null,null,"~"]
["SA36",2020,"DC12",426,null,null,null,null,null,null,null,null,null,null,null,null,null,null,null,null,null,null,"~"]
["SA36",2020,"DC12",427,null,null,null,null,null,null,null,null,null,null,null,null,null,null,null,null,null,null,"~"]
["SA36",2020,"DC12",428,null,null,null,null,null,null,null,null,null,null,null,null,null,null,null,null,null,null,"~"]
["SA36",2020,"DC12",429,null,null,null,null,null,null,null,null,null,null,null,null,null,null,null,null,null,null,"~"]
["SA36",2020,"DC12",430,null,null,null,null,null,null,null,null,null,null,null,null,null,null,null,null,null,null,"~"]
["SA36",2020,"DC12",431,null,null,null,null,null,null,null,null,null,null,null,null,null,null,null,null,null,null,"~"]
["SA36",2020,"DC12",432,null,null,null,null,null,null,null,null,null,null,null,null,null,null,null,null,null,null,"~"]
["SA36",2020,"DC12",433,null,null,null,null,null,null,null,null,null,null,null,null,null,null,null,null,null,null,"~"]
["SA36",2020,"DC12",434,null,null,null,null,null,null,null,null,null,null,null,null,null,null,null,null,null,null,"~"]
["SA36",2020,"DC12",435,null,null,null,null,null,null,null,null,null,null,null,null,null,null,null,null,null,null,"~"]
["SA36",2020,"DC12",436,null,null,null,null,null,null,null,null,null,null,null,null,null,null,null,null,null,null,"~"]
["SA36",2020,"DC12",437,null,null,null,null,null,null,null,null,null,null,null,null,null,null,null,null,null,null,"~"]
["SA36",2020,"DC12",438,null,null,null,null,null,null,null,null,null,null,null,null,null,null,null,null,null,null,"~"]
["SA36",2020,"DC12",439,null,null,null,null,null,null,null,null,null,null,null,null,null,null,null,null,null,null,"~"]
["SA36",2020,"DC12",440,null,null,null,null,null,null,null,null,null,null,null,null,null,null,null,null,null,null,"~"]
["SA36",2020,"DC12",441,null,null,null,null,null,null,null,null,null,null,null,null,null,null,null,null,null,null,"~"]
["SA36",2020,"DC12",442,null,null,null,null,null,null,null,null,null,null,null,null,null,null,null,null,null,null,"~"]
["SA36",2020,"DC12",443,null,null,null,null,null,null,null,null,null,null,null,null,null,null,null,null,null,null,"~"]
["SA36",2020,"DC12",444,null,null,null,null,null,null,null,null,null,null,null,null,null,null,null,null,null,null,"~"]
["SA36",2020,"DC12",445,null,null,null,null,null,null,null,null,null,null,null,null,null,null,null,null,null,null,"~"]
["SA36",2020,"DC12",446,null,null,null,null,null,null,null,null,null,null,null,null,null,null,null,null,null,null,"~"]
["SA36",2020,"DC12",447,null,null,null,null,null,null,null,null,null,null,null,null,null,null,null,null,null,null,"~"]
["SA36",2020,"DC12",448,null,null,null,null,null,null,null,null,null,null,null,null,null,null,null,null,null,null,"~"]
["SA36",2020,"DC12",449,null,null,null,null,null,null,null,null,null,null,null,null,null,null,null,null,null,null,"~"]
["SA36",2020,"DC12",450,null,null,null,null,null,null,null,null,null,null,null,null,null,null,null,null,null,null,"~"]
["SA36",2020,"DC12",451,null,null,null,null,null,null,null,null,null,null,null,null,null,null,null,null,null,null,"~"]
["SA36",2020,"DC12",452,null,null,null,null,null,null,null,null,null,null,null,null,null,null,null,null,null,null,"~"]
["SA36",2020,"DC12",453,null,null,null,null,null,null,null,null,null,null,null,null,null,null,null,null,null,null,"~"]
["SA36",2020,"DC12",454,null,null,null,null,null,null,null,null,null,null,null,null,null,null,null,null,null,null,"~"]
["SA36",2020,"DC12",455,null,null,null,null,null,null,null,null,null,null,null,null,null,null,null,null,null,null,"~"]
["SA36",2020,"DC12",456,null,null,null,null,null,null,null,null,null,null,null,null,null,null,null,null,null,null,"~"]
["SA36",2020,"DC12",457,null,null,null,null,null,null,null,null,null,null,null,null,null,null,null,null,null,null,"~"]
["SA36",2020,"DC12",458,null,null,null,null,null,null,null,null,null,null,null,null,null,null,null,null,null,null,"~"]
["SA36",2020,"DC12",459,null,null,null,null,null,null,null,null,null,null,null,null,null,null,null,null,null,null,"~"]
["SA36",2020,"DC12",460,null,null,null,null,null,null,null,null,null,null,null,null,null,null,null,null,null,null,"~"]
["SA36",2020,"DC12",461,null,null,null,null,null,null,null,null,null,null,null,null,null,null,null,null,null,null,"~"]
["SA36",2020,"DC12",462,null,null,null,null,null,null,null,null,null,null,null,null,null,null,null,null,null,null,"~"]
["SA36",2020,"DC12",463,null,null,null,null,null,null,null,null,null,null,null,null,null,null,null,null,null,null,"~"]
["SA36",2020,"DC12",464,null,null,null,null,null,null,null,null,null,null,null,null,null,null,null,null,null,null,"~"]
["SA36",2020,"DC12",465,null,null,null,null,null,null,null,null,null,null,null,null,null,null,null,null,null,null,"~"]
["SA36",2020,"DC12",466,null,null,null,null,null,null,null,null,null,null,null,null,null,null,null,null,null,null,"~"]
["SA36",2020,"DC12",467,null,null,null,null,null,null,null,null,null,null,null,null,null,null,null,null,null,null,"~"]
["SA36",2020,"DC12",468,null,null,null,null,null,null,null,null,null,null,null,null,null,null,null,null,null,null,"~"]
["SA36",2020,"DC12",469,null,null,null,null,null,null,null,null,null,null,null,null,null,null,null,null,null,null,"~"]
["SA36",2020,"DC12",470,null,null,null,null,null,null,null,null,null,null,null,null,null,null,null,null,null,null,"~"]
["SA36",2020,"DC12",471,null,null,null,null,null,null,null,null,null,null,null,null,null,null,null,null,null,null,"~"]
["SA36",{"$f":"+MTREF","v":2020},{"$f":"LEFT(muni,(FIND(\" \",muni,1)-1))","v":"DC12"},472,null,null,null,null,null,null,null,null,null,null,null,null,null,null,null,null,null,null,"~"]
["SA36",2020,"DC12",473,null,null,null,null,null,null,null,null,null,null,null,null,null,null,null,null,null,null,"~"]
["SA36",2020,"DC12",474,null,null,null,null,null,null,null,null,null,null,null,null,null,null,null,null,null,null,"~"]
["SA36",2020,"DC12",475,null,null,null,null,null,null,null,null,null,null,null,null,null,null,null,null,null,null,"~"]
["SA36",2020,"DC12",476,null,null,null,null,null,null,null,null,null,null,null,null,null,null,null,null,null,null,"~"]
["SA36",2020,"DC12",477,null,null,null,null,null,null,null,null,null,null,null,null,null,null,null,null,null,null,"~"]
["SA36",2020,"DC12",478,null,null,null,null,null,null,null,null,null,null,null,null,null,null,null,null,null,null,"~"]
["SA36",2020,"DC12",479,null,null,null,null,null,null,null,null,null,null,null,null,null,null,null,null,null,null,"~"]
["SA36",2020,"DC12",480,null,null,null,null,null,null,null,null,null,null,null,null,null,null,null,null,null,null,"~"]
["SA36",2020,"DC12",481,null,null,null,null,null,null,null,null,null,null,null,null,null,null,null,null,null,null,"~"]
["SA36",2020,"DC12",482,null,null,null,null,null,null,null,null,null,null,null,null,null,null,null,null,null,null,"~"]
["SA36",2020,"DC12",483,null,null,null,null,null,null,null,null,null,null,null,null,null,null,null,null,null,null,"~"]
["SA36",2020,"DC12",484,null,null,null,null,null,null,null,null,null,null,null,null,null,null,null,null,null,null,"~"]
["SA36",2020,"DC12",485,null,null,null,null,null,null,null,null,null,null,null,null,null,null,null,null,null,null,"~"]
["SA36",2020,"DC12",486,null,null,null,null,null,null,null,null,null,null,null,null,null,null,null,null,null,null,"~"]
["SA36",2020,"DC12",487,null,null,null,null,null,null,null,null,null,null,null,null,null,null,null,null,null,null,"~"]
["SA36",2020,"DC12",488,null,null,null,null,null,null,null,null,null,null,null,null,null,null,null,null,null,null,"~"]
["SA36",2020,"DC12",489,null,null,null,null,null,null,null,null,null,null,null,null,null,null,null,null,null,null,"~"]
["SA36",2020,"DC12",490,null,null,null,null,null,null,null,null,null,null,null,null,null,null,null,null,null,null,"~"]
["SA36",2020,"DC12",491,null,null,null,null,null,null,null,null,null,null,null,null,null,null,null,null,null,null,"~"]
["SA36",2020,"DC12",492,null,null,null,null,null,null,null,null,null,null,null,null,null,null,null,null,null,null,"~"]
["SA36",2020,"DC12",493,null,null,null,null,null,null,null,null,null,null,null,null,null,null,null,null,null,null,"~"]
["SA36",2020,"DC12",494,null,null,null,null,null,null,null,null,null,null,null,null,null,null,null,null,null,null,"~"]
["SA36",2020,"DC12",495,null,null,null,null,null,null,null,null,null,null,null,null,null,null,null,null,null,null,"~"]
["SA36",2020,"DC12",496,null,null,null,null,null,null,null,null,null,null,null,null,null,null,null,null,null,null,"~"]
["SA36",2020,"DC12",497,null,null,null,null,null,null,null,null,null,null,null,null,null,null,null,null,null,null,"~"]
["SA36",2020,"DC12",498,null,null,null,null,null,null,null,null,null,null,null,null,null,null,null,null,null,null,"~"]
["SA36",2020,"DC12",499,null,null,null,null,null,null,null,null,null,null,null,null,null,null,null,null,null,null,"~"]
["SA36",2020,"DC12",500,null,null,null,null,null,null,null,null,null,null,null,null,null,null,null,null,null,null,"~"]
["SA36",2020,"DC12",501,null,null,null,null,null,null,null,null,null,null,null,null,null,null,null,null,null,null,"~"]
["SA36",2020,"DC12",502,null,null,null,null,null,null,null,null,null,null,null,null,null,null,null,null,null,null,"~"]
["SA36",2020,"DC12",503,null,null,null,null,null,null,null,null,null,null,null,null,null,null,null,null,null,null,"~"]
["SA36",2020,"DC12",504,null,null,null,null,null,null,null,null,null,null,null,null,null,null,null,null,null,null,"~"]
["SA36",2020,"DC12",505,null,null,null,null,null,null,null,null,null,null,null,null,null,null,null,null,null,null,"~"]
["SA36",2020,"DC12",506,null,null,null,null,null,null,null,null,null,null,null,null,null,null,null,null,null,null,"~"]
["SA36",2020,"DC12",507,null,null,null,null,null,null,null,null,null,null,null,null,null,null,null,null,null,null,"~"]
["SA36",2020,"DC12",508,null,null,null,null,null,null,null,null,null,null,null,null,null,null,null,null,null,null,"~"]
["SA36",2020,"DC12",509,null,null,null,null,null,null,null,null,null,null,null,null,null,null,null,null,null,null,"~"]
["SA36",2020,"DC12",510,null,null,null,null,null,null,null,null,null,null,null,null,null,null,null,null,null,null,"~"]
["SA36",2020,"DC12",511,null,null,null,null,null,null,null,null,null,null,null,null,null,null,null,null,null,null,"~"]
["SA36",2020,"DC12",512,null,null,null,null,null,null,null,null,null,null,null,null,null,null,null,null,null,null,"~"]
["SA36",2020,"DC12",513,null,null,null,null,null,null,null,null,null,null,null,null,null,null,null,null,null,null,"~"]
["SA36",2020,"DC12",514,null,null,null,null,null,null,null,null,null,null,null,null,null,null,null,null,null,null,"~"]
["SA36",2020,"DC12",515,null,null,null,null,null,null,null,null,null,null,null,null,null,null,null,null,null,null,"~"]
["SA36",2020,"DC12",516,null,null,null,null,null,null,null,null,null,null,null,null,null,null,null,null,null,null,"~"]
["SA36",2020,"DC12",517,null,null,null,null,null,null,null,null,null,null,null,null,null,null,null,null,null,null,"~"]
["SA36",2020,"DC12",518,null,null,null,null,null,null,null,null,null,null,null,null,null,null,null,null,null,null,"~"]
["SA36",2020,"DC12",519,null,null,null,null,null,null,null,null,null,null,null,null,null,null,null,null,null,null,"~"]
["SA36",2020,"DC12",520,null,null,null,null,null,null,null,null,null,null,null,null,null,null,null,null,null,null,"~"]
["SA36",2020,"DC12",521,null,null,null,null,null,null,null,null,null,null,null,null,null,null,null,null,null,null,"~"]
["SA36",2020,"DC12",522,null,null,null,null,null,null,null,null,null,null,null,null,null,null,null,null,null,null,"~"]
["SA36",2020,"DC12",523,null,null,null,null,null,null,null,null,null,null,null,null,null,null,null,null,null,null,"~"]
["SA36",2020,"DC12",524,null,null,null,null,null,null,null,null,null,null,null,null,null,null,null,null,null,null,"~"]
["SA36",2020,"DC12",525,null,null,null,null,null,null,null,null,null,null,null,null,null,null,null,null,null,null,"~"]
["SA36",2020,"DC12",526,null,null,null,null,null,null,null,null,null,null,null,null,null,null,null,null,null,null,"~"]
["SA36",2020,"DC12",527,null,null,null,null,null,null,null,null,null,null,null,null,null,null,null,null,null,null,"~"]
["SA36",2020,"DC12",528,null,null,null,null,null,null,null,null,null,null,null,null,null,null,null,null,null,null,"~"]
["SA36",2020,"DC12",529,null,null,null,null,null,null,null,null,null,null,null,null,null,null,null,null,null,null,"~"]
["SA36",2020,"DC12",530,null,null,null,null,null,null,null,null,null,null,null,null,null,null,null,null,null,null,"~"]
["SA36",2020,"DC12",531,null,null,null,null,null,null,null,null,null,null,null,null,null,null,null,null,null,null,"~"]
["SA36",2020,"DC12",532,null,null,null,null,null,null,null,null,null,null,null,null,null,null,null,null,null,null,"~"]
["SA36",2020,"DC12",533,null,null,null,null,null,null,null,null,null,null,null,null,null,null,null,null,null,null,"~"]
["SA36",2020,"DC12",534,null,null,null,null,null,null,null,null,null,null,null,null,null,null,null,null,null,null,"~"]
["SA36",2020,"DC12",535,null,null,null,null,null,null,null,null,null,null,null,null,null,null,null,null,null,null,"~"]
["SA36",{"$f":"+MTREF","v":2020},{"$f":"LEFT(muni,(FIND(\" \",muni,1)-1))","v":"DC12"},536,null,null,null,null,null,null,null,null,null,null,null,null,null,null,null,null,null,null,"~"]
["SA36",2020,"DC12",537,null,null,null,null,null,null,null,null,null,null,null,null,null,null,null,null,null,null,"~"]
["SA36",2020,"DC12",538,null,null,null,null,null,null,null,null,null,null,null,null,null,null,null,null,null,null,"~"]
["SA36",2020,"DC12",539,null,null,null,null,null,null,null,null,null,null,null,null,null,null,null,null,null,null,"~"]
["SA36",2020,"DC12",540,null,null,null,null,null,null,null,null,null,null,null,null,null,null,null,null,null,null,"~"]
["SA36",2020,"DC12",541,null,null,null,null,null,null,null,null,null,null,null,null,null,null,null,null,null,null,"~"]
["SA36",2020,"DC12",542,null,null,null,null,null,null,null,null,null,null,null,null,null,null,null,null,null,null,"~"]
["SA36",2020,"DC12",543,null,null,null,null,null,null,null,null,null,null,null,null,null,null,null,null,null,null,"~"]
["SA36",2020,"DC12",544,null,null,null,null,null,null,null,null,null,null,null,null,null,null,null,null,null,null,"~"]
["SA36",2020,"DC12",545,null,null,null,null,null,null,null,null,null,null,null,null,null,null,null,null,null,null,"~"]
["SA36",2020,"DC12",546,null,null,null,null,null,null,null,null,null,null,null,null,null,null,null,null,null,null,"~"]
["SA36",2020,"DC12",547,null,null,null,null,null,null,null,null,null,null,null,null,null,null,null,null,null,null,"~"]
["SA36",2020,"DC12",548,null,null,null,null,null,null,null,null,null,null,null,null,null,null,null,null,null,null,"~"]
["SA36",2020,"DC12",549,null,null,null,null,null,null,null,null,null,null,null,null,null,null,null,null,null,null,"~"]
["SA36",2020,"DC12",550,null,null,null,null,null,null,null,null,null,null,null,null,null,null,null,null,null,null,"~"]
["SA36",2020,"DC12",551,null,null,null,null,null,null,null,null,null,null,null,null,null,null,null,null,null,null,"~"]
["SA36",2020,"DC12",552,null,null,null,null,null,null,null,null,null,null,null,null,null,null,null,null,null,null,"~"]
["SA36",2020,"DC12",553,null,null,null,null,null,null,null,null,null,null,null,null,null,null,null,null,null,null,"~"]
["SA36",2020,"DC12",554,null,null,null,null,null,null,null,null,null,null,null,null,null,null,null,null,null,null,"~"]
["SA36",2020,"DC12",555,null,null,null,null,null,null,null,null,null,null,null,null,null,null,null,null,null,null,"~"]
["SA36",2020,"DC12",556,null,null,null,null,null,null,null,null,null,null,null,null,null,null,null,null,null,null,"~"]
["SA36",2020,"DC12",557,null,null,null,null,null,null,null,null,null,null,null,null,null,null,null,null,null,null,"~"]
["SA36",2020,"DC12",558,null,null,null,null,null,null,null,null,null,null,null,null,null,null,null,null,null,null,"~"]
["SA36",2020,"DC12",559,null,null,null,null,null,null,null,null,null,null,null,null,null,null,null,null,null,null,"~"]
["SA36",2020,"DC12",560,null,null,null,null,null,null,null,null,null,null,null,null,null,null,null,null,null,null,"~"]
["SA36",2020,"DC12",561,null,null,null,null,null,null,null,null,null,null,null,null,null,null,null,null,null,null,"~"]
["SA36",2020,"DC12",562,null,null,null,null,null,null,null,null,null,null,null,null,null,null,null,null,null,null,"~"]
["SA36",2020,"DC12",563,null,null,null,null,null,null,null,null,null,null,null,null,null,null,null,null,null,null,"~"]
["SA36",2020,"DC12",564,null,null,null,null,null,null,null,null,null,null,null,null,null,null,null,null,null,null,"~"]
["SA36",2020,"DC12",565,null,null,null,null,null,null,null,null,null,null,null,null,null,null,null,null,null,null,"~"]
["SA36",2020,"DC12",566,null,null,null,null,null,null,null,null,null,null,null,null,null,null,null,null,null,null,"~"]
["SA36",2020,"DC12",567,null,null,null,null,null,null,null,null,null,null,null,null,null,null,null,null,null,null,"~"]
["SA36",2020,"DC12",568,null,null,null,null,null,null,null,null,null,null,null,null,null,null,null,null,null,null,"~"]
["SA36",2020,"DC12",569,null,null,null,null,null,null,null,null,null,null,null,null,null,null,null,null,null,null,"~"]
["SA36",2020,"DC12",570,null,null,null,null,null,null,null,null,null,null,null,null,null,null,null,null,null,null,"~"]
["SA36",2020,"DC12",571,null,null,null,null,null,null,null,null,null,null,null,null,null,null,null,null,null,null,"~"]
["SA36",2020,"DC12",572,null,null,null,null,null,null,null,null,null,null,null,null,null,null,null,null,null,null,"~"]
["SA36",2020,"DC12",573,null,null,null,null,null,null,null,null,null,null,null,null,null,null,null,null,null,null,"~"]
["SA36",2020,"DC12",574,null,null,null,null,null,null,null,null,null,null,null,null,null,null,null,null,null,null,"~"]
["SA36",2020,"DC12",575,null,null,null,null,null,null,null,null,null,null,null,null,null,null,null,null,null,null,"~"]
["SA36",2020,"DC12",576,null,null,null,null,null,null,null,null,null,null,null,null,null,null,null,null,null,null,"~"]
["SA36",2020,"DC12",577,null,null,null,null,null,null,null,null,null,null,null,null,null,null,null,null,null,null,"~"]
["SA36",2020,"DC12",578,null,null,null,null,null,null,null,null,null,null,null,null,null,null,null,null,null,null,"~"]
["SA36",2020,"DC12",579,null,null,null,null,null,null,null,null,null,null,null,null,null,null,null,null,null,null,"~"]
["SA36",2020,"DC12",580,null,null,null,null,null,null,null,null,null,null,null,null,null,null,null,null,null,null,"~"]
["SA36",2020,"DC12",581,null,null,null,null,null,null,null,null,null,null,null,null,null,null,null,null,null,null,"~"]
["SA36",2020,"DC12",582,null,null,null,null,null,null,null,null,null,null,null,null,null,null,null,null,null,null,"~"]
["SA36",2020,"DC12",583,null,null,null,null,null,null,null,null,null,null,null,null,null,null,null,null,null,null,"~"]
["SA36",2020,"DC12",584,null,null,null,null,null,null,null,null,null,null,null,null,null,null,null,null,null,null,"~"]
["SA36",2020,"DC12",585,null,null,null,null,null,null,null,null,null,null,null,null,null,null,null,null,null,null,"~"]
["SA36",2020,"DC12",586,null,null,null,null,null,null,null,null,null,null,null,null,null,null,null,null,null,null,"~"]
["SA36",2020,"DC12",587,null,null,null,null,null,null,null,null,null,null,null,null,null,null,null,null,null,null,"~"]
["SA36",2020,"DC12",588,null,null,null,null,null,null,null,null,null,null,null,null,null,null,null,null,null,null,"~"]
["SA36",2020,"DC12",589,null,null,null,null,null,null,null,null,null,null,null,null,null,null,null,null,null,null,"~"]
["SA36",2020,"DC12",590,null,null,null,null,null,null,null,null,null,null,null,null,null,null,null,null,null,null,"~"]
["SA36",2020,"DC12",591,null,null,null,null,null,null,null,null,null,null,null,null,null,null,null,null,null,null,"~"]
["SA36",2020,"DC12",592,null,null,null,null,null,null,null,null,null,null,null,null,null,null,null,null,null,null,"~"]
["SA36",2020,"DC12",593,null,null,null,null,null,null,null,null,null,null,null,null,null,null,null,null,null,null,"~"]
["SA36",2020,"DC12",594,null,null,null,null,null,null,null,null,null,null,null,null,null,null,null,null,null,null,"~"]
["SA36",2020,"DC12",595,null,null,null,null,null,null,null,null,null,null,null,null,null,null,null,null,null,null,"~"]
["SA36",2020,"DC12",596,null,null,null,null,null,null,null,null,null,null,null,null,null,null,null,null,null,null,"~"]
["SA36",2020,"DC12",597,null,null,null,null,null,null,null,null,null,null,null,null,null,null,null,null,null,null,"~"]
["SA36",2020,"DC12",598,null,null,null,null,null,null,null,null,null,null,null,null,null,null,null,null,null,null,"~"]
["SA36",2020,"DC12",599,null,null,null,null,null,null,null,null,null,null,null,null,null,null,null,null,null,null,"~"]
["SA36",{"$f":"+MTREF","v":2020},{"$f":"LEFT(muni,(FIND(\" \",muni,1)-1))","v":"DC12"},600,null,null,null,null,null,null,null,null,null,null,null,null,null,null,null,null,null,null,"~"]
["SA36",2020,"DC12",601,null,null,null,null,null,null,null,null,null,null,null,null,null,null,null,null,null,null,"~"]
["SA36",2020,"DC12",602,null,null,null,null,null,null,null,null,null,null,null,null,null,null,null,null,null,null,"~"]
["SA36",2020,"DC12",603,null,null,null,null,null,null,null,null,null,null,null,null,null,null,null,null,null,null,"~"]
["SA36",2020,"DC12",604,null,null,null,null,null,null,null,null,null,null,null,null,null,null,null,null,null,null,"~"]
["SA36",2020,"DC12",605,null,null,null,null,null,null,null,null,null,null,null,null,null,null,null,null,null,null,"~"]
["SA36",2020,"DC12",606,null,null,null,null,null,null,null,null,null,null,null,null,null,null,null,null,null,null,"~"]
["SA36",2020,"DC12",607,null,null,null,null,null,null,null,null,null,null,null,null,null,null,null,null,null,null,"~"]
["SA36",2020,"DC12",608,null,null,null,null,null,null,null,null,null,null,null,null,null,null,null,null,null,null,"~"]
["SA36",2020,"DC12",609,null,null,null,null,null,null,null,null,null,null,null,null,null,null,null,null,null,null,"~"]
["SA36",2020,"DC12",610,null,null,null,null,null,null,null,null,null,null,null,null,null,null,null,null,null,null,"~"]
["SA36",2020,"DC12",611,null,null,null,null,null,null,null,null,null,null,null,null,null,null,null,null,null,null,"~"]
["SA36",2020,"DC12",612,null,null,null,null,null,null,null,null,null,null,null,null,null,null,null,null,null,null,"~"]
["SA36",2020,"DC12",613,null,null,null,null,null,null,null,null,null,null,null,null,null,null,null,null,null,null,"~"]
["SA36",2020,"DC12",614,null,null,null,null,null,null,null,null,null,null,null,null,null,null,null,null,null,null,"~"]
["SA36",2020,"DC12",615,null,null,null,null,null,null,null,null,null,null,null,null,null,null,null,null,null,null,"~"]
["SA36",2020,"DC12",616,null,null,null,null,null,null,null,null,null,null,null,null,null,null,null,null,null,null,"~"]
["SA36",2020,"DC12",617,null,null,null,null,null,null,null,null,null,null,null,null,null,null,null,null,null,null,"~"]
["SA36",2020,"DC12",618,null,null,null,null,null,null,null,null,null,null,null,null,null,null,null,null,null,null,"~"]
["SA36",2020,"DC12",619,null,null,null,null,null,null,null,null,null,null,null,null,null,null,null,null,null,null,"~"]
["SA36",2020,"DC12",620,null,null,null,null,null,null,null,null,null,null,null,null,null,null,null,null,null,null,"~"]
["SA36",2020,"DC12",621,null,null,null,null,null,null,null,null,null,null,null,null,null,null,null,null,null,null,"~"]
["SA36",2020,"DC12",622,null,null,null,null,null,null,null,null,null,null,null,null,null,null,null,null,null,null,"~"]
["SA36",2020,"DC12",623,null,null,null,null,null,null,null,null,null,null,null,null,null,null,null,null,null,null,"~"]
["SA36",2020,"DC12",624,null,null,null,null,null,null,null,null,null,null,null,null,null,null,null,null,null,null,"~"]
["SA36",2020,"DC12",625,null,null,null,null,null,null,null,null,null,null,null,null,null,null,null,null,null,null,"~"]
["SA36",2020,"DC12",626,null,null,null,null,null,null,null,null,null,null,null,null,null,null,null,null,null,null,"~"]
["SA36",2020,"DC12",627,null,null,null,null,null,null,null,null,null,null,null,null,null,null,null,null,null,null,"~"]
["SA36",2020,"DC12",628,null,null,null,null,null,null,null,null,null,null,null,null,null,null,null,null,null,null,"~"]
["SA36",2020,"DC12",629,null,null,null,null,null,null,null,null,null,null,null,null,null,null,null,null,null,null,"~"]
["SA36",2020,"DC12",630,null,null,null,null,null,null,null,null,null,null,null,null,null,null,null,null,null,null,"~"]
["SA36",2020,"DC12",631,null,null,null,null,null,null,null,null,null,null,null,null,null,null,null,null,null,null,"~"]
["SA36",2020,"DC12",632,null,null,null,null,null,null,null,null,null,null,null,null,null,null,null,null,null,null,"~"]
["SA36",2020,"DC12",633,null,null,null,null,null,null,null,null,null,null,null,null,null,null,null,null,null,null,"~"]
["SA36",2020,"DC12",634,null,null,null,null,null,null,null,null,null,null,null,null,null,null,null,null,null,null,"~"]
["SA36",2020,"DC12",635,null,null,null,null,null,null,null,null,null,null,null,null,null,null,null,null,null,null,"~"]
["SA36",2020,"DC12",636,null,null,null,null,null,null,null,null,null,null,null,null,null,null,null,null,null,null,"~"]
["SA36",2020,"DC12",637,null,null,null,null,null,null,null,null,null,null,null,null,null,null,null,null,null,null,"~"]
["SA36",2020,"DC12",638,null,null,null,null,null,null,null,null,null,null,null,null,null,null,null,null,null,null,"~"]
["SA36",2020,"DC12",639,null,null,null,null,null,null,null,null,null,null,null,null,null,null,null,null,null,null,"~"]
["SA36",2020,"DC12",640,null,null,null,null,null,null,null,null,null,null,null,null,null,null,null,null,null,null,"~"]
["SA36",2020,"DC12",641,null,null,null,null,null,null,null,null,null,null,null,null,null,null,null,null,null,null,"~"]
["SA36",2020,"DC12",642,null,null,null,null,null,null,null,null,null,null,null,null,null,null,null,null,null,null,"~"]
["SA36",2020,"DC12",643,null,null,null,null,null,null,null,null,null,null,null,null,null,null,null,null,null,null,"~"]
["SA36",2020,"DC12",644,null,null,null,null,null,null,null,null,null,null,null,null,null,null,null,null,null,null,"~"]
["SA36",2020,"DC12",645,null,null,null,null,null,null,null,null,null,null,null,null,null,null,null,null,null,null,"~"]
["SA36",2020,"DC12",646,null,null,null,null,null,null,null,null,null,null,null,null,null,null,null,null,null,null,"~"]
["SA36",2020,"DC12",647,null,null,null,null,null,null,null,null,null,null,null,null,null,null,null,null,null,null,"~"]
["SA36",2020,"DC12",648,null,null,null,null,null,null,null,null,null,null,null,null,null,null,null,null,null,null,"~"]
["SA36",2020,"DC12",649,null,null,null,null,null,null,null,null,null,null,null,null,null,null,null,null,null,null,"~"]
["SA36",2020,"DC12",650,null,null,null,null,null,null,null,null,null,null,null,null,null,null,null,null,null,null,"~"]
["SA36",2020,"DC12",651,null,null,null,null,null,null,null,null,null,null,null,null,null,null,null,null,null,null,"~"]
["SA36",2020,"DC12",652,null,null,null,null,null,null,null,null,null,null,null,null,null,null,null,null,null,null,"~"]
["SA36",2020,"DC12",653,null,null,null,null,null,null,null,null,null,null,null,null,null,null,null,null,null,null,"~"]
["SA36",2020,"DC12",654,null,null,null,null,null,null,null,null,null,null,null,null,null,null,null,null,null,null,"~"]
["SA36",2020,"DC12",655,null,null,null,null,null,null,null,null,null,null,null,null,null,null,null,null,null,null,"~"]
["SA36",2020,"DC12",656,null,null,null,null,null,null,null,null,null,null,null,null,null,null,null,null,null,null,"~"]
["SA36",2020,"DC12",657,null,null,null,null,null,null,null,null,null,null,null,null,null,null,null,null,null,null,"~"]
["SA36",2020,"DC12",658,null,null,null,null,null,null,null,null,null,null,null,null,null,null,null,null,null,null,"~"]
["SA36",2020,"DC12",659,null,null,null,null,null,null,null,null,null,null,null,null,null,null,null,null,null,null,"~"]
["SA36",2020,"DC12",660,null,null,null,null,null,null,null,null,null,null,null,null,null,null,null,null,null,null,"~"]
["SA36",2020,"DC12",661,null,null,null,null,null,null,null,null,null,null,null,null,null,null,null,null,null,null,"~"]
["SA36",2020,"DC12",662,null,null,null,null,null,null,null,null,null,null,null,null,null,null,null,null,null,null,"~"]
["SA36",2020,"DC12",663,null,null,null,null,null,null,null,null,null,null,null,null,null,null,null,null,null,null,"~"]
["SA36",{"$f":"+MTREF","v":2020},{"$f":"LEFT(muni,(FIND(\" \",muni,1)-1))","v":"DC12"},664,null,null,null,null,null,null,null,null,null,null,null,null,null,null,null,null,null,null,"~"]
["SA36",2020,"DC12",665,null,null,null,null,null,null,null,null,null,null,null,null,null,null,null,null,null,null,"~"]
["SA36",2020,"DC12",666,null,null,null,null,null,null,null,null,null,null,null,null,null,null,null,null,null,null,"~"]
["SA36",2020,"DC12",667,null,null,null,null,null,null,null,null,null,null,null,null,null,null,null,null,null,null,"~"]
["SA36",2020,"DC12",668,null,null,null,null,null,null,null,null,null,null,null,null,null,null,null,null,null,null,"~"]
["SA36",2020,"DC12",669,null,null,null,null,null,null,null,null,null,null,null,null,null,null,null,null,null,null,"~"]
["SA36",2020,"DC12",670,null,null,null,null,null,null,null,null,null,null,null,null,null,null,null,null,null,null,"~"]
["SA36",2020,"DC12",671,null,null,null,null,null,null,null,null,null,null,null,null,null,null,null,null,null,null,"~"]
["SA36",2020,"DC12",672,null,null,null,null,null,null,null,null,null,null,null,null,null,null,null,null,null,null,"~"]
["SA36",2020,"DC12",673,null,null,null,null,null,null,null,null,null,null,null,null,null,null,null,null,null,null,"~"]
["SA36",2020,"DC12",674,null,null,null,null,null,null,null,null,null,null,null,null,null,null,null,null,null,null,"~"]
["SA36",2020,"DC12",675,null,null,null,null,null,null,null,null,null,null,null,null,null,null,null,null,null,null,"~"]
["SA36",2020,"DC12",676,null,null,null,null,null,null,null,null,null,null,null,null,null,null,null,null,null,null,"~"]
["SA36",2020,"DC12",677,null,null,null,null,null,null,null,null,null,null,null,null,null,null,null,null,null,null,"~"]
["SA36",2020,"DC12",678,null,null,null,null,null,null,null,null,null,null,null,null,null,null,null,null,null,null,"~"]
["SA36",2020,"DC12",679,null,null,null,null,null,null,null,null,null,null,null,null,null,null,null,null,null,null,"~"]
["SA36",2020,"DC12",680,null,null,null,null,null,null,null,null,null,null,null,null,null,null,null,null,null,null,"~"]
["SA36",2020,"DC12",681,null,null,null,null,null,null,null,null,null,null,null,null,null,null,null,null,null,null,"~"]
["SA36",2020,"DC12",682,null,null,null,null,null,null,null,null,null,null,null,null,null,null,null,null,null,null,"~"]
["SA36",2020,"DC12",683,null,null,null,null,null,null,null,null,null,null,null,null,null,null,null,null,null,null,"~"]
["SA36",2020,"DC12",684,null,null,null,null,null,null,null,null,null,null,null,null,null,null,null,null,null,null,"~"]
["SA36",2020,"DC12",685,null,null,null,null,null,null,null,null,null,null,null,null,null,null,null,null,null,null,"~"]
["SA36",2020,"DC12",686,null,null,null,null,null,null,null,null,null,null,null,null,null,null,null,null,null,null,"~"]
["SA36",2020,"DC12",687,null,null,null,null,null,null,null,null,null,null,null,null,null,null,null,null,null,null,"~"]
["SA36",2020,"DC12",688,null,null,null,null,null,null,null,null,null,null,null,null,null,null,null,null,null,null,"~"]
["SA36",2020,"DC12",689,null,null,null,null,null,null,null,null,null,null,null,null,null,null,null,null,null,null,"~"]
["SA36",2020,"DC12",690,null,null,null,null,null,null,null,null,null,null,null,null,null,null,null,null,null,null,"~"]
["SA36",2020,"DC12",691,null,null,null,null,null,null,null,null,null,null,null,null,null,null,null,null,null,null,"~"]
["SA36",2020,"DC12",692,null,null,null,null,null,null,null,null,null,null,null,null,null,null,null,null,null,null,"~"]
["SA36",2020,"DC12",693,null,null,null,null,null,null,null,null,null,null,null,null,null,null,null,null,null,null,"~"]
["SA36",2020,"DC12",694,null,null,null,null,null,null,null,null,null,null,null,null,null,null,null,null,null,null,"~"]
["SA36",2020,"DC12",695,null,null,null,null,null,null,null,null,null,null,null,null,null,null,null,null,null,null,"~"]
["SA36",2020,"DC12",696,null,null,null,null,null,null,null,null,null,null,null,null,null,null,null,null,null,null,"~"]
["SA36",2020,"DC12",697,null,null,null,null,null,null,null,null,null,null,null,null,null,null,null,null,null,null,"~"]
["SA36",2020,"DC12",698,null,null,null,null,null,null,null,null,null,null,null,null,null,null,null,null,null,null,"~"]
["SA36",2020,"DC12",699,null,null,null,null,null,null,null,null,null,null,null,null,null,null,null,null,null,null,"~"]
["SA36",2020,"DC12",700,null,null,null,null,null,null,null,null,null,null,null,null,null,null,null,null,null,null,"~"]
["SA36",2020,"DC12",701,null,null,null,null,null,null,null,null,null,null,null,null,null,null,null,null,null,null,"~"]
["SA36",2020,"DC12",702,null,null,null,null,null,null,null,null,null,null,null,null,null,null,null,null,null,null,"~"]
["SA36",2020,"DC12",703,null,null,null,null,null,null,null,null,null,null,null,null,null,null,null,null,null,null,"~"]
["SA36",2020,"DC12",704,null,null,null,null,null,null,null,null,null,null,null,null,null,null,null,null,null,null,"~"]
["SA36",2020,"DC12",705,null,null,null,null,null,null,null,null,null,null,null,null,null,null,null,null,null,null,"~"]
["SA36",2020,"DC12",706,null,null,null,null,null,null,null,null,null,null,null,null,null,null,null,null,null,null,"~"]
["SA36",2020,"DC12",707,null,null,null,null,null,null,null,null,null,null,null,null,null,null,null,null,null,null,"~"]
["SA36",2020,"DC12",708,null,null,null,null,null,null,null,null,null,null,null,null,null,null,null,null,null,null,"~"]
["SA36",2020,"DC12",709,null,null,null,null,null,null,null,null,null,null,null,null,null,null,null,null,null,null,"~"]
["SA36",2020,"DC12",710,null,null,null,null,null,null,null,null,null,null,null,null,null,null,null,null,null,null,"~"]
["SA36",2020,"DC12",711,null,null,null,null,null,null,null,null,null,null,null,null,null,null,null,null,null,null,"~"]
["SA36",2020,"DC12",712,null,null,null,null,null,null,null,null,null,null,null,null,null,null,null,null,null,null,"~"]
["SA36",2020,"DC12",713,null,null,null,null,null,null,null,null,null,null,null,null,null,null,null,null,null,null,"~"]
["SA36",2020,"DC12",714,null,null,null,null,null,null,null,null,null,null,null,null,null,null,null,null,null,null,"~"]
["SA36",2020,"DC12",715,null,null,null,null,null,null,null,null,null,null,null,null,null,null,null,null,null,null,"~"]
["SA36",2020,"DC12",716,null,null,null,null,null,null,null,null,null,null,null,null,null,null,null,null,null,null,"~"]
["SA36",2020,"DC12",717,null,null,null,null,null,null,null,null,null,null,null,null,null,null,null,null,null,null,"~"]
["SA36",2020,"DC12",718,null,null,null,null,null,null,null,null,null,null,null,null,null,null,null,null,null,null,"~"]
["SA36",2020,"DC12",719,null,null,null,null,null,null,null,null,null,null,null,null,null,null,null,null,null,null,"~"]
["SA36",2020,"DC12",720,null,null,null,null,null,null,null,null,null,null,null,null,null,null,null,null,null,null,"~"]
["SA36",2020,"DC12",721,null,null,null,null,null,null,null,null,null,null,null,null,null,null,null,null,null,null,"~"]
["SA36",2020,"DC12",722,null,null,null,null,null,null,null,null,null,null,null,null,null,null,null,null,null,null,"~"]
["SA36",2020,"DC12",723,null,null,null,null,null,null,null,null,null,null,null,null,null,null,null,null,null,null,"~"]
["SA36",2020,"DC12",724,null,null,null,null,null,null,null,null,null,null,null,null,null,null,null,null,null,null,"~"]
["SA36",2020,"DC12",725,null,null,null,null,null,null,null,null,null,null,null,null,null,null,null,null,null,null,"~"]
["SA36",2020,"DC12",726,null,null,null,null,null,null,null,null,null,null,null,null,null,null,null,null,null,null,"~"]
["SA36",2020,"DC12",727,null,null,null,null,null,null,null,null,null,null,null,null,null,null,null,null,null,null,"~"]
["SA36",{"$f":"+MTREF","v":2020},{"$f":"LEFT(muni,(FIND(\" \",muni,1)-1))","v":"DC12"},728,null,null,null,null,null,null,null,null,null,null,null,null,null,null,null,null,null,null,"~"]
["SA36",2020,"DC12",729,null,null,null,null,null,null,null,null,null,null,null,null,null,null,null,null,null,null,"~"]
["SA36",2020,"DC12",730,null,null,null,null,null,null,null,null,null,null,null,null,null,null,null,null,null,null,"~"]
["SA36",2020,"DC12",731,null,null,null,null,null,null,null,null,null,null,null,null,null,null,null,null,null,null,"~"]
["SA36",2020,"DC12",732,null,null,null,null,null,null,null,null,null,null,null,null,null,null,null,null,null,null,"~"]
["SA36",2020,"DC12",733,null,null,null,null,null,null,null,null,null,null,null,null,null,null,null,null,null,null,"~"]
["SA36",2020,"DC12",734,null,null,null,null,null,null,null,null,null,null,null,null,null,null,null,null,null,null,"~"]
["SA36",2020,"DC12",735,null,null,null,null,null,null,null,null,null,null,null,null,null,null,null,null,null,null,"~"]
["SA36",2020,"DC12",736,null,null,null,null,null,null,null,null,null,null,null,null,null,null,null,null,null,null,"~"]
["SA36",2020,"DC12",737,null,null,null,null,null,null,null,null,null,null,null,null,null,null,null,null,null,null,"~"]
["SA36",2020,"DC12",738,null,null,null,null,null,null,null,null,null,null,null,null,null,null,null,null,null,null,"~"]
["SA36",2020,"DC12",739,null,null,null,null,null,null,null,null,null,null,null,null,null,null,null,null,null,null,"~"]
["SA36",2020,"DC12",740,null,null,null,null,null,null,null,null,null,null,null,null,null,null,null,null,null,null,"~"]
["SA36",2020,"DC12",741,null,null,null,null,null,null,null,null,null,null,null,null,null,null,null,null,null,null,"~"]
["SA36",2020,"DC12",742,null,null,null,null,null,null,null,null,null,null,null,null,null,null,null,null,null,null,"~"]
["SA36",2020,"DC12",743,null,null,null,null,null,null,null,null,null,null,null,null,null,null,null,null,null,null,"~"]
["SA36",2020,"DC12",744,null,null,null,null,null,null,null,null,null,null,null,null,null,null,null,null,null,null,"~"]
["SA36",2020,"DC12",745,null,null,null,null,null,null,null,null,null,null,null,null,null,null,null,null,null,null,"~"]
["SA36",2020,"DC12",746,null,null,null,null,null,null,null,null,null,null,null,null,null,null,null,null,null,null,"~"]
["SA36",2020,"DC12",747,null,null,null,null,null,null,null,null,null,null,null,null,null,null,null,null,null,null,"~"]
["SA36",2020,"DC12",748,null,null,null,null,null,null,null,null,null,null,null,null,null,null,null,null,null,null,"~"]
["SA36",2020,"DC12",749,null,null,null,null,null,null,null,null,null,null,null,null,null,null,null,null,null,null,"~"]
["SA36",2020,"DC12",750,null,null,null,null,null,null,null,null,null,null,null,null,null,null,null,null,null,null,"~"]
["SA36",2020,"DC12",751,null,null,null,null,null,null,null,null,null,null,null,null,null,null,null,null,null,null,"~"]
["SA36",2020,"DC12",752,null,null,null,null,null,null,null,null,null,null,null,null,null,null,null,null,null,null,"~"]
["SA36",2020,"DC12",753,null,null,null,null,null,null,null,null,null,null,null,null,null,null,null,null,null,null,"~"]
["SA36",2020,"DC12",754,null,null,null,null,null,null,null,null,null,null,null,null,null,null,null,null,null,null,"~"]
["SA36",2020,"DC12",755,null,null,null,null,null,null,null,null,null,null,null,null,null,null,null,null,null,null,"~"]
["SA36",2020,"DC12",756,null,null,null,null,null,null,null,null,null,null,null,null,null,null,null,null,null,null,"~"]
["SA36",2020,"DC12",757,null,null,null,null,null,null,null,null,null,null,null,null,null,null,null,null,null,null,"~"]
["SA36",2020,"DC12",758,null,null,null,null,null,null,null,null,null,null,null,null,null,null,null,null,null,null,"~"]
["SA36",2020,"DC12",759,null,null,null,null,null,null,null,null,null,null,null,null,null,null,null,null,null,null,"~"]
["SA36",2020,"DC12",760,null,null,null,null,null,null,null,null,null,null,null,null,null,null,null,null,null,null,"~"]
["SA36",2020,"DC12",761,null,null,null,null,null,null,null,null,null,null,null,null,null,null,null,null,null,null,"~"]
["SA36",2020,"DC12",762,null,null,null,null,null,null,null,null,null,null,null,null,null,null,null,null,null,null,"~"]
["SA36",2020,"DC12",763,null,null,null,null,null,null,null,null,null,null,null,null,null,null,null,null,null,null,"~"]
["SA36",2020,"DC12",764,null,null,null,null,null,null,null,null,null,null,null,null,null,null,null,null,null,null,"~"]
["SA36",2020,"DC12",765,null,null,null,null,null,null,null,null,null,null,null,null,null,null,null,null,null,null,"~"]
["SA36",2020,"DC12",766,null,null,null,null,null,null,null,null,null,null,null,null,null,null,null,null,null,null,"~"]
["SA36",2020,"DC12",767,null,null,null,null,null,null,null,null,null,null,null,null,null,null,null,null,null,null,"~"]
["SA36",2020,"DC12",768,null,null,null,null,null,null,null,null,null,null,null,null,null,null,null,null,null,null,"~"]
["SA36",2020,"DC12",769,null,null,null,null,null,null,null,null,null,null,null,null,null,null,null,null,null,null,"~"]
["SA36",2020,"DC12",770,null,null,null,null,null,null,null,null,null,null,null,null,null,null,null,null,null,null,"~"]
["SA36",2020,"DC12",771,null,null,null,null,null,null,null,null,null,null,null,null,null,null,null,null,null,null,"~"]
["SA36",2020,"DC12",772,null,null,null,null,null,null,null,null,null,null,null,null,null,null,null,null,null,null,"~"]
["SA36",2020,"DC12",773,null,null,null,null,null,null,null,null,null,null,null,null,null,null,null,null,null,null,"~"]
["SA36",2020,"DC12",774,null,null,null,null,null,null,null,null,null,null,null,null,null,null,null,null,null,null,"~"]
["SA36",2020,"DC12",775,null,null,null,null,null,null,null,null,null,null,null,null,null,null,null,null,null,null,"~"]
["SA36",2020,"DC12",776,null,null,null,null,null,null,null,null,null,null,null,null,null,null,null,null,null,null,"~"]
["SA36",2020,"DC12",777,null,null,null,null,null,null,null,null,null,null,null,null,null,null,null,null,null,null,"~"]
["SA36",2020,"DC12",778,null,null,null,null,null,null,null,null,null,null,null,null,null,null,null,null,null,null,"~"]
["SA36",2020,"DC12",779,null,null,null,null,null,null,null,null,null,null,null,null,null,null,null,null,null,null,"~"]
["SA36",2020,"DC12",780,null,null,null,null,null,null,null,null,null,null,null,null,null,null,null,null,null,null,"~"]
["SA36",2020,"DC12",781,null,null,null,null,null,null,null,null,null,null,null,null,null,null,null,null,null,null,"~"]
["SA36",2020,"DC12",782,null,null,null,null,null,null,null,null,null,null,null,null,null,null,null,null,null,null,"~"]
["SA36",2020,"DC12",783,null,null,null,null,null,null,null,null,null,null,null,null,null,null,null,null,null,null,"~"]
["SA36",2020,"DC12",784,null,null,null,null,null,null,null,null,null,null,null,null,null,null,null,null,null,null,"~"]
["SA36",2020,"DC12",785,null,null,null,null,null,null,null,null,null,null,null,null,null,null,null,null,null,null,"~"]
["SA36",2020,"DC12",786,null,null,null,null,null,null,null,null,null,null,null,null,null,null,null,null,null,null,"~"]
["SA36",2020,"DC12",787,null,null,null,null,null,null,null,null,null,null,null,null,null,null,null,null,null,null,"~"]
["SA36",2020,"DC12",788,null,null,null,null,null,null,null,null,null,null,null,null,null,null,null,null,null,null,"~"]
["SA36",2020,"DC12",789,null,null,null,null,null,null,null,null,null,null,null,null,null,null,null,null,null,null,"~"]
["SA36",2020,"DC12",790,null,null,null,null,null,null,null,null,null,null,null,null,null,null,null,null,null,null,"~"]
["SA36",2020,"DC12",791,null,null,null,null,null,null,null,null,null,null,null,null,null,null,null,null,null,null,"~"]
["SA36",{"$f":"+MTREF","v":2020},{"$f":"LEFT(muni,(FIND(\" \",muni,1)-1))","v":"DC12"},792,null,null,null,null,null,null,null,null,null,null,null,null,null,null,null,null,null,null,"~"]
["SA36",2020,"DC12",793,null,null,null,null,null,null,null,null,null,null,null,null,null,null,null,null,null,null,"~"]
["SA36",2020,"DC12",794,null,null,null,null,null,null,null,null,null,null,null,null,null,null,null,null,null,null,"~"]
["SA36",2020,"DC12",795,null,null,null,null,null,null,null,null,null,null,null,null,null,null,null,null,null,null,"~"]
["SA36",2020,"DC12",796,null,null,null,null,null,null,null,null,null,null,null,null,null,null,null,null,null,null,"~"]
["SA36",2020,"DC12",797,null,null,null,null,null,null,null,null,null,null,null,null,null,null,null,null,null,null,"~"]
["SA36",2020,"DC12",798,null,null,null,null,null,null,null,null,null,null,null,null,null,null,null,null,null,null,"~"]
["SA36",2020,"DC12",799,null,null,null,null,null,null,null,null,null,null,null,null,null,null,null,null,null,null,"~"]
["SA36",2020,"DC12",800,null,null,null,null,null,null,null,null,null,null,null,null,null,null,null,null,null,null,"~"]
["SA36",2020,"DC12",801,null,null,null,null,null,null,null,null,null,null,null,null,null,null,null,null,null,null,"~"]
["SA36",2020,"DC12",802,null,null,null,null,null,null,null,null,null,null,null,null,null,null,null,null,null,null,"~"]
["SA36",2020,"DC12",803,null,null,null,null,null,null,null,null,null,null,null,null,null,null,null,null,null,null,"~"]
["SA36",2020,"DC12",804,null,null,null,null,null,null,null,null,null,null,null,null,null,null,null,null,null,null,"~"]
["SA36",2020,"DC12",805,null,null,null,null,null,null,null,null,null,null,null,null,null,null,null,null,null,null,"~"]
["SA36",2020,"DC12",806,null,null,null,null,null,null,null,null,null,null,null,null,null,null,null,null,null,null,"~"]
["SA36",2020,"DC12",807,null,null,null,null,null,null,null,null,null,null,null,null,null,null,null,null,null,null,"~"]
["SA36",2020,"DC12",808,null,null,null,null,null,null,null,null,null,null,null,null,null,null,null,null,null,null,"~"]
["SA36",2020,"DC12",809,null,null,null,null,null,null,null,null,null,null,null,null,null,null,null,null,null,null,"~"]
["SA36",2020,"DC12",810,null,null,null,null,null,null,null,null,null,null,null,null,null,null,null,null,null,null,"~"]
["SA36",2020,"DC12",811,null,null,null,null,null,null,null,null,null,null,null,null,null,null,null,null,null,null,"~"]
["SA36",2020,"DC12",812,null,null,null,null,null,null,null,null,null,null,null,null,null,null,null,null,null,null,"~"]
["SA36",2020,"DC12",813,null,null,null,null,null,null,null,null,null,null,null,null,null,null,null,null,null,null,"~"]
["SA36",2020,"DC12",814,null,null,null,null,null,null,null,null,null,null,null,null,null,null,null,null,null,null,"~"]
["SA36",2020,"DC12",815,null,null,null,null,null,null,null,null,null,null,null,null,null,null,null,null,null,null,"~"]
["SA36",2020,"DC12",816,null,null,null,null,null,null,null,null,null,null,null,null,null,null,null,null,null,null,"~"]
["SA36",2020,"DC12",817,null,null,null,null,null,null,null,null,null,null,null,null,null,null,null,null,null,null,"~"]
["SA36",2020,"DC12",818,null,null,null,null,null,null,null,null,null,null,null,null,null,null,null,null,null,null,"~"]
["SA36",2020,"DC12",819,null,null,null,null,null,null,null,null,null,null,null,null,null,null,null,null,null,null,"~"]
["SA36",2020,"DC12",820,null,null,null,null,null,null,null,null,null,null,null,null,null,null,null,null,null,null,"~"]
["SA36",2020,"DC12",821,null,null,null,null,null,null,null,null,null,null,null,null,null,null,null,null,null,null,"~"]
["SA36",2020,"DC12",822,null,null,null,null,null,null,null,null,null,null,null,null,null,null,null,null,null,null,"~"]
["SA36",2020,"DC12",823,null,null,null,null,null,null,null,null,null,null,null,null,null,null,null,null,null,null,"~"]
["SA36",2020,"DC12",824,null,null,null,null,null,null,null,null,null,null,null,null,null,null,null,null,null,null,"~"]
["SA36",2020,"DC12",825,null,null,null,null,null,null,null,null,null,null,null,null,null,null,null,null,null,null,"~"]
["SA36",2020,"DC12",826,null,null,null,null,null,null,null,null,null,null,null,null,null,null,null,null,null,null,"~"]
["SA36",2020,"DC12",827,null,null,null,null,null,null,null,null,null,null,null,null,null,null,null,null,null,null,"~"]
["SA36",2020,"DC12",828,null,null,null,null,null,null,null,null,null,null,null,null,null,null,null,null,null,null,"~"]
["SA36",2020,"DC12",829,null,null,null,null,null,null,null,null,null,null,null,null,null,null,null,null,null,null,"~"]
["SA36",2020,"DC12",830,null,null,null,null,null,null,null,null,null,null,null,null,null,null,null,null,null,null,"~"]
["SA36",2020,"DC12",831,null,null,null,null,null,null,null,null,null,null,null,null,null,null,null,null,null,null,"~"]
["SA36",2020,"DC12",832,null,null,null,null,null,null,null,null,null,null,null,null,null,null,null,null,null,null,"~"]
["SA36",2020,"DC12",833,null,null,null,null,null,null,null,null,null,null,null,null,null,null,null,null,null,null,"~"]
["SA36",2020,"DC12",834,null,null,null,null,null,null,null,null,null,null,null,null,null,null,null,null,null,null,"~"]
["SA36",2020,"DC12",835,null,null,null,null,null,null,null,null,null,null,null,null,null,null,null,null,null,null,"~"]
["SA36",2020,"DC12",836,null,null,null,null,null,null,null,null,null,null,null,null,null,null,null,null,null,null,"~"]
["SA36",2020,"DC12",837,null,null,null,null,null,null,null,null,null,null,null,null,null,null,null,null,null,null,"~"]
["SA36",2020,"DC12",838,null,null,null,null,null,null,null,null,null,null,null,null,null,null,null,null,null,null,"~"]
["SA36",2020,"DC12",839,null,null,null,null,null,null,null,null,null,null,null,null,null,null,null,null,null,null,"~"]
["SA36",2020,"DC12",840,null,null,null,null,null,null,null,null,null,null,null,null,null,null,null,null,null,null,"~"]
["SA36",2020,"DC12",841,null,null,null,null,null,null,null,null,null,null,null,null,null,null,null,null,null,null,"~"]
["SA36",2020,"DC12",842,null,null,null,null,null,null,null,null,null,null,null,null,null,null,null,null,null,null,"~"]
["SA36",2020,"DC12",843,null,null,null,null,null,null,null,null,null,null,null,null,null,null,null,null,null,null,"~"]
["SA36",2020,"DC12",844,null,null,null,null,null,null,null,null,null,null,null,null,null,null,null,null,null,null,"~"]
["SA36",2020,"DC12",845,null,null,null,null,null,null,null,null,null,null,null,null,null,null,null,null,null,null,"~"]
["SA36",2020,"DC12",846,null,null,null,null,null,null,null,null,null,null,null,null,null,null,null,null,null,null,"~"]
["SA36",2020,"DC12",847,null,null,null,null,null,null,null,null,null,null,null,null,null,null,null,null,null,null,"~"]
["SA36",2020,"DC12",848,null,null,null,null,null,null,null,null,null,null,null,null,null,null,null,null,null,null,"~"]
["SA36",2020,"DC12",849,null,null,null,null,null,null,null,null,null,null,null,null,null,null,null,null,null,null,"~"]
["SA36",2020,"DC12",850,null,null,null,null,null,null,null,null,null,null,null,null,null,null,null,null,null,null,"~"]
["SA36",2020,"DC12",851,null,null,null,null,null,null,null,null,null,null,null,null,null,null,null,null,null,null,"~"]
["SA36",2020,"DC12",852,null,null,null,null,null,null,null,null,null,null,null,null,null,null,null,null,null,null,"~"]
["SA36",2020,"DC12",853,null,null,null,null,null,null,null,null,null,null,null,null,null,null,null,null,null,null,"~"]
["SA36",2020,"DC12",854,null,null,null,null,null,null,null,null,null,null,null,null,null,null,null,null,null,null,"~"]
["SA36",2020,"DC12",855,null,null,null,null,null,null,null,null,null,null,null,null,null,null,null,null,null,null,"~"]
["SA36",{"$f":"+MTREF","v":2020},{"$f":"LEFT(muni,(FIND(\" \",muni,1)-1))","v":"DC12"},856,null,null,null,null,null,null,null,null,null,null,null,null,null,null,null,null,null,null,"~"]
["SA36",2020,"DC12",857,null,null,null,null,null,null,null,null,null,null,null,null,null,null,null,null,null,null,"~"]
["SA36",2020,"DC12",858,null,null,null,null,null,null,null,null,null,null,null,null,null,null,null,null,null,null,"~"]
["SA36",2020,"DC12",859,null,null,null,null,null,null,null,null,null,null,null,null,null,null,null,null,null,null,"~"]
["SA36",2020,"DC12",860,null,null,null,null,null,null,null,null,null,null,null,null,null,null,null,null,null,null,"~"]
["SA36",2020,"DC12",861,null,null,null,null,null,null,null,null,null,null,null,null,null,null,null,null,null,null,"~"]
["SA36",2020,"DC12",862,null,null,null,null,null,null,null,null,null,null,null,null,null,null,null,null,null,null,"~"]
["SA36",2020,"DC12",863,null,null,null,null,null,null,null,null,null,null,null,null,null,null,null,null,null,null,"~"]
["SA36",2020,"DC12",864,null,null,null,null,null,null,null,null,null,null,null,null,null,null,null,null,null,null,"~"]
["SA36",2020,"DC12",865,null,null,null,null,null,null,null,null,null,null,null,null,null,null,null,null,null,null,"~"]
["SA36",2020,"DC12",866,null,null,null,null,null,null,null,null,null,null,null,null,null,null,null,null,null,null,"~"]
["SA36",2020,"DC12",867,null,null,null,null,null,null,null,null,null,null,null,null,null,null,null,null,null,null,"~"]
["SA36",2020,"DC12",868,null,null,null,null,null,null,null,null,null,null,null,null,null,null,null,null,null,null,"~"]
["SA36",2020,"DC12",869,null,null,null,null,null,null,null,null,null,null,null,null,null,null,null,null,null,null,"~"]
["SA36",2020,"DC12",870,null,null,null,null,null,null,null,null,null,null,null,null,null,null,null,null,null,null,"~"]
["SA36",2020,"DC12",871,null,null,null,null,null,null,null,null,null,null,null,null,null,null,null,null,null,null,"~"]
["SA36",2020,"DC12",872,null,null,null,null,null,null,null,null,null,null,null,null,null,null,null,null,null,null,"~"]
["SA36",2020,"DC12",873,null,null,null,null,null,null,null,null,null,null,null,null,null,null,null,null,null,null,"~"]
["SA36",2020,"DC12",874,null,null,null,null,null,null,null,null,null,null,null,null,null,null,null,null,null,null,"~"]
["SA36",2020,"DC12",875,null,null,null,null,null,null,null,null,null,null,null,null,null,null,null,null,null,null,"~"]
["SA36",2020,"DC12",876,null,null,null,null,null,null,null,null,null,null,null,null,null,null,null,null,null,null,"~"]
["SA36",2020,"DC12",877,null,null,null,null,null,null,null,null,null,null,null,null,null,null,null,null,null,null,"~"]
["SA36",2020,"DC12",878,null,null,null,null,null,null,null,null,null,null,null,null,null,null,null,null,null,null,"~"]
["SA36",2020,"DC12",879,null,null,null,null,null,null,null,null,null,null,null,null,null,null,null,null,null,null,"~"]
["SA36",2020,"DC12",880,null,null,null,null,null,null,null,null,null,null,null,null,null,null,null,null,null,null,"~"]
["SA36",2020,"DC12",881,null,null,null,null,null,null,null,null,null,null,null,null,null,null,null,null,null,null,"~"]
["SA36",2020,"DC12",882,null,null,null,null,null,null,null,null,null,null,null,null,null,null,null,null,null,null,"~"]
["SA36",2020,"DC12",883,null,null,null,null,null,null,null,null,null,null,null,null,null,null,null,null,null,null,"~"]
["SA36",2020,"DC12",884,null,null,null,null,null,null,null,null,null,null,null,null,null,null,null,null,null,null,"~"]
["SA36",2020,"DC12",885,null,null,null,null,null,null,null,null,null,null,null,null,null,null,null,null,null,null,"~"]
["SA36",2020,"DC12",886,null,null,null,null,null,null,null,null,null,null,null,null,null,null,null,null,null,null,"~"]
["SA36",2020,"DC12",887,null,null,null,null,null,null,null,null,null,null,null,null,null,null,null,null,null,null,"~"]
["SA36",2020,"DC12",888,null,null,null,null,null,null,null,null,null,null,null,null,null,null,null,null,null,null,"~"]
["SA36",2020,"DC12",889,null,null,null,null,null,null,null,null,null,null,null,null,null,null,null,null,null,null,"~"]
["SA36",2020,"DC12",890,null,null,null,null,null,null,null,null,null,null,null,null,null,null,null,null,null,null,"~"]
["SA36",2020,"DC12",891,null,null,null,null,null,null,null,null,null,null,null,null,null,null,null,null,null,null,"~"]
["SA36",2020,"DC12",892,null,null,null,null,null,null,null,null,null,null,null,null,null,null,null,null,null,null,"~"]
["SA36",2020,"DC12",893,null,null,null,null,null,null,null,null,null,null,null,null,null,null,null,null,null,null,"~"]
["SA36",2020,"DC12",894,null,null,null,null,null,null,null,null,null,null,null,null,null,null,null,null,null,null,"~"]
["SA36",2020,"DC12",895,null,null,null,null,null,null,null,null,null,null,null,null,null,null,null,null,null,null,"~"]
["SA36",2020,"DC12",896,null,null,null,null,null,null,null,null,null,null,null,null,null,null,null,null,null,null,"~"]
["SA36",2020,"DC12",897,null,null,null,null,null,null,null,null,null,null,null,null,null,null,null,null,null,null,"~"]
["SA36",2020,"DC12",898,null,null,null,null,null,null,null,null,null,null,null,null,null,null,null,null,null,null,"~"]
["SA36",2020,"DC12",899,null,null,null,null,null,null,null,null,null,null,null,null,null,null,null,null,null,null,"~"]
["SA36",2020,"DC12",900,null,null,null,null,null,null,null,null,null,null,null,null,null,null,null,null,null,null,"~"]
["SA36",2020,"DC12",901,null,null,null,null,null,null,null,null,null,null,null,null,null,null,null,null,null,null,"~"]
["SA36",2020,"DC12",902,null,null,null,null,null,null,null,null,null,null,null,null,null,null,null,null,null,null,"~"]
["SA36",2020,"DC12",903,null,null,null,null,null,null,null,null,null,null,null,null,null,null,null,null,null,null,"~"]
["SA36",2020,"DC12",904,null,null,null,null,null,null,null,null,null,null,null,null,null,null,null,null,null,null,"~"]
["SA36",2020,"DC12",905,null,null,null,null,null,null,null,null,null,null,null,null,null,null,null,null,null,null,"~"]
["SA36",2020,"DC12",906,null,null,null,null,null,null,null,null,null,null,null,null,null,null,null,null,null,null,"~"]
["SA36",2020,"DC12",907,null,null,null,null,null,null,null,null,null,null,null,null,null,null,null,null,null,null,"~"]
["SA36",2020,"DC12",908,null,null,null,null,null,null,null,null,null,null,null,null,null,null,null,null,null,null,"~"]
["SA36",2020,"DC12",909,null,null,null,null,null,null,null,null,null,null,null,null,null,null,null,null,null,null,"~"]
["SA36",2020,"DC12",910,null,null,null,null,null,null,null,null,null,null,null,null,null,null,null,null,null,null,"~"]
["SA36",2020,"DC12",911,null,null,null,null,null,null,null,null,null,null,null,null,null,null,null,null,null,null,"~"]
["SA36",2020,"DC12",912,null,null,null,null,null,null,null,null,null,null,null,null,null,null,null,null,null,null,"~"]
["SA36",2020,"DC12",913,null,null,null,null,null,null,null,null,null,null,null,null,null,null,null,null,null,null,"~"]
["SA36",2020,"DC12",914,null,null,null,null,null,null,null,null,null,null,null,null,null,null,null,null,null,null,"~"]
["SA36",2020,"DC12",915,null,null,null,null,null,null,null,null,null,null,null,null,null,null,null,null,null,null,"~"]
["SA36",2020,"DC12",916,null,null,null,null,null,null,null,null,null,null,null,null,null,null,null,null,null,null,"~"]
["SA36",2020,"DC12",917,null,null,null,null,null,null,null,null,null,null,null,null,null,null,null,null,null,null,"~"]
["SA36",2020,"DC12",918,null,null,null,null,null,null,null,null,null,null,null,null,null,null,null,null,null,null,"~"]
["SA36",2020,"DC12",919,null,null,null,null,null,null,null,null,null,null,null,null,null,null,null,null,null,null,"~"]
["SA36",{"$f":"+MTREF","v":2020},{"$f":"LEFT(muni,(FIND(\" \",muni,1)-1))","v":"DC12"},920,null,null,null,null,null,null,null,null,null,null,null,null,null,null,null,null,null,null,"~"]
["SA36",2020,"DC12",921,null,null,null,null,null,null,null,null,null,null,null,null,null,null,null,null,null,null,"~"]
["SA36",2020,"DC12",922,null,null,null,null,null,null,null,null,null,null,null,null,null,null,null,null,null,null,"~"]
["SA36",2020,"DC12",923,null,null,null,null,null,null,null,null,null,null,null,null,null,null,null,null,null,null,"~"]
["SA36",2020,"DC12",924,null,null,null,null,null,null,null,null,null,null,null,null,null,null,null,null,null,null,"~"]
["SA36",2020,"DC12",925,null,null,null,null,null,null,null,null,null,null,null,null,null,null,null,null,null,null,"~"]
["SA36",2020,"DC12",926,null,null,null,null,null,null,null,null,null,null,null,null,null,null,null,null,null,null,"~"]
["SA36",2020,"DC12",927,null,null,null,null,null,null,null,null,null,null,null,null,null,null,null,null,null,null,"~"]
["SA36",2020,"DC12",928,null,null,null,null,null,null,null,null,null,null,null,null,null,null,null,null,null,null,"~"]
["SA36",2020,"DC12",929,null,null,null,null,null,null,null,null,null,null,null,null,null,null,null,null,null,null,"~"]
["SA36",2020,"DC12",930,null,null,null,null,null,null,null,null,null,null,null,null,null,null,null,null,null,null,"~"]
["SA36",2020,"DC12",931,null,null,null,null,null,null,null,null,null,null,null,null,null,null,null,null,null,null,"~"]
["SA36",2020,"DC12",932,null,null,null,null,null,null,null,null,null,null,null,null,null,null,null,null,null,null,"~"]
["SA36",2020,"DC12",933,null,null,null,null,null,null,null,null,null,null,null,null,null,null,null,null,null,null,"~"]
["SA36",2020,"DC12",934,null,null,null,null,null,null,null,null,null,null,null,null,null,null,null,null,null,null,"~"]
["SA36",2020,"DC12",935,null,null,null,null,null,null,null,null,null,null,null,null,null,null,null,null,null,null,"~"]
["SA36",2020,"DC12",936,null,null,null,null,null,null,null,null,null,null,null,null,null,null,null,null,null,null,"~"]
["SA36",2020,"DC12",937,null,null,null,null,null,null,null,null,null,null,null,null,null,null,null,null,null,null,"~"]
["SA36",2020,"DC12",938,null,null,null,null,null,null,null,null,null,null,null,null,null,null,null,null,null,null,"~"]
["SA36",2020,"DC12",939,null,null,null,null,null,null,null,null,null,null,null,null,null,null,null,null,null,null,"~"]
["SA36",2020,"DC12",940,null,null,null,null,null,null,null,null,null,null,null,null,null,null,null,null,null,null,"~"]
["SA36",2020,"DC12",941,null,null,null,null,null,null,null,null,null,null,null,null,null,null,null,null,null,null,"~"]
["SA36",2020,"DC12",942,null,null,null,null,null,null,null,null,null,null,null,null,null,null,null,null,null,null,"~"]
["SA36",2020,"DC12",943,null,null,null,null,null,null,null,null,null,null,null,null,null,null,null,null,null,null,"~"]
["SA36",2020,"DC12",944,null,null,null,null,null,null,null,null,null,null,null,null,null,null,null,null,null,null,"~"]
["SA36",2020,"DC12",945,null,null,null,null,null,null,null,null,null,null,null,null,null,null,null,null,null,null,"~"]
["SA36",2020,"DC12",946,null,null,null,null,null,null,null,null,null,null,null,null,null,null,null,null,null,null,"~"]
["SA36",2020,"DC12",947,null,null,null,null,null,null,null,null,null,null,null,null,null,null,null,null,null,null,"~"]
["SA36",2020,"DC12",948,null,null,null,null,null,null,null,null,null,null,null,null,null,null,null,null,null,null,"~"]
["SA36",2020,"DC12",949,null,null,null,null,null,null,null,null,null,null,null,null,null,null,null,null,null,null,"~"]
["SA36",2020,"DC12",950,null,null,null,null,null,null,null,null,null,null,null,null,null,null,null,null,null,null,"~"]
["SA36",2020,"DC12",951,null,null,null,null,null,null,null,null,null,null,null,null,null,null,null,null,null,null,"~"]
["SA36",2020,"DC12",952,null,null,null,null,null,null,null,null,null,null,null,null,null,null,null,null,null,null,"~"]
["SA36",2020,"DC12",953,null,null,null,null,null,null,null,null,null,null,null,null,null,null,null,null,null,null,"~"]
["SA36",2020,"DC12",954,null,null,null,null,null,null,null,null,null,null,null,null,null,null,null,null,null,null,"~"]
["SA36",2020,"DC12",955,null,null,null,null,null,null,null,null,null,null,null,null,null,null,null,null,null,null,"~"]
["SA36",2020,"DC12",956,null,null,null,null,null,null,null,null,null,null,null,null,null,null,null,null,null,null,"~"]
["SA36",2020,"DC12",957,null,null,null,null,null,null,null,null,null,null,null,null,null,null,null,null,null,null,"~"]
["SA36",2020,"DC12",958,null,null,null,null,null,null,null,null,null,null,null,null,null,null,null,null,null,null,"~"]
["SA36",2020,"DC12",959,null,null,null,null,null,null,null,null,null,null,null,null,null,null,null,null,null,null,"~"]
["SA36",2020,"DC12",960,null,null,null,null,null,null,null,null,null,null,null,null,null,null,null,null,null,null,"~"]
["SA36",2020,"DC12",961,null,null,null,null,null,null,null,null,null,null,null,null,null,null,null,null,null,null,"~"]
["SA36",2020,"DC12",962,null,null,null,null,null,null,null,null,null,null,null,null,null,null,null,null,null,null,"~"]
["SA36",2020,"DC12",963,null,null,null,null,null,null,null,null,null,null,null,null,null,null,null,null,null,null,"~"]
["SA36",2020,"DC12",964,null,null,null,null,null,null,null,null,null,null,null,null,null,null,null,null,null,null,"~"]
["SA36",2020,"DC12",965,null,null,null,null,null,null,null,null,null,null,null,null,null,null,null,null,null,null,"~"]
["SA36",2020,"DC12",966,null,null,null,null,null,null,null,null,null,null,null,null,null,null,null,null,null,null,"~"]
["SA36",2020,"DC12",967,null,null,null,null,null,null,null,null,null,null,null,null,null,null,null,null,null,null,"~"]
["SA36",2020,"DC12",968,null,null,null,null,null,null,null,null,null,null,null,null,null,null,null,null,null,null,"~"]
["SA36",2020,"DC12",969,null,null,null,null,null,null,null,null,null,null,null,null,null,null,null,null,null,null,"~"]
["SA36",2020,"DC12",970,null,null,null,null,null,null,null,null,null,null,null,null,null,null,null,null,null,null,"~"]
["SA36",2020,"DC12",971,null,null,null,null,null,null,null,null,null,null,null,null,null,null,null,null,null,null,"~"]
["SA36",2020,"DC12",972,null,null,null,null,null,null,null,null,null,null,null,null,null,null,null,null,null,null,"~"]
["SA36",2020,"DC12",973,null,null,null,null,null,null,null,null,null,null,null,null,null,null,null,null,null,null,"~"]
["SA36",2020,"DC12",974,null,null,null,null,null,null,null,null,null,null,null,null,null,null,null,null,null,null,"~"]
["SA36",2020,"DC12",975,null,null,null,null,null,null,null,null,null,null,null,null,null,null,null,null,null,null,"~"]
["SA36",2020,"DC12",976,null,null,null,null,null,null,null,null,null,null,null,null,null,null,null,null,null,null,"~"]
["SA36",2020,"DC12",977,null,null,null,null,null,null,null,null,null,null,null,null,null,null,null,null,null,null,"~"]
["SA36",2020,"DC12",978,null,null,null,null,null,null,null,null,null,null,null,null,null,null,null,null,null,null,"~"]
["SA36",2020,"DC12",979,null,null,null,null,null,null,null,null,null,null,null,null,null,null,null,null,null,null,"~"]
["SA36",2020,"DC12",980,null,null,null,null,null,null,null,null,null,null,null,null,null,null,null,null,null,null,"~"]
["SA36",2020,"DC12",981,null,null,null,null,null,null,null,null,null,null,null,null,null,null,null,null,null,null,"~"]
["SA36",2020,"DC12",982,null,null,null,null,null,null,null,null,null,null,null,null,null,null,null,null,null,null,"~"]
["SA36",2020,"DC12",983,null,null,null,null,null,null,null,null,null,null,null,null,null,null,null,null,null,null,"~"]
["SA36",{"$f":"+MTREF","v":2020},{"$f":"LEFT(muni,(FIND(\" \",muni,1)-1))","v":"DC12"},984,null,null,null,null,null,null,null,null,null,null,null,null,null,null,null,null,null,null,"~"]
["SA36",2020,"DC12",985,null,null,null,null,null,null,null,null,null,null,null,null,null,null,null,null,null,null,"~"]
["SA36",2020,"DC12",986,null,null,null,null,null,null,null,null,null,null,null,null,null,null,null,null,null,null,"~"]
["SA36",2020,"DC12",987,null,null,null,null,null,null,null,null,null,null,null,null,null,null,null,null,null,null,"~"]
["SA36",2020,"DC12",988,null,null,null,null,null,null,null,null,null,null,null,null,null,null,null,null,null,null,"~"]
["SA36",2020,"DC12",989,null,null,null,null,null,null,null,null,null,null,null,null,null,null,null,null,null,null,"~"]
["SA36",2020,"DC12",990,null,null,null,null,null,null,null,null,null,null,null,null,null,null,null,null,null,null,"~"]
["SA36",2020,"DC12",991,null,null,null,null,null,null,null,null,null,null,null,null,null,null,null,null,null,null,"~"]
["SA36",2020,"DC12",992,null,null,null,null,null,null,null,null,null,null,null,null,null,null,null,null,null,null,"~"]
["SA36",2020,"DC12",993,null,null,null,null,null,null,null,null,null,null,null,null,null,null,null,null,null,null,"~"]
["SA36",2020,"DC12",994,null,null,null,null,null,null,null,null,null,null,null,null,null,null,null,null,null,null,"~"]
["SA36",2020,"DC12",995,null,null,null,null,null,null,null,null,null,null,null,null,null,null,null,null,null,null,"~"]
["SA36",2020,"DC12",996,null,null,null,null,null,null,null,null,null,null,null,null,null,null,null,null,null,null,"~"]
["SA36",2020,"DC12",997,null,null,null,null,null,null,null,null,null,null,null,null,null,null,null,null,null,null,"~"]
["SA36",2020,"DC12",998,null,null,null,null,null,null,null,null,null,null,null,null,null,null,null,null,null,null,"~"]
["SA36",2020,"DC12",999,null,null,null,null,null,null,null,null,null,null,null,null,null,null,null,null,null,null,"~"]
["SA36",2020,"DC12",1000,null,null,null,null,null,null,null,null,null,null,null,null,null,null,null,null,null,null,"~"]
["SA37",2020,"DC12",1,null,null,null,null,null,null,null,null,null,null,null,null,null,null,null,null,null,null,"~"]
["SA37",2020,"DC12",2,null,null,null,null,null,null,null,null,null,null,null,null,null,null,null,null,null,null,"~"]
["SA37",2020,"DC12",3,null,null,null,null,null,null,null,null,null,null,null,null,null,null,null,null,null,null,"~"]
["SA37",2020,"DC12",4,null,null,null,null,null,null,null,null,null,null,null,null,null,null,null,null,null,null,"~"]
["SA37",2020,"DC12",5,null,null,null,null,null,null,null,null,null,null,null,null,null,null,null,null,null,null,"~"]
["SA37",2020,"DC12",6,null,null,null,null,null,null,null,null,null,null,null,null,null,null,null,null,null,null,"~"]
["SA37",2020,"DC12",7,null,null,null,null,null,null,null,null,null,null,null,null,null,null,null,null,null,null,"~"]
["SA37",2020,"DC12",8,null,null,null,null,null,null,null,null,null,null,null,null,null,null,null,null,null,null,"~"]
["SA37",2020,"DC12",9,null,null,null,null,null,null,null,null,null,null,null,null,null,null,null,null,null,null,"~"]
["SA37",2020,"DC12",10,null,null,null,null,null,null,null,null,null,null,null,null,null,null,null,null,null,null,"~"]
["SA37",2020,"DC12",11,null,null,null,null,null,null,null,null,null,null,null,null,null,null,null,null,null,null,"~"]
["SA37",2020,"DC12",12,null,null,null,null,null,null,null,null,null,null,null,null,null,null,null,null,null,null,"~"]
["SA37",2020,"DC12",13,null,null,null,null,null,null,null,null,null,null,null,null,null,null,null,null,null,null,"~"]
["SA37",2020,"DC12",14,null,null,null,null,null,null,null,null,null,null,null,null,null,null,null,null,null,null,"~"]
["SA37",2020,"DC12",15,null,null,null,null,null,null,null,null,null,null,null,null,null,null,null,null,null,null,"~"]
["SA37",2020,"DC12",16,null,null,null,null,null,null,null,null,null,null,null,null,null,null,null,null,null,null,"~"]
["SA37",2020,"DC12",17,null,null,null,null,null,null,null,null,null,null,null,null,null,null,null,null,null,null,"~"]
["SA37",2020,"DC12",18,null,null,null,null,null,null,null,null,null,null,null,null,null,null,null,null,null,null,"~"]
["SA37",2020,"DC12",19,null,null,null,null,null,null,null,null,null,null,null,null,null,null,null,null,null,null,"~"]
["SA37",2020,"DC12",20,null,null,null,null,null,null,null,null,null,null,null,null,null,null,null,null,null,null,"~"]
["SA37",2020,"DC12",21,null,null,null,null,null,null,null,null,null,null,null,null,null,null,null,null,null,null,"~"]
["SA37",2020,"DC12",22,null,null,null,null,null,null,null,null,null,null,null,null,null,null,null,null,null,null,"~"]
["SA37",2020,"DC12",23,null,null,null,null,null,null,null,null,null,null,null,null,null,null,null,null,null,null,"~"]
["SA37",2020,"DC12",24,null,null,null,null,null,null,null,null,null,null,null,null,null,null,null,null,null,null,"~"]
["SA37",2020,"DC12",25,null,null,null,null,null,null,null,null,null,null,null,null,null,null,null,null,null,null,"~"]
["SA37",2020,"DC12",26,null,null,null,null,null,null,null,null,null,null,null,null,null,null,null,null,null,null,"~"]
["SA37",2020,"DC12",27,null,null,null,null,null,null,null,null,null,null,null,null,null,null,null,null,null,null,"~"]
["SA37",2020,"DC12",28,null,null,null,null,null,null,null,null,null,null,null,null,null,null,null,null,null,null,"~"]
["SA37",2020,"DC12",29,null,null,null,null,null,null,null,null,null,null,null,null,null,null,null,null,null,null,"~"]
["SA37",2020,"DC12",30,null,null,null,null,null,null,null,null,null,null,null,null,null,null,null,null,null,null,"~"]
["SA37",2020,"DC12",31,null,null,null,null,null,null,null,null,null,null,null,null,null,null,null,null,null,null,"~"]
["SA37",2020,"DC12",32,null,null,null,null,null,null,null,null,null,null,null,null,null,null,null,null,null,null,"~"]
["SA37",2020,"DC12",33,null,null,null,null,null,null,null,null,null,null,null,null,null,null,null,null,null,null,"~"]
["SA37",2020,"DC12",34,null,null,null,null,null,null,null,null,null,null,null,null,null,null,null,null,null,null,"~"]
["SA37",2020,"DC12",35,null,null,null,null,null,null,null,null,null,null,null,null,null,null,null,null,null,null,"~"]
["SA37",2020,"DC12",36,null,null,null,null,null,null,null,null,null,null,null,null,null,null,null,null,null,null,"~"]
["SA37",2020,"DC12",37,null,null,null,null,null,null,null,null,null,null,null,null,null,null,null,null,null,null,"~"]
["SA37",2020,"DC12",38,null,null,null,null,null,null,null,null,null,null,null,null,null,null,null,null,null,null,"~"]
["SA37",2020,"DC12",39,null,null,null,null,null,null,null,null,null,null,null,null,null,null,null,null,null,null,"~"]
["SA37",2020,"DC12",40,null,null,null,null,null,null,null,null,null,null,null,null,null,null,null,null,null,null,"~"]
["SA37",2020,"DC12",41,null,null,null,null,null,null,null,null,null,null,null,null,null,null,null,null,null,null,"~"]
["SA37",2020,"DC12",42,null,null,null,null,null,null,null,null,null,null,null,null,null,null,null,null,null,null,"~"]
["SA37",2020,"DC12",43,null,null,null,null,null,null,null,null,null,null,null,null,null,null,null,null,null,null,"~"]
["SA37",2020,"DC12",44,null,null,null,null,null,null,null,null,null,null,null,null,null,null,null,null,null,null,"~"]
["SA37",2020,"DC12",45,null,null,null,null,null,null,null,null,null,null,null,null,null,null,null,null,null,null,"~"]
["SA37",2020,"DC12",46,null,null,null,null,null,null,null,null,null,null,null,null,null,null,null,null,null,null,"~"]
["SA37",2020,"DC12",47,null,null,null,null,null,null,null,null,null,null,null,null,null,null,null,null,null,null,"~"]
["SA37",{"$f":"+MTREF","v":2020},{"$f":"LEFT(muni,(FIND(\" \",muni,1)-1))","v":"DC12"},48,null,null,null,null,null,null,null,null,null,null,null,null,null,null,null,null,null,null,"~"]
["SA37",2020,"DC12",49,null,null,null,null,null,null,null,null,null,null,null,null,null,null,null,null,null,null,"~"]
["SA37",2020,"DC12",50,null,null,null,null,null,null,null,null,null,null,null,null,null,null,null,null,null,null,"~"]
["SA37",2020,"DC12",51,null,null,null,null,null,null,null,null,null,null,null,null,null,null,null,null,null,null,"~"]
["SA37",2020,"DC12",52,null,null,null,null,null,null,null,null,null,null,null,null,null,null,null,null,null,null,"~"]
["SA37",2020,"DC12",53,null,null,null,null,null,null,null,null,null,null,null,null,null,null,null,null,null,null,"~"]
["SA37",2020,"DC12",54,null,null,null,null,null,null,null,null,null,null,null,null,null,null,null,null,null,null,"~"]
["SA37",2020,"DC12",55,null,null,null,null,null,null,null,null,null,null,null,null,null,null,null,null,null,null,"~"]
["SA37",2020,"DC12",56,null,null,null,null,null,null,null,null,null,null,null,null,null,null,null,null,null,null,"~"]
["SA37",2020,"DC12",57,null,null,null,null,null,null,null,null,null,null,null,null,null,null,null,null,null,null,"~"]
["SA37",2020,"DC12",58,null,null,null,null,null,null,null,null,null,null,null,null,null,null,null,null,null,null,"~"]
["SA37",2020,"DC12",59,null,null,null,null,null,null,null,null,null,null,null,null,null,null,null,null,null,null,"~"]
["SA37",2020,"DC12",60,null,null,null,null,null,null,null,null,null,null,null,null,null,null,null,null,null,null,"~"]
["SA37",2020,"DC12",61,null,null,null,null,null,null,null,null,null,null,null,null,null,null,null,null,null,null,"~"]
["SA37",2020,"DC12",62,null,null,null,null,null,null,null,null,null,null,null,null,null,null,null,null,null,null,"~"]
["SA37",2020,"DC12",63,null,null,null,null,null,null,null,null,null,null,null,null,null,null,null,null,null,null,"~"]
["SA37",2020,"DC12",64,null,null,null,null,null,null,null,null,null,null,null,null,null,null,null,null,null,null,"~"]
["SA37",2020,"DC12",65,null,null,null,null,null,null,null,null,null,null,null,null,null,null,null,null,null,null,"~"]
["SA37",2020,"DC12",66,null,null,null,null,null,null,null,null,null,null,null,null,null,null,null,null,null,null,"~"]
["SA37",2020,"DC12",67,null,null,null,null,null,null,null,null,null,null,null,null,null,null,null,null,null,null,"~"]
["SA37",2020,"DC12",68,null,null,null,null,null,null,null,null,null,null,null,null,null,null,null,null,null,null,"~"]
["SA37",2020,"DC12",69,null,null,null,null,null,null,null,null,null,null,null,null,null,null,null,null,null,null,"~"]
["SA37",2020,"DC12",70,null,null,null,null,null,null,null,null,null,null,null,null,null,null,null,null,null,null,"~"]
["SA37",2020,"DC12",71,null,null,null,null,null,null,null,null,null,null,null,null,null,null,null,null,null,null,"~"]
["SA37",2020,"DC12",72,null,null,null,null,null,null,null,null,null,null,null,null,null,null,null,null,null,null,"~"]
["SA37",2020,"DC12",73,null,null,null,null,null,null,null,null,null,null,null,null,null,null,null,null,null,null,"~"]
["SA37",2020,"DC12",74,null,null,null,null,null,null,null,null,null,null,null,null,null,null,null,null,null,null,"~"]
["SA37",2020,"DC12",75,null,null,null,null,null,null,null,null,null,null,null,null,null,null,null,null,null,null,"~"]
["SA37",2020,"DC12",76,null,null,null,null,null,null,null,null,null,null,null,null,null,null,null,null,null,null,"~"]
["SA37",2020,"DC12",77,null,null,null,null,null,null,null,null,null,null,null,null,null,null,null,null,null,null,"~"]
["SA37",2020,"DC12",78,null,null,null,null,null,null,null,null,null,null,null,null,null,null,null,null,null,null,"~"]
["SA37",2020,"DC12",79,null,null,null,null,null,null,null,null,null,null,null,null,null,null,null,null,null,null,"~"]
["SA37",2020,"DC12",80,null,null,null,null,null,null,null,null,null,null,null,null,null,null,null,null,null,null,"~"]
["SA37",2020,"DC12",81,null,null,null,null,null,null,null,null,null,null,null,null,null,null,null,null,null,null,"~"]
["SA37",2020,"DC12",82,null,null,null,null,null,null,null,null,null,null,null,null,null,null,null,null,null,null,"~"]
["SA37",2020,"DC12",83,null,null,null,null,null,null,null,null,null,null,null,null,null,null,null,null,null,null,"~"]
["SA37",2020,"DC12",84,null,null,null,null,null,null,null,null,null,null,null,null,null,null,null,null,null,null,"~"]
["SA37",2020,"DC12",85,null,null,null,null,null,null,null,null,null,null,null,null,null,null,null,null,null,null,"~"]
["SA37",2020,"DC12",86,null,null,null,null,null,null,null,null,null,null,null,null,null,null,null,null,null,null,"~"]
["SA37",2020,"DC12",87,null,null,null,null,null,null,null,null,null,null,null,null,null,null,null,null,null,null,"~"]
["SA37",2020,"DC12",88,null,null,null,null,null,null,null,null,null,null,null,null,null,null,null,null,null,null,"~"]
["SA37",2020,"DC12",89,null,null,null,null,null,null,null,null,null,null,null,null,null,null,null,null,null,null,"~"]
["SA37",2020,"DC12",90,null,null,null,null,null,null,null,null,null,null,null,null,null,null,null,null,null,null,"~"]
["SA37",2020,"DC12",91,null,null,null,null,null,null,null,null,null,null,null,null,null,null,null,null,null,null,"~"]
["SA37",2020,"DC12",92,null,null,null,null,null,null,null,null,null,null,null,null,null,null,null,null,null,null,"~"]
["SA37",2020,"DC12",93,null,null,null,null,null,null,null,null,null,null,null,null,null,null,null,null,null,null,"~"]
["SA37",2020,"DC12",94,null,null,null,null,null,null,null,null,null,null,null,null,null,null,null,null,null,null,"~"]
["SA37",2020,"DC12",95,null,null,null,null,null,null,null,null,null,null,null,null,null,null,null,null,null,null,"~"]
["SA37",2020,"DC12",96,null,null,null,null,null,null,null,null,null,null,null,null,null,null,null,null,null,null,"~"]
["SA37",2020,"DC12",97,null,null,null,null,null,null,null,null,null,null,null,null,null,null,null,null,null,null,"~"]
["SA37",2020,"DC12",98,null,null,null,null,null,null,null,null,null,null,null,null,null,null,null,null,null,null,"~"]
["SA37",2020,"DC12",99,null,null,null,null,null,null,null,null,null,null,null,null,null,null,null,null,null,null,"~"]
["SA37",2020,"DC12",100,null,null,null,null,null,null,null,null,null,null,null,null,null,null,null,null,null,null,"~"]
["SA37",2020,"DC12",101,null,null,null,null,null,null,null,null,null,null,null,null,null,null,null,null,null,null,"~"]
["SA37",2020,"DC12",102,null,null,null,null,null,null,null,null,null,null,null,null,null,null,null,null,null,null,"~"]
["SA37",2020,"DC12",103,null,null,null,null,null,null,null,null,null,null,null,null,null,null,null,null,null,null,"~"]
["SA37",2020,"DC12",104,null,null,null,null,null,null,null,null,null,null,null,null,null,null,null,null,null,null,"~"]
["SA37",2020,"DC12",105,null,null,null,null,null,null,null,null,null,null,null,null,null,null,null,null,null,null,"~"]
["SA37",2020,"DC12",106,null,null,null,null,null,null,null,null,null,null,null,null,null,null,null,null,null,null,"~"]
["SA37",2020,"DC12",107,null,null,null,null,null,null,null,null,null,null,null,null,null,null,null,null,null,null,"~"]
["SA37",2020,"DC12",108,null,null,null,null,null,null,null,null,null,null,null,null,null,null,null,null,null,null,"~"]
["SA37",2020,"DC12",109,null,null,null,null,null,null,null,null,null,null,null,null,null,null,null,null,null,null,"~"]
["SA37",2020,"DC12",110,null,null,null,null,null,null,null,null,null,null,null,null,null,null,null,null,null,null,"~"]
["SA37",2020,"DC12",111,null,null,null,null,null,null,null,null,null,null,null,null,null,null,null,null,null,null,"~"]
["SA37",{"$f":"+MTREF","v":2020},{"$f":"LEFT(muni,(FIND(\" \",muni,1)-1))","v":"DC12"},112,null,null,null,null,null,null,null,null,null,null,null,null,null,null,null,null,null,null,"~"]
["SA37",2020,"DC12",113,null,null,null,null,null,null,null,null,null,null,null,null,null,null,null,null,null,null,"~"]
["SA37",2020,"DC12",114,null,null,null,null,null,null,null,null,null,null,null,null,null,null,null,null,null,null,"~"]
["SA37",2020,"DC12",115,null,null,null,null,null,null,null,null,null,null,null,null,null,null,null,null,null,null,"~"]
["SA37",2020,"DC12",116,null,null,null,null,null,null,null,null,null,null,null,null,null,null,null,null,null,null,"~"]
["SA37",2020,"DC12",117,null,null,null,null,null,null,null,null,null,null,null,null,null,null,null,null,null,null,"~"]
["SA37",2020,"DC12",118,null,null,null,null,null,null,null,null,null,null,null,null,null,null,null,null,null,null,"~"]
["SA37",2020,"DC12",119,null,null,null,null,null,null,null,null,null,null,null,null,null,null,null,null,null,null,"~"]
["SA37",2020,"DC12",120,null,null,null,null,null,null,null,null,null,null,null,null,null,null,null,null,null,null,"~"]
["SA37",2020,"DC12",121,null,null,null,null,null,null,null,null,null,null,null,null,null,null,null,null,null,null,"~"]
["SA37",2020,"DC12",122,null,null,null,null,null,null,null,null,null,null,null,null,null,null,null,null,null,null,"~"]
["SA37",2020,"DC12",123,null,null,null,null,null,null,null,null,null,null,null,null,null,null,null,null,null,null,"~"]
["SA37",2020,"DC12",124,null,null,null,null,null,null,null,null,null,null,null,null,null,null,null,null,null,null,"~"]
["SA37",2020,"DC12",125,null,null,null,null,null,null,null,null,null,null,null,null,null,null,null,null,null,null,"~"]
["SA37",2020,"DC12",126,null,null,null,null,null,null,null,null,null,null,null,null,null,null,null,null,null,null,"~"]
["SA37",2020,"DC12",127,null,null,null,null,null,null,null,null,null,null,null,null,null,null,null,null,null,null,"~"]
["SA37",2020,"DC12",128,null,null,null,null,null,null,null,null,null,null,null,null,null,null,null,null,null,null,"~"]
["SA37",2020,"DC12",129,null,null,null,null,null,null,null,null,null,null,null,null,null,null,null,null,null,null,"~"]
["SA37",2020,"DC12",130,null,null,null,null,null,null,null,null,null,null,null,null,null,null,null,null,null,null,"~"]
["SA37",2020,"DC12",131,null,null,null,null,null,null,null,null,null,null,null,null,null,null,null,null,null,null,"~"]
["SA37",2020,"DC12",132,null,null,null,null,null,null,null,null,null,null,null,null,null,null,null,null,null,null,"~"]
["SA37",2020,"DC12",133,null,null,null,null,null,null,null,null,null,null,null,null,null,null,null,null,null,null,"~"]
["SA37",2020,"DC12",134,null,null,null,null,null,null,null,null,null,null,null,null,null,null,null,null,null,null,"~"]
["SA37",2020,"DC12",135,null,null,null,null,null,null,null,null,null,null,null,null,null,null,null,null,null,null,"~"]
["SA37",2020,"DC12",136,null,null,null,null,null,null,null,null,null,null,null,null,null,null,null,null,null,null,"~"]
["SA37",2020,"DC12",137,null,null,null,null,null,null,null,null,null,null,null,null,null,null,null,null,null,null,"~"]
["SA37",2020,"DC12",138,null,null,null,null,null,null,null,null,null,null,null,null,null,null,null,null,null,null,"~"]
["SA37",2020,"DC12",139,null,null,null,null,null,null,null,null,null,null,null,null,null,null,null,null,null,null,"~"]
["SA37",2020,"DC12",140,null,null,null,null,null,null,null,null,null,null,null,null,null,null,null,null,null,null,"~"]
["SA37",2020,"DC12",141,null,null,null,null,null,null,null,null,null,null,null,null,null,null,null,null,null,null,"~"]
["SA37",2020,"DC12",142,null,null,null,null,null,null,null,null,null,null,null,null,null,null,null,null,null,null,"~"]
["SA37",2020,"DC12",143,null,null,null,null,null,null,null,null,null,null,null,null,null,null,null,null,null,null,"~"]
["SA37",2020,"DC12",144,null,null,null,null,null,null,null,null,null,null,null,null,null,null,null,null,null,null,"~"]
["SA37",2020,"DC12",145,null,null,null,null,null,null,null,null,null,null,null,null,null,null,null,null,null,null,"~"]
["SA37",2020,"DC12",146,null,null,null,null,null,null,null,null,null,null,null,null,null,null,null,null,null,null,"~"]
["SA37",2020,"DC12",147,null,null,null,null,null,null,null,null,null,null,null,null,null,null,null,null,null,null,"~"]
["SA37",2020,"DC12",148,null,null,null,null,null,null,null,null,null,null,null,null,null,null,null,null,null,null,"~"]
["SA37",2020,"DC12",149,null,null,null,null,null,null,null,null,null,null,null,null,null,null,null,null,null,null,"~"]
["SA37",2020,"DC12",150,null,null,null,null,null,null,null,null,null,null,null,null,null,null,null,null,null,null,"~"]
["SA37",2020,"DC12",151,null,null,null,null,null,null,null,null,null,null,null,null,null,null,null,null,null,null,"~"]
["SA37",2020,"DC12",152,null,null,null,null,null,null,null,null,null,null,null,null,null,null,null,null,null,null,"~"]
["SA37",2020,"DC12",153,null,null,null,null,null,null,null,null,null,null,null,null,null,null,null,null,null,null,"~"]
["SA37",2020,"DC12",154,null,null,null,null,null,null,null,null,null,null,null,null,null,null,null,null,null,null,"~"]
["SA37",2020,"DC12",155,null,null,null,null,null,null,null,null,null,null,null,null,null,null,null,null,null,null,"~"]
["SA37",2020,"DC12",156,null,null,null,null,null,null,null,null,null,null,null,null,null,null,null,null,null,null,"~"]
["SA37",2020,"DC12",157,null,null,null,null,null,null,null,null,null,null,null,null,null,null,null,null,null,null,"~"]
["SA37",2020,"DC12",158,null,null,null,null,null,null,null,null,null,null,null,null,null,null,null,null,null,null,"~"]
["SA37",2020,"DC12",159,null,null,null,null,null,null,null,null,null,null,null,null,null,null,null,null,null,null,"~"]
["SA37",2020,"DC12",160,null,null,null,null,null,null,null,null,null,null,null,null,null,null,null,null,null,null,"~"]
["SA37",2020,"DC12",161,null,null,null,null,null,null,null,null,null,null,null,null,null,null,null,null,null,null,"~"]
["SA37",2020,"DC12",162,null,null,null,null,null,null,null,null,null,null,null,null,null,null,null,null,null,null,"~"]
["SA37",2020,"DC12",163,null,null,null,null,null,null,null,null,null,null,null,null,null,null,null,null,null,null,"~"]
["SA37",2020,"DC12",164,null,null,null,null,null,null,null,null,null,null,null,null,null,null,null,null,null,null,"~"]
["SA37",2020,"DC12",165,null,null,null,null,null,null,null,null,null,null,null,null,null,null,null,null,null,null,"~"]
["SA37",2020,"DC12",166,null,null,null,null,null,null,null,null,null,null,null,null,null,null,null,null,null,null,"~"]
["SA37",2020,"DC12",167,null,null,null,null,null,null,null,null,null,null,null,null,null,null,null,null,null,null,"~"]
["SA37",2020,"DC12",168,null,null,null,null,null,null,null,null,null,null,null,null,null,null,null,null,null,null,"~"]
["SA37",2020,"DC12",169,null,null,null,null,null,null,null,null,null,null,null,null,null,null,null,null,null,null,"~"]
["SA37",2020,"DC12",170,null,null,null,null,null,null,null,null,null,null,null,null,null,null,null,null,null,null,"~"]
["SA37",2020,"DC12",171,null,null,null,null,null,null,null,null,null,null,null,null,null,null,null,null,null,null,"~"]
["SA37",2020,"DC12",172,null,null,null,null,null,null,null,null,null,null,null,null,null,null,null,null,null,null,"~"]
["SA37",2020,"DC12",173,null,null,null,null,null,null,null,null,null,null,null,null,null,null,null,null,null,null,"~"]
["SA37",2020,"DC12",174,null,null,null,null,null,null,null,null,null,null,null,null,null,null,null,null,null,null,"~"]
["SA37",2020,"DC12",175,null,null,null,null,null,null,null,null,null,null,null,null,null,null,null,null,null,null,"~"]
["SA37",{"$f":"+MTREF","v":2020},{"$f":"LEFT(muni,(FIND(\" \",muni,1)-1))","v":"DC12"},176,null,null,null,null,null,null,null,null,null,null,null,null,null,null,null,null,null,null,"~"]
["SA37",2020,"DC12",177,null,null,null,null,null,null,null,null,null,null,null,null,null,null,null,null,null,null,"~"]
["SA37",2020,"DC12",178,null,null,null,null,null,null,null,null,null,null,null,null,null,null,null,null,null,null,"~"]
["SA37",2020,"DC12",179,null,null,null,null,null,null,null,null,null,null,null,null,null,null,null,null,null,null,"~"]
["SA37",2020,"DC12",180,null,null,null,null,null,null,null,null,null,null,null,null,null,null,null,null,null,null,"~"]
["SA37",2020,"DC12",181,null,null,null,null,null,null,null,null,null,null,null,null,null,null,null,null,null,null,"~"]
["SA37",2020,"DC12",182,null,null,null,null,null,null,null,null,null,null,null,null,null,null,null,null,null,null,"~"]
["SA37",2020,"DC12",183,null,null,null,null,null,null,null,null,null,null,null,null,null,null,null,null,null,null,"~"]
["SA37",2020,"DC12",184,null,null,null,null,null,null,null,null,null,null,null,null,null,null,null,null,null,null,"~"]
["SA37",2020,"DC12",185,null,null,null,null,null,null,null,null,null,null,null,null,null,null,null,null,null,null,"~"]
["SA37",2020,"DC12",186,null,null,null,null,null,null,null,null,null,null,null,null,null,null,null,null,null,null,"~"]
["SA37",2020,"DC12",187,null,null,null,null,null,null,null,null,null,null,null,null,null,null,null,null,null,null,"~"]
["SA37",2020,"DC12",188,null,null,null,null,null,null,null,null,null,null,null,null,null,null,null,null,null,null,"~"]
["SA37",2020,"DC12",189,null,null,null,null,null,null,null,null,null,null,null,null,null,null,null,null,null,null,"~"]
["SA37",2020,"DC12",190,null,null,null,null,null,null,null,null,null,null,null,null,null,null,null,null,null,null,"~"]
["SA37",2020,"DC12",191,null,null,null,null,null,null,null,null,null,null,null,null,null,null,null,null,null,null,"~"]
["SA37",2020,"DC12",192,null,null,null,null,null,null,null,null,null,null,null,null,null,null,null,null,null,null,"~"]
["SA37",2020,"DC12",193,null,null,null,null,null,null,null,null,null,null,null,null,null,null,null,null,null,null,"~"]
["SA37",2020,"DC12",194,null,null,null,null,null,null,null,null,null,null,null,null,null,null,null,null,null,null,"~"]
["SA37",2020,"DC12",195,null,null,null,null,null,null,null,null,null,null,null,null,null,null,null,null,null,null,"~"]
["SA37",2020,"DC12",196,null,null,null,null,null,null,null,null,null,null,null,null,null,null,null,null,null,null,"~"]
["SA37",2020,"DC12",197,null,null,null,null,null,null,null,null,null,null,null,null,null,null,null,null,null,null,"~"]
["SA37",2020,"DC12",198,null,null,null,null,null,null,null,null,null,null,null,null,null,null,null,null,null,null,"~"]
["SA37",2020,"DC12",199,null,null,null,null,null,null,null,null,null,null,null,null,null,null,null,null,null,null,"~"]
["SA37",2020,"DC12",200,null,null,null,null,null,null,null,null,null,null,null,null,null,null,null,null,null,null,"~"]
["SA37",2020,"DC12",201,null,null,null,null,null,null,null,null,null,null,null,null,null,null,null,null,null,null,"~"]
["SA37",2020,"DC12",202,null,null,null,null,null,null,null,null,null,null,null,null,null,null,null,null,null,null,"~"]
["SA37",2020,"DC12",203,null,null,null,null,null,null,null,null,null,null,null,null,null,null,null,null,null,null,"~"]
["SA37",2020,"DC12",204,null,null,null,null,null,null,null,null,null,null,null,null,null,null,null,null,null,null,"~"]
["SA37",2020,"DC12",205,null,null,null,null,null,null,null,null,null,null,null,null,null,null,null,null,null,null,"~"]
["SA37",2020,"DC12",206,null,null,null,null,null,null,null,null,null,null,null,null,null,null,null,null,null,null,"~"]
["SA37",2020,"DC12",207,null,null,null,null,null,null,null,null,null,null,null,null,null,null,null,null,null,null,"~"]
["SA37",2020,"DC12",208,null,null,null,null,null,null,null,null,null,null,null,null,null,null,null,null,null,null,"~"]
["SA37",2020,"DC12",209,null,null,null,null,null,null,null,null,null,null,null,null,null,null,null,null,null,null,"~"]
["SA37",2020,"DC12",210,null,null,null,null,null,null,null,null,null,null,null,null,null,null,null,null,null,null,"~"]
["SA37",2020,"DC12",211,null,null,null,null,null,null,null,null,null,null,null,null,null,null,null,null,null,null,"~"]
["SA37",2020,"DC12",212,null,null,null,null,null,null,null,null,null,null,null,null,null,null,null,null,null,null,"~"]
["SA37",2020,"DC12",213,null,null,null,null,null,null,null,null,null,null,null,null,null,null,null,null,null,null,"~"]
["SA37",2020,"DC12",214,null,null,null,null,null,null,null,null,null,null,null,null,null,null,null,null,null,null,"~"]
["SA37",2020,"DC12",215,null,null,null,null,null,null,null,null,null,null,null,null,null,null,null,null,null,null,"~"]
["SA37",2020,"DC12",216,null,null,null,null,null,null,null,null,null,null,null,null,null,null,null,null,null,null,"~"]
["SA37",2020,"DC12",217,null,null,null,null,null,null,null,null,null,null,null,null,null,null,null,null,null,null,"~"]
["SA37",2020,"DC12",218,null,null,null,null,null,null,null,null,null,null,null,null,null,null,null,null,null,null,"~"]
["SA37",2020,"DC12",219,null,null,null,null,null,null,null,null,null,null,null,null,null,null,null,null,null,null,"~"]
["SA37",2020,"DC12",220,null,null,null,null,null,null,null,null,null,null,null,null,null,null,null,null,null,null,"~"]
["SA37",2020,"DC12",221,null,null,null,null,null,null,null,null,null,null,null,null,null,null,null,null,null,null,"~"]
["SA37",2020,"DC12",222,null,null,null,null,null,null,null,null,null,null,null,null,null,null,null,null,null,null,"~"]
["SA37",2020,"DC12",223,null,null,null,null,null,null,null,null,null,null,null,null,null,null,null,null,null,null,"~"]
["SA37",2020,"DC12",224,null,null,null,null,null,null,null,null,null,null,null,null,null,null,null,null,null,null,"~"]
["SA37",2020,"DC12",225,null,null,null,null,null,null,null,null,null,null,null,null,null,null,null,null,null,null,"~"]
["SA37",2020,"DC12",226,null,null,null,null,null,null,null,null,null,null,null,null,null,null,null,null,null,null,"~"]
["SA37",2020,"DC12",227,null,null,null,null,null,null,null,null,null,null,null,null,null,null,null,null,null,null,"~"]
["SA37",2020,"DC12",228,null,null,null,null,null,null,null,null,null,null,null,null,null,null,null,null,null,null,"~"]
["SA37",2020,"DC12",229,null,null,null,null,null,null,null,null,null,null,null,null,null,null,null,null,null,null,"~"]
["SA37",2020,"DC12",230,null,null,null,null,null,null,null,null,null,null,null,null,null,null,null,null,null,null,"~"]
["SA37",2020,"DC12",231,null,null,null,null,null,null,null,null,null,null,null,null,null,null,null,null,null,null,"~"]
["SA37",2020,"DC12",232,null,null,null,null,null,null,null,null,null,null,null,null,null,null,null,null,null,null,"~"]
["SA37",2020,"DC12",233,null,null,null,null,null,null,null,null,null,null,null,null,null,null,null,null,null,null,"~"]
["SA37",2020,"DC12",234,null,null,null,null,null,null,null,null,null,null,null,null,null,null,null,null,null,null,"~"]
["SA37",2020,"DC12",235,null,null,null,null,null,null,null,null,null,null,null,null,null,null,null,null,null,null,"~"]
["SA37",2020,"DC12",236,null,null,null,null,null,null,null,null,null,null,null,null,null,null,null,null,null,null,"~"]
["SA37",2020,"DC12",237,null,null,null,null,null,null,null,null,null,null,null,null,null,null,null,null,null,null,"~"]
["SA37",2020,"DC12",238,null,null,null,null,null,null,null,null,null,null,null,null,null,null,null,null,null,null,"~"]
["SA37",2020,"DC12",239,null,null,null,null,null,null,null,null,null,null,null,null,null,null,null,null,null,null,"~"]
["SA37",{"$f":"+MTREF","v":2020},{"$f":"LEFT(muni,(FIND(\" \",muni,1)-1))","v":"DC12"},240,null,null,null,null,null,null,null,null,null,null,null,null,null,null,null,null,null,null,"~"]
["SA37",2020,"DC12",241,null,null,null,null,null,null,null,null,null,null,null,null,null,null,null,null,null,null,"~"]
["SA37",2020,"DC12",242,null,null,null,null,null,null,null,null,null,null,null,null,null,null,null,null,null,null,"~"]
["SA37",2020,"DC12",243,null,null,null,null,null,null,null,null,null,null,null,null,null,null,null,null,null,null,"~"]
["SA37",2020,"DC12",244,null,null,null,null,null,null,null,null,null,null,null,null,null,null,null,null,null,null,"~"]
["SA37",2020,"DC12",245,null,null,null,null,null,null,null,null,null,null,null,null,null,null,null,null,null,null,"~"]
["SA37",2020,"DC12",246,null,null,null,null,null,null,null,null,null,null,null,null,null,null,null,null,null,null,"~"]
["SA37",2020,"DC12",247,null,null,null,null,null,null,null,null,null,null,null,null,null,null,null,null,null,null,"~"]
["SA37",2020,"DC12",248,null,null,null,null,null,null,null,null,null,null,null,null,null,null,null,null,null,null,"~"]
["SA37",2020,"DC12",249,null,null,null,null,null,null,null,null,null,null,null,null,null,null,null,null,null,null,"~"]
["SA37",2020,"DC12",250,null,null,null,null,null,null,null,null,null,null,null,null,null,null,null,null,null,null,"~"]
["SA37",2020,"DC12",251,null,null,null,null,null,null,null,null,null,null,null,null,null,null,null,null,null,null,"~"]
["SA37",2020,"DC12",252,null,null,null,null,null,null,null,null,null,null,null,null,null,null,null,null,null,null,"~"]
["SA37",2020,"DC12",253,null,null,null,null,null,null,null,null,null,null,null,null,null,null,null,null,null,null,"~"]
["SA37",2020,"DC12",254,null,null,null,null,null,null,null,null,null,null,null,null,null,null,null,null,null,null,"~"]
["SA37",2020,"DC12",255,null,null,null,null,null,null,null,null,null,null,null,null,null,null,null,null,null,null,"~"]
["SA37",2020,"DC12",256,null,null,null,null,null,null,null,null,null,null,null,null,null,null,null,null,null,null,"~"]
["SA37",2020,"DC12",257,null,null,null,null,null,null,null,null,null,null,null,null,null,null,null,null,null,null,"~"]
["SA37",2020,"DC12",258,null,null,null,null,null,null,null,null,null,null,null,null,null,null,null,null,null,null,"~"]
["SA37",2020,"DC12",259,null,null,null,null,null,null,null,null,null,null,null,null,null,null,null,null,null,null,"~"]
["SA37",2020,"DC12",260,null,null,null,null,null,null,null,null,null,null,null,null,null,null,null,null,null,null,"~"]
["SA37",2020,"DC12",261,null,null,null,null,null,null,null,null,null,null,null,null,null,null,null,null,null,null,"~"]
["SA37",2020,"DC12",262,null,null,null,null,null,null,null,null,null,null,null,null,null,null,null,null,null,null,"~"]
["SA37",2020,"DC12",263,null,null,null,null,null,null,null,null,null,null,null,null,null,null,null,null,null,null,"~"]
["SA37",2020,"DC12",264,null,null,null,null,null,null,null,null,null,null,null,null,null,null,null,null,null,null,"~"]
["SA37",2020,"DC12",265,null,null,null,null,null,null,null,null,null,null,null,null,null,null,null,null,null,null,"~"]
["SA37",2020,"DC12",266,null,null,null,null,null,null,null,null,null,null,null,null,null,null,null,null,null,null,"~"]
["SA37",2020,"DC12",267,null,null,null,null,null,null,null,null,null,null,null,null,null,null,null,null,null,null,"~"]
["SA37",2020,"DC12",268,null,null,null,null,null,null,null,null,null,null,null,null,null,null,null,null,null,null,"~"]
["SA37",2020,"DC12",269,null,null,null,null,null,null,null,null,null,null,null,null,null,null,null,null,null,null,"~"]
["SA37",2020,"DC12",270,null,null,null,null,null,null,null,null,null,null,null,null,null,null,null,null,null,null,"~"]
["SA37",2020,"DC12",271,null,null,null,null,null,null,null,null,null,null,null,null,null,null,null,null,null,null,"~"]
["SA37",2020,"DC12",272,null,null,null,null,null,null,null,null,null,null,null,null,null,null,null,null,null,null,"~"]
["SA37",2020,"DC12",273,null,null,null,null,null,null,null,null,null,null,null,null,null,null,null,null,null,null,"~"]
["SA37",2020,"DC12",274,null,null,null,null,null,null,null,null,null,null,null,null,null,null,null,null,null,null,"~"]
["SA37",2020,"DC12",275,null,null,null,null,null,null,null,null,null,null,null,null,null,null,null,null,null,null,"~"]
["SA37",2020,"DC12",276,null,null,null,null,null,null,null,null,null,null,null,null,null,null,null,null,null,null,"~"]
["SA37",2020,"DC12",277,null,null,null,null,null,null,null,null,null,null,null,null,null,null,null,null,null,null,"~"]
["SA37",2020,"DC12",278,null,null,null,null,null,null,null,null,null,null,null,null,null,null,null,null,null,null,"~"]
["SA37",2020,"DC12",279,null,null,null,null,null,null,null,null,null,null,null,null,null,null,null,null,null,null,"~"]
["SA37",2020,"DC12",280,null,null,null,null,null,null,null,null,null,null,null,null,null,null,null,null,null,null,"~"]
["SA37",2020,"DC12",281,null,null,null,null,null,null,null,null,null,null,null,null,null,null,null,null,null,null,"~"]
["SA37",2020,"DC12",282,null,null,null,null,null,null,null,null,null,null,null,null,null,null,null,null,null,null,"~"]
["SA37",2020,"DC12",283,null,null,null,null,null,null,null,null,null,null,null,null,null,null,null,null,null,null,"~"]
["SA37",2020,"DC12",284,null,null,null,null,null,null,null,null,null,null,null,null,null,null,null,null,null,null,"~"]
["SA37",2020,"DC12",285,null,null,null,null,null,null,null,null,null,null,null,null,null,null,null,null,null,null,"~"]
["SA37",2020,"DC12",286,null,null,null,null,null,null,null,null,null,null,null,null,null,null,null,null,null,null,"~"]
["SA37",2020,"DC12",287,null,null,null,null,null,null,null,null,null,null,null,null,null,null,null,null,null,null,"~"]
["SA37",2020,"DC12",288,null,null,null,null,null,null,null,null,null,null,null,null,null,null,null,null,null,null,"~"]
["SA37",2020,"DC12",289,null,null,null,null,null,null,null,null,null,null,null,null,null,null,null,null,null,null,"~"]
["SA37",2020,"DC12",290,null,null,null,null,null,null,null,null,null,null,null,null,null,null,null,null,null,null,"~"]
["SA37",2020,"DC12",291,null,null,null,null,null,null,null,null,null,null,null,null,null,null,null,null,null,null,"~"]
["SA37",2020,"DC12",292,null,null,null,null,null,null,null,null,null,null,null,null,null,null,null,null,null,null,"~"]
["SA37",2020,"DC12",293,null,null,null,null,null,null,null,null,null,null,null,null,null,null,null,null,null,null,"~"]
["SA37",2020,"DC12",294,null,null,null,null,null,null,null,null,null,null,null,null,null,null,null,null,null,null,"~"]
["SA37",2020,"DC12",295,null,null,null,null,null,null,null,null,null,null,null,null,null,null,null,null,null,null,"~"]
["SA37",2020,"DC12",296,null,null,null,null,null,null,null,null,null,null,null,null,null,null,null,null,null,null,"~"]
["SA37",2020,"DC12",297,null,null,null,null,null,null,null,null,null,null,null,null,null,null,null,null,null,null,"~"]
["SA37",2020,"DC12",298,null,null,null,null,null,null,null,null,null,null,null,null,null,null,null,null,null,null,"~"]
["SA37",2020,"DC12",299,null,null,null,null,null,null,null,null,null,null,null,null,null,null,null,null,null,null,"~"]
["SA37",2020,"DC12",300,null,null,null,null,null,null,null,null,null,null,null,null,null,null,null,null,null,null,"~"]
["SA37",2020,"DC12",301,null,null,null,null,null,null,null,null,null,null,null,null,null,null,null,null,null,null,"~"]
["SA37",2020,"DC12",302,null,null,null,null,null,null,null,null,null,null,null,null,null,null,null,null,null,null,"~"]
["SA37",2020,"DC12",303,null,null,null,null,null,null,null,null,null,null,null,null,null,null,null,null,null,null,"~"]
["SA37",{"$f":"+MTREF","v":2020},{"$f":"LEFT(muni,(FIND(\" \",muni,1)-1))","v":"DC12"},304,null,null,null,null,null,null,null,null,null,null,null,null,null,null,null,null,null,null,"~"]
["SA37",2020,"DC12",305,null,null,null,null,null,null,null,null,null,null,null,null,null,null,null,null,null,null,"~"]
["SA37",2020,"DC12",306,null,null,null,null,null,null,null,null,null,null,null,null,null,null,null,null,null,null,"~"]
["SA37",2020,"DC12",307,null,null,null,null,null,null,null,null,null,null,null,null,null,null,null,null,null,null,"~"]
["SA37",2020,"DC12",308,null,null,null,null,null,null,null,null,null,null,null,null,null,null,null,null,null,null,"~"]
["SA37",2020,"DC12",309,null,null,null,null,null,null,null,null,null,null,null,null,null,null,null,null,null,null,"~"]
["SA37",2020,"DC12",310,null,null,null,null,null,null,null,null,null,null,null,null,null,null,null,null,null,null,"~"]
["SA37",2020,"DC12",311,null,null,null,null,null,null,null,null,null,null,null,null,null,null,null,null,null,null,"~"]
["SA37",2020,"DC12",312,null,null,null,null,null,null,null,null,null,null,null,null,null,null,null,null,null,null,"~"]
["SA37",2020,"DC12",313,null,null,null,null,null,null,null,null,null,null,null,null,null,null,null,null,null,null,"~"]
["SA37",2020,"DC12",314,null,null,null,null,null,null,null,null,null,null,null,null,null,null,null,null,null,null,"~"]
["SA37",2020,"DC12",315,null,null,null,null,null,null,null,null,null,null,null,null,null,null,null,null,null,null,"~"]
["SA37",2020,"DC12",316,null,null,null,null,null,null,null,null,null,null,null,null,null,null,null,null,null,null,"~"]
["SA37",2020,"DC12",317,null,null,null,null,null,null,null,null,null,null,null,null,null,null,null,null,null,null,"~"]
["SA37",2020,"DC12",318,null,null,null,null,null,null,null,null,null,null,null,null,null,null,null,null,null,null,"~"]
["SA37",2020,"DC12",319,null,null,null,null,null,null,null,null,null,null,null,null,null,null,null,null,null,null,"~"]
["SA37",2020,"DC12",320,null,null,null,null,null,null,null,null,null,null,null,null,null,null,null,null,null,null,"~"]
["SA37",2020,"DC12",321,null,null,null,null,null,null,null,null,null,null,null,null,null,null,null,null,null,null,"~"]
["SA37",2020,"DC12",322,null,null,null,null,null,null,null,null,null,null,null,null,null,null,null,null,null,null,"~"]
["SA37",2020,"DC12",323,null,null,null,null,null,null,null,null,null,null,null,null,null,null,null,null,null,null,"~"]
["SA37",2020,"DC12",324,null,null,null,null,null,null,null,null,null,null,null,null,null,null,null,null,null,null,"~"]
["SA37",2020,"DC12",325,null,null,null,null,null,null,null,null,null,null,null,null,null,null,null,null,null,null,"~"]
["SA37",2020,"DC12",326,null,null,null,null,null,null,null,null,null,null,null,null,null,null,null,null,null,null,"~"]
["SA37",2020,"DC12",327,null,null,null,null,null,null,null,null,null,null,null,null,null,null,null,null,null,null,"~"]
["SA37",2020,"DC12",328,null,null,null,null,null,null,null,null,null,null,null,null,null,null,null,null,null,null,"~"]
["SA37",2020,"DC12",329,null,null,null,null,null,null,null,null,null,null,null,null,null,null,null,null,null,null,"~"]
["SA37",2020,"DC12",330,null,null,null,null,null,null,null,null,null,null,null,null,null,null,null,null,null,null,"~"]
["SA37",2020,"DC12",331,null,null,null,null,null,null,null,null,null,null,null,null,null,null,null,null,null,null,"~"]
["SA37",2020,"DC12",332,null,null,null,null,null,null,null,null,null,null,null,null,null,null,null,null,null,null,"~"]
["SA37",2020,"DC12",333,null,null,null,null,null,null,null,null,null,null,null,null,null,null,null,null,null,null,"~"]
["SA37",2020,"DC12",334,null,null,null,null,null,null,null,null,null,null,null,null,null,null,null,null,null,null,"~"]
["SA37",2020,"DC12",335,null,null,null,null,null,null,null,null,null,null,null,null,null,null,null,null,null,null,"~"]
["SA37",2020,"DC12",336,null,null,null,null,null,null,null,null,null,null,null,null,null,null,null,null,null,null,"~"]
["SA37",2020,"DC12",337,null,null,null,null,null,null,null,null,null,null,null,null,null,null,null,null,null,null,"~"]
["SA37",2020,"DC12",338,null,null,null,null,null,null,null,null,null,null,null,null,null,null,null,null,null,null,"~"]
["SA37",2020,"DC12",339,null,null,null,null,null,null,null,null,null,null,null,null,null,null,null,null,null,null,"~"]
["SA37",2020,"DC12",340,null,null,null,null,null,null,null,null,null,null,null,null,null,null,null,null,null,null,"~"]
["SA37",2020,"DC12",341,null,null,null,null,null,null,null,null,null,null,null,null,null,null,null,null,null,null,"~"]
["SA37",2020,"DC12",342,null,null,null,null,null,null,null,null,null,null,null,null,null,null,null,null,null,null,"~"]
["SA37",2020,"DC12",343,null,null,null,null,null,null,null,null,null,null,null,null,null,null,null,null,null,null,"~"]
["SA37",2020,"DC12",344,null,null,null,null,null,null,null,null,null,null,null,null,null,null,null,null,null,null,"~"]
["SA37",2020,"DC12",345,null,null,null,null,null,null,null,null,null,null,null,null,null,null,null,null,null,null,"~"]
["SA37",2020,"DC12",346,null,null,null,null,null,null,null,null,null,null,null,null,null,null,null,null,null,null,"~"]
["SA37",2020,"DC12",347,null,null,null,null,null,null,null,null,null,null,null,null,null,null,null,null,null,null,"~"]
["SA37",2020,"DC12",348,null,null,null,null,null,null,null,null,null,null,null,null,null,null,null,null,null,null,"~"]
["SA37",2020,"DC12",349,null,null,null,null,null,null,null,null,null,null,null,null,null,null,null,null,null,null,"~"]
["SA37",2020,"DC12",350,null,null,null,null,null,null,null,null,null,null,null,null,null,null,null,null,null,null,"~"]
["SA37",2020,"DC12",351,null,null,null,null,null,null,null,null,null,null,null,null,null,null,null,null,null,null,"~"]
["SA37",2020,"DC12",352,null,null,null,null,null,null,null,null,null,null,null,null,null,null,null,null,null,null,"~"]
["SA37",2020,"DC12",353,null,null,null,null,null,null,null,null,null,null,null,null,null,null,null,null,null,null,"~"]
["SA37",2020,"DC12",354,null,null,null,null,null,null,null,null,null,null,null,null,null,null,null,null,null,null,"~"]
["SA37",2020,"DC12",355,null,null,null,null,null,null,null,null,null,null,null,null,null,null,null,null,null,null,"~"]
["SA37",2020,"DC12",356,null,null,null,null,null,null,null,null,null,null,null,null,null,null,null,null,null,null,"~"]
["SA37",2020,"DC12",357,null,null,null,null,null,null,null,null,null,null,null,null,null,null,null,null,null,null,"~"]
["SA37",2020,"DC12",358,null,null,null,null,null,null,null,null,null,null,null,null,null,null,null,null,null,null,"~"]
["SA37",2020,"DC12",359,null,null,null,null,null,null,null,null,null,null,null,null,null,null,null,null,null,null,"~"]
["SA37",2020,"DC12",360,null,null,null,null,null,null,null,null,null,null,null,null,null,null,null,null,null,null,"~"]
["SA37",2020,"DC12",361,null,null,null,null,null,null,null,null,null,null,null,null,null,null,null,null,null,null,"~"]
["SA37",2020,"DC12",362,null,null,null,null,null,null,null,null,null,null,null,null,null,null,null,null,null,null,"~"]
["SA37",2020,"DC12",363,null,null,null,null,null,null,null,null,null,null,null,null,null,null,null,null,null,null,"~"]
["SA37",2020,"DC12",364,null,null,null,null,null,null,null,null,null,null,null,null,null,null,null,null,null,null,"~"]
["SA37",2020,"DC12",365,null,null,null,null,null,null,null,null,null,null,null,null,null,null,null,null,null,null,"~"]
["SA37",2020,"DC12",366,null,null,null,null,null,null,null,null,null,null,null,null,null,null,null,null,null,null,"~"]
["SA37",2020,"DC12",367,null,null,null,null,null,null,null,null,null,null,null,null,null,null,null,null,null,null,"~"]
["SA37",{"$f":"+MTREF","v":2020},{"$f":"LEFT(muni,(FIND(\" \",muni,1)-1))","v":"DC12"},368,null,null,null,null,null,null,null,null,null,null,null,null,null,null,null,null,null,null,"~"]
["SA37",2020,"DC12",369,null,null,null,null,null,null,null,null,null,null,null,null,null,null,null,null,null,null,"~"]
["SA37",2020,"DC12",370,null,null,null,null,null,null,null,null,null,null,null,null,null,null,null,null,null,null,"~"]
["SA37",2020,"DC12",371,null,null,null,null,null,null,null,null,null,null,null,null,null,null,null,null,null,null,"~"]
["SA37",2020,"DC12",372,null,null,null,null,null,null,null,null,null,null,null,null,null,null,null,null,null,null,"~"]
["SA37",2020,"DC12",373,null,null,null,null,null,null,null,null,null,null,null,null,null,null,null,null,null,null,"~"]
["SA37",2020,"DC12",374,null,null,null,null,null,null,null,null,null,null,null,null,null,null,null,null,null,null,"~"]
["SA37",2020,"DC12",375,null,null,null,null,null,null,null,null,null,null,null,null,null,null,null,null,null,null,"~"]
["SA37",2020,"DC12",376,null,null,null,null,null,null,null,null,null,null,null,null,null,null,null,null,null,null,"~"]
["SA37",2020,"DC12",377,null,null,null,null,null,null,null,null,null,null,null,null,null,null,null,null,null,null,"~"]
["SA37",2020,"DC12",378,null,null,null,null,null,null,null,null,null,null,null,null,null,null,null,null,null,null,"~"]
["SA37",2020,"DC12",379,null,null,null,null,null,null,null,null,null,null,null,null,null,null,null,null,null,null,"~"]
["SA37",2020,"DC12",380,null,null,null,null,null,null,null,null,null,null,null,null,null,null,null,null,null,null,"~"]
["SA37",2020,"DC12",381,null,null,null,null,null,null,null,null,null,null,null,null,null,null,null,null,null,null,"~"]
["SA37",2020,"DC12",382,null,null,null,null,null,null,null,null,null,null,null,null,null,null,null,null,null,null,"~"]
["SA37",2020,"DC12",383,null,null,null,null,null,null,null,null,null,null,null,null,null,null,null,null,null,null,"~"]
["SA37",2020,"DC12",384,null,null,null,null,null,null,null,null,null,null,null,null,null,null,null,null,null,null,"~"]
["SA37",2020,"DC12",385,null,null,null,null,null,null,null,null,null,null,null,null,null,null,null,null,null,null,"~"]
["SA37",2020,"DC12",386,null,null,null,null,null,null,null,null,null,null,null,null,null,null,null,null,null,null,"~"]
["SA37",2020,"DC12",387,null,null,null,null,null,null,null,null,null,null,null,null,null,null,null,null,null,null,"~"]
["SA37",2020,"DC12",388,null,null,null,null,null,null,null,null,null,null,null,null,null,null,null,null,null,null,"~"]
["SA37",2020,"DC12",389,null,null,null,null,null,null,null,null,null,null,null,null,null,null,null,null,null,null,"~"]
["SA37",2020,"DC12",390,null,null,null,null,null,null,null,null,null,null,null,null,null,null,null,null,null,null,"~"]
["SA37",2020,"DC12",391,null,null,null,null,null,null,null,null,null,null,null,null,null,null,null,null,null,null,"~"]
["SA37",2020,"DC12",392,null,null,null,null,null,null,null,null,null,null,null,null,null,null,null,null,null,null,"~"]
["SA37",2020,"DC12",393,null,null,null,null,null,null,null,null,null,null,null,null,null,null,null,null,null,null,"~"]
["SA37",2020,"DC12",394,null,null,null,null,null,null,null,null,null,null,null,null,null,null,null,null,null,null,"~"]
["SA37",2020,"DC12",395,null,null,null,null,null,null,null,null,null,null,null,null,null,null,null,null,null,null,"~"]
["SA37",2020,"DC12",396,null,null,null,null,null,null,null,null,null,null,null,null,null,null,null,null,null,null,"~"]
["SA37",2020,"DC12",397,null,null,null,null,null,null,null,null,null,null,null,null,null,null,null,null,null,null,"~"]
["SA37",2020,"DC12",398,null,null,null,null,null,null,null,null,null,null,null,null,null,null,null,null,null,null,"~"]
["SA37",2020,"DC12",399,null,null,null,null,null,null,null,null,null,null,null,null,null,null,null,null,null,null,"~"]
["SA37",2020,"DC12",400,null,null,null,null,null,null,null,null,null,null,null,null,null,null,null,null,null,null,"~"]
["SA37",2020,"DC12",401,null,null,null,null,null,null,null,null,null,null,null,null,null,null,null,null,null,null,"~"]
["SA37",2020,"DC12",402,null,null,null,null,null,null,null,null,null,null,null,null,null,null,null,null,null,null,"~"]
["SA37",2020,"DC12",403,null,null,null,null,null,null,null,null,null,null,null,null,null,null,null,null,null,null,"~"]
["SA37",2020,"DC12",404,null,null,null,null,null,null,null,null,null,null,null,null,null,null,null,null,null,null,"~"]
["SA37",2020,"DC12",405,null,null,null,null,null,null,null,null,null,null,null,null,null,null,null,null,null,null,"~"]
["SA37",2020,"DC12",406,null,null,null,null,null,null,null,null,null,null,null,null,null,null,null,null,null,null,"~"]
["SA37",2020,"DC12",407,null,null,null,null,null,null,null,null,null,null,null,null,null,null,null,null,null,null,"~"]
["SA37",2020,"DC12",408,null,null,null,null,null,null,null,null,null,null,null,null,null,null,null,null,null,null,"~"]
["SA37",2020,"DC12",409,null,null,null,null,null,null,null,null,null,null,null,null,null,null,null,null,null,null,"~"]
["SA37",2020,"DC12",410,null,null,null,null,null,null,null,null,null,null,null,null,null,null,null,null,null,null,"~"]
["SA37",2020,"DC12",411,null,null,null,null,null,null,null,null,null,null,null,null,null,null,null,null,null,null,"~"]
["SA37",2020,"DC12",412,null,null,null,null,null,null,null,null,null,null,null,null,null,null,null,null,null,null,"~"]
["SA37",2020,"DC12",413,null,null,null,null,null,null,null,null,null,null,null,null,null,null,null,null,null,null,"~"]
["SA37",2020,"DC12",414,null,null,null,null,null,null,null,null,null,null,null,null,null,null,null,null,null,null,"~"]
["SA37",2020,"DC12",415,null,null,null,null,null,null,null,null,null,null,null,null,null,null,null,null,null,null,"~"]
["SA37",2020,"DC12",416,null,null,null,null,null,null,null,null,null,null,null,null,null,null,null,null,null,null,"~"]
["SA37",2020,"DC12",417,null,null,null,null,null,null,null,null,null,null,null,null,null,null,null,null,null,null,"~"]
["SA37",2020,"DC12",418,null,null,null,null,null,null,null,null,null,null,null,null,null,null,null,null,null,null,"~"]
["SA37",2020,"DC12",419,null,null,null,null,null,null,null,null,null,null,null,null,null,null,null,null,null,null,"~"]
["SA37",2020,"DC12",420,null,null,null,null,null,null,null,null,null,null,null,null,null,null,null,null,null,null,"~"]
["SA37",2020,"DC12",421,null,null,null,null,null,null,null,null,null,null,null,null,null,null,null,null,null,null,"~"]
["SA37",2020,"DC12",422,null,null,null,null,null,null,null,null,null,null,null,null,null,null,null,null,null,null,"~"]
["SA37",2020,"DC12",423,null,null,null,null,null,null,null,null,null,null,null,null,null,null,null,null,null,null,"~"]
["SA37",2020,"DC12",424,null,null,null,null,null,null,null,null,null,null,null,null,null,null,null,null,null,null,"~"]
["SA37",2020,"DC12",425,null,null,null,null,null,null,null,null,null,null,null,null,null,null,null,null,null,null,"~"]
["SA37",2020,"DC12",426,null,null,null,null,null,null,null,null,null,null,null,null,null,null,null,null,null,null,"~"]
["SA37",2020,"DC12",427,null,null,null,null,null,null,null,null,null,null,null,null,null,null,null,null,null,null,"~"]
["SA37",2020,"DC12",428,null,null,null,null,null,null,null,null,null,null,null,null,null,null,null,null,null,null,"~"]
["SA37",2020,"DC12",429,null,null,null,null,null,null,null,null,null,null,null,null,null,null,null,null,null,null,"~"]
["SA37",2020,"DC12",430,null,null,null,null,null,null,null,null,null,null,null,null,null,null,null,null,null,null,"~"]
["SA37",2020,"DC12",431,null,null,null,null,null,null,null,null,null,null,null,null,null,null,null,null,null,null,"~"]
["SA37",{"$f":"+MTREF","v":2020},{"$f":"LEFT(muni,(FIND(\" \",muni,1)-1))","v":"DC12"},432,null,null,null,null,null,null,null,null,null,null,null,null,null,null,null,null,null,null,"~"]
["SA37",2020,"DC12",433,null,null,null,null,null,null,null,null,null,null,null,null,null,null,null,null,null,null,"~"]
["SA37",2020,"DC12",434,null,null,null,null,null,null,null,null,null,null,null,null,null,null,null,null,null,null,"~"]
["SA37",2020,"DC12",435,null,null,null,null,null,null,null,null,null,null,null,null,null,null,null,null,null,null,"~"]
["SA37",2020,"DC12",436,null,null,null,null,null,null,null,null,null,null,null,null,null,null,null,null,null,null,"~"]
["SA37",2020,"DC12",437,null,null,null,null,null,null,null,null,null,null,null,null,null,null,null,null,null,null,"~"]
["SA37",2020,"DC12",438,null,null,null,null,null,null,null,null,null,null,null,null,null,null,null,null,null,null,"~"]
["SA37",2020,"DC12",439,null,null,null,null,null,null,null,null,null,null,null,null,null,null,null,null,null,null,"~"]
["SA37",2020,"DC12",440,null,null,null,null,null,null,null,null,null,null,null,null,null,null,null,null,null,null,"~"]
["SA37",2020,"DC12",441,null,null,null,null,null,null,null,null,null,null,null,null,null,null,null,null,null,null,"~"]
["SA37",2020,"DC12",442,null,null,null,null,null,null,null,null,null,null,null,null,null,null,null,null,null,null,"~"]
["SA37",2020,"DC12",443,null,null,null,null,null,null,null,null,null,null,null,null,null,null,null,null,null,null,"~"]
["SA37",2020,"DC12",444,null,null,null,null,null,null,null,null,null,null,null,null,null,null,null,null,null,null,"~"]
["SA37",2020,"DC12",445,null,null,null,null,null,null,null,null,null,null,null,null,null,null,null,null,null,null,"~"]
["SA37",2020,"DC12",446,null,null,null,null,null,null,null,null,null,null,null,null,null,null,null,null,null,null,"~"]
["SA37",2020,"DC12",447,null,null,null,null,null,null,null,null,null,null,null,null,null,null,null,null,null,null,"~"]
["SA37",2020,"DC12",448,null,null,null,null,null,null,null,null,null,null,null,null,null,null,null,null,null,null,"~"]
["SA37",2020,"DC12",449,null,null,null,null,null,null,null,null,null,null,null,null,null,null,null,null,null,null,"~"]
["SA37",2020,"DC12",450,null,null,null,null,null,null,null,null,null,null,null,null,null,null,null,null,null,null,"~"]
["SA37",2020,"DC12",451,null,null,null,null,null,null,null,null,null,null,null,null,null,null,null,null,null,null,"~"]
["SA37",2020,"DC12",452,null,null,null,null,null,null,null,null,null,null,null,null,null,null,null,null,null,null,"~"]
["SA37",2020,"DC12",453,null,null,null,null,null,null,null,null,null,null,null,null,null,null,null,null,null,null,"~"]
["SA37",2020,"DC12",454,null,null,null,null,null,null,null,null,null,null,null,null,null,null,null,null,null,null,"~"]
["SA37",2020,"DC12",455,null,null,null,null,null,null,null,null,null,null,null,null,null,null,null,null,null,null,"~"]
["SA37",2020,"DC12",456,null,null,null,null,null,null,null,null,null,null,null,null,null,null,null,null,null,null,"~"]
["SA37",2020,"DC12",457,null,null,null,null,null,null,null,null,null,null,null,null,null,null,null,null,null,null,"~"]
["SA37",2020,"DC12",458,null,null,null,null,null,null,null,null,null,null,null,null,null,null,null,null,null,null,"~"]
["SA37",2020,"DC12",459,null,null,null,null,null,null,null,null,null,null,null,null,null,null,null,null,null,null,"~"]
["SA37",2020,"DC12",460,null,null,null,null,null,null,null,null,null,null,null,null,null,null,null,null,null,null,"~"]
["SA37",2020,"DC12",461,null,null,null,null,null,null,null,null,null,null,null,null,null,null,null,null,null,null,"~"]
["SA37",2020,"DC12",462,null,null,null,null,null,null,null,null,null,null,null,null,null,null,null,null,null,null,"~"]
["SA37",2020,"DC12",463,null,null,null,null,null,null,null,null,null,null,null,null,null,null,null,null,null,null,"~"]
["SA37",2020,"DC12",464,null,null,null,null,null,null,null,null,null,null,null,null,null,null,null,null,null,null,"~"]
["SA37",2020,"DC12",465,null,null,null,null,null,null,null,null,null,null,null,null,null,null,null,null,null,null,"~"]
["SA37",2020,"DC12",466,null,null,null,null,null,null,null,null,null,null,null,null,null,null,null,null,null,null,"~"]
["SA37",2020,"DC12",467,null,null,null,null,null,null,null,null,null,null,null,null,null,null,null,null,null,null,"~"]
["SA37",2020,"DC12",468,null,null,null,null,null,null,null,null,null,null,null,null,null,null,null,null,null,null,"~"]
["SA37",2020,"DC12",469,null,null,null,null,null,null,null,null,null,null,null,null,null,null,null,null,null,null,"~"]
["SA37",2020,"DC12",470,null,null,null,null,null,null,null,null,null,null,null,null,null,null,null,null,null,null,"~"]
["SA37",2020,"DC12",471,null,null,null,null,null,null,null,null,null,null,null,null,null,null,null,null,null,null,"~"]
["SA37",2020,"DC12",472,null,null,null,null,null,null,null,null,null,null,null,null,null,null,null,null,null,null,"~"]
["SA37",2020,"DC12",473,null,null,null,null,null,null,null,null,null,null,null,null,null,null,null,null,null,null,"~"]
["SA37",2020,"DC12",474,null,null,null,null,null,null,null,null,null,null,null,null,null,null,null,null,null,null,"~"]
["SA37",2020,"DC12",475,null,null,null,null,null,null,null,null,null,null,null,null,null,null,null,null,null,null,"~"]
["SA37",2020,"DC12",476,null,null,null,null,null,null,null,null,null,null,null,null,null,null,null,null,null,null,"~"]
["SA37",2020,"DC12",477,null,null,null,null,null,null,null,null,null,null,null,null,null,null,null,null,null,null,"~"]
["SA37",2020,"DC12",478,null,null,null,null,null,null,null,null,null,null,null,null,null,null,null,null,null,null,"~"]
["SA37",2020,"DC12",479,null,null,null,null,null,null,null,null,null,null,null,null,null,null,null,null,null,null,"~"]
["SA37",2020,"DC12",480,null,null,null,null,null,null,null,null,null,null,null,null,null,null,null,null,null,null,"~"]
["SA37",2020,"DC12",481,null,null,null,null,null,null,null,null,null,null,null,null,null,null,null,null,null,null,"~"]
["SA37",2020,"DC12",482,null,null,null,null,null,null,null,null,null,null,null,null,null,null,null,null,null,null,"~"]
["SA37",2020,"DC12",483,null,null,null,null,null,null,null,null,null,null,null,null,null,null,null,null,null,null,"~"]
["SA37",2020,"DC12",484,null,null,null,null,null,null,null,null,null,null,null,null,null,null,null,null,null,null,"~"]
["SA37",2020,"DC12",485,null,null,null,null,null,null,null,null,null,null,null,null,null,null,null,null,null,null,"~"]
["SA37",2020,"DC12",486,null,null,null,null,null,null,null,null,null,null,null,null,null,null,null,null,null,null,"~"]
["SA37",2020,"DC12",487,null,null,null,null,null,null,null,null,null,null,null,null,null,null,null,null,null,null,"~"]
["SA37",2020,"DC12",488,null,null,null,null,null,null,null,null,null,null,null,null,null,null,null,null,null,null,"~"]
["SA37",2020,"DC12",489,null,null,null,null,null,null,null,null,null,null,null,null,null,null,null,null,null,null,"~"]
["SA37",2020,"DC12",490,null,null,null,null,null,null,null,null,null,null,null,null,null,null,null,null,null,null,"~"]
["SA37",2020,"DC12",491,null,null,null,null,null,null,null,null,null,null,null,null,null,null,null,null,null,null,"~"]
["SA37",2020,"DC12",492,null,null,null,null,null,null,null,null,null,null,null,null,null,null,null,null,null,null,"~"]
["SA37",2020,"DC12",493,null,null,null,null,null,null,null,null,null,null,null,null,null,null,null,null,null,null,"~"]
["SA37",2020,"DC12",494,null,null,null,null,null,null,null,null,null,null,null,null,null,null,null,null,null,null,"~"]
["SA37",2020,"DC12",495,null,null,null,null,null,null,null,null,null,null,null,null,null,null,null,null,null,null,"~"]
["SA37",{"$f":"+MTREF","v":2020},{"$f":"LEFT(muni,(FIND(\" \",muni,1)-1))","v":"DC12"},496,null,null,null,null,null,null,null,null,null,null,null,null,null,null,null,null,null,null,"~"]
["SA37",2020,"DC12",497,null,null,null,null,null,null,null,null,null,null,null,null,null,null,null,null,null,null,"~"]
["SA37",2020,"DC12",498,null,null,null,null,null,null,null,null,null,null,null,null,null,null,null,null,null,null,"~"]
["SA37",2020,"DC12",499,null,null,null,null,null,null,null,null,null,null,null,null,null,null,null,null,null,null,"~"]
["SA37",2020,"DC12",500,null,null,null,null,null,null,null,null,null,null,null,null,null,null,null,null,null,null,"~"]
["SA37",2020,"DC12",501,null,null,null,null,null,null,null,null,null,null,null,null,null,null,null,null,null,null,"~"]
["SA37",2020,"DC12",502,null,null,null,null,null,null,null,null,null,null,null,null,null,null,null,null,null,null,"~"]
["SA37",2020,"DC12",503,null,null,null,null,null,null,null,null,null,null,null,null,null,null,null,null,null,null,"~"]
["SA37",2020,"DC12",504,null,null,null,null,null,null,null,null,null,null,null,null,null,null,null,null,null,null,"~"]
["SA37",2020,"DC12",505,null,null,null,null,null,null,null,null,null,null,null,null,null,null,null,null,null,null,"~"]
["SA37",2020,"DC12",506,null,null,null,null,null,null,null,null,null,null,null,null,null,null,null,null,null,null,"~"]
["SA37",2020,"DC12",507,null,null,null,null,null,null,null,null,null,null,null,null,null,null,null,null,null,null,"~"]
["SA37",2020,"DC12",508,null,null,null,null,null,null,null,null,null,null,null,null,null,null,null,null,null,null,"~"]
["SA37",2020,"DC12",509,null,null,null,null,null,null,null,null,null,null,null,null,null,null,null,null,null,null,"~"]
["SA37",2020,"DC12",510,null,null,null,null,null,null,null,null,null,null,null,null,null,null,null,null,null,null,"~"]
["SA37",2020,"DC12",511,null,null,null,null,null,null,null,null,null,null,null,null,null,null,null,null,null,null,"~"]
["SA37",2020,"DC12",512,null,null,null,null,null,null,null,null,null,null,null,null,null,null,null,null,null,null,"~"]
["SA37",2020,"DC12",513,null,null,null,null,null,null,null,null,null,null,null,null,null,null,null,null,null,null,"~"]
["SA37",2020,"DC12",514,null,null,null,null,null,null,null,null,null,null,null,null,null,null,null,null,null,null,"~"]
["SA37",2020,"DC12",515,null,null,null,null,null,null,null,null,null,null,null,null,null,null,null,null,null,null,"~"]
["SA37",2020,"DC12",516,null,null,null,null,null,null,null,null,null,null,null,null,null,null,null,null,null,null,"~"]
["SA37",2020,"DC12",517,null,null,null,null,null,null,null,null,null,null,null,null,null,null,null,null,null,null,"~"]
["SA37",2020,"DC12",518,null,null,null,null,null,null,null,null,null,null,null,null,null,null,null,null,null,null,"~"]
["SA37",2020,"DC12",519,null,null,null,null,null,null,null,null,null,null,null,null,null,null,null,null,null,null,"~"]
["SA37",2020,"DC12",520,null,null,null,null,null,null,null,null,null,null,null,null,null,null,null,null,null,null,"~"]
["SA37",2020,"DC12",521,null,null,null,null,null,null,null,null,null,null,null,null,null,null,null,null,null,null,"~"]
["SA37",2020,"DC12",522,null,null,null,null,null,null,null,null,null,null,null,null,null,null,null,null,null,null,"~"]
["SA37",2020,"DC12",523,null,null,null,null,null,null,null,null,null,null,null,null,null,null,null,null,null,null,"~"]
["SA37",2020,"DC12",524,null,null,null,null,null,null,null,null,null,null,null,null,null,null,null,null,null,null,"~"]
["SA37",2020,"DC12",525,null,null,null,null,null,null,null,null,null,null,null,null,null,null,null,null,null,null,"~"]
["SA37",2020,"DC12",526,null,null,null,null,null,null,null,null,null,null,null,null,null,null,null,null,null,null,"~"]
["SA37",2020,"DC12",527,null,null,null,null,null,null,null,null,null,null,null,null,null,null,null,null,null,null,"~"]
["SA37",2020,"DC12",528,null,null,null,null,null,null,null,null,null,null,null,null,null,null,null,null,null,null,"~"]
["SA37",2020,"DC12",529,null,null,null,null,null,null,null,null,null,null,null,null,null,null,null,null,null,null,"~"]
["SA37",2020,"DC12",530,null,null,null,null,null,null,null,null,null,null,null,null,null,null,null,null,null,null,"~"]
["SA37",2020,"DC12",531,null,null,null,null,null,null,null,null,null,null,null,null,null,null,null,null,null,null,"~"]
["SA37",2020,"DC12",532,null,null,null,null,null,null,null,null,null,null,null,null,null,null,null,null,null,null,"~"]
["SA37",2020,"DC12",533,null,null,null,null,null,null,null,null,null,null,null,null,null,null,null,null,null,null,"~"]
["SA37",2020,"DC12",534,null,null,null,null,null,null,null,null,null,null,null,null,null,null,null,null,null,null,"~"]
["SA37",2020,"DC12",535,null,null,null,null,null,null,null,null,null,null,null,null,null,null,null,null,null,null,"~"]
["SA37",2020,"DC12",536,null,null,null,null,null,null,null,null,null,null,null,null,null,null,null,null,null,null,"~"]
["SA37",2020,"DC12",537,null,null,null,null,null,null,null,null,null,null,null,null,null,null,null,null,null,null,"~"]
["SA37",2020,"DC12",538,null,null,null,null,null,null,null,null,null,null,null,null,null,null,null,null,null,null,"~"]
["SA37",2020,"DC12",539,null,null,null,null,null,null,null,null,null,null,null,null,null,null,null,null,null,null,"~"]
["SA37",2020,"DC12",540,null,null,null,null,null,null,null,null,null,null,null,null,null,null,null,null,null,null,"~"]
["SA37",2020,"DC12",541,null,null,null,null,null,null,null,null,null,null,null,null,null,null,null,null,null,null,"~"]
["SA37",2020,"DC12",542,null,null,null,null,null,null,null,null,null,null,null,null,null,null,null,null,null,null,"~"]
["SA37",2020,"DC12",543,null,null,null,null,null,null,null,null,null,null,null,null,null,null,null,null,null,null,"~"]
["SA37",2020,"DC12",544,null,null,null,null,null,null,null,null,null,null,null,null,null,null,null,null,null,null,"~"]
["SA37",2020,"DC12",545,null,null,null,null,null,null,null,null,null,null,null,null,null,null,null,null,null,null,"~"]
["SA37",2020,"DC12",546,null,null,null,null,null,null,null,null,null,null,null,null,null,null,null,null,null,null,"~"]
["SA37",2020,"DC12",547,null,null,null,null,null,null,null,null,null,null,null,null,null,null,null,null,null,null,"~"]
["SA37",2020,"DC12",548,null,null,null,null,null,null,null,null,null,null,null,null,null,null,null,null,null,null,"~"]
["SA37",2020,"DC12",549,null,null,null,null,null,null,null,null,null,null,null,null,null,null,null,null,null,null,"~"]
["SA37",2020,"DC12",550,null,null,null,null,null,null,null,null,null,null,null,null,null,null,null,null,null,null,"~"]
["SA37",2020,"DC12",551,null,null,null,null,null,null,null,null,null,null,null,null,null,null,null,null,null,null,"~"]
["SA37",2020,"DC12",552,null,null,null,null,null,null,null,null,null,null,null,null,null,null,null,null,null,null,"~"]
["SA37",2020,"DC12",553,null,null,null,null,null,null,null,null,null,null,null,null,null,null,null,null,null,null,"~"]
["SA37",2020,"DC12",554,null,null,null,null,null,null,null,null,null,null,null,null,null,null,null,null,null,null,"~"]
["SA37",2020,"DC12",555,null,null,null,null,null,null,null,null,null,null,null,null,null,null,null,null,null,null,"~"]
["SA37",2020,"DC12",556,null,null,null,null,null,null,null,null,null,null,null,null,null,null,null,null,null,null,"~"]
["SA37",2020,"DC12",557,null,null,null,null,null,null,null,null,null,null,null,null,null,null,null,null,null,null,"~"]
["SA37",2020,"DC12",558,null,null,null,null,null,null,null,null,null,null,null,null,null,null,null,null,null,null,"~"]
["SA37",2020,"DC12",559,null,null,null,null,null,null,null,null,null,null,null,null,null,null,null,null,null,null,"~"]
["SA37",{"$f":"+MTREF","v":2020},{"$f":"LEFT(muni,(FIND(\" \",muni,1)-1))","v":"DC12"},560,null,null,null,null,null,null,null,null,null,null,null,null,null,null,null,null,null,null,"~"]
["SA37",2020,"DC12",561,null,null,null,null,null,null,null,null,null,null,null,null,null,null,null,null,null,null,"~"]
["SA37",2020,"DC12",562,null,null,null,null,null,null,null,null,null,null,null,null,null,null,null,null,null,null,"~"]
["SA37",2020,"DC12",563,null,null,null,null,null,null,null,null,null,null,null,null,null,null,null,null,null,null,"~"]
["SA37",2020,"DC12",564,null,null,null,null,null,null,null,null,null,null,null,null,null,null,null,null,null,null,"~"]
["SA37",2020,"DC12",565,null,null,null,null,null,null,null,null,null,null,null,null,null,null,null,null,null,null,"~"]
["SA37",2020,"DC12",566,null,null,null,null,null,null,null,null,null,null,null,null,null,null,null,null,null,null,"~"]
["SA37",2020,"DC12",567,null,null,null,null,null,null,null,null,null,null,null,null,null,null,null,null,null,null,"~"]
["SA37",2020,"DC12",568,null,null,null,null,null,null,null,null,null,null,null,null,null,null,null,null,null,null,"~"]
["SA37",2020,"DC12",569,null,null,null,null,null,null,null,null,null,null,null,null,null,null,null,null,null,null,"~"]
["SA37",2020,"DC12",570,null,null,null,null,null,null,null,null,null,null,null,null,null,null,null,null,null,null,"~"]
["SA37",2020,"DC12",571,null,null,null,null,null,null,null,null,null,null,null,null,null,null,null,null,null,null,"~"]
["SA37",2020,"DC12",572,null,null,null,null,null,null,null,null,null,null,null,null,null,null,null,null,null,null,"~"]
["SA37",2020,"DC12",573,null,null,null,null,null,null,null,null,null,null,null,null,null,null,null,null,null,null,"~"]
["SA37",2020,"DC12",574,null,null,null,null,null,null,null,null,null,null,null,null,null,null,null,null,null,null,"~"]
["SA37",2020,"DC12",575,null,null,null,null,null,null,null,null,null,null,null,null,null,null,null,null,null,null,"~"]
["SA37",2020,"DC12",576,null,null,null,null,null,null,null,null,null,null,null,null,null,null,null,null,null,null,"~"]
["SA37",2020,"DC12",577,null,null,null,null,null,null,null,null,null,null,null,null,null,null,null,null,null,null,"~"]
["SA37",2020,"DC12",578,null,null,null,null,null,null,null,null,null,null,null,null,null,null,null,null,null,null,"~"]
["SA37",2020,"DC12",579,null,null,null,null,null,null,null,null,null,null,null,null,null,null,null,null,null,null,"~"]
["SA37",2020,"DC12",580,null,null,null,null,null,null,null,null,null,null,null,null,null,null,null,null,null,null,"~"]
["SA37",2020,"DC12",581,null,null,null,null,null,null,null,null,null,null,null,null,null,null,null,null,null,null,"~"]
["SA37",2020,"DC12",582,null,null,null,null,null,null,null,null,null,null,null,null,null,null,null,null,null,null,"~"]
["SA37",2020,"DC12",583,null,null,null,null,null,null,null,null,null,null,null,null,null,null,null,null,null,null,"~"]
["SA37",2020,"DC12",584,null,null,null,null,null,null,null,null,null,null,null,null,null,null,null,null,null,null,"~"]
["SA37",2020,"DC12",585,null,null,null,null,null,null,null,null,null,null,null,null,null,null,null,null,null,null,"~"]
["SA37",2020,"DC12",586,null,null,null,null,null,null,null,null,null,null,null,null,null,null,null,null,null,null,"~"]
["SA37",2020,"DC12",587,null,null,null,null,null,null,null,null,null,null,null,null,null,null,null,null,null,null,"~"]
["SA37",2020,"DC12",588,null,null,null,null,null,null,null,null,null,null,null,null,null,null,null,null,null,null,"~"]
["SA37",2020,"DC12",589,null,null,null,null,null,null,null,null,null,null,null,null,null,null,null,null,null,null,"~"]
["SA37",2020,"DC12",590,null,null,null,null,null,null,null,null,null,null,null,null,null,null,null,null,null,null,"~"]
["SA37",2020,"DC12",591,null,null,null,null,null,null,null,null,null,null,null,null,null,null,null,null,null,null,"~"]
["SA37",2020,"DC12",592,null,null,null,null,null,null,null,null,null,null,null,null,null,null,null,null,null,null,"~"]
["SA37",2020,"DC12",593,null,null,null,null,null,null,null,null,null,null,null,null,null,null,null,null,null,null,"~"]
["SA37",2020,"DC12",594,null,null,null,null,null,null,null,null,null,null,null,null,null,null,null,null,null,null,"~"]
["SA37",2020,"DC12",595,null,null,null,null,null,null,null,null,null,null,null,null,null,null,null,null,null,null,"~"]
["SA37",2020,"DC12",596,null,null,null,null,null,null,null,null,null,null,null,null,null,null,null,null,null,null,"~"]
["SA37",2020,"DC12",597,null,null,null,null,null,null,null,null,null,null,null,null,null,null,null,null,null,null,"~"]
["SA37",2020,"DC12",598,null,null,null,null,null,null,null,null,null,null,null,null,null,null,null,null,null,null,"~"]
["SA37",2020,"DC12",599,null,null,null,null,null,null,null,null,null,null,null,null,null,null,null,null,null,null,"~"]
["SA37",2020,"DC12",600,null,null,null,null,null,null,null,null,null,null,null,null,null,null,null,null,null,null,"~"]
["SA37",2020,"DC12",601,null,null,null,null,null,null,null,null,null,null,null,null,null,null,null,null,null,null,"~"]
["SA37",2020,"DC12",602,null,null,null,null,null,null,null,null,null,null,null,null,null,null,null,null,null,null,"~"]
["SA37",2020,"DC12",603,null,null,null,null,null,null,null,null,null,null,null,null,null,null,null,null,null,null,"~"]
["SA37",2020,"DC12",604,null,null,null,null,null,null,null,null,null,null,null,null,null,null,null,null,null,null,"~"]
["SA37",2020,"DC12",605,null,null,null,null,null,null,null,null,null,null,null,null,null,null,null,null,null,null,"~"]
["SA37",2020,"DC12",606,null,null,null,null,null,null,null,null,null,null,null,null,null,null,null,null,null,null,"~"]
["SA37",2020,"DC12",607,null,null,null,null,null,null,null,null,null,null,null,null,null,null,null,null,null,null,"~"]
["SA37",2020,"DC12",608,null,null,null,null,null,null,null,null,null,null,null,null,null,null,null,null,null,null,"~"]
["SA37",2020,"DC12",609,null,null,null,null,null,null,null,null,null,null,null,null,null,null,null,null,null,null,"~"]
["SA37",2020,"DC12",610,null,null,null,null,null,null,null,null,null,null,null,null,null,null,null,null,null,null,"~"]
["SA37",2020,"DC12",611,null,null,null,null,null,null,null,null,null,null,null,null,null,null,null,null,null,null,"~"]
["SA37",2020,"DC12",612,null,null,null,null,null,null,null,null,null,null,null,null,null,null,null,null,null,null,"~"]
["SA37",2020,"DC12",613,null,null,null,null,null,null,null,null,null,null,null,null,null,null,null,null,null,null,"~"]
["SA37",2020,"DC12",614,null,null,null,null,null,null,null,null,null,null,null,null,null,null,null,null,null,null,"~"]
["SA37",2020,"DC12",615,null,null,null,null,null,null,null,null,null,null,null,null,null,null,null,null,null,null,"~"]
["SA37",2020,"DC12",616,null,null,null,null,null,null,null,null,null,null,null,null,null,null,null,null,null,null,"~"]
["SA37",2020,"DC12",617,null,null,null,null,null,null,null,null,null,null,null,null,null,null,null,null,null,null,"~"]
["SA37",2020,"DC12",618,null,null,null,null,null,null,null,null,null,null,null,null,null,null,null,null,null,null,"~"]
["SA37",2020,"DC12",619,null,null,null,null,null,null,null,null,null,null,null,null,null,null,null,null,null,null,"~"]
["SA37",2020,"DC12",620,null,null,null,null,null,null,null,null,null,null,null,null,null,null,null,null,null,null,"~"]
["SA37",2020,"DC12",621,null,null,null,null,null,null,null,null,null,null,null,null,null,null,null,null,null,null,"~"]
["SA37",2020,"DC12",622,null,null,null,null,null,null,null,null,null,null,null,null,null,null,null,null,null,null,"~"]
["SA37",2020,"DC12",623,null,null,null,null,null,null,null,null,null,null,null,null,null,null,null,null,null,null,"~"]
["SA37",{"$f":"+MTREF","v":2020},{"$f":"LEFT(muni,(FIND(\" \",muni,1)-1))","v":"DC12"},624,null,null,null,null,null,null,null,null,null,null,null,null,null,null,null,null,null,null,"~"]
["SA37",2020,"DC12",625,null,null,null,null,null,null,null,null,null,null,null,null,null,null,null,null,null,null,"~"]
["SA37",2020,"DC12",626,null,null,null,null,null,null,null,null,null,null,null,null,null,null,null,null,null,null,"~"]
["SA37",2020,"DC12",627,null,null,null,null,null,null,null,null,null,null,null,null,null,null,null,null,null,null,"~"]
["SA37",2020,"DC12",628,null,null,null,null,null,null,null,null,null,null,null,null,null,null,null,null,null,null,"~"]
["SA37",2020,"DC12",629,null,null,null,null,null,null,null,null,null,null,null,null,null,null,null,null,null,null,"~"]
["SA37",2020,"DC12",630,null,null,null,null,null,null,null,null,null,null,null,null,null,null,null,null,null,null,"~"]
["SA37",2020,"DC12",631,null,null,null,null,null,null,null,null,null,null,null,null,null,null,null,null,null,null,"~"]
["SA37",2020,"DC12",632,null,null,null,null,null,null,null,null,null,null,null,null,null,null,null,null,null,null,"~"]
["SA37",2020,"DC12",633,null,null,null,null,null,null,null,null,null,null,null,null,null,null,null,null,null,null,"~"]
["SA37",2020,"DC12",634,null,null,null,null,null,null,null,null,null,null,null,null,null,null,null,null,null,null,"~"]
["SA37",2020,"DC12",635,null,null,null,null,null,null,null,null,null,null,null,null,null,null,null,null,null,null,"~"]
["SA37",2020,"DC12",636,null,null,null,null,null,null,null,null,null,null,null,null,null,null,null,null,null,null,"~"]
["SA37",2020,"DC12",637,null,null,null,null,null,null,null,null,null,null,null,null,null,null,null,null,null,null,"~"]
["SA37",2020,"DC12",638,null,null,null,null,null,null,null,null,null,null,null,null,null,null,null,null,null,null,"~"]
["SA37",2020,"DC12",639,null,null,null,null,null,null,null,null,null,null,null,null,null,null,null,null,null,null,"~"]
["SA37",2020,"DC12",640,null,null,null,null,null,null,null,null,null,null,null,null,null,null,null,null,null,null,"~"]
["SA37",2020,"DC12",641,null,null,null,null,null,null,null,null,null,null,null,null,null,null,null,null,null,null,"~"]
["SA37",2020,"DC12",642,null,null,null,null,null,null,null,null,null,null,null,null,null,null,null,null,null,null,"~"]
["SA37",2020,"DC12",643,null,null,null,null,null,null,null,null,null,null,null,null,null,null,null,null,null,null,"~"]
["SA37",2020,"DC12",644,null,null,null,null,null,null,null,null,null,null,null,null,null,null,null,null,null,null,"~"]
["SA37",2020,"DC12",645,null,null,null,null,null,null,null,null,null,null,null,null,null,null,null,null,null,null,"~"]
["SA37",2020,"DC12",646,null,null,null,null,null,null,null,null,null,null,null,null,null,null,null,null,null,null,"~"]
["SA37",2020,"DC12",647,null,null,null,null,null,null,null,null,null,null,null,null,null,null,null,null,null,null,"~"]
["SA37",2020,"DC12",648,null,null,null,null,null,null,null,null,null,null,null,null,null,null,null,null,null,null,"~"]
["SA37",2020,"DC12",649,null,null,null,null,null,null,null,null,null,null,null,null,null,null,null,null,null,null,"~"]
["SA37",2020,"DC12",650,null,null,null,null,null,null,null,null,null,null,null,null,null,null,null,null,null,null,"~"]
["SA37",2020,"DC12",651,null,null,null,null,null,null,null,null,null,null,null,null,null,null,null,null,null,null,"~"]
["SA37",2020,"DC12",652,null,null,null,null,null,null,null,null,null,null,null,null,null,null,null,null,null,null,"~"]
["SA37",2020,"DC12",653,null,null,null,null,null,null,null,null,null,null,null,null,null,null,null,null,null,null,"~"]
["SA37",2020,"DC12",654,null,null,null,null,null,null,null,null,null,null,null,null,null,null,null,null,null,null,"~"]
["SA37",2020,"DC12",655,null,null,null,null,null,null,null,null,null,null,null,null,null,null,null,null,null,null,"~"]
["SA37",2020,"DC12",656,null,null,null,null,null,null,null,null,null,null,null,null,null,null,null,null,null,null,"~"]
["SA37",2020,"DC12",657,null,null,null,null,null,null,null,null,null,null,null,null,null,null,null,null,null,null,"~"]
["SA37",2020,"DC12",658,null,null,null,null,null,null,null,null,null,null,null,null,null,null,null,null,null,null,"~"]
["SA37",2020,"DC12",659,null,null,null,null,null,null,null,null,null,null,null,null,null,null,null,null,null,null,"~"]
["SA37",2020,"DC12",660,null,null,null,null,null,null,null,null,null,null,null,null,null,null,null,null,null,null,"~"]
["SA37",2020,"DC12",661,null,null,null,null,null,null,null,null,null,null,null,null,null,null,null,null,null,null,"~"]
["SA37",2020,"DC12",662,null,null,null,null,null,null,null,null,null,null,null,null,null,null,null,null,null,null,"~"]
["SA37",2020,"DC12",663,null,null,null,null,null,null,null,null,null,null,null,null,null,null,null,null,null,null,"~"]
["SA37",2020,"DC12",664,null,null,null,null,null,null,null,null,null,null,null,null,null,null,null,null,null,null,"~"]
["SA37",2020,"DC12",665,null,null,null,null,null,null,null,null,null,null,null,null,null,null,null,null,null,null,"~"]
["SA37",2020,"DC12",666,null,null,null,null,null,null,null,null,null,null,null,null,null,null,null,null,null,null,"~"]
["SA37",2020,"DC12",667,null,null,null,null,null,null,null,null,null,null,null,null,null,null,null,null,null,null,"~"]
["SA37",2020,"DC12",668,null,null,null,null,null,null,null,null,null,null,null,null,null,null,null,null,null,null,"~"]
["SA37",2020,"DC12",669,null,null,null,null,null,null,null,null,null,null,null,null,null,null,null,null,null,null,"~"]
["SA37",2020,"DC12",670,null,null,null,null,null,null,null,null,null,null,null,null,null,null,null,null,null,null,"~"]
["SA37",2020,"DC12",671,null,null,null,null,null,null,null,null,null,null,null,null,null,null,null,null,null,null,"~"]
["SA37",2020,"DC12",672,null,null,null,null,null,null,null,null,null,null,null,null,null,null,null,null,null,null,"~"]
["SA37",2020,"DC12",673,null,null,null,null,null,null,null,null,null,null,null,null,null,null,null,null,null,null,"~"]
["SA37",2020,"DC12",674,null,null,null,null,null,null,null,null,null,null,null,null,null,null,null,null,null,null,"~"]
["SA37",2020,"DC12",675,null,null,null,null,null,null,null,null,null,null,null,null,null,null,null,null,null,null,"~"]
["SA37",2020,"DC12",676,null,null,null,null,null,null,null,null,null,null,null,null,null,null,null,null,null,null,"~"]
["SA37",2020,"DC12",677,null,null,null,null,null,null,null,null,null,null,null,null,null,null,null,null,null,null,"~"]
["SA37",2020,"DC12",678,null,null,null,null,null,null,null,null,null,null,null,null,null,null,null,null,null,null,"~"]
["SA37",2020,"DC12",679,null,null,null,null,null,null,null,null,null,null,null,null,null,null,null,null,null,null,"~"]
["SA37",2020,"DC12",680,null,null,null,null,null,null,null,null,null,null,null,null,null,null,null,null,null,null,"~"]
["SA37",2020,"DC12",681,null,null,null,null,null,null,null,null,null,null,null,null,null,null,null,null,null,null,"~"]
["SA37",2020,"DC12",682,null,null,null,null,null,null,null,null,null,null,null,null,null,null,null,null,null,null,"~"]
["SA37",2020,"DC12",683,null,null,null,null,null,null,null,null,null,null,null,null,null,null,null,null,null,null,"~"]
["SA37",2020,"DC12",684,null,null,null,null,null,null,null,null,null,null,null,null,null,null,null,null,null,null,"~"]
["SA37",2020,"DC12",685,null,null,null,null,null,null,null,null,null,null,null,null,null,null,null,null,null,null,"~"]
["SA37",2020,"DC12",686,null,null,null,null,null,null,null,null,null,null,null,null,null,null,null,null,null,null,"~"]
["SA37",2020,"DC12",687,null,null,null,null,null,null,null,null,null,null,null,null,null,null,null,null,null,null,"~"]
["SA37",{"$f":"+MTREF","v":2020},{"$f":"LEFT(muni,(FIND(\" \",muni,1)-1))","v":"DC12"},688,null,null,null,null,null,null,null,null,null,null,null,null,null,null,null,null,null,null,"~"]
["SA37",2020,"DC12",689,null,null,null,null,null,null,null,null,null,null,null,null,null,null,null,null,null,null,"~"]
["SA37",2020,"DC12",690,null,null,null,null,null,null,null,null,null,null,null,null,null,null,null,null,null,null,"~"]
["SA37",2020,"DC12",691,null,null,null,null,null,null,null,null,null,null,null,null,null,null,null,null,null,null,"~"]
["SA37",2020,"DC12",692,null,null,null,null,null,null,null,null,null,null,null,null,null,null,null,null,null,null,"~"]
["SA37",2020,"DC12",693,null,null,null,null,null,null,null,null,null,null,null,null,null,null,null,null,null,null,"~"]
["SA37",2020,"DC12",694,null,null,null,null,null,null,null,null,null,null,null,null,null,null,null,null,null,null,"~"]
["SA37",2020,"DC12",695,null,null,null,null,null,null,null,null,null,null,null,null,null,null,null,null,null,null,"~"]
["SA37",2020,"DC12",696,null,null,null,null,null,null,null,null,null,null,null,null,null,null,null,null,null,null,"~"]
["SA37",2020,"DC12",697,null,null,null,null,null,null,null,null,null,null,null,null,null,null,null,null,null,null,"~"]
["SA37",2020,"DC12",698,null,null,null,null,null,null,null,null,null,null,null,null,null,null,null,null,null,null,"~"]
["SA37",2020,"DC12",699,null,null,null,null,null,null,null,null,null,null,null,null,null,null,null,null,null,null,"~"]
["SA37",2020,"DC12",700,null,null,null,null,null,null,null,null,null,null,null,null,null,null,null,null,null,null,"~"]
["SA37",2020,"DC12",701,null,null,null,null,null,null,null,null,null,null,null,null,null,null,null,null,null,null,"~"]
["SA37",2020,"DC12",702,null,null,null,null,null,null,null,null,null,null,null,null,null,null,null,null,null,null,"~"]
["SA37",2020,"DC12",703,null,null,null,null,null,null,null,null,null,null,null,null,null,null,null,null,null,null,"~"]
["SA37",2020,"DC12",704,null,null,null,null,null,null,null,null,null,null,null,null,null,null,null,null,null,null,"~"]
["SA37",2020,"DC12",705,null,null,null,null,null,null,null,null,null,null,null,null,null,null,null,null,null,null,"~"]
["SA37",2020,"DC12",706,null,null,null,null,null,null,null,null,null,null,null,null,null,null,null,null,null,null,"~"]
["SA37",2020,"DC12",707,null,null,null,null,null,null,null,null,null,null,null,null,null,null,null,null,null,null,"~"]
["SA37",2020,"DC12",708,null,null,null,null,null,null,null,null,null,null,null,null,null,null,null,null,null,null,"~"]
["SA37",2020,"DC12",709,null,null,null,null,null,null,null,null,null,null,null,null,null,null,null,null,null,null,"~"]
["SA37",2020,"DC12",710,null,null,null,null,null,null,null,null,null,null,null,null,null,null,null,null,null,null,"~"]
["SA37",2020,"DC12",711,null,null,null,null,null,null,null,null,null,null,null,null,null,null,null,null,null,null,"~"]
["SA37",2020,"DC12",712,null,null,null,null,null,null,null,null,null,null,null,null,null,null,null,null,null,null,"~"]
["SA37",2020,"DC12",713,null,null,null,null,null,null,null,null,null,null,null,null,null,null,null,null,null,null,"~"]
["SA37",2020,"DC12",714,null,null,null,null,null,null,null,null,null,null,null,null,null,null,null,null,null,null,"~"]
["SA37",2020,"DC12",715,null,null,null,null,null,null,null,null,null,null,null,null,null,null,null,null,null,null,"~"]
["SA37",2020,"DC12",716,null,null,null,null,null,null,null,null,null,null,null,null,null,null,null,null,null,null,"~"]
["SA37",2020,"DC12",717,null,null,null,null,null,null,null,null,null,null,null,null,null,null,null,null,null,null,"~"]
["SA37",2020,"DC12",718,null,null,null,null,null,null,null,null,null,null,null,null,null,null,null,null,null,null,"~"]
["SA37",2020,"DC12",719,null,null,null,null,null,null,null,null,null,null,null,null,null,null,null,null,null,null,"~"]
["SA37",2020,"DC12",720,null,null,null,null,null,null,null,null,null,null,null,null,null,null,null,null,null,null,"~"]
["SA37",2020,"DC12",721,null,null,null,null,null,null,null,null,null,null,null,null,null,null,null,null,null,null,"~"]
["SA37",2020,"DC12",722,null,null,null,null,null,null,null,null,null,null,null,null,null,null,null,null,null,null,"~"]
["SA37",2020,"DC12",723,null,null,null,null,null,null,null,null,null,null,null,null,null,null,null,null,null,null,"~"]
["SA37",2020,"DC12",724,null,null,null,null,null,null,null,null,null,null,null,null,null,null,null,null,null,null,"~"]
["SA37",2020,"DC12",725,null,null,null,null,null,null,null,null,null,null,null,null,null,null,null,null,null,null,"~"]
["SA37",2020,"DC12",726,null,null,null,null,null,null,null,null,null,null,null,null,null,null,null,null,null,null,"~"]
["SA37",2020,"DC12",727,null,null,null,null,null,null,null,null,null,null,null,null,null,null,null,null,null,null,"~"]
["SA37",2020,"DC12",728,null,null,null,null,null,null,null,null,null,null,null,null,null,null,null,null,null,null,"~"]
["SA37",2020,"DC12",729,null,null,null,null,null,null,null,null,null,null,null,null,null,null,null,null,null,null,"~"]
["SA37",2020,"DC12",730,null,null,null,null,null,null,null,null,null,null,null,null,null,null,null,null,null,null,"~"]
["SA37",2020,"DC12",731,null,null,null,null,null,null,null,null,null,null,null,null,null,null,null,null,null,null,"~"]
["SA37",2020,"DC12",732,null,null,null,null,null,null,null,null,null,null,null,null,null,null,null,null,null,null,"~"]
["SA37",2020,"DC12",733,null,null,null,null,null,null,null,null,null,null,null,null,null,null,null,null,null,null,"~"]
["SA37",2020,"DC12",734,null,null,null,null,null,null,null,null,null,null,null,null,null,null,null,null,null,null,"~"]
["SA37",2020,"DC12",735,null,null,null,null,null,null,null,null,null,null,null,null,null,null,null,null,null,null,"~"]
["SA37",2020,"DC12",736,null,null,null,null,null,null,null,null,null,null,null,null,null,null,null,null,null,null,"~"]
["SA37",2020,"DC12",737,null,null,null,null,null,null,null,null,null,null,null,null,null,null,null,null,null,null,"~"]
["SA37",2020,"DC12",738,null,null,null,null,null,null,null,null,null,null,null,null,null,null,null,null,null,null,"~"]
["SA37",2020,"DC12",739,null,null,null,null,null,null,null,null,null,null,null,null,null,null,null,null,null,null,"~"]
["SA37",2020,"DC12",740,null,null,null,null,null,null,null,null,null,null,null,null,null,null,null,null,null,null,"~"]
["SA37",2020,"DC12",741,null,null,null,null,null,null,null,null,null,null,null,null,null,null,null,null,null,null,"~"]
["SA37",2020,"DC12",742,null,null,null,null,null,null,null,null,null,null,null,null,null,null,null,null,null,null,"~"]
["SA37",2020,"DC12",743,null,null,null,null,null,null,null,null,null,null,null,null,null,null,null,null,null,null,"~"]
["SA37",2020,"DC12",744,null,null,null,null,null,null,null,null,null,null,null,null,null,null,null,null,null,null,"~"]
["SA37",2020,"DC12",745,null,null,null,null,null,null,null,null,null,null,null,null,null,null,null,null,null,null,"~"]
["SA37",2020,"DC12",746,null,null,null,null,null,null,null,null,null,null,null,null,null,null,null,null,null,null,"~"]
["SA37",2020,"DC12",747,null,null,null,null,null,null,null,null,null,null,null,null,null,null,null,null,null,null,"~"]
["SA37",2020,"DC12",748,null,null,null,null,null,null,null,null,null,null,null,null,null,null,null,null,null,null,"~"]
["SA37",2020,"DC12",749,null,null,null,null,null,null,null,null,null,null,null,null,null,null,null,null,null,null,"~"]
["SA37",2020,"DC12",750,null,null,null,null,null,null,null,null,null,null,null,null,null,null,null,null,null,null,"~"]
["SA37",2020,"DC12",751,null,null,null,null,null,null,null,null,null,null,null,null,null,null,null,null,null,null,"~"]
["SA37",{"$f":"+MTREF","v":2020},{"$f":"LEFT(muni,(FIND(\" \",muni,1)-1))","v":"DC12"},752,null,null,null,null,null,null,null,null,null,null,null,null,null,null,null,null,null,null,"~"]
["SA37",2020,"DC12",753,null,null,null,null,null,null,null,null,null,null,null,null,null,null,null,null,null,null,"~"]
["SA37",2020,"DC12",754,null,null,null,null,null,null,null,null,null,null,null,null,null,null,null,null,null,null,"~"]
["SA37",2020,"DC12",755,null,null,null,null,null,null,null,null,null,null,null,null,null,null,null,null,null,null,"~"]
["SA37",2020,"DC12",756,null,null,null,null,null,null,null,null,null,null,null,null,null,null,null,null,null,null,"~"]
["SA37",2020,"DC12",757,null,null,null,null,null,null,null,null,null,null,null,null,null,null,null,null,null,null,"~"]
["SA37",2020,"DC12",758,null,null,null,null,null,null,null,null,null,null,null,null,null,null,null,null,null,null,"~"]
["SA37",2020,"DC12",759,null,null,null,null,null,null,null,null,null,null,null,null,null,null,null,null,null,null,"~"]
["SA37",2020,"DC12",760,null,null,null,null,null,null,null,null,null,null,null,null,null,null,null,null,null,null,"~"]
["SA37",2020,"DC12",761,null,null,null,null,null,null,null,null,null,null,null,null,null,null,null,null,null,null,"~"]
["SA37",2020,"DC12",762,null,null,null,null,null,null,null,null,null,null,null,null,null,null,null,null,null,null,"~"]
["SA37",2020,"DC12",763,null,null,null,null,null,null,null,null,null,null,null,null,null,null,null,null,null,null,"~"]
["SA37",2020,"DC12",764,null,null,null,null,null,null,null,null,null,null,null,null,null,null,null,null,null,null,"~"]
["SA37",2020,"DC12",765,null,null,null,null,null,null,null,null,null,null,null,null,null,null,null,null,null,null,"~"]
["SA37",2020,"DC12",766,null,null,null,null,null,null,null,null,null,null,null,null,null,null,null,null,null,null,"~"]
["SA37",2020,"DC12",767,null,null,null,null,null,null,null,null,null,null,null,null,null,null,null,null,null,null,"~"]
["SA37",2020,"DC12",768,null,null,null,null,null,null,null,null,null,null,null,null,null,null,null,null,null,null,"~"]
["SA37",2020,"DC12",769,null,null,null,null,null,null,null,null,null,null,null,null,null,null,null,null,null,null,"~"]
["SA37",2020,"DC12",770,null,null,null,null,null,null,null,null,null,null,null,null,null,null,null,null,null,null,"~"]
["SA37",2020,"DC12",771,null,null,null,null,null,null,null,null,null,null,null,null,null,null,null,null,null,null,"~"]
["SA37",2020,"DC12",772,null,null,null,null,null,null,null,null,null,null,null,null,null,null,null,null,null,null,"~"]
["SA37",2020,"DC12",773,null,null,null,null,null,null,null,null,null,null,null,null,null,null,null,null,null,null,"~"]
["SA37",2020,"DC12",774,null,null,null,null,null,null,null,null,null,null,null,null,null,null,null,null,null,null,"~"]
["SA37",2020,"DC12",775,null,null,null,null,null,null,null,null,null,null,null,null,null,null,null,null,null,null,"~"]
["SA37",2020,"DC12",776,null,null,null,null,null,null,null,null,null,null,null,null,null,null,null,null,null,null,"~"]
["SA37",2020,"DC12",777,null,null,null,null,null,null,null,null,null,null,null,null,null,null,null,null,null,null,"~"]
["SA37",2020,"DC12",778,null,null,null,null,null,null,null,null,null,null,null,null,null,null,null,null,null,null,"~"]
["SA37",2020,"DC12",779,null,null,null,null,null,null,null,null,null,null,null,null,null,null,null,null,null,null,"~"]
["SA37",2020,"DC12",780,null,null,null,null,null,null,null,null,null,null,null,null,null,null,null,null,null,null,"~"]
["SA37",2020,"DC12",781,null,null,null,null,null,null,null,null,null,null,null,null,null,null,null,null,null,null,"~"]
["SA37",2020,"DC12",782,null,null,null,null,null,null,null,null,null,null,null,null,null,null,null,null,null,null,"~"]
["SA37",2020,"DC12",783,null,null,null,null,null,null,null,null,null,null,null,null,null,null,null,null,null,null,"~"]
["SA37",2020,"DC12",784,null,null,null,null,null,null,null,null,null,null,null,null,null,null,null,null,null,null,"~"]
["SA37",2020,"DC12",785,null,null,null,null,null,null,null,null,null,null,null,null,null,null,null,null,null,null,"~"]
["SA37",2020,"DC12",786,null,null,null,null,null,null,null,null,null,null,null,null,null,null,null,null,null,null,"~"]
["SA37",2020,"DC12",787,null,null,null,null,null,null,null,null,null,null,null,null,null,null,null,null,null,null,"~"]
["SA37",2020,"DC12",788,null,null,null,null,null,null,null,null,null,null,null,null,null,null,null,null,null,null,"~"]
["SA37",2020,"DC12",789,null,null,null,null,null,null,null,null,null,null,null,null,null,null,null,null,null,null,"~"]
["SA37",2020,"DC12",790,null,null,null,null,null,null,null,null,null,null,null,null,null,null,null,null,null,null,"~"]
["SA37",2020,"DC12",791,null,null,null,null,null,null,null,null,null,null,null,null,null,null,null,null,null,null,"~"]
["SA37",2020,"DC12",792,null,null,null,null,null,null,null,null,null,null,null,null,null,null,null,null,null,null,"~"]
["SA37",2020,"DC12",793,null,null,null,null,null,null,null,null,null,null,null,null,null,null,null,null,null,null,"~"]
["SA37",2020,"DC12",794,null,null,null,null,null,null,null,null,null,null,null,null,null,null,null,null,null,null,"~"]
["SA37",2020,"DC12",795,null,null,null,null,null,null,null,null,null,null,null,null,null,null,null,null,null,null,"~"]
["SA37",2020,"DC12",796,null,null,null,null,null,null,null,null,null,null,null,null,null,null,null,null,null,null,"~"]
["SA37",2020,"DC12",797,null,null,null,null,null,null,null,null,null,null,null,null,null,null,null,null,null,null,"~"]
["SA37",2020,"DC12",798,null,null,null,null,null,null,null,null,null,null,null,null,null,null,null,null,null,null,"~"]
["SA37",2020,"DC12",799,null,null,null,null,null,null,null,null,null,null,null,null,null,null,null,null,null,null,"~"]
["SA37",2020,"DC12",800,null,null,null,null,null,null,null,null,null,null,null,null,null,null,null,null,null,null,"~"]
["SA37",2020,"DC12",801,null,null,null,null,null,null,null,null,null,null,null,null,null,null,null,null,null,null,"~"]
["SA37",2020,"DC12",802,null,null,null,null,null,null,null,null,null,null,null,null,null,null,null,null,null,null,"~"]
["SA37",2020,"DC12",803,null,null,null,null,null,null,null,null,null,null,null,null,null,null,null,null,null,null,"~"]
["SA37",2020,"DC12",804,null,null,null,null,null,null,null,null,null,null,null,null,null,null,null,null,null,null,"~"]
["SA37",2020,"DC12",805,null,null,null,null,null,null,null,null,null,null,null,null,null,null,null,null,null,null,"~"]
["SA37",2020,"DC12",806,null,null,null,null,null,null,null,null,null,null,null,null,null,null,null,null,null,null,"~"]
["SA37",2020,"DC12",807,null,null,null,null,null,null,null,null,null,null,null,null,null,null,null,null,null,null,"~"]
["SA37",2020,"DC12",808,null,null,null,null,null,null,null,null,null,null,null,null,null,null,null,null,null,null,"~"]
["SA37",2020,"DC12",809,null,null,null,null,null,null,null,null,null,null,null,null,null,null,null,null,null,null,"~"]
["SA37",2020,"DC12",810,null,null,null,null,null,null,null,null,null,null,null,null,null,null,null,null,null,null,"~"]
["SA37",2020,"DC12",811,null,null,null,null,null,null,null,null,null,null,null,null,null,null,null,null,null,null,"~"]
["SA37",2020,"DC12",812,null,null,null,null,null,null,null,null,null,null,null,null,null,null,null,null,null,null,"~"]
["SA37",2020,"DC12",813,null,null,null,null,null,null,null,null,null,null,null,null,null,null,null,null,null,null,"~"]
["SA37",2020,"DC12",814,null,null,null,null,null,null,null,null,null,null,null,null,null,null,null,null,null,null,"~"]
["SA37",2020,"DC12",815,null,null,null,null,null,null,null,null,null,null,null,null,null,null,null,null,null,null,"~"]
["SA37",{"$f":"+MTREF","v":2020},{"$f":"LEFT(muni,(FIND(\" \",muni,1)-1))","v":"DC12"},816,null,null,null,null,null,null,null,null,null,null,null,null,null,null,null,null,null,null,"~"]
["SA37",2020,"DC12",817,null,null,null,null,null,null,null,null,null,null,null,null,null,null,null,null,null,null,"~"]
["SA37",2020,"DC12",818,null,null,null,null,null,null,null,null,null,null,null,null,null,null,null,null,null,null,"~"]
["SA37",2020,"DC12",819,null,null,null,null,null,null,null,null,null,null,null,null,null,null,null,null,null,null,"~"]
["SA37",2020,"DC12",820,null,null,null,null,null,null,null,null,null,null,null,null,null,null,null,null,null,null,"~"]
["SA37",2020,"DC12",821,null,null,null,null,null,null,null,null,null,null,null,null,null,null,null,null,null,null,"~"]
["SA37",2020,"DC12",822,null,null,null,null,null,null,null,null,null,null,null,null,null,null,null,null,null,null,"~"]
["SA37",2020,"DC12",823,null,null,null,null,null,null,null,null,null,null,null,null,null,null,null,null,null,null,"~"]
["SA37",2020,"DC12",824,null,null,null,null,null,null,null,null,null,null,null,null,null,null,null,null,null,null,"~"]
["SA37",2020,"DC12",825,null,null,null,null,null,null,null,null,null,null,null,null,null,null,null,null,null,null,"~"]
["SA37",2020,"DC12",826,null,null,null,null,null,null,null,null,null,null,null,null,null,null,null,null,null,null,"~"]
["SA37",2020,"DC12",827,null,null,null,null,null,null,null,null,null,null,null,null,null,null,null,null,null,null,"~"]
["SA37",2020,"DC12",828,null,null,null,null,null,null,null,null,null,null,null,null,null,null,null,null,null,null,"~"]
["SA37",2020,"DC12",829,null,null,null,null,null,null,null,null,null,null,null,null,null,null,null,null,null,null,"~"]
["SA37",2020,"DC12",830,null,null,null,null,null,null,null,null,null,null,null,null,null,null,null,null,null,null,"~"]
["SA37",2020,"DC12",831,null,null,null,null,null,null,null,null,null,null,null,null,null,null,null,null,null,null,"~"]
["SA37",2020,"DC12",832,null,null,null,null,null,null,null,null,null,null,null,null,null,null,null,null,null,null,"~"]
["SA37",2020,"DC12",833,null,null,null,null,null,null,null,null,null,null,null,null,null,null,null,null,null,null,"~"]
["SA37",2020,"DC12",834,null,null,null,null,null,null,null,null,null,null,null,null,null,null,null,null,null,null,"~"]
["SA37",2020,"DC12",835,null,null,null,null,null,null,null,null,null,null,null,null,null,null,null,null,null,null,"~"]
["SA37",2020,"DC12",836,null,null,null,null,null,null,null,null,null,null,null,null,null,null,null,null,null,null,"~"]
["SA37",2020,"DC12",837,null,null,null,null,null,null,null,null,null,null,null,null,null,null,null,null,null,null,"~"]
["SA37",2020,"DC12",838,null,null,null,null,null,null,null,null,null,null,null,null,null,null,null,null,null,null,"~"]
["SA37",2020,"DC12",839,null,null,null,null,null,null,null,null,null,null,null,null,null,null,null,null,null,null,"~"]
["SA37",2020,"DC12",840,null,null,null,null,null,null,null,null,null,null,null,null,null,null,null,null,null,null,"~"]
["SA37",2020,"DC12",841,null,null,null,null,null,null,null,null,null,null,null,null,null,null,null,null,null,null,"~"]
["SA37",2020,"DC12",842,null,null,null,null,null,null,null,null,null,null,null,null,null,null,null,null,null,null,"~"]
["SA37",2020,"DC12",843,null,null,null,null,null,null,null,null,null,null,null,null,null,null,null,null,null,null,"~"]
["SA37",2020,"DC12",844,null,null,null,null,null,null,null,null,null,null,null,null,null,null,null,null,null,null,"~"]
["SA37",2020,"DC12",845,null,null,null,null,null,null,null,null,null,null,null,null,null,null,null,null,null,null,"~"]
["SA37",2020,"DC12",846,null,null,null,null,null,null,null,null,null,null,null,null,null,null,null,null,null,null,"~"]
["SA37",2020,"DC12",847,null,null,null,null,null,null,null,null,null,null,null,null,null,null,null,null,null,null,"~"]
["SA37",2020,"DC12",848,null,null,null,null,null,null,null,null,null,null,null,null,null,null,null,null,null,null,"~"]
["SA37",2020,"DC12",849,null,null,null,null,null,null,null,null,null,null,null,null,null,null,null,null,null,null,"~"]
["SA37",2020,"DC12",850,null,null,null,null,null,null,null,null,null,null,null,null,null,null,null,null,null,null,"~"]
["SA37",2020,"DC12",851,null,null,null,null,null,null,null,null,null,null,null,null,null,null,null,null,null,null,"~"]
["SA37",2020,"DC12",852,null,null,null,null,null,null,null,null,null,null,null,null,null,null,null,null,null,null,"~"]
["SA37",2020,"DC12",853,null,null,null,null,null,null,null,null,null,null,null,null,null,null,null,null,null,null,"~"]
["SA37",2020,"DC12",854,null,null,null,null,null,null,null,null,null,null,null,null,null,null,null,null,null,null,"~"]
["SA37",2020,"DC12",855,null,null,null,null,null,null,null,null,null,null,null,null,null,null,null,null,null,null,"~"]
["SA37",2020,"DC12",856,null,null,null,null,null,null,null,null,null,null,null,null,null,null,null,null,null,null,"~"]
["SA37",2020,"DC12",857,null,null,null,null,null,null,null,null,null,null,null,null,null,null,null,null,null,null,"~"]
["SA37",2020,"DC12",858,null,null,null,null,null,null,null,null,null,null,null,null,null,null,null,null,null,null,"~"]
["SA37",2020,"DC12",859,null,null,null,null,null,null,null,null,null,null,null,null,null,null,null,null,null,null,"~"]
["SA37",2020,"DC12",860,null,null,null,null,null,null,null,null,null,null,null,null,null,null,null,null,null,null,"~"]
["SA37",2020,"DC12",861,null,null,null,null,null,null,null,null,null,null,null,null,null,null,null,null,null,null,"~"]
["SA37",2020,"DC12",862,null,null,null,null,null,null,null,null,null,null,null,null,null,null,null,null,null,null,"~"]
["SA37",2020,"DC12",863,null,null,null,null,null,null,null,null,null,null,null,null,null,null,null,null,null,null,"~"]
["SA37",2020,"DC12",864,null,null,null,null,null,null,null,null,null,null,null,null,null,null,null,null,null,null,"~"]
["SA37",2020,"DC12",865,null,null,null,null,null,null,null,null,null,null,null,null,null,null,null,null,null,null,"~"]
["SA37",2020,"DC12",866,null,null,null,null,null,null,null,null,null,null,null,null,null,null,null,null,null,null,"~"]
["SA37",2020,"DC12",867,null,null,null,null,null,null,null,null,null,null,null,null,null,null,null,null,null,null,"~"]
["SA37",2020,"DC12",868,null,null,null,null,null,null,null,null,null,null,null,null,null,null,null,null,null,null,"~"]
["SA37",2020,"DC12",869,null,null,null,null,null,null,null,null,null,null,null,null,null,null,null,null,null,null,"~"]
["SA37",2020,"DC12",870,null,null,null,null,null,null,null,null,null,null,null,null,null,null,null,null,null,null,"~"]
["SA37",2020,"DC12",871,null,null,null,null,null,null,null,null,null,null,null,null,null,null,null,null,null,null,"~"]
["SA37",2020,"DC12",872,null,null,null,null,null,null,null,null,null,null,null,null,null,null,null,null,null,null,"~"]
["SA37",2020,"DC12",873,null,null,null,null,null,null,null,null,null,null,null,null,null,null,null,null,null,null,"~"]
["SA37",2020,"DC12",874,null,null,null,null,null,null,null,null,null,null,null,null,null,null,null,null,null,null,"~"]
["SA37",2020,"DC12",875,null,null,null,null,null,null,null,null,null,null,null,null,null,null,null,null,null,null,"~"]
["SA37",2020,"DC12",876,null,null,null,null,null,null,null,null,null,null,null,null,null,null,null,null,null,null,"~"]
["SA37",2020,"DC12",877,null,null,null,null,null,null,null,null,null,null,null,null,null,null,null,null,null,null,"~"]
["SA37",2020,"DC12",878,null,null,null,null,null,null,null,null,null,null,null,null,null,null,null,null,null,null,"~"]
["SA37",2020,"DC12",879,null,null,null,null,null,null,null,null,null,null,null,null,null,null,null,null,null,null,"~"]
["SA37",{"$f":"+MTREF","v":2020},{"$f":"LEFT(muni,(FIND(\" \",muni,1)-1))","v":"DC12"},880,null,null,null,null,null,null,null,null,null,null,null,null,null,null,null,null,null,null,"~"]
["SA37",2020,"DC12",881,null,null,null,null,null,null,null,null,null,null,null,null,null,null,null,null,null,null,"~"]
["SA37",2020,"DC12",882,null,null,null,null,null,null,null,null,null,null,null,null,null,null,null,null,null,null,"~"]
["SA37",2020,"DC12",883,null,null,null,null,null,null,null,null,null,null,null,null,null,null,null,null,null,null,"~"]
["SA37",2020,"DC12",884,null,null,null,null,null,null,null,null,null,null,null,null,null,null,null,null,null,null,"~"]
["SA37",2020,"DC12",885,null,null,null,null,null,null,null,null,null,null,null,null,null,null,null,null,null,null,"~"]
["SA37",2020,"DC12",886,null,null,null,null,null,null,null,null,null,null,null,null,null,null,null,null,null,null,"~"]
["SA37",2020,"DC12",887,null,null,null,null,null,null,null,null,null,null,null,null,null,null,null,null,null,null,"~"]
["SA37",2020,"DC12",888,null,null,null,null,null,null,null,null,null,null,null,null,null,null,null,null,null,null,"~"]
["SA37",2020,"DC12",889,null,null,null,null,null,null,null,null,null,null,null,null,null,null,null,null,null,null,"~"]
["SA37",2020,"DC12",890,null,null,null,null,null,null,null,null,null,null,null,null,null,null,null,null,null,null,"~"]
["SA37",2020,"DC12",891,null,null,null,null,null,null,null,null,null,null,null,null,null,null,null,null,null,null,"~"]
["SA37",2020,"DC12",892,null,null,null,null,null,null,null,null,null,null,null,null,null,null,null,null,null,null,"~"]
["SA37",2020,"DC12",893,null,null,null,null,null,null,null,null,null,null,null,null,null,null,null,null,null,null,"~"]
["SA37",2020,"DC12",894,null,null,null,null,null,null,null,null,null,null,null,null,null,null,null,null,null,null,"~"]
["SA37",2020,"DC12",895,null,null,null,null,null,null,null,null,null,null,null,null,null,null,null,null,null,null,"~"]
["SA37",2020,"DC12",896,null,null,null,null,null,null,null,null,null,null,null,null,null,null,null,null,null,null,"~"]
["SA37",2020,"DC12",897,null,null,null,null,null,null,null,null,null,null,null,null,null,null,null,null,null,null,"~"]
["SA37",2020,"DC12",898,null,null,null,null,null,null,null,null,null,null,null,null,null,null,null,null,null,null,"~"]
["SA37",2020,"DC12",899,null,null,null,null,null,null,null,null,null,null,null,null,null,null,null,null,null,null,"~"]
["SA37",2020,"DC12",900,null,null,null,null,null,null,null,null,null,null,null,null,null,null,null,null,null,null,"~"]
["SA37",2020,"DC12",901,null,null,null,null,null,null,null,null,null,null,null,null,null,null,null,null,null,null,"~"]
["SA37",2020,"DC12",902,null,null,null,null,null,null,null,null,null,null,null,null,null,null,null,null,null,null,"~"]
["SA37",2020,"DC12",903,null,null,null,null,null,null,null,null,null,null,null,null,null,null,null,null,null,null,"~"]
["SA37",2020,"DC12",904,null,null,null,null,null,null,null,null,null,null,null,null,null,null,null,null,null,null,"~"]
["SA37",2020,"DC12",905,null,null,null,null,null,null,null,null,null,null,null,null,null,null,null,null,null,null,"~"]
["SA37",2020,"DC12",906,null,null,null,null,null,null,null,null,null,null,null,null,null,null,null,null,null,null,"~"]
["SA37",2020,"DC12",907,null,null,null,null,null,null,null,null,null,null,null,null,null,null,null,null,null,null,"~"]
["SA37",2020,"DC12",908,null,null,null,null,null,null,null,null,null,null,null,null,null,null,null,null,null,null,"~"]
["SA37",2020,"DC12",909,null,null,null,null,null,null,null,null,null,null,null,null,null,null,null,null,null,null,"~"]
["SA37",2020,"DC12",910,null,null,null,null,null,null,null,null,null,null,null,null,null,null,null,null,null,null,"~"]
["SA37",2020,"DC12",911,null,null,null,null,null,null,null,null,null,null,null,null,null,null,null,null,null,null,"~"]
["SA37",2020,"DC12",912,null,null,null,null,null,null,null,null,null,null,null,null,null,null,null,null,null,null,"~"]
["SA37",2020,"DC12",913,null,null,null,null,null,null,null,null,null,null,null,null,null,null,null,null,null,null,"~"]
["SA37",2020,"DC12",914,null,null,null,null,null,null,null,null,null,null,null,null,null,null,null,null,null,null,"~"]
["SA37",2020,"DC12",915,null,null,null,null,null,null,null,null,null,null,null,null,null,null,null,null,null,null,"~"]
["SA37",2020,"DC12",916,null,null,null,null,null,null,null,null,null,null,null,null,null,null,null,null,null,null,"~"]
["SA37",2020,"DC12",917,null,null,null,null,null,null,null,null,null,null,null,null,null,null,null,null,null,null,"~"]
["SA37",2020,"DC12",918,null,null,null,null,null,null,null,null,null,null,null,null,null,null,null,null,null,null,"~"]
["SA37",2020,"DC12",919,null,null,null,null,null,null,null,null,null,null,null,null,null,null,null,null,null,null,"~"]
["SA37",2020,"DC12",920,null,null,null,null,null,null,null,null,null,null,null,null,null,null,null,null,null,null,"~"]
["SA37",2020,"DC12",921,null,null,null,null,null,null,null,null,null,null,null,null,null,null,null,null,null,null,"~"]
["SA37",2020,"DC12",922,null,null,null,null,null,null,null,null,null,null,null,null,null,null,null,null,null,null,"~"]
["SA37",2020,"DC12",923,null,null,null,null,null,null,null,null,null,null,null,null,null,null,null,null,null,null,"~"]
["SA37",2020,"DC12",924,null,null,null,null,null,null,null,null,null,null,null,null,null,null,null,null,null,null,"~"]
["SA37",2020,"DC12",925,null,null,null,null,null,null,null,null,null,null,null,null,null,null,null,null,null,null,"~"]
["SA37",2020,"DC12",926,null,null,null,null,null,null,null,null,null,null,null,null,null,null,null,null,null,null,"~"]
["SA37",2020,"DC12",927,null,null,null,null,null,null,null,null,null,null,null,null,null,null,null,null,null,null,"~"]
["SA37",2020,"DC12",928,null,null,null,null,null,null,null,null,null,null,null,null,null,null,null,null,null,null,"~"]
["SA37",2020,"DC12",929,null,null,null,null,null,null,null,null,null,null,null,null,null,null,null,null,null,null,"~"]
["SA37",2020,"DC12",930,null,null,null,null,null,null,null,null,null,null,null,null,null,null,null,null,null,null,"~"]
["SA37",2020,"DC12",931,null,null,null,null,null,null,null,null,null,null,null,null,null,null,null,null,null,null,"~"]
["SA37",2020,"DC12",932,null,null,null,null,null,null,null,null,null,null,null,null,null,null,null,null,null,null,"~"]
["SA37",2020,"DC12",933,null,null,null,null,null,null,null,null,null,null,null,null,null,null,null,null,null,null,"~"]
["SA37",2020,"DC12",934,null,null,null,null,null,null,null,null,null,null,null,null,null,null,null,null,null,null,"~"]
["SA37",2020,"DC12",935,null,null,null,null,null,null,null,null,null,null,null,null,null,null,null,null,null,null,"~"]
["SA37",2020,"DC12",936,null,null,null,null,null,null,null,null,null,null,null,null,null,null,null,null,null,null,"~"]
["SA37",2020,"DC12",937,null,null,null,null,null,null,null,null,null,null,null,null,null,null,null,null,null,null,"~"]
["SA37",2020,"DC12",938,null,null,null,null,null,null,null,null,null,null,null,null,null,null,null,null,null,null,"~"]
["SA37",2020,"DC12",939,null,null,null,null,null,null,null,null,null,null,null,null,null,null,null,null,null,null,"~"]
["SA37",2020,"DC12",940,null,null,null,null,null,null,null,null,null,null,null,null,null,null,null,null,null,null,"~"]
["SA37",2020,"DC12",941,null,null,null,null,null,null,null,null,null,null,null,null,null,null,null,null,null,null,"~"]
["SA37",2020,"DC12",942,null,null,null,null,null,null,null,null,null,null,null,null,null,null,null,null,null,null,"~"]
["SA37",2020,"DC12",943,null,null,null,null,null,null,null,null,null,null,null,null,null,null,null,null,null,null,"~"]
["SA37",{"$f":"+MTREF","v":2020},{"$f":"LEFT(muni,(FIND(\" \",muni,1)-1))","v":"DC12"},944,null,null,null,null,null,null,null,null,null,null,null,null,null,null,null,null,null,null,"~"]
["SA37",2020,"DC12",945,null,null,null,null,null,null,null,null,null,null,null,null,null,null,null,null,null,null,"~"]
["SA37",2020,"DC12",946,null,null,null,null,null,null,null,null,null,null,null,null,null,null,null,null,null,null,"~"]
["SA37",2020,"DC12",947,null,null,null,null,null,null,null,null,null,null,null,null,null,null,null,null,null,null,"~"]
["SA37",2020,"DC12",948,null,null,null,null,null,null,null,null,null,null,null,null,null,null,null,null,null,null,"~"]
["SA37",2020,"DC12",949,null,null,null,null,null,null,null,null,null,null,null,null,null,null,null,null,null,null,"~"]
["SA37",2020,"DC12",950,null,null,null,null,null,null,null,null,null,null,null,null,null,null,null,null,null,null,"~"]
["SA37",2020,"DC12",951,null,null,null,null,null,null,null,null,null,null,null,null,null,null,null,null,null,null,"~"]
["SA37",2020,"DC12",952,null,null,null,null,null,null,null,null,null,null,null,null,null,null,null,null,null,null,"~"]
["SA37",2020,"DC12",953,null,null,null,null,null,null,null,null,null,null,null,null,null,null,null,null,null,null,"~"]
["SA37",2020,"DC12",954,null,null,null,null,null,null,null,null,null,null,null,null,null,null,null,null,null,null,"~"]
["SA37",2020,"DC12",955,null,null,null,null,null,null,null,null,null,null,null,null,null,null,null,null,null,null,"~"]
["SA37",2020,"DC12",956,null,null,null,null,null,null,null,null,null,null,null,null,null,null,null,null,null,null,"~"]
["SA37",2020,"DC12",957,null,null,null,null,null,null,null,null,null,null,null,null,null,null,null,null,null,null,"~"]
["SA37",2020,"DC12",958,null,null,null,null,null,null,null,null,null,null,null,null,null,null,null,null,null,null,"~"]
["SA37",2020,"DC12",959,null,null,null,null,null,null,null,null,null,null,null,null,null,null,null,null,null,null,"~"]
["SA37",2020,"DC12",960,null,null,null,null,null,null,null,null,null,null,null,null,null,null,null,null,null,null,"~"]
["SA37",2020,"DC12",961,null,null,null,null,null,null,null,null,null,null,null,null,null,null,null,null,null,null,"~"]
["SA37",2020,"DC12",962,null,null,null,null,null,null,null,null,null,null,null,null,null,null,null,null,null,null,"~"]
["SA37",2020,"DC12",963,null,null,null,null,null,null,null,null,null,null,null,null,null,null,null,null,null,null,"~"]
["SA37",2020,"DC12",964,null,null,null,null,null,null,null,null,null,null,null,null,null,null,null,null,null,null,"~"]
["SA37",2020,"DC12",965,null,null,null,null,null,null,null,null,null,null,null,null,null,null,null,null,null,null,"~"]
["SA37",2020,"DC12",966,null,null,null,null,null,null,null,null,null,null,null,null,null,null,null,null,null,null,"~"]
["SA37",2020,"DC12",967,null,null,null,null,null,null,null,null,null,null,null,null,null,null,null,null,null,null,"~"]
["SA37",2020,"DC12",968,null,null,null,null,null,null,null,null,null,null,null,null,null,null,null,null,null,null,"~"]
["SA37",2020,"DC12",969,null,null,null,null,null,null,null,null,null,null,null,null,null,null,null,null,null,null,"~"]
["SA37",2020,"DC12",970,null,null,null,null,null,null,null,null,null,null,null,null,null,null,null,null,null,null,"~"]
["SA37",2020,"DC12",971,null,null,null,null,null,null,null,null,null,null,null,null,null,null,null,null,null,null,"~"]
["SA37",2020,"DC12",972,null,null,null,null,null,null,null,null,null,null,null,null,null,null,null,null,null,null,"~"]
["SA37",2020,"DC12",973,null,null,null,null,null,null,null,null,null,null,null,null,null,null,null,null,null,null,"~"]
["SA37",2020,"DC12",974,null,null,null,null,null,null,null,null,null,null,null,null,null,null,null,null,null,null,"~"]
["SA37",2020,"DC12",975,null,null,null,null,null,null,null,null,null,null,null,null,null,null,null,null,null,null,"~"]
["SA37",2020,"DC12",976,null,null,null,null,null,null,null,null,null,null,null,null,null,null,null,null,null,null,"~"]
["SA37",2020,"DC12",977,null,null,null,null,null,null,null,null,null,null,null,null,null,null,null,null,null,null,"~"]
["SA37",2020,"DC12",978,null,null,null,null,null,null,null,null,null,null,null,null,null,null,null,null,null,null,"~"]
["SA37",2020,"DC12",979,null,null,null,null,null,null,null,null,null,null,null,null,null,null,null,null,null,null,"~"]
["SA37",2020,"DC12",980,null,null,null,null,null,null,null,null,null,null,null,null,null,null,null,null,null,null,"~"]
["SA37",2020,"DC12",981,null,null,null,null,null,null,null,null,null,null,null,null,null,null,null,null,null,null,"~"]
["SA37",2020,"DC12",982,null,null,null,null,null,null,null,null,null,null,null,null,null,null,null,null,null,null,"~"]
["SA37",2020,"DC12",983,null,null,null,null,null,null,null,null,null,null,null,null,null,null,null,null,null,null,"~"]
["SA37",2020,"DC12",984,null,null,null,null,null,null,null,null,null,null,null,null,null,null,null,null,null,null,"~"]
["SA37",2020,"DC12",985,null,null,null,null,null,null,null,null,null,null,null,null,null,null,null,null,null,null,"~"]
["SA37",2020,"DC12",986,null,null,null,null,null,null,null,null,null,null,null,null,null,null,null,null,null,null,"~"]
["SA37",2020,"DC12",987,null,null,null,null,null,null,null,null,null,null,null,null,null,null,null,null,null,null,"~"]
["SA37",2020,"DC12",988,null,null,null,null,null,null,null,null,null,null,null,null,null,null,null,null,null,null,"~"]
["SA37",2020,"DC12",989,null,null,null,null,null,null,null,null,null,null,null,null,null,null,null,null,null,null,"~"]
["SA37",2020,"DC12",990,null,null,null,null,null,null,null,null,null,null,null,null,null,null,null,null,null,null,"~"]
["SA37",2020,"DC12",991,null,null,null,null,null,null,null,null,null,null,null,null,null,null,null,null,null,null,"~"]
["SA37",2020,"DC12",992,null,null,null,null,null,null,null,null,null,null,null,null,null,null,null,null,null,null,"~"]
["SA37",2020,"DC12",993,null,null,null,null,null,null,null,null,null,null,null,null,null,null,null,null,null,null,"~"]
["SA37",2020,"DC12",994,null,null,null,null,null,null,null,null,null,null,null,null,null,null,null,null,null,null,"~"]
["SA37",2020,"DC12",995,null,null,null,null,null,null,null,null,null,null,null,null,null,null,null,null,null,null,"~"]
["SA37",2020,"DC12",996,null,null,null,null,null,null,null,null,null,null,null,null,null,null,null,null,null,null,"~"]
["SA37",2020,"DC12",997,null,null,null,null,null,null,null,null,null,null,null,null,null,null,null,null,null,null,"~"]
["SA37",2020,"DC12",998,null,null,null,null,null,null,null,null,null,null,null,null,null,null,null,null,null,null,"~"]
["SA37",2020,"DC12",999,null,null,null,null,null,null,null,null,null,null,null,null,null,null,null,null,null,null,"~"]
["SA37",2020,"DC12",1000,null,null,null,null,null,null,null,null,null,null,null,null,null,null,null,null,null,null,"~"]
["CONTACT",2020,"DC12",1,null,null,null,null,null,null,null,null,null,null,null,null,null,null,null,null,null,null,"~"]
["CONTACT",2020,"DC12",2,null,null,null,null,null,null,null,null,null,null,null,null,null,null,null,null,null,null,"~"]
["CONTACT",2020,"DC12",3,null,null,null,null,null,null,null,null,null,null,null,null,null,null,null,null,null,null,"~"]
["CONTACT",2020,"DC12",4,null,null,null,null,null,null,null,null,null,null,null,null,null,null,null,null,null,null,"~"]
["CONTACT",2020,"DC12",5,null,null,null,null,null,null,null,null,null,null,null,null,null,null,null,null,null,null,"~"]
["CONTACT",2020,"DC12",6,null,null,null,null,null,null,null,null,null,null,null,null,null,null,null,null,null,null,"~"]
["CONTACT",2020,"DC12",7,null,null,null,null,null,null,null,null,null,null,null,null,null,null,null,null,null,null,"~"]
["CONTACT",{"$f":"+MTREF","v":2020},{"$f":"LEFT(muni,(FIND(\" \",muni,1)-1))","v":"DC12"},8,null,null,null,null,null,null,null,null,null,null,null,null,null,null,null,null,null,null,"~"]
["CONTACT",2020,"DC12",9,null,null,null,null,null,null,null,null,null,null,null,null,null,null,null,null,null,null,"~"]
["CONTACT",2020,"DC12",10,null,null,null,null,null,null,null,null,null,null,null,null,null,null,null,null,null,null,"~"]
["CONTACT",2020,"DC12",11,null,null,null,null,null,null,null,null,null,null,null,null,null,null,null,null,null,null,"~"]
["CONTACT",2020,"DC12",12,null,null,null,null,null,null,null,null,null,null,null,null,null,null,null,null,null,null,"~"]
["CONTACT",2020,"DC12",13,null,null,null,null,null,null,null,null,null,null,null,null,null,null,null,null,null,null,"~"]
["CONTACT",2020,"DC12",14,null,null,null,null,null,null,null,null,null,null,null,null,null,null,null,null,null,null,"~"]
["CONTACT",2020,"DC12",15,null,null,null,null,null,null,null,null,null,null,null,null,null,null,null,null,null,null,"~"]
["CONTACT",2020,"DC12",16,null,null,null,null,null,null,null,null,null,null,null,null,null,null,null,null,null,null,"~"]
["CONTACT",2020,"DC12",17,null,null,null,null,null,null,null,null,null,null,null,null,null,null,null,null,null,null,"~"]
["CONTACT",2020,"DC12",18,null,null,null,null,null,null,null,null,null,null,null,null,null,null,null,null,null,null,"~"]
["CONTACT",2020,"DC12",19,null,null,null,null,null,null,null,null,null,null,null,null,null,null,null,null,null,null,"~"]
["CONTACT",2020,"DC12",20,null,null,null,null,null,null,null,null,null,null,null,null,null,null,null,null,null,null,"~"]
["CONTACT",2020,"DC12",21,null,null,null,null,null,null,null,null,null,null,null,null,null,null,null,null,null,null,"~"]
["CONTACT",2020,"DC12",22,null,null,null,null,null,null,null,null,null,null,null,null,null,null,null,null,null,null,"~"]
["CONTACT",2020,"DC12",23,null,null,null,null,null,null,null,null,null,null,null,null,null,null,null,null,null,null,"~"]
["CONTACT",2020,"DC12",24,null,null,null,null,null,null,null,null,null,null,null,null,null,null,null,null,null,null,"~"]
["CONTACT",2020,"DC12",25,null,null,null,null,null,null,null,null,null,null,null,null,null,null,null,null,null,null,"~"]
["CONTACT",2020,"DC12",26,null,null,null,null,null,null,null,null,null,null,null,null,null,null,null,null,null,null,"~"]
["CONTACT",2020,"DC12",27,null,null,null,null,null,null,null,null,null,null,null,null,null,null,null,null,null,null,"~"]
["CONTACT",2020,"DC12",28,null,null,null,null,null,null,null,null,null,null,null,null,null,null,null,null,null,null,"~"]
["CONTACT",2020,"DC12",29,null,null,null,null,null,null,null,null,null,null,null,null,null,null,null,null,null,null,"~"]
["CONTACT",2020,"DC12",30,null,null,null,null,null,null,null,null,null,null,null,null,null,null,null,null,null,null,"~"]
["CONTACT",2020,"DC12",31,null,null,null,null,null,null,null,null,null,null,null,null,null,null,null,null,null,null,"~"]
["CONTACT",2020,"DC12",32,null,null,null,null,null,null,null,null,null,null,null,null,null,null,null,null,null,null,"~"]
["CONTACT",2020,"DC12",33,null,null,null,null,null,null,null,null,null,null,null,null,null,null,null,null,null,null,"~"]
["CONTACT",2020,"DC12",34,null,null,null,null,null,null,null,null,null,null,null,null,null,null,null,null,null,null,"~"]
["CONTACT",2020,"DC12",35,null,null,null,null,null,null,null,null,null,null,null,null,null,null,null,null,null,null,"~"]
["CONTACT",2020,"DC12",36,null,null,null,null,null,null,null,null,null,null,null,null,null,null,null,null,null,null,"~"]
["CONTACT",2020,"DC12",37,null,null,null,null,null,null,null,null,null,null,null,null,null,null,null,null,null,null,"~"]
["CONTACT",2020,"DC12",38,null,null,null,null,null,null,null,null,null,null,null,null,null,null,null,null,null,null,"~"]
["CONTACT",2020,"DC12",39,null,null,null,null,null,null,null,null,null,null,null,null,null,null,null,null,null,null,"~"]
["CONTACT",2020,"DC12",40,null,null,null,null,null,null,null,null,null,null,null,null,null,null,null,null,null,null,"~"]
["CONTACT",2020,"DC12",41,null,null,null,null,null,null,null,null,null,null,null,null,null,null,null,null,null,null,"~"]
["CONTACT",2020,"DC12",42,null,null,null,null,null,null,null,null,null,null,null,null,null,null,null,null,null,null,"~"]
["CONTACT",2020,"DC12",43,null,null,null,null,null,null,null,null,null,null,null,null,null,null,null,null,null,null,"~"]
["CONTACT",2020,"DC12",44,null,null,null,null,null,null,null,null,null,null,null,null,null,null,null,null,null,null,"~"]
["CONTACT",2020,"DC12",45,null,null,null,null,null,null,null,null,null,null,null,null,null,null,null,null,null,null,"~"]
["CONTACT",2020,"DC12",46,null,null,null,null,null,null,null,null,null,null,null,null,null,null,null,null,null,null,"~"]
["CONTACT",2020,"DC12",47,null,null,null,null,null,null,null,null,null,null,null,null,null,null,null,null,null,null,"~"]
["CONTACT",2020,"DC12",48,null,null,null,null,null,null,null,null,null,null,null,null,null,null,null,null,null,null,"~"]
["CONTACT",2020,"DC12",49,null,null,null,null,null,null,null,null,null,null,null,null,null,null,null,null,null,null,"~"]
["CONTACT",2020,"DC12",50,null,null,null,null,null,null,null,null,null,null,null,null,null,null,null,null,null,null,"~"]
["CONTACT",2020,"DC12",51,null,null,null,null,null,null,null,null,null,null,null,null,null,null,null,null,null,null,"~"]
["CONTACT",2020,"DC12",52,null,null,null,null,null,null,null,null,null,null,null,null,null,null,null,null,null,null,"~"]
["CONTACT",2020,"DC12",53,null,null,null,null,null,null,null,null,null,null,null,null,null,null,null,null,null,null,"~"]
["CONTACT",2020,"DC12",54,null,null,null,null,null,null,null,null,null,null,null,null,null,null,null,null,null,null,"~"]
["CONTACT",2020,"DC12",55,null,null,null,null,null,null,null,null,null,null,null,null,null,null,null,null,null,null,"~"]
["CONTACT",2020,"DC12",56,null,null,null,null,null,null,null,null,null,null,null,null,null,null,null,null,null,null,"~"]
["CONTACT",2020,"DC12",57,null,null,null,null,null,null,null,null,null,null,null,null,null,null,null,null,null,null,"~"]
["CONTACT",2020,"DC12",58,null,null,null,null,null,null,null,null,null,null,null,null,null,null,null,null,null,null,"~"]
["CONTACT",2020,"DC12",59,null,null,null,null,null,null,null,null,null,null,null,null,null,null,null,null,null,null,"~"]
["CONTACT",2020,"DC12",60,null,null,null,null,null,null,null,null,null,null,null,null,null,null,null,null,null,null,"~"]
["CONTACT",2020,"DC12",61,null,null,null,null,null,null,null,null,null,null,null,null,null,null,null,null,null,null,"~"]
["CONTACT",2020,"DC12",62,null,null,null,null,null,null,null,null,null,null,null,null,null,null,null,null,null,null,"~"]
["CONTACT",2020,"DC12",63,null,null,null,null,null,null,null,null,null,null,null,null,null,null,null,null,null,null,"~"]
["CONTACT",2020,"DC12",64,null,null,null,null,null,null,null,null,null,null,null,null,null,null,null,null,null,null,"~"]
["CONTACT",2020,"DC12",65,null,null,null,null,null,null,null,null,null,null,null,null,null,null,null,null,null,null,"~"]
["CONTACT",2020,"DC12",66,null,null,null,null,null,null,null,null,null,null,null,null,null,null,null,null,null,null,"~"]
["CONTACT",2020,"DC12",67,null,null,null,null,null,null,null,null,null,null,null,null,null,null,null,null,null,null,"~"]
["CONTACT",2020,"DC12",68,null,null,null,null,null,null,null,null,null,null,null,null,null,null,null,null,null,null,"~"]
["CONTACT",2020,"DC12",69,null,null,null,null,null,null,null,null,null,null,null,null,null,null,null,null,null,null,"~"]
["CONTACT",2020,"DC12",70,null,null,null,null,null,null,null,null,null,null,null,null,null,null,null,null,null,null,"~"]
["CONTACT",2020,"DC12",71,null,null,null,null,null,null,null,null,null,null,null,null,null,null,null,null,null,null,"~"]
["CONTACT",{"$f":"+MTREF","v":2020},{"$f":"LEFT(muni,(FIND(\" \",muni,1)-1))","v":"DC12"},72,null,null,null,null,null,null,null,null,null,null,null,null,null,null,null,null,null,null,"~"]
["CONTACT",2020,"DC12",73,null,null,null,null,null,null,null,null,null,null,null,null,null,null,null,null,null,null,"~"]
["CONTACT",2020,"DC12",74,null,null,null,null,null,null,null,null,null,null,null,null,null,null,null,null,null,null,"~"]
["CONTACT",2020,"DC12",75,null,null,null,null,null,null,null,null,null,null,null,null,null,null,null,null,null,null,"~"]
["CONTACT",2020,"DC12",76,null,null,null,null,null,null,null,null,null,null,null,null,null,null,null,null,null,null,"~"]
["CONTACT",2020,"DC12",77,null,null,null,null,null,null,null,null,null,null,null,null,null,null,null,null,null,null,"~"]
["CONTACT",2020,"DC12",78,null,null,null,null,null,null,null,null,null,null,null,null,null,null,null,null,null,null,"~"]
["CONTACT",2020,"DC12",79,null,null,null,null,null,null,null,null,null,null,null,null,null,null,null,null,null,null,"~"]
["CONTACT",2020,"DC12",80,null,null,null,null,null,null,null,null,null,null,null,null,null,null,null,null,null,null,"~"]
["CONTACT",2020,"DC12",81,null,null,null,null,null,null,null,null,null,null,null,null,null,null,null,null,null,null,"~"]
["CONTACT",2020,"DC12",82,null,null,null,null,null,null,null,null,null,null,null,null,null,null,null,null,null,null,"~"]
["CONTACT",2020,"DC12",83,null,null,null,null,null,null,null,null,null,null,null,null,null,null,null,null,null,null,"~"]
["CONTACT",2020,"DC12",84,null,null,null,null,null,null,null,null,null,null,null,null,null,null,null,null,null,null,"~"]
["CONTACT",2020,"DC12",85,null,null,null,null,null,null,null,null,null,null,null,null,null,null,null,null,null,null,"~"]
["CONTACT",2020,"DC12",86,null,null,null,null,null,null,null,null,null,null,null,null,null,null,null,null,null,null,"~"]
["CONTACT",2020,"DC12",87,null,null,null,null,null,null,null,null,null,null,null,null,null,null,null,null,null,null,"~"]
["CONTACT",2020,"DC12",88,null,null,null,null,null,null,null,null,null,null,null,null,null,null,null,null,null,null,"~"]
["CONTACT",2020,"DC12",89,null,null,null,null,null,null,null,null,null,null,null,null,null,null,null,null,null,null,"~"]
["CONTACT",2020,"DC12",90,null,null,null,null,null,null,null,null,null,null,null,null,null,null,null,null,null,null,"~"]
["CONTACT",2020,"DC12",91,null,null,null,null,null,null,null,null,null,null,null,null,null,null,null,null,null,null,"~"]
["CONTACT",2020,"DC12",92,null,null,null,null,null,null,null,null,null,null,null,null,null,null,null,null,null,null,"~"]
["CONTACT",2020,"DC12",93,null,null,null,null,null,null,null,null,null,null,null,null,null,null,null,null,null,null,"~"]
["CONTACT",2020,"DC12",94,null,null,null,null,null,null,null,null,null,null,null,null,null,null,null,null,null,null,"~"]
["CONTACT",2020,"DC12",95,null,null,null,null,null,null,null,null,null,null,null,null,null,null,null,null,null,null,"~"]
["CONTACT",2020,"DC12",96,null,null,null,null,null,null,null,null,null,null,null,null,null,null,null,null,null,null,"~"]
["CONTACT",2020,"DC12",97,null,null,null,null,null,null,null,null,null,null,null,null,null,null,null,null,null,null,"~"]
["CONTACT",2020,"DC12",98,null,null,null,null,null,null,null,null,null,null,null,null,null,null,null,null,null,null,"~"]
["CONTACT",2020,"DC12",99,null,null,null,null,null,null,null,null,null,null,null,null,null,null,null,null,null,null,"~"]
["CONTACT",2020,"DC12",100,null,null,null,null,null,null,null,null,null,null,null,null,null,null,null,null,null,null,"~"]
["CONTACT",2020,"DC12",101,null,null,null,null,null,null,null,null,null,null,null,null,null,null,null,null,null,null,"~"]
["CONTACT",2020,"DC12",102,null,null,null,null,null,null,null,null,null,null,null,null,null,null,null,null,null,null,"~"]
["CONTACT",2020,"DC12",103,null,null,null,null,null,null,null,null,null,null,null,null,null,null,null,null,null,null,"~"]
["CONTACT",2020,"DC12",104,null,null,null,null,null,null,null,null,null,null,null,null,null,null,null,null,null,null,"~"]
["CONTACT",2020,"DC12",105,null,null,null,null,null,null,null,null,null,null,null,null,null,null,null,null,null,null,"~"]
["CONTACT",2020,"DC12",106,null,null,null,null,null,null,null,null,null,null,null,null,null,null,null,null,null,null,"~"]
["CONTACT",2020,"DC12",107,null,null,null,null,null,null,null,null,null,null,null,null,null,null,null,null,null,null,"~"]
["CONTACT",2020,"DC12",108,null,null,null,null,null,null,null,null,null,null,null,null,null,null,null,null,null,null,"~"]
["CONTACT",2020,"DC12",109,null,null,null,null,null,null,null,null,null,null,null,null,null,null,null,null,null,null,"~"]
["CONTACT",2020,"DC12",110,null,null,null,null,null,null,null,null,null,null,null,null,null,null,null,null,null,null,"~"]
["CONTACT",2020,"DC12",111,null,null,null,null,null,null,null,null,null,null,null,null,null,null,null,null,null,null,"~"]
["CONTACT",2020,"DC12",112,null,null,null,null,null,null,null,null,null,null,null,null,null,null,null,null,null,null,"~"]
["CONTACT",2020,"DC12",113,null,null,null,null,null,null,null,null,null,null,null,null,null,null,null,null,null,null,"~"]
["CONTACT",2020,"DC12",114,null,null,null,null,null,null,null,null,null,null,null,null,null,null,null,null,null,null,"~"]
["CONTACT",2020,"DC12",115,null,null,null,null,null,null,null,null,null,null,null,null,null,null,null,null,null,null,"~"]
["CONTACT",2020,"DC12",116,null,null,null,null,null,null,null,null,null,null,null,null,null,null,null,null,null,null,"~"]
["CONTACT",2020,"DC12",117,null,null,null,null,null,null,null,null,null,null,null,null,null,null,null,null,null,null,"~"]
["CONTACT",2020,"DC12",118,null,null,null,null,null,null,null,null,null,null,null,null,null,null,null,null,null,null,"~"]
["CONTACT",2020,"DC12",119,null,null,null,null,null,null,null,null,null,null,null,null,null,null,null,null,null,null,"~"]
["CONTACT",2020,"DC12",120,null,null,null,null,null,null,null,null,null,null,null,null,null,null,null,null,null,null,"~"]
["CONTACT",2020,"DC12",121,null,null,null,null,null,null,null,null,null,null,null,null,null,null,null,null,null,null,"~"]
["CONTACT",2020,"DC12",122,null,null,null,null,null,null,null,null,null,null,null,null,null,null,null,null,null,null,"~"]
["CONTACT",2020,"DC12",123,null,null,null,null,null,null,null,null,null,null,null,null,null,null,null,null,null,null,"~"]
["CONTACT",2020,"DC12",124,null,null,null,null,null,null,null,null,null,null,null,null,null,null,null,null,null,null,"~"]
["CONTACT",2020,"DC12",125,null,null,null,null,null,null,null,null,null,null,null,null,null,null,null,null,null,null,"~"]
["CONTACT",2020,"DC12",126,null,null,null,null,null,null,null,null,null,null,null,null,null,null,null,null,null,null,"~"]
["CONTACT",2020,"DC12",127,null,null,null,null,null,null,null,null,null,null,null,null,null,null,null,null,null,null,"~"]
["CONTACT",2020,"DC12",128,null,null,null,null,null,null,null,null,null,null,null,null,null,null,null,null,null,null,"~"]
["CONTACT",2020,"DC12",129,null,null,null,null,null,null,null,null,null,null,null,null,null,null,null,null,null,null,"~"]
["CONTACT",2020,"DC12",130,null,null,null,null,null,null,null,null,null,null,null,null,null,null,null,null,null,null,"~"]
["CONTACT",2020,"DC12",131,null,null,null,null,null,null,null,null,null,null,null,null,null,null,null,null,null,null,"~"]
["CONTACT",2020,"DC12",132,null,null,null,null,null,null,null,null,null,null,null,null,null,null,null,null,null,null,"~"]
["CONTACT",2020,"DC12",133,null,null,null,null,null,null,null,null,null,null,null,null,null,null,null,null,null,null,"~"]
["CONTACT",2020,"DC12",134,null,null,null,null,null,null,null,null,null,null,null,null,null,null,null,null,null,null,"~"]
["CONTACT",2020,"DC12",135,null,null,null,null,null,null,null,null,null,null,null,null,null,null,null,null,null,null,"~"]
["CONTACT",2020,"DC12",136,null,null,null,null,null,null,null,null,null,null,null,null,null,null,null,null,null,null,"~"]
["CONTACT",2020,"DC12",137,null,null,null,null,null,null,null,null,null,null,null,null,null,null,null,null,null,null,"~"]
["CONTACT",2020,"DC12",138,null,null,null,null,null,null,null,null,null,null,null,null,null,null,null,null,null,null,"~"]
["SA25",2020,"DC12",0,1,"Revenue By Source",null,null,null,null,null,null,null,null,null,null,null,null,null,null,null,null,"~"]
["SA25",2020,"DC12",0,2,"Property rates",null,null,null,null,null,null,null,null,null,null,null,null,null,null,null,null,"~"]
["SA25",2020,"DC12",0,3,"Property rates - penalties & collection charges",null,null,null,null,null,null,null,null,null,null,null,null,null,null,null,null,"~"]
["SA25",2020,"DC12",0,4,"Service charges - electricity revenue",null,null,null,null,null,null,null,null,null,null,null,null,null,null,null,null,"~"]
["SA25",2020,"DC12",0,5,"Service charges - water revenue",null,null,null,null,null,null,null,null,null,null,null,null,null,null,null,null,"~"]
["SA25",2020,"DC12",0,6,"Service charges - sanitation revenue",null,null,null,null,null,null,null,null,null,null,null,null,null,null,null,null,"~"]
["SA25",2020,"DC12",0,7,"Service charges - refuse revenue",null,null,null,null,null,null,null,null,null,null,null,null,null,null,null,null,"~"]
["SA25",2020,"DC12",0,8,"Service charges - other",null,null,null,null,null,null,null,null,null,null,null,null,null,null,null,null,"~"]
["SA25",2020,"DC12",0,9,"Rental of facilities and equipment",null,null,null,null,null,null,null,null,null,null,null,null,null,null,null,null,"~"]
["SA25",2020,"DC12",0,10,"Interest earned - external investments",null,null,null,null,null,null,null,null,null,null,null,null,null,null,null,null,"~"]
["SA25",2020,"DC12",0,11,"Interest earned - outstanding debtors",null,null,null,null,null,null,null,null,null,null,null,null,null,null,null,null,"~"]
["SA25",2020,"DC12",0,12,"Dividends received",null,null,null,null,null,null,null,null,null,null,null,null,null,null,null,null,"~"]
["SA25",2020,"DC12",0,13,"Fines",null,null,null,null,null,null,null,null,null,null,null,null,null,null,null,null,"~"]
["SA25",2020,"DC12",0,14,"Licences and permits",null,null,null,null,null,null,null,null,null,null,null,null,null,null,null,null,"~"]
["SA25",2020,"DC12",0,15,"Agency services",null,null,null,null,null,null,null,null,null,null,null,null,null,null,null,null,"~"]
["SA25",2020,"DC12",0,16,"Transfers recognised - operational",null,null,null,null,null,null,null,null,null,null,null,null,null,null,null,null,"~"]
["SA25",2020,"DC12",0,17,"Other revenue",null,null,null,null,null,null,null,null,null,null,null,null,null,null,null,null,"~"]
["SA25",2020,"DC12",0,18,"Gains on disposal of PPE",null,null,null,null,null,null,null,null,null,null,null,null,null,null,null,null,"~"]
["SA25",2020,"DC12",0,19,"Total Revenue (excluding capital transfers and contributions)",null,null,null,null,null,null,null,null,null,null,null,null,null,null,null,null,"~"]
["SA25",2020,"DC12",0,20,null,null,null,null,null,null,null,null,null,null,null,null,null,null,null,null,null,"~"]
["SA25",2020,"DC12",0,21,"Expenditure By Type",null,null,null,null,null,null,null,null,null,null,null,null,null,null,null,null,"~"]
["SA25",2020,"DC12",0,22,"Employee related costs",null,null,null,null,null,null,null,null,null,null,null,null,null,null,null,null,"~"]
["SA25",2020,"DC12",0,23,"Remuneration of councillors",null,null,null,null,null,null,null,null,null,null,null,null,null,null,null,null,"~"]
["SA25",2020,"DC12",0,24,"Debt impairment",null,null,null,null,null,null,null,null,null,null,null,null,null,null,null,null,"~"]
["SA25",2020,"DC12",0,25,"Depreciation & asset impairment",null,null,null,null,null,null,null,null,null,null,null,null,null,null,null,null,"~"]
["SA25",2020,"DC12",0,26,"Finance charges",null,null,null,null,null,null,null,null,null,null,null,null,null,null,null,null,"~"]
["SA25",2020,"DC12",0,27,"Bulk purchases",null,null,null,null,null,null,null,null,null,null,null,null,null,null,null,null,"~"]
["SA25",2020,"DC12",0,28,"Other materials",null,null,null,null,null,null,null,null,null,null,null,null,null,null,null,null,"~"]
["SA25",2020,"DC12",0,29,"Contracted services",null,null,null,null,null,null,null,null,null,null,null,null,null,null,null,null,"~"]
["SA25",2020,"DC12",0,30,"Transfers and grants",null,null,null,null,null,null,null,null,null,null,null,null,null,null,null,null,"~"]
["SA25",2020,"DC12",0,31,"Other expenditure",null,null,null,null,null,null,null,null,null,null,null,null,null,null,null,null,"~"]
["SA25",2020,"DC12",0,32,"Loss on disposal of PPE",null,null,null,null,null,null,null,null,null,null,null,null,null,null,null,null,"~"]
["SA25",2020,"DC12",0,33,"Total Expenditure",null,null,null,null,null,null,null,null,null,null,null,null,null,null,null,null,"~"]
["SA25",2020,"DC12",0,34,null,null,null,null,null,null,null,null,null,null,null,null,null,null,null,null,null,"~"]
["SA25",2020,"DC12",0,35,"Surplus/(Deficit)",null,null,null,null,null,null,null,null,null,null,null,null,null,null,null,null,"~"]
["SA25",{"$f":"+MTREF","v":2020},{"$f":"LEFT(muni,(FIND(\" \",muni,1)-1))","v":"DC12"},0,36,"Transfers recognised - capital",null,null,null,null,null,null,null,null,null,null,null,null,null,null,null,null,"~"]
["SA25",2020,"DC12",0,37,"Contributions recognised - capital",null,null,null,null,null,null,null,null,null,null,null,null,null,null,null,null,"~"]
["SA25",2020,"DC12",0,38,"Contributed assets",null,null,null,null,null,null,null,null,null,null,null,null,null,null,null,null,"~"]
["SA25",2020,"DC12",0,39,"Surplus/(Deficit) after capital transfers & contributions",null,null,null,null,null,null,null,null,null,null,null,null,null,null,null,null,"~"]
["SA25",2020,"DC12",0,40,"Taxation",null,null,null,null,null,null,null,null,null,null,null,null,null,null,null,null,"~"]
["SA25",2020,"DC12",0,41,"Attributable to minorities",null,null,null,null,null,null,null,null,null,null,null,null,null,null,null,null,"~"]
["SA25",2020,"DC12",0,44,"Share of surplus/ (deficit) of associate",null,null,null,null,null,null,null,null,null,null,null,null,null,null,null,null,"~"]
["SA27",2020,"DC12",null,null,"Revenue - Standard",null,null,null,null,null,null,null,null,null,null,null,null,null,null,null,null,"~"]
["SA27",2020,"DC12",null,null,"Governance and administration",null,null,null,null,null,null,null,null,null,null,null,null,null,null,null,null,"~"]
["SA27",2020,"DC12",1,11,"Executive and council",null,null,null,null,null,null,null,null,null,null,null,null,null,null,null,null,"~"]
["SA27",2020,"DC12",1,12,"Budget and treasury office",null,null,null,null,null,null,null,null,null,null,null,null,null,null,null,null,"~"]
["SA27",2020,"DC12",1,13,"Corporate services",null,null,null,null,null,null,null,null,null,null,null,null,null,null,null,null,"~"]
["SA27",2020,"DC12",null,null,"Community and public safety",null,null,null,null,null,null,null,null,null,null,null,null,null,null,null,null,"~"]
["SA27",2020,"DC12",1,21,"Community and social services",null,null,null,null,null,null,null,null,null,null,null,null,null,null,null,null,"~"]
["SA27",2020,"DC12",1,22,"Sport and recreation",null,null,null,null,null,null,null,null,null,null,null,null,null,null,null,null,"~"]
["SA27",2020,"DC12",1,23,"Public safety",null,null,null,null,null,null,null,null,null,null,null,null,null,null,null,null,"~"]
["SA27",2020,"DC12",1,24,"Housing",null,null,null,null,null,null,null,null,null,null,null,null,null,null,null,null,"~"]
["SA27",2020,"DC12",1,25,"Health",null,null,null,null,null,null,null,null,null,null,null,null,null,null,null,null,"~"]
["SA27",2020,"DC12",null,null,"Economic and environmental services",null,null,null,null,null,null,null,null,null,null,null,null,null,null,null,null,"~"]
["SA27",2020,"DC12",1,31,"Planning and development",null,null,null,null,null,null,null,null,null,null,null,null,null,null,null,null,"~"]
["SA27",2020,"DC12",1,32,"Road transport",null,null,null,null,null,null,null,null,null,null,null,null,null,null,null,null,"~"]
["SA27",2020,"DC12",1,33,"Environmental protection",null,null,null,null,null,null,null,null,null,null,null,null,null,null,null,null,"~"]
["SA27",2020,"DC12",null,null,"Trading services",null,null,null,null,null,null,null,null,null,null,null,null,null,null,null,null,"~"]
["SA27",2020,"DC12",1,41,"Electricity",null,null,null,null,null,null,null,null,null,null,null,null,null,null,null,null,"~"]
["SA27",2020,"DC12",1,42,"Water",null,null,null,null,null,null,null,null,null,null,null,null,null,null,null,null,"~"]
["SA27",2020,"DC12",1,43,"Waste water management",null,null,null,null,null,null,null,null,null,null,null,null,null,null,null,null,"~"]
["SA27",2020,"DC12",1,44,"Waste management",null,null,null,null,null,null,null,null,null,null,null,null,null,null,null,null,"~"]
["SA27",2020,"DC12",1,45,"Other",null,null,null,null,null,null,null,null,null,null,null,null,null,null,null,null,"~"]
["SA27",2020,"DC12",null,null,"Total Revenue - Standard",null,null,null,null,null,null,null,null,null,null,null,null,null,null,null,null,"~"]
["SA27",2020,"DC12",null,null,null,null,null,null,null,null,null,null,null,null,null,null,null,null,null,null,null,"~"]
["SA27",2020,"DC12",null,null,"Expenditure - Standard",null,null,null,null,null,null,null,null,null,null,null,null,null,null,null,null,"~"]
["SA27",2020,"DC12",null,null,"Governance and administration",null,null,null,null,null,null,null,null,null,null,null,null,null,null,null,null,"~"]
["SA27",2020,"DC12",2,11,"Executive and council",null,null,null,null,null,null,null,null,null,null,null,null,null,null,null,null,"~"]
["SA27",2020,"DC12",2,12,"Budget and treasury office",null,null,null,null,null,null,null,null,null,null,null,null,null,null,null,null,"~"]
["SA27",2020,"DC12",2,13,"Corporate services",null,null,null,null,null,null,null,null,null,null,null,null,null,null,null,null,"~"]
["SA27",2020,"DC12",null,null,"Community and public safety",null,null,null,null,null,null,null,null,null,null,null,null,null,null,null,null,"~"]
["SA27",2020,"DC12",2,21,"Community and social services",null,null,null,null,null,null,null,null,null,null,null,null,null,null,null,null,"~"]
["SA27",2020,"DC12",2,22,"Sport and recreation",null,null,null,null,null,null,null,null,null,null,null,null,null,null,null,null,"~"]
["SA27",2020,"DC12",2,23,"Public safety",null,null,null,null,null,null,null,null,null,null,null,null,null,null,null,null,"~"]
["SA27",2020,"DC12",2,24,"Housing",null,null,null,null,null,null,null,null,null,null,null,null,null,null,null,null,"~"]
["SA27",2020,"DC12",2,25,"Health",null,null,null,null,null,null,null,null,null,null,null,null,null,null,null,null,"~"]
["SA27",2020,"DC12",null,null,"Economic and environmental services",null,null,null,null,null,null,null,null,null,null,null,null,null,null,null,null,"~"]
["SA27",2020,"DC12",2,31,"Planning and development",null,null,null,null,null,null,null,null,null,null,null,null,null,null,null,null,"~"]
["SA27",2020,"DC12",2,32,"Road transport",null,null,null,null,null,null,null,null,null,null,null,null,null,null,null,null,"~"]
["SA27",2020,"DC12",2,33,"Environmental protection",null,null,null,null,null,null,null,null,null,null,null,null,null,null,null,null,"~"]
["SA27",2020,"DC12",null,null,"Trading services",null,null,null,null,null,null,null,null,null,null,null,null,null,null,null,null,"~"]
["SA27",2020,"DC12",2,41,"Electricity",null,null,null,null,null,null,null,null,null,null,null,null,null,null,null,null,"~"]
["SA27",2020,"DC12",2,42,"Water",null,null,null,null,null,null,null,null,null,null,null,null,null,null,null,null,"~"]
["SA27",2020,"DC12",2,43,"Waste water management",null,null,null,null,null,null,null,null,null,null,null,null,null,null,null,null,"~"]
["SA27",2020,"DC12",2,44,"Waste management",null,null,null,null,null,null,null,null,null,null,null,null,null,null,null,null,"~"]
["SA27",2020,"DC12",2,45,"Other",null,null,null,null,null,null,null,null,null,null,null,null,null,null,null,null,"~"]
["SA27",2020,"DC12",null,null,"Total Expenditure - Standard",null,null,null,null,null,null,null,null,null,null,null,null,null,null,null,null,"~"]
["SA29",2020,"DC12",null,null,"Capital Expenditure - Standard",null,null,null,null,null,null,null,null,null,null,null,null,null,null,null,null,"~"]
["SA29",2020,"DC12",null,null,"Governance and administration",null,null,null,null,null,null,null,null,null,null,null,null,null,null,null,null,"~"]
["SA29",2020,"DC12",1,11,"Executive and council",null,null,null,null,null,null,null,null,null,null,null,null,null,null,null,null,"~"]
["SA29",2020,"DC12",1,12,"Budget and treasury office",null,null,null,null,null,null,null,null,null,null,null,null,null,null,null,null,"~"]
["SA29",2020,"DC12",1,13,"Corporate services",null,null,null,null,null,null,null,null,null,null,null,null,null,null,null,null,"~"]
["SA29",2020,"DC12",null,null,"Community and public safety",null,null,null,null,null,null,null,null,null,null,null,null,null,null,null,null,"~"]
["SA29",2020,"DC12",1,21,"Community and social services",null,null,null,null,null,null,null,null,null,null,null,null,null,null,null,null,"~"]
["SA29",2020,"DC12",1,22,"Sport and recreation",null,null,null,null,null,null,null,null,null,null,null,null,null,null,null,null,"~"]
["SA29",2020,"DC12",1,23,"Public safety",null,null,null,null,null,null,null,null,null,null,null,null,null,null,null,null,"~"]
["SA29",2020,"DC12",1,24,"Housing",null,null,null,null,null,null,null,null,null,null,null,null,null,null,null,null,"~"]
["SA29",2020,"DC12",1,25,"Health",null,null,null,null,null,null,null,null,null,null,null,null,null,null,null,null,"~"]
["SA29",2020,"DC12",null,null,"Economic and environmental services",null,null,null,null,null,null,null,null,null,null,null,null,null,null,null,null,"~"]
["SA29",{"$f":"+MTREF","v":2020},{"$f":"LEFT(muni,(FIND(\" \",muni,1)-1))","v":"DC12"},1,31,"Planning and development",null,null,null,null,null,null,null,null,null,null,null,null,null,null,null,null,"~"]
["SA29",2020,"DC12",1,32,"Road transport",null,null,null,null,null,null,null,null,null,null,null,null,null,null,null,null,"~"]
["SA29",2020,"DC12",1,33,"Environmental protection",null,null,null,null,null,null,null,null,null,null,null,null,null,null,null,null,"~"]
["SA29",2020,"DC12",null,null,"Trading services",null,null,null,null,null,null,null,null,null,null,null,null,null,null,null,null,"~"]
["SA29",2020,"DC12",1,41,"Electricity",null,null,null,null,null,null,null,null,null,null,null,null,null,null,null,null,"~"]
["SA29",2020,"DC12",1,42,"Water",null,null,null,null,null,null,null,null,null,null,null,null,null,null,null,null,"~"]
["SA29",2020,"DC12",1,43,"Waste water management",null,null,null,null,null,null,null,null,null,null,null,null,null,null,null,null,"~"]
["SA29",2020,"DC12",1,44,"Waste management",null,null,null,null,null,null,null,null,null,null,null,null,null,null,null,null,"~"]
["SA29",2020,"DC12",1,45,"Other",null,null,null,null,null,null,null,null,null,null,null,null,null,null,null,null,"~"]
["SA29",2020,"DC12",null,null,"Total Capital Expenditure - Standard",null,null,null,null,null,null,null,null,null,null,null,null,null,null,null,null,"~"]
["SA29",2020,"DC12",null,null,null,null,null,null,null,null,null,null,null,null,null,null,null,null,null,null,null,"~"]
["SA29",2020,"DC12",2,50,"Funded by:",null,null,null,null,null,null,null,null,null,null,null,null,null,null,null,null,"~"]
["SA29",2020,"DC12",2,51,"National Government",null,null,null,null,null,null,null,null,null,null,null,null,null,null,null,null,"~"]
["SA29",2020,"DC12",2,52,"Provincial Government",null,null,null,null,null,null,null,null,null,null,null,null,null,null,null,null,"~"]
["SA29",2020,"DC12",2,53,"District Municipality",null,null,null,null,null,null,null,null,null,null,null,null,null,null,null,null,"~"]
["SA29",2020,"DC12",2,54,"Other transfers and grants",null,null,null,null,null,null,null,null,null,null,null,null,null,null,null,null,"~"]
["SA29",2020,"DC12",2,55,"Transfers recognised - capital",null,null,null,null,null,null,null,null,null,null,null,null,null,null,null,null,"~"]
["SA29",2020,"DC12",2,56,"Public contributions & donations",null,null,null,null,null,null,null,null,null,null,null,null,null,null,null,null,"~"]
["SA29",2020,"DC12",2,57,"Borrowing",null,null,null,null,null,null,null,null,null,null,null,null,null,null,null,null,"~"]
["SA29",2020,"DC12",2,58,"Internally generated funds",null,null,null,null,null,null,null,null,null,null,null,null,null,null,null,null,"~"]
["SA29",2020,"DC12",2,59,"Total Capital Funding",null,null,null,null,null,null,null,null,null,null,null,null,null,null,null,null,"~"]